{"text_format":"1","workbook":"xlsx","n_sheets":2,"sheets":["MODULO ORDINE","Articoli"],"not_rendered":{"charts":0,"images":1,"macros":1,"external_links":1,"defined_names":9,"comments":0,"pivot_tables":0},"unopened":[],"bounds":{"document_bytes":16777216,"sheet_cells":100000,"rows_first":2000,"rows_last":500,"rows_between":2000,"halvings":0,"cell_chars":16384,"cell_head_chars":4096},"cells_cut":0,"cells_raw":0,"read":"whole","date_system":"1900"}

{"sheet":"MODULO ORDINE","index":0,"n_rows":3016,"n_cols":11,"rows_kept":3016,"cut":false,"hidden":false,"merged":[[0,0,2,10],[8,1,10,1],[11,3,11,10],[3,3,6,10],[8,3,9,10]]}
[]
[]
[]
[null,"DATA ORDINE:","Cliente:"]
[null,{"$f":"NOW()","v":"2023-09-08T17:51:53.160"}]
[null,"Modulo rev. 2-2021"]
[]
[]
["Note:",null,"PuntoVendita:"]
[]
[]
[null,null,"TOTALE COLLI:",{"$f":"SUM(C15:C369)","v":0}]
[]
["Codice","Articolo","Quantità CT","LUNG.COD.","SPZ.COD.","COD.COD.","LUNG.QTA","SPZ.QTA'","COD.QTA","COLONNA ORDINE","Tipologia"]
["030308",{"$f":"IF(A15=\"\",\"\",IF(ISERROR(VLOOKUP(A15,Articoli!$1:$48422,2,FALSE)),\"Codice Errato\",VLOOKUP(A15,Articoli!$1:$48422,2,FALSE)))","v":"MERLUZZO ATLANTICO FILETTI 1KG(800)X6 GL.20% ARGENTINA"},null,{"$f":"LEN(A15)","v":6},{"$f":"REPT(\" \",8-D15)","v":"  "},{"$f":"CONCATENATE(A15,E15,\";\",)","v":"030308  ;"},{"$f":"LEN(C15)","v":0},{"$f":"REPT(\" \",6-G15)","v":"      "},{"$f":"CONCATENATE(H15,C15,)","v":"      "},{"$f":"IF(C15=\"\",\"\",CONCATENATE(F15,I15))","v":""},{"$f":"IF(A15=\"\",\"\",IF(ISERROR(VLOOKUP(A15,Articoli!$1:$48422,3,FALSE)),\"Codice Errato\",VLOOKUP(A15,Articoli!$1:$48422,3,FALSE)))","v":"ITTICO"}]
[null,{"$f":"IF(A16=\"\",\"\",IF(ISERROR(VLOOKUP(A16,Articoli!$1:$48422,2,FALSE)),\"Codice Errato\",VLOOKUP(A16,Articoli!$1:$48422,2,FALSE)))","v":""},null,0,"        ","        ;",0,"      ","      ","",{"$f":"IF(A16=\"\",\"\",IF(ISERROR(VLOOKUP(A16,Articoli!$1:$48422,3,FALSE)),\"Codice Errato\",VLOOKUP(A16,Articoli!$1:$48422,3,FALSE)))","v":""}]
[null,{"$f":"IF(A17=\"\",\"\",IF(ISERROR(VLOOKUP(A17,Articoli!$1:$48422,2,FALSE)),\"Codice Errato\",VLOOKUP(A17,Articoli!$1:$48422,2,FALSE)))","v":""},null,0,"        ","        ;",0,"      ","      ","",{"$f":"IF(A17=\"\",\"\",IF(ISERROR(VLOOKUP(A17,Articoli!$1:$48422,3,FALSE)),\"Codice Errato\",VLOOKUP(A17,Articoli!$1:$48422,3,FALSE)))","v":""}]
[null,{"$f":"IF(A18=\"\",\"\",IF(ISERROR(VLOOKUP(A18,Articoli!$1:$48422,2,FALSE)),\"Codice Errato\",VLOOKUP(A18,Articoli!$1:$48422,2,FALSE)))","v":""},null,0,"        ","        ;",0,"      ","      ","",{"$f":"IF(A18=\"\",\"\",IF(ISERROR(VLOOKUP(A18,Articoli!$1:$48422,3,FALSE)),\"Codice Errato\",VLOOKUP(A18,Articoli!$1:$48422,3,FALSE)))","v":""}]
[null,{"$f":"IF(A19=\"\",\"\",IF(ISERROR(VLOOKUP(A19,Articoli!$1:$48422,2,FALSE)),\"Codice Errato\",VLOOKUP(A19,Articoli!$1:$48422,2,FALSE)))","v":""},null,0,"        ","        ;",0,"      ","      ","",{"$f":"IF(A19=\"\",\"\",IF(ISERROR(VLOOKUP(A19,Articoli!$1:$48422,3,FALSE)),\"Codice Errato\",VLOOKUP(A19,Articoli!$1:$48422,3,FALSE)))","v":""}]
[null,{"$f":"IF(A20=\"\",\"\",IF(ISERROR(VLOOKUP(A20,Articoli!$1:$48422,2,FALSE)),\"Codice Errato\",VLOOKUP(A20,Articoli!$1:$48422,2,FALSE)))","v":""},null,0,"        ","        ;",0,"      ","      ","",{"$f":"IF(A20=\"\",\"\",IF(ISERROR(VLOOKUP(A20,Articoli!$1:$48422,3,FALSE)),\"Codice Errato\",VLOOKUP(A20,Articoli!$1:$48422,3,FALSE)))","v":""}]
[null,{"$f":"IF(A21=\"\",\"\",IF(ISERROR(VLOOKUP(A21,Articoli!$1:$48422,2,FALSE)),\"Codice Errato\",VLOOKUP(A21,Articoli!$1:$48422,2,FALSE)))","v":""},null,0,"        ","        ;",0,"      ","      ","",{"$f":"IF(A21=\"\",\"\",IF(ISERROR(VLOOKUP(A21,Articoli!$1:$48422,3,FALSE)),\"Codice Errato\",VLOOKUP(A21,Articoli!$1:$48422,3,FALSE)))","v":""}]
[null,{"$f":"IF(A22=\"\",\"\",IF(ISERROR(VLOOKUP(A22,Articoli!$1:$48422,2,FALSE)),\"Codice Errato\",VLOOKUP(A22,Articoli!$1:$48422,2,FALSE)))","v":""},null,0,"        ","        ;",0,"      ","      ","",{"$f":"IF(A22=\"\",\"\",IF(ISERROR(VLOOKUP(A22,Articoli!$1:$48422,3,FALSE)),\"Codice Errato\",VLOOKUP(A22,Articoli!$1:$48422,3,FALSE)))","v":""}]
[null,{"$f":"IF(A23=\"\",\"\",IF(ISERROR(VLOOKUP(A23,Articoli!$1:$48422,2,FALSE)),\"Codice Errato\",VLOOKUP(A23,Articoli!$1:$48422,2,FALSE)))","v":""},null,0,"        ","        ;",0,"      ","      ","",{"$f":"IF(A23=\"\",\"\",IF(ISERROR(VLOOKUP(A23,Articoli!$1:$48422,3,FALSE)),\"Codice Errato\",VLOOKUP(A23,Articoli!$1:$48422,3,FALSE)))","v":""}]
[null,{"$f":"IF(A24=\"\",\"\",IF(ISERROR(VLOOKUP(A24,Articoli!$1:$48422,2,FALSE)),\"Codice Errato\",VLOOKUP(A24,Articoli!$1:$48422,2,FALSE)))","v":""},null,0,"        ","        ;",0,"      ","      ","",{"$f":"IF(A24=\"\",\"\",IF(ISERROR(VLOOKUP(A24,Articoli!$1:$48422,3,FALSE)),\"Codice Errato\",VLOOKUP(A24,Articoli!$1:$48422,3,FALSE)))","v":""}]
[null,{"$f":"IF(A25=\"\",\"\",IF(ISERROR(VLOOKUP(A25,Articoli!$1:$48422,2,FALSE)),\"Codice Errato\",VLOOKUP(A25,Articoli!$1:$48422,2,FALSE)))","v":""},null,0,"        ","        ;",0,"      ","      ","",{"$f":"IF(A25=\"\",\"\",IF(ISERROR(VLOOKUP(A25,Articoli!$1:$48422,3,FALSE)),\"Codice Errato\",VLOOKUP(A25,Articoli!$1:$48422,3,FALSE)))","v":""}]
[null,{"$f":"IF(A26=\"\",\"\",IF(ISERROR(VLOOKUP(A26,Articoli!$1:$48422,2,FALSE)),\"Codice Errato\",VLOOKUP(A26,Articoli!$1:$48422,2,FALSE)))","v":""},null,0,"        ","        ;",0,"      ","      ","",{"$f":"IF(A26=\"\",\"\",IF(ISERROR(VLOOKUP(A26,Articoli!$1:$48422,3,FALSE)),\"Codice Errato\",VLOOKUP(A26,Articoli!$1:$48422,3,FALSE)))","v":""}]
[null,{"$f":"IF(A27=\"\",\"\",IF(ISERROR(VLOOKUP(A27,Articoli!$1:$48422,2,FALSE)),\"Codice Errato\",VLOOKUP(A27,Articoli!$1:$48422,2,FALSE)))","v":""},null,0,"        ","        ;",0,"      ","      ","",{"$f":"IF(A27=\"\",\"\",IF(ISERROR(VLOOKUP(A27,Articoli!$1:$48422,3,FALSE)),\"Codice Errato\",VLOOKUP(A27,Articoli!$1:$48422,3,FALSE)))","v":""}]
[null,{"$f":"IF(A28=\"\",\"\",IF(ISERROR(VLOOKUP(A28,Articoli!$1:$48422,2,FALSE)),\"Codice Errato\",VLOOKUP(A28,Articoli!$1:$48422,2,FALSE)))","v":""},null,0,"        ","        ;",0,"      ","      ","",{"$f":"IF(A28=\"\",\"\",IF(ISERROR(VLOOKUP(A28,Articoli!$1:$48422,3,FALSE)),\"Codice Errato\",VLOOKUP(A28,Articoli!$1:$48422,3,FALSE)))","v":""}]
[null,{"$f":"IF(A29=\"\",\"\",IF(ISERROR(VLOOKUP(A29,Articoli!$1:$48422,2,FALSE)),\"Codice Errato\",VLOOKUP(A29,Articoli!$1:$48422,2,FALSE)))","v":""},null,0,"        ","        ;",0,"      ","      ","",{"$f":"IF(A29=\"\",\"\",IF(ISERROR(VLOOKUP(A29,Articoli!$1:$48422,3,FALSE)),\"Codice Errato\",VLOOKUP(A29,Articoli!$1:$48422,3,FALSE)))","v":""}]
[null,{"$f":"IF(A30=\"\",\"\",IF(ISERROR(VLOOKUP(A30,Articoli!$1:$48422,2,FALSE)),\"Codice Errato\",VLOOKUP(A30,Articoli!$1:$48422,2,FALSE)))","v":""},null,0,"        ","        ;",0,"      ","      ","",{"$f":"IF(A30=\"\",\"\",IF(ISERROR(VLOOKUP(A30,Articoli!$1:$48422,3,FALSE)),\"Codice Errato\",VLOOKUP(A30,Articoli!$1:$48422,3,FALSE)))","v":""}]
[null,{"$f":"IF(A31=\"\",\"\",IF(ISERROR(VLOOKUP(A31,Articoli!$1:$48422,2,FALSE)),\"Codice Errato\",VLOOKUP(A31,Articoli!$1:$48422,2,FALSE)))","v":""},null,0,"        ","        ;",0,"      ","      ","",{"$f":"IF(A31=\"\",\"\",IF(ISERROR(VLOOKUP(A31,Articoli!$1:$48422,3,FALSE)),\"Codice Errato\",VLOOKUP(A31,Articoli!$1:$48422,3,FALSE)))","v":""}]
[null,{"$f":"IF(A32=\"\",\"\",IF(ISERROR(VLOOKUP(A32,Articoli!$1:$48422,2,FALSE)),\"Codice Errato\",VLOOKUP(A32,Articoli!$1:$48422,2,FALSE)))","v":""},null,0,"        ","        ;",0,"      ","      ","",{"$f":"IF(A32=\"\",\"\",IF(ISERROR(VLOOKUP(A32,Articoli!$1:$48422,3,FALSE)),\"Codice Errato\",VLOOKUP(A32,Articoli!$1:$48422,3,FALSE)))","v":""}]
[null,{"$f":"IF(A33=\"\",\"\",IF(ISERROR(VLOOKUP(A33,Articoli!$1:$48422,2,FALSE)),\"Codice Errato\",VLOOKUP(A33,Articoli!$1:$48422,2,FALSE)))","v":""},null,0,"        ","        ;",0,"      ","      ","",{"$f":"IF(A33=\"\",\"\",IF(ISERROR(VLOOKUP(A33,Articoli!$1:$48422,3,FALSE)),\"Codice Errato\",VLOOKUP(A33,Articoli!$1:$48422,3,FALSE)))","v":""}]
[null,{"$f":"IF(A34=\"\",\"\",IF(ISERROR(VLOOKUP(A34,Articoli!$1:$48422,2,FALSE)),\"Codice Errato\",VLOOKUP(A34,Articoli!$1:$48422,2,FALSE)))","v":""},null,0,"        ","        ;",0,"      ","      ","",{"$f":"IF(A34=\"\",\"\",IF(ISERROR(VLOOKUP(A34,Articoli!$1:$48422,3,FALSE)),\"Codice Errato\",VLOOKUP(A34,Articoli!$1:$48422,3,FALSE)))","v":""}]
[null,{"$f":"IF(A35=\"\",\"\",IF(ISERROR(VLOOKUP(A35,Articoli!$1:$48422,2,FALSE)),\"Codice Errato\",VLOOKUP(A35,Articoli!$1:$48422,2,FALSE)))","v":""},null,0,"        ","        ;",0,"      ","      ","",{"$f":"IF(A35=\"\",\"\",IF(ISERROR(VLOOKUP(A35,Articoli!$1:$48422,3,FALSE)),\"Codice Errato\",VLOOKUP(A35,Articoli!$1:$48422,3,FALSE)))","v":""}]
[null,{"$f":"IF(A36=\"\",\"\",IF(ISERROR(VLOOKUP(A36,Articoli!$1:$48422,2,FALSE)),\"Codice Errato\",VLOOKUP(A36,Articoli!$1:$48422,2,FALSE)))","v":""},null,0,"        ","        ;",0,"      ","      ","",{"$f":"IF(A36=\"\",\"\",IF(ISERROR(VLOOKUP(A36,Articoli!$1:$48422,3,FALSE)),\"Codice Errato\",VLOOKUP(A36,Articoli!$1:$48422,3,FALSE)))","v":""}]
[null,{"$f":"IF(A37=\"\",\"\",IF(ISERROR(VLOOKUP(A37,Articoli!$1:$48422,2,FALSE)),\"Codice Errato\",VLOOKUP(A37,Articoli!$1:$48422,2,FALSE)))","v":""},null,0,"        ","        ;",0,"      ","      ","",{"$f":"IF(A37=\"\",\"\",IF(ISERROR(VLOOKUP(A37,Articoli!$1:$48422,3,FALSE)),\"Codice Errato\",VLOOKUP(A37,Articoli!$1:$48422,3,FALSE)))","v":""}]
[null,{"$f":"IF(A38=\"\",\"\",IF(ISERROR(VLOOKUP(A38,Articoli!$1:$48422,2,FALSE)),\"Codice Errato\",VLOOKUP(A38,Articoli!$1:$48422,2,FALSE)))","v":""},null,0,"        ","        ;",0,"      ","      ","",{"$f":"IF(A38=\"\",\"\",IF(ISERROR(VLOOKUP(A38,Articoli!$1:$48422,3,FALSE)),\"Codice Errato\",VLOOKUP(A38,Articoli!$1:$48422,3,FALSE)))","v":""}]
[null,{"$f":"IF(A39=\"\",\"\",IF(ISERROR(VLOOKUP(A39,Articoli!$1:$48422,2,FALSE)),\"Codice Errato\",VLOOKUP(A39,Articoli!$1:$48422,2,FALSE)))","v":""},null,0,"        ","        ;",0,"      ","      ","",{"$f":"IF(A39=\"\",\"\",IF(ISERROR(VLOOKUP(A39,Articoli!$1:$48422,3,FALSE)),\"Codice Errato\",VLOOKUP(A39,Articoli!$1:$48422,3,FALSE)))","v":""}]
[null,{"$f":"IF(A40=\"\",\"\",IF(ISERROR(VLOOKUP(A40,Articoli!$1:$48422,2,FALSE)),\"Codice Errato\",VLOOKUP(A40,Articoli!$1:$48422,2,FALSE)))","v":""},null,0,"        ","        ;",0,"      ","      ","",{"$f":"IF(A40=\"\",\"\",IF(ISERROR(VLOOKUP(A40,Articoli!$1:$48422,3,FALSE)),\"Codice Errato\",VLOOKUP(A40,Articoli!$1:$48422,3,FALSE)))","v":""}]
[null,{"$f":"IF(A41=\"\",\"\",IF(ISERROR(VLOOKUP(A41,Articoli!$1:$48422,2,FALSE)),\"Codice Errato\",VLOOKUP(A41,Articoli!$1:$48422,2,FALSE)))","v":""},null,0,"        ","        ;",0,"      ","      ","",{"$f":"IF(A41=\"\",\"\",IF(ISERROR(VLOOKUP(A41,Articoli!$1:$48422,3,FALSE)),\"Codice Errato\",VLOOKUP(A41,Articoli!$1:$48422,3,FALSE)))","v":""}]
[null,{"$f":"IF(A42=\"\",\"\",IF(ISERROR(VLOOKUP(A42,Articoli!$1:$48422,2,FALSE)),\"Codice Errato\",VLOOKUP(A42,Articoli!$1:$48422,2,FALSE)))","v":""},null,0,"        ","        ;",0,"      ","      ","",{"$f":"IF(A42=\"\",\"\",IF(ISERROR(VLOOKUP(A42,Articoli!$1:$48422,3,FALSE)),\"Codice Errato\",VLOOKUP(A42,Articoli!$1:$48422,3,FALSE)))","v":""}]
[null,{"$f":"IF(A43=\"\",\"\",IF(ISERROR(VLOOKUP(A43,Articoli!$1:$48422,2,FALSE)),\"Codice Errato\",VLOOKUP(A43,Articoli!$1:$48422,2,FALSE)))","v":""},null,0,"        ","        ;",0,"      ","      ","",{"$f":"IF(A43=\"\",\"\",IF(ISERROR(VLOOKUP(A43,Articoli!$1:$48422,3,FALSE)),\"Codice Errato\",VLOOKUP(A43,Articoli!$1:$48422,3,FALSE)))","v":""}]
[null,{"$f":"IF(A44=\"\",\"\",IF(ISERROR(VLOOKUP(A44,Articoli!$1:$48422,2,FALSE)),\"Codice Errato\",VLOOKUP(A44,Articoli!$1:$48422,2,FALSE)))","v":""},null,0,"        ","        ;",0,"      ","      ","",{"$f":"IF(A44=\"\",\"\",IF(ISERROR(VLOOKUP(A44,Articoli!$1:$48422,3,FALSE)),\"Codice Errato\",VLOOKUP(A44,Articoli!$1:$48422,3,FALSE)))","v":""}]
[null,{"$f":"IF(A45=\"\",\"\",IF(ISERROR(VLOOKUP(A45,Articoli!$1:$48422,2,FALSE)),\"Codice Errato\",VLOOKUP(A45,Articoli!$1:$48422,2,FALSE)))","v":""},null,0,"        ","        ;",0,"      ","      ","",{"$f":"IF(A45=\"\",\"\",IF(ISERROR(VLOOKUP(A45,Articoli!$1:$48422,3,FALSE)),\"Codice Errato\",VLOOKUP(A45,Articoli!$1:$48422,3,FALSE)))","v":""}]
[null,{"$f":"IF(A46=\"\",\"\",IF(ISERROR(VLOOKUP(A46,Articoli!$1:$48422,2,FALSE)),\"Codice Errato\",VLOOKUP(A46,Articoli!$1:$48422,2,FALSE)))","v":""},null,0,"        ","        ;",0,"      ","      ","",{"$f":"IF(A46=\"\",\"\",IF(ISERROR(VLOOKUP(A46,Articoli!$1:$48422,3,FALSE)),\"Codice Errato\",VLOOKUP(A46,Articoli!$1:$48422,3,FALSE)))","v":""}]
[null,{"$f":"IF(A47=\"\",\"\",IF(ISERROR(VLOOKUP(A47,Articoli!$1:$48422,2,FALSE)),\"Codice Errato\",VLOOKUP(A47,Articoli!$1:$48422,2,FALSE)))","v":""},null,0,"        ","        ;",0,"      ","      ","",{"$f":"IF(A47=\"\",\"\",IF(ISERROR(VLOOKUP(A47,Articoli!$1:$48422,3,FALSE)),\"Codice Errato\",VLOOKUP(A47,Articoli!$1:$48422,3,FALSE)))","v":""}]
[null,{"$f":"IF(A48=\"\",\"\",IF(ISERROR(VLOOKUP(A48,Articoli!$1:$48422,2,FALSE)),\"Codice Errato\",VLOOKUP(A48,Articoli!$1:$48422,2,FALSE)))","v":""},null,0,"        ","        ;",0,"      ","      ","",{"$f":"IF(A48=\"\",\"\",IF(ISERROR(VLOOKUP(A48,Articoli!$1:$48422,3,FALSE)),\"Codice Errato\",VLOOKUP(A48,Articoli!$1:$48422,3,FALSE)))","v":""}]
[null,{"$f":"IF(A49=\"\",\"\",IF(ISERROR(VLOOKUP(A49,Articoli!$1:$48422,2,FALSE)),\"Codice Errato\",VLOOKUP(A49,Articoli!$1:$48422,2,FALSE)))","v":""},null,0,"        ","        ;",0,"      ","      ","",{"$f":"IF(A49=\"\",\"\",IF(ISERROR(VLOOKUP(A49,Articoli!$1:$48422,3,FALSE)),\"Codice Errato\",VLOOKUP(A49,Articoli!$1:$48422,3,FALSE)))","v":""}]
[null,{"$f":"IF(A50=\"\",\"\",IF(ISERROR(VLOOKUP(A50,Articoli!$1:$48422,2,FALSE)),\"Codice Errato\",VLOOKUP(A50,Articoli!$1:$48422,2,FALSE)))","v":""},null,0,"        ","        ;",0,"      ","      ","",{"$f":"IF(A50=\"\",\"\",IF(ISERROR(VLOOKUP(A50,Articoli!$1:$48422,3,FALSE)),\"Codice Errato\",VLOOKUP(A50,Articoli!$1:$48422,3,FALSE)))","v":""}]
[null,{"$f":"IF(A51=\"\",\"\",IF(ISERROR(VLOOKUP(A51,Articoli!$1:$48422,2,FALSE)),\"Codice Errato\",VLOOKUP(A51,Articoli!$1:$48422,2,FALSE)))","v":""},null,0,"        ","        ;",0,"      ","      ","",{"$f":"IF(A51=\"\",\"\",IF(ISERROR(VLOOKUP(A51,Articoli!$1:$48422,3,FALSE)),\"Codice Errato\",VLOOKUP(A51,Articoli!$1:$48422,3,FALSE)))","v":""}]
[null,{"$f":"IF(A52=\"\",\"\",IF(ISERROR(VLOOKUP(A52,Articoli!$1:$48422,2,FALSE)),\"Codice Errato\",VLOOKUP(A52,Articoli!$1:$48422,2,FALSE)))","v":""},null,0,"        ","        ;",0,"      ","      ","",{"$f":"IF(A52=\"\",\"\",IF(ISERROR(VLOOKUP(A52,Articoli!$1:$48422,3,FALSE)),\"Codice Errato\",VLOOKUP(A52,Articoli!$1:$48422,3,FALSE)))","v":""}]
[null,{"$f":"IF(A53=\"\",\"\",IF(ISERROR(VLOOKUP(A53,Articoli!$1:$48422,2,FALSE)),\"Codice Errato\",VLOOKUP(A53,Articoli!$1:$48422,2,FALSE)))","v":""},null,0,"        ","        ;",0,"      ","      ","",{"$f":"IF(A53=\"\",\"\",IF(ISERROR(VLOOKUP(A53,Articoli!$1:$48422,3,FALSE)),\"Codice Errato\",VLOOKUP(A53,Articoli!$1:$48422,3,FALSE)))","v":""}]
[null,{"$f":"IF(A54=\"\",\"\",IF(ISERROR(VLOOKUP(A54,Articoli!$1:$48422,2,FALSE)),\"Codice Errato\",VLOOKUP(A54,Articoli!$1:$48422,2,FALSE)))","v":""},null,0,"        ","        ;",0,"      ","      ","",{"$f":"IF(A54=\"\",\"\",IF(ISERROR(VLOOKUP(A54,Articoli!$1:$48422,3,FALSE)),\"Codice Errato\",VLOOKUP(A54,Articoli!$1:$48422,3,FALSE)))","v":""}]
[null,{"$f":"IF(A55=\"\",\"\",IF(ISERROR(VLOOKUP(A55,Articoli!$1:$48422,2,FALSE)),\"Codice Errato\",VLOOKUP(A55,Articoli!$1:$48422,2,FALSE)))","v":""},null,0,"        ","        ;",0,"      ","      ","",{"$f":"IF(A55=\"\",\"\",IF(ISERROR(VLOOKUP(A55,Articoli!$1:$48422,3,FALSE)),\"Codice Errato\",VLOOKUP(A55,Articoli!$1:$48422,3,FALSE)))","v":""}]
[null,{"$f":"IF(A56=\"\",\"\",IF(ISERROR(VLOOKUP(A56,Articoli!$1:$48422,2,FALSE)),\"Codice Errato\",VLOOKUP(A56,Articoli!$1:$48422,2,FALSE)))","v":""},null,0,"        ","        ;",0,"      ","      ","",{"$f":"IF(A56=\"\",\"\",IF(ISERROR(VLOOKUP(A56,Articoli!$1:$48422,3,FALSE)),\"Codice Errato\",VLOOKUP(A56,Articoli!$1:$48422,3,FALSE)))","v":""}]
[null,{"$f":"IF(A57=\"\",\"\",IF(ISERROR(VLOOKUP(A57,Articoli!$1:$48422,2,FALSE)),\"Codice Errato\",VLOOKUP(A57,Articoli!$1:$48422,2,FALSE)))","v":""},null,0,"        ","        ;",0,"      ","      ","",{"$f":"IF(A57=\"\",\"\",IF(ISERROR(VLOOKUP(A57,Articoli!$1:$48422,3,FALSE)),\"Codice Errato\",VLOOKUP(A57,Articoli!$1:$48422,3,FALSE)))","v":""}]
[null,{"$f":"IF(A58=\"\",\"\",IF(ISERROR(VLOOKUP(A58,Articoli!$1:$48422,2,FALSE)),\"Codice Errato\",VLOOKUP(A58,Articoli!$1:$48422,2,FALSE)))","v":""},null,0,"        ","        ;",0,"      ","      ","",{"$f":"IF(A58=\"\",\"\",IF(ISERROR(VLOOKUP(A58,Articoli!$1:$48422,3,FALSE)),\"Codice Errato\",VLOOKUP(A58,Articoli!$1:$48422,3,FALSE)))","v":""}]
[null,{"$f":"IF(A59=\"\",\"\",IF(ISERROR(VLOOKUP(A59,Articoli!$1:$48422,2,FALSE)),\"Codice Errato\",VLOOKUP(A59,Articoli!$1:$48422,2,FALSE)))","v":""},null,0,"        ","        ;",0,"      ","      ","",{"$f":"IF(A59=\"\",\"\",IF(ISERROR(VLOOKUP(A59,Articoli!$1:$48422,3,FALSE)),\"Codice Errato\",VLOOKUP(A59,Articoli!$1:$48422,3,FALSE)))","v":""}]
[null,{"$f":"IF(A60=\"\",\"\",IF(ISERROR(VLOOKUP(A60,Articoli!$1:$48422,2,FALSE)),\"Codice Errato\",VLOOKUP(A60,Articoli!$1:$48422,2,FALSE)))","v":""},null,0,"        ","        ;",0,"      ","      ","",{"$f":"IF(A60=\"\",\"\",IF(ISERROR(VLOOKUP(A60,Articoli!$1:$48422,3,FALSE)),\"Codice Errato\",VLOOKUP(A60,Articoli!$1:$48422,3,FALSE)))","v":""}]
[null,{"$f":"IF(A61=\"\",\"\",IF(ISERROR(VLOOKUP(A61,Articoli!$1:$48422,2,FALSE)),\"Codice Errato\",VLOOKUP(A61,Articoli!$1:$48422,2,FALSE)))","v":""},null,0,"        ","        ;",0,"      ","      ","",{"$f":"IF(A61=\"\",\"\",IF(ISERROR(VLOOKUP(A61,Articoli!$1:$48422,3,FALSE)),\"Codice Errato\",VLOOKUP(A61,Articoli!$1:$48422,3,FALSE)))","v":""}]
[null,{"$f":"IF(A62=\"\",\"\",IF(ISERROR(VLOOKUP(A62,Articoli!$1:$48422,2,FALSE)),\"Codice Errato\",VLOOKUP(A62,Articoli!$1:$48422,2,FALSE)))","v":""},null,0,"        ","        ;",0,"      ","      ","",{"$f":"IF(A62=\"\",\"\",IF(ISERROR(VLOOKUP(A62,Articoli!$1:$48422,3,FALSE)),\"Codice Errato\",VLOOKUP(A62,Articoli!$1:$48422,3,FALSE)))","v":""}]
[null,{"$f":"IF(A63=\"\",\"\",IF(ISERROR(VLOOKUP(A63,Articoli!$1:$48422,2,FALSE)),\"Codice Errato\",VLOOKUP(A63,Articoli!$1:$48422,2,FALSE)))","v":""},null,0,"        ","        ;",0,"      ","      ","",{"$f":"IF(A63=\"\",\"\",IF(ISERROR(VLOOKUP(A63,Articoli!$1:$48422,3,FALSE)),\"Codice Errato\",VLOOKUP(A63,Articoli!$1:$48422,3,FALSE)))","v":""}]
[null,{"$f":"IF(A64=\"\",\"\",IF(ISERROR(VLOOKUP(A64,Articoli!$1:$48422,2,FALSE)),\"Codice Errato\",VLOOKUP(A64,Articoli!$1:$48422,2,FALSE)))","v":""},null,0,"        ","        ;",0,"      ","      ","",{"$f":"IF(A64=\"\",\"\",IF(ISERROR(VLOOKUP(A64,Articoli!$1:$48422,3,FALSE)),\"Codice Errato\",VLOOKUP(A64,Articoli!$1:$48422,3,FALSE)))","v":""}]
[null,{"$f":"IF(A65=\"\",\"\",IF(ISERROR(VLOOKUP(A65,Articoli!$1:$48422,2,FALSE)),\"Codice Errato\",VLOOKUP(A65,Articoli!$1:$48422,2,FALSE)))","v":""},null,0,"        ","        ;",0,"      ","      ","",{"$f":"IF(A65=\"\",\"\",IF(ISERROR(VLOOKUP(A65,Articoli!$1:$48422,3,FALSE)),\"Codice Errato\",VLOOKUP(A65,Articoli!$1:$48422,3,FALSE)))","v":""}]
[null,{"$f":"IF(A66=\"\",\"\",IF(ISERROR(VLOOKUP(A66,Articoli!$1:$48422,2,FALSE)),\"Codice Errato\",VLOOKUP(A66,Articoli!$1:$48422,2,FALSE)))","v":""},null,0,"        ","        ;",0,"      ","      ","",{"$f":"IF(A66=\"\",\"\",IF(ISERROR(VLOOKUP(A66,Articoli!$1:$48422,3,FALSE)),\"Codice Errato\",VLOOKUP(A66,Articoli!$1:$48422,3,FALSE)))","v":""}]
[null,{"$f":"IF(A67=\"\",\"\",IF(ISERROR(VLOOKUP(A67,Articoli!$1:$48422,2,FALSE)),\"Codice Errato\",VLOOKUP(A67,Articoli!$1:$48422,2,FALSE)))","v":""},null,0,"        ","        ;",0,"      ","      ","",{"$f":"IF(A67=\"\",\"\",IF(ISERROR(VLOOKUP(A67,Articoli!$1:$48422,3,FALSE)),\"Codice Errato\",VLOOKUP(A67,Articoli!$1:$48422,3,FALSE)))","v":""}]
[null,{"$f":"IF(A68=\"\",\"\",IF(ISERROR(VLOOKUP(A68,Articoli!$1:$48422,2,FALSE)),\"Codice Errato\",VLOOKUP(A68,Articoli!$1:$48422,2,FALSE)))","v":""},null,0,"        ","        ;",0,"      ","      ","",{"$f":"IF(A68=\"\",\"\",IF(ISERROR(VLOOKUP(A68,Articoli!$1:$48422,3,FALSE)),\"Codice Errato\",VLOOKUP(A68,Articoli!$1:$48422,3,FALSE)))","v":""}]
[null,{"$f":"IF(A69=\"\",\"\",IF(ISERROR(VLOOKUP(A69,Articoli!$1:$48422,2,FALSE)),\"Codice Errato\",VLOOKUP(A69,Articoli!$1:$48422,2,FALSE)))","v":""},null,0,"        ","        ;",0,"      ","      ","",{"$f":"IF(A69=\"\",\"\",IF(ISERROR(VLOOKUP(A69,Articoli!$1:$48422,3,FALSE)),\"Codice Errato\",VLOOKUP(A69,Articoli!$1:$48422,3,FALSE)))","v":""}]
[null,{"$f":"IF(A70=\"\",\"\",IF(ISERROR(VLOOKUP(A70,Articoli!$1:$48422,2,FALSE)),\"Codice Errato\",VLOOKUP(A70,Articoli!$1:$48422,2,FALSE)))","v":""},null,0,"        ","        ;",0,"      ","      ","",{"$f":"IF(A70=\"\",\"\",IF(ISERROR(VLOOKUP(A70,Articoli!$1:$48422,3,FALSE)),\"Codice Errato\",VLOOKUP(A70,Articoli!$1:$48422,3,FALSE)))","v":""}]
[null,{"$f":"IF(A71=\"\",\"\",IF(ISERROR(VLOOKUP(A71,Articoli!$1:$48422,2,FALSE)),\"Codice Errato\",VLOOKUP(A71,Articoli!$1:$48422,2,FALSE)))","v":""},null,0,"        ","        ;",0,"      ","      ","",{"$f":"IF(A71=\"\",\"\",IF(ISERROR(VLOOKUP(A71,Articoli!$1:$48422,3,FALSE)),\"Codice Errato\",VLOOKUP(A71,Articoli!$1:$48422,3,FALSE)))","v":""}]
[null,{"$f":"IF(A72=\"\",\"\",IF(ISERROR(VLOOKUP(A72,Articoli!$1:$48422,2,FALSE)),\"Codice Errato\",VLOOKUP(A72,Articoli!$1:$48422,2,FALSE)))","v":""},null,0,"        ","        ;",0,"      ","      ","",{"$f":"IF(A72=\"\",\"\",IF(ISERROR(VLOOKUP(A72,Articoli!$1:$48422,3,FALSE)),\"Codice Errato\",VLOOKUP(A72,Articoli!$1:$48422,3,FALSE)))","v":""}]
[null,{"$f":"IF(A73=\"\",\"\",IF(ISERROR(VLOOKUP(A73,Articoli!$1:$48422,2,FALSE)),\"Codice Errato\",VLOOKUP(A73,Articoli!$1:$48422,2,FALSE)))","v":""},null,0,"        ","        ;",0,"      ","      ","",{"$f":"IF(A73=\"\",\"\",IF(ISERROR(VLOOKUP(A73,Articoli!$1:$48422,3,FALSE)),\"Codice Errato\",VLOOKUP(A73,Articoli!$1:$48422,3,FALSE)))","v":""}]
[null,{"$f":"IF(A74=\"\",\"\",IF(ISERROR(VLOOKUP(A74,Articoli!$1:$48422,2,FALSE)),\"Codice Errato\",VLOOKUP(A74,Articoli!$1:$48422,2,FALSE)))","v":""},null,0,"        ","        ;",0,"      ","      ","",{"$f":"IF(A74=\"\",\"\",IF(ISERROR(VLOOKUP(A74,Articoli!$1:$48422,3,FALSE)),\"Codice Errato\",VLOOKUP(A74,Articoli!$1:$48422,3,FALSE)))","v":""}]
[null,{"$f":"IF(A75=\"\",\"\",IF(ISERROR(VLOOKUP(A75,Articoli!$1:$48422,2,FALSE)),\"Codice Errato\",VLOOKUP(A75,Articoli!$1:$48422,2,FALSE)))","v":""},null,0,"        ","        ;",0,"      ","      ","",{"$f":"IF(A75=\"\",\"\",IF(ISERROR(VLOOKUP(A75,Articoli!$1:$48422,3,FALSE)),\"Codice Errato\",VLOOKUP(A75,Articoli!$1:$48422,3,FALSE)))","v":""}]
[null,{"$f":"IF(A76=\"\",\"\",IF(ISERROR(VLOOKUP(A76,Articoli!$1:$48422,2,FALSE)),\"Codice Errato\",VLOOKUP(A76,Articoli!$1:$48422,2,FALSE)))","v":""},null,0,"        ","        ;",0,"      ","      ","",{"$f":"IF(A76=\"\",\"\",IF(ISERROR(VLOOKUP(A76,Articoli!$1:$48422,3,FALSE)),\"Codice Errato\",VLOOKUP(A76,Articoli!$1:$48422,3,FALSE)))","v":""}]
[null,{"$f":"IF(A77=\"\",\"\",IF(ISERROR(VLOOKUP(A77,Articoli!$1:$48422,2,FALSE)),\"Codice Errato\",VLOOKUP(A77,Articoli!$1:$48422,2,FALSE)))","v":""},null,0,"        ","        ;",0,"      ","      ","",{"$f":"IF(A77=\"\",\"\",IF(ISERROR(VLOOKUP(A77,Articoli!$1:$48422,3,FALSE)),\"Codice Errato\",VLOOKUP(A77,Articoli!$1:$48422,3,FALSE)))","v":""}]
[null,{"$f":"IF(A78=\"\",\"\",IF(ISERROR(VLOOKUP(A78,Articoli!$1:$48422,2,FALSE)),\"Codice Errato\",VLOOKUP(A78,Articoli!$1:$48422,2,FALSE)))","v":""},null,0,"        ","        ;",0,"      ","      ","",{"$f":"IF(A78=\"\",\"\",IF(ISERROR(VLOOKUP(A78,Articoli!$1:$48422,3,FALSE)),\"Codice Errato\",VLOOKUP(A78,Articoli!$1:$48422,3,FALSE)))","v":""}]
[null,{"$f":"IF(A79=\"\",\"\",IF(ISERROR(VLOOKUP(A79,Articoli!$1:$48422,2,FALSE)),\"Codice Errato\",VLOOKUP(A79,Articoli!$1:$48422,2,FALSE)))","v":""},null,{"$f":"LEN(A79)","v":0},{"$f":"REPT(\" \",8-D79)","v":"        "},{"$f":"CONCATENATE(A79,E79,\";\",)","v":"        ;"},{"$f":"LEN(C79)","v":0},{"$f":"REPT(\" \",6-G79)","v":"      "},{"$f":"CONCATENATE(H79,C79,)","v":"      "},{"$f":"IF(C79=\"\",\"\",CONCATENATE(F79,I79))","v":""},{"$f":"IF(A79=\"\",\"\",IF(ISERROR(VLOOKUP(A79,Articoli!$1:$48422,3,FALSE)),\"Codice Errato\",VLOOKUP(A79,Articoli!$1:$48422,3,FALSE)))","v":""}]
[null,{"$f":"IF(A80=\"\",\"\",IF(ISERROR(VLOOKUP(A80,Articoli!$1:$48422,2,FALSE)),\"Codice Errato\",VLOOKUP(A80,Articoli!$1:$48422,2,FALSE)))","v":""},null,0,"        ","        ;",0,"      ","      ","",{"$f":"IF(A80=\"\",\"\",IF(ISERROR(VLOOKUP(A80,Articoli!$1:$48422,3,FALSE)),\"Codice Errato\",VLOOKUP(A80,Articoli!$1:$48422,3,FALSE)))","v":""}]
[null,{"$f":"IF(A81=\"\",\"\",IF(ISERROR(VLOOKUP(A81,Articoli!$1:$48422,2,FALSE)),\"Codice Errato\",VLOOKUP(A81,Articoli!$1:$48422,2,FALSE)))","v":""},null,0,"        ","        ;",0,"      ","      ","",{"$f":"IF(A81=\"\",\"\",IF(ISERROR(VLOOKUP(A81,Articoli!$1:$48422,3,FALSE)),\"Codice Errato\",VLOOKUP(A81,Articoli!$1:$48422,3,FALSE)))","v":""}]
[null,{"$f":"IF(A82=\"\",\"\",IF(ISERROR(VLOOKUP(A82,Articoli!$1:$48422,2,FALSE)),\"Codice Errato\",VLOOKUP(A82,Articoli!$1:$48422,2,FALSE)))","v":""},null,0,"        ","        ;",0,"      ","      ","",{"$f":"IF(A82=\"\",\"\",IF(ISERROR(VLOOKUP(A82,Articoli!$1:$48422,3,FALSE)),\"Codice Errato\",VLOOKUP(A82,Articoli!$1:$48422,3,FALSE)))","v":""}]
[null,{"$f":"IF(A83=\"\",\"\",IF(ISERROR(VLOOKUP(A83,Articoli!$1:$48422,2,FALSE)),\"Codice Errato\",VLOOKUP(A83,Articoli!$1:$48422,2,FALSE)))","v":""},null,0,"        ","        ;",0,"      ","      ","",{"$f":"IF(A83=\"\",\"\",IF(ISERROR(VLOOKUP(A83,Articoli!$1:$48422,3,FALSE)),\"Codice Errato\",VLOOKUP(A83,Articoli!$1:$48422,3,FALSE)))","v":""}]
[null,{"$f":"IF(A84=\"\",\"\",IF(ISERROR(VLOOKUP(A84,Articoli!$1:$48422,2,FALSE)),\"Codice Errato\",VLOOKUP(A84,Articoli!$1:$48422,2,FALSE)))","v":""},null,0,"        ","        ;",0,"      ","      ","",{"$f":"IF(A84=\"\",\"\",IF(ISERROR(VLOOKUP(A84,Articoli!$1:$48422,3,FALSE)),\"Codice Errato\",VLOOKUP(A84,Articoli!$1:$48422,3,FALSE)))","v":""}]
[null,{"$f":"IF(A85=\"\",\"\",IF(ISERROR(VLOOKUP(A85,Articoli!$1:$48422,2,FALSE)),\"Codice Errato\",VLOOKUP(A85,Articoli!$1:$48422,2,FALSE)))","v":""},null,0,"        ","        ;",0,"      ","      ","",{"$f":"IF(A85=\"\",\"\",IF(ISERROR(VLOOKUP(A85,Articoli!$1:$48422,3,FALSE)),\"Codice Errato\",VLOOKUP(A85,Articoli!$1:$48422,3,FALSE)))","v":""}]
[null,{"$f":"IF(A86=\"\",\"\",IF(ISERROR(VLOOKUP(A86,Articoli!$1:$48422,2,FALSE)),\"Codice Errato\",VLOOKUP(A86,Articoli!$1:$48422,2,FALSE)))","v":""},null,0,"        ","        ;",0,"      ","      ","",{"$f":"IF(A86=\"\",\"\",IF(ISERROR(VLOOKUP(A86,Articoli!$1:$48422,3,FALSE)),\"Codice Errato\",VLOOKUP(A86,Articoli!$1:$48422,3,FALSE)))","v":""}]
[null,{"$f":"IF(A87=\"\",\"\",IF(ISERROR(VLOOKUP(A87,Articoli!$1:$48422,2,FALSE)),\"Codice Errato\",VLOOKUP(A87,Articoli!$1:$48422,2,FALSE)))","v":""},null,0,"        ","        ;",0,"      ","      ","",{"$f":"IF(A87=\"\",\"\",IF(ISERROR(VLOOKUP(A87,Articoli!$1:$48422,3,FALSE)),\"Codice Errato\",VLOOKUP(A87,Articoli!$1:$48422,3,FALSE)))","v":""}]
[null,{"$f":"IF(A88=\"\",\"\",IF(ISERROR(VLOOKUP(A88,Articoli!$1:$48422,2,FALSE)),\"Codice Errato\",VLOOKUP(A88,Articoli!$1:$48422,2,FALSE)))","v":""},null,0,"        ","        ;",0,"      ","      ","",{"$f":"IF(A88=\"\",\"\",IF(ISERROR(VLOOKUP(A88,Articoli!$1:$48422,3,FALSE)),\"Codice Errato\",VLOOKUP(A88,Articoli!$1:$48422,3,FALSE)))","v":""}]
[null,{"$f":"IF(A89=\"\",\"\",IF(ISERROR(VLOOKUP(A89,Articoli!$1:$48422,2,FALSE)),\"Codice Errato\",VLOOKUP(A89,Articoli!$1:$48422,2,FALSE)))","v":""},null,0,"        ","        ;",0,"      ","      ","",{"$f":"IF(A89=\"\",\"\",IF(ISERROR(VLOOKUP(A89,Articoli!$1:$48422,3,FALSE)),\"Codice Errato\",VLOOKUP(A89,Articoli!$1:$48422,3,FALSE)))","v":""}]
[null,{"$f":"IF(A90=\"\",\"\",IF(ISERROR(VLOOKUP(A90,Articoli!$1:$48422,2,FALSE)),\"Codice Errato\",VLOOKUP(A90,Articoli!$1:$48422,2,FALSE)))","v":""},null,0,"        ","        ;",0,"      ","      ","",{"$f":"IF(A90=\"\",\"\",IF(ISERROR(VLOOKUP(A90,Articoli!$1:$48422,3,FALSE)),\"Codice Errato\",VLOOKUP(A90,Articoli!$1:$48422,3,FALSE)))","v":""}]
[null,{"$f":"IF(A91=\"\",\"\",IF(ISERROR(VLOOKUP(A91,Articoli!$1:$48422,2,FALSE)),\"Codice Errato\",VLOOKUP(A91,Articoli!$1:$48422,2,FALSE)))","v":""},null,0,"        ","        ;",0,"      ","      ","",{"$f":"IF(A91=\"\",\"\",IF(ISERROR(VLOOKUP(A91,Articoli!$1:$48422,3,FALSE)),\"Codice Errato\",VLOOKUP(A91,Articoli!$1:$48422,3,FALSE)))","v":""}]
[null,{"$f":"IF(A92=\"\",\"\",IF(ISERROR(VLOOKUP(A92,Articoli!$1:$48422,2,FALSE)),\"Codice Errato\",VLOOKUP(A92,Articoli!$1:$48422,2,FALSE)))","v":""},null,0,"        ","        ;",0,"      ","      ","",{"$f":"IF(A92=\"\",\"\",IF(ISERROR(VLOOKUP(A92,Articoli!$1:$48422,3,FALSE)),\"Codice Errato\",VLOOKUP(A92,Articoli!$1:$48422,3,FALSE)))","v":""}]
[null,{"$f":"IF(A93=\"\",\"\",IF(ISERROR(VLOOKUP(A93,Articoli!$1:$48422,2,FALSE)),\"Codice Errato\",VLOOKUP(A93,Articoli!$1:$48422,2,FALSE)))","v":""},null,0,"        ","        ;",0,"      ","      ","",{"$f":"IF(A93=\"\",\"\",IF(ISERROR(VLOOKUP(A93,Articoli!$1:$48422,3,FALSE)),\"Codice Errato\",VLOOKUP(A93,Articoli!$1:$48422,3,FALSE)))","v":""}]
[null,{"$f":"IF(A94=\"\",\"\",IF(ISERROR(VLOOKUP(A94,Articoli!$1:$48422,2,FALSE)),\"Codice Errato\",VLOOKUP(A94,Articoli!$1:$48422,2,FALSE)))","v":""},null,0,"        ","        ;",0,"      ","      ","",{"$f":"IF(A94=\"\",\"\",IF(ISERROR(VLOOKUP(A94,Articoli!$1:$48422,3,FALSE)),\"Codice Errato\",VLOOKUP(A94,Articoli!$1:$48422,3,FALSE)))","v":""}]
[null,{"$f":"IF(A95=\"\",\"\",IF(ISERROR(VLOOKUP(A95,Articoli!$1:$48422,2,FALSE)),\"Codice Errato\",VLOOKUP(A95,Articoli!$1:$48422,2,FALSE)))","v":""},null,0,"        ","        ;",0,"      ","      ","",{"$f":"IF(A95=\"\",\"\",IF(ISERROR(VLOOKUP(A95,Articoli!$1:$48422,3,FALSE)),\"Codice Errato\",VLOOKUP(A95,Articoli!$1:$48422,3,FALSE)))","v":""}]
[null,{"$f":"IF(A96=\"\",\"\",IF(ISERROR(VLOOKUP(A96,Articoli!$1:$48422,2,FALSE)),\"Codice Errato\",VLOOKUP(A96,Articoli!$1:$48422,2,FALSE)))","v":""},null,0,"        ","        ;",0,"      ","      ","",{"$f":"IF(A96=\"\",\"\",IF(ISERROR(VLOOKUP(A96,Articoli!$1:$48422,3,FALSE)),\"Codice Errato\",VLOOKUP(A96,Articoli!$1:$48422,3,FALSE)))","v":""}]
[null,{"$f":"IF(A97=\"\",\"\",IF(ISERROR(VLOOKUP(A97,Articoli!$1:$48422,2,FALSE)),\"Codice Errato\",VLOOKUP(A97,Articoli!$1:$48422,2,FALSE)))","v":""},null,0,"        ","        ;",0,"      ","      ","",{"$f":"IF(A97=\"\",\"\",IF(ISERROR(VLOOKUP(A97,Articoli!$1:$48422,3,FALSE)),\"Codice Errato\",VLOOKUP(A97,Articoli!$1:$48422,3,FALSE)))","v":""}]
[null,{"$f":"IF(A98=\"\",\"\",IF(ISERROR(VLOOKUP(A98,Articoli!$1:$48422,2,FALSE)),\"Codice Errato\",VLOOKUP(A98,Articoli!$1:$48422,2,FALSE)))","v":""},null,0,"        ","        ;",0,"      ","      ","",{"$f":"IF(A98=\"\",\"\",IF(ISERROR(VLOOKUP(A98,Articoli!$1:$48422,3,FALSE)),\"Codice Errato\",VLOOKUP(A98,Articoli!$1:$48422,3,FALSE)))","v":""}]
[null,{"$f":"IF(A99=\"\",\"\",IF(ISERROR(VLOOKUP(A99,Articoli!$1:$48422,2,FALSE)),\"Codice Errato\",VLOOKUP(A99,Articoli!$1:$48422,2,FALSE)))","v":""},null,0,"        ","        ;",0,"      ","      ","",{"$f":"IF(A99=\"\",\"\",IF(ISERROR(VLOOKUP(A99,Articoli!$1:$48422,3,FALSE)),\"Codice Errato\",VLOOKUP(A99,Articoli!$1:$48422,3,FALSE)))","v":""}]
[null,{"$f":"IF(A100=\"\",\"\",IF(ISERROR(VLOOKUP(A100,Articoli!$1:$48422,2,FALSE)),\"Codice Errato\",VLOOKUP(A100,Articoli!$1:$48422,2,FALSE)))","v":""},null,0,"        ","        ;",0,"      ","      ","",{"$f":"IF(A100=\"\",\"\",IF(ISERROR(VLOOKUP(A100,Articoli!$1:$48422,3,FALSE)),\"Codice Errato\",VLOOKUP(A100,Articoli!$1:$48422,3,FALSE)))","v":""}]
[null,{"$f":"IF(A101=\"\",\"\",IF(ISERROR(VLOOKUP(A101,Articoli!$1:$48422,2,FALSE)),\"Codice Errato\",VLOOKUP(A101,Articoli!$1:$48422,2,FALSE)))","v":""},null,0,"        ","        ;",0,"      ","      ","",{"$f":"IF(A101=\"\",\"\",IF(ISERROR(VLOOKUP(A101,Articoli!$1:$48422,3,FALSE)),\"Codice Errato\",VLOOKUP(A101,Articoli!$1:$48422,3,FALSE)))","v":""}]
[null,{"$f":"IF(A102=\"\",\"\",IF(ISERROR(VLOOKUP(A102,Articoli!$1:$48422,2,FALSE)),\"Codice Errato\",VLOOKUP(A102,Articoli!$1:$48422,2,FALSE)))","v":""},null,0,"        ","        ;",0,"      ","      ","",{"$f":"IF(A102=\"\",\"\",IF(ISERROR(VLOOKUP(A102,Articoli!$1:$48422,3,FALSE)),\"Codice Errato\",VLOOKUP(A102,Articoli!$1:$48422,3,FALSE)))","v":""}]
[null,{"$f":"IF(A103=\"\",\"\",IF(ISERROR(VLOOKUP(A103,Articoli!$1:$48422,2,FALSE)),\"Codice Errato\",VLOOKUP(A103,Articoli!$1:$48422,2,FALSE)))","v":""},null,0,"        ","        ;",0,"      ","      ","",{"$f":"IF(A103=\"\",\"\",IF(ISERROR(VLOOKUP(A103,Articoli!$1:$48422,3,FALSE)),\"Codice Errato\",VLOOKUP(A103,Articoli!$1:$48422,3,FALSE)))","v":""}]
[null,{"$f":"IF(A104=\"\",\"\",IF(ISERROR(VLOOKUP(A104,Articoli!$1:$48422,2,FALSE)),\"Codice Errato\",VLOOKUP(A104,Articoli!$1:$48422,2,FALSE)))","v":""},null,0,"        ","        ;",0,"      ","      ","",{"$f":"IF(A104=\"\",\"\",IF(ISERROR(VLOOKUP(A104,Articoli!$1:$48422,3,FALSE)),\"Codice Errato\",VLOOKUP(A104,Articoli!$1:$48422,3,FALSE)))","v":""}]
[null,{"$f":"IF(A105=\"\",\"\",IF(ISERROR(VLOOKUP(A105,Articoli!$1:$48422,2,FALSE)),\"Codice Errato\",VLOOKUP(A105,Articoli!$1:$48422,2,FALSE)))","v":""},null,0,"        ","        ;",0,"      ","      ","",{"$f":"IF(A105=\"\",\"\",IF(ISERROR(VLOOKUP(A105,Articoli!$1:$48422,3,FALSE)),\"Codice Errato\",VLOOKUP(A105,Articoli!$1:$48422,3,FALSE)))","v":""}]
[null,{"$f":"IF(A106=\"\",\"\",IF(ISERROR(VLOOKUP(A106,Articoli!$1:$48422,2,FALSE)),\"Codice Errato\",VLOOKUP(A106,Articoli!$1:$48422,2,FALSE)))","v":""},null,0,"        ","        ;",0,"      ","      ","",{"$f":"IF(A106=\"\",\"\",IF(ISERROR(VLOOKUP(A106,Articoli!$1:$48422,3,FALSE)),\"Codice Errato\",VLOOKUP(A106,Articoli!$1:$48422,3,FALSE)))","v":""}]
[null,{"$f":"IF(A107=\"\",\"\",IF(ISERROR(VLOOKUP(A107,Articoli!$1:$48422,2,FALSE)),\"Codice Errato\",VLOOKUP(A107,Articoli!$1:$48422,2,FALSE)))","v":""},null,0,"        ","        ;",0,"      ","      ","",{"$f":"IF(A107=\"\",\"\",IF(ISERROR(VLOOKUP(A107,Articoli!$1:$48422,3,FALSE)),\"Codice Errato\",VLOOKUP(A107,Articoli!$1:$48422,3,FALSE)))","v":""}]
[null,{"$f":"IF(A108=\"\",\"\",IF(ISERROR(VLOOKUP(A108,Articoli!$1:$48422,2,FALSE)),\"Codice Errato\",VLOOKUP(A108,Articoli!$1:$48422,2,FALSE)))","v":""},null,0,"        ","        ;",0,"      ","      ","",{"$f":"IF(A108=\"\",\"\",IF(ISERROR(VLOOKUP(A108,Articoli!$1:$48422,3,FALSE)),\"Codice Errato\",VLOOKUP(A108,Articoli!$1:$48422,3,FALSE)))","v":""}]
[null,{"$f":"IF(A109=\"\",\"\",IF(ISERROR(VLOOKUP(A109,Articoli!$1:$48422,2,FALSE)),\"Codice Errato\",VLOOKUP(A109,Articoli!$1:$48422,2,FALSE)))","v":""},null,0,"        ","        ;",0,"      ","      ","",{"$f":"IF(A109=\"\",\"\",IF(ISERROR(VLOOKUP(A109,Articoli!$1:$48422,3,FALSE)),\"Codice Errato\",VLOOKUP(A109,Articoli!$1:$48422,3,FALSE)))","v":""}]
[null,{"$f":"IF(A110=\"\",\"\",IF(ISERROR(VLOOKUP(A110,Articoli!$1:$48422,2,FALSE)),\"Codice Errato\",VLOOKUP(A110,Articoli!$1:$48422,2,FALSE)))","v":""},null,0,"        ","        ;",0,"      ","      ","",{"$f":"IF(A110=\"\",\"\",IF(ISERROR(VLOOKUP(A110,Articoli!$1:$48422,3,FALSE)),\"Codice Errato\",VLOOKUP(A110,Articoli!$1:$48422,3,FALSE)))","v":""}]
[null,{"$f":"IF(A111=\"\",\"\",IF(ISERROR(VLOOKUP(A111,Articoli!$1:$48422,2,FALSE)),\"Codice Errato\",VLOOKUP(A111,Articoli!$1:$48422,2,FALSE)))","v":""},null,0,"        ","        ;",0,"      ","      ","",{"$f":"IF(A111=\"\",\"\",IF(ISERROR(VLOOKUP(A111,Articoli!$1:$48422,3,FALSE)),\"Codice Errato\",VLOOKUP(A111,Articoli!$1:$48422,3,FALSE)))","v":""}]
[null,{"$f":"IF(A112=\"\",\"\",IF(ISERROR(VLOOKUP(A112,Articoli!$1:$48422,2,FALSE)),\"Codice Errato\",VLOOKUP(A112,Articoli!$1:$48422,2,FALSE)))","v":""},null,0,"        ","        ;",0,"      ","      ","",{"$f":"IF(A112=\"\",\"\",IF(ISERROR(VLOOKUP(A112,Articoli!$1:$48422,3,FALSE)),\"Codice Errato\",VLOOKUP(A112,Articoli!$1:$48422,3,FALSE)))","v":""}]
[null,{"$f":"IF(A113=\"\",\"\",IF(ISERROR(VLOOKUP(A113,Articoli!$1:$48422,2,FALSE)),\"Codice Errato\",VLOOKUP(A113,Articoli!$1:$48422,2,FALSE)))","v":""},null,0,"        ","        ;",0,"      ","      ","",{"$f":"IF(A113=\"\",\"\",IF(ISERROR(VLOOKUP(A113,Articoli!$1:$48422,3,FALSE)),\"Codice Errato\",VLOOKUP(A113,Articoli!$1:$48422,3,FALSE)))","v":""}]
[null,{"$f":"IF(A114=\"\",\"\",IF(ISERROR(VLOOKUP(A114,Articoli!$1:$48422,2,FALSE)),\"Codice Errato\",VLOOKUP(A114,Articoli!$1:$48422,2,FALSE)))","v":""},null,0,"        ","        ;",0,"      ","      ","",{"$f":"IF(A114=\"\",\"\",IF(ISERROR(VLOOKUP(A114,Articoli!$1:$48422,3,FALSE)),\"Codice Errato\",VLOOKUP(A114,Articoli!$1:$48422,3,FALSE)))","v":""}]
[null,{"$f":"IF(A115=\"\",\"\",IF(ISERROR(VLOOKUP(A115,Articoli!$1:$48422,2,FALSE)),\"Codice Errato\",VLOOKUP(A115,Articoli!$1:$48422,2,FALSE)))","v":""},null,0,"        ","        ;",0,"      ","      ","",{"$f":"IF(A115=\"\",\"\",IF(ISERROR(VLOOKUP(A115,Articoli!$1:$48422,3,FALSE)),\"Codice Errato\",VLOOKUP(A115,Articoli!$1:$48422,3,FALSE)))","v":""}]
[null,{"$f":"IF(A116=\"\",\"\",IF(ISERROR(VLOOKUP(A116,Articoli!$1:$48422,2,FALSE)),\"Codice Errato\",VLOOKUP(A116,Articoli!$1:$48422,2,FALSE)))","v":""},null,0,"        ","        ;",0,"      ","      ","",{"$f":"IF(A116=\"\",\"\",IF(ISERROR(VLOOKUP(A116,Articoli!$1:$48422,3,FALSE)),\"Codice Errato\",VLOOKUP(A116,Articoli!$1:$48422,3,FALSE)))","v":""}]
[null,{"$f":"IF(A117=\"\",\"\",IF(ISERROR(VLOOKUP(A117,Articoli!$1:$48422,2,FALSE)),\"Codice Errato\",VLOOKUP(A117,Articoli!$1:$48422,2,FALSE)))","v":""},null,0,"        ","        ;",0,"      ","      ","",{"$f":"IF(A117=\"\",\"\",IF(ISERROR(VLOOKUP(A117,Articoli!$1:$48422,3,FALSE)),\"Codice Errato\",VLOOKUP(A117,Articoli!$1:$48422,3,FALSE)))","v":""}]
[null,{"$f":"IF(A118=\"\",\"\",IF(ISERROR(VLOOKUP(A118,Articoli!$1:$48422,2,FALSE)),\"Codice Errato\",VLOOKUP(A118,Articoli!$1:$48422,2,FALSE)))","v":""},null,0,"        ","        ;",0,"      ","      ","",{"$f":"IF(A118=\"\",\"\",IF(ISERROR(VLOOKUP(A118,Articoli!$1:$48422,3,FALSE)),\"Codice Errato\",VLOOKUP(A118,Articoli!$1:$48422,3,FALSE)))","v":""}]
[null,{"$f":"IF(A119=\"\",\"\",IF(ISERROR(VLOOKUP(A119,Articoli!$1:$48422,2,FALSE)),\"Codice Errato\",VLOOKUP(A119,Articoli!$1:$48422,2,FALSE)))","v":""},null,0,"        ","        ;",0,"      ","      ","",{"$f":"IF(A119=\"\",\"\",IF(ISERROR(VLOOKUP(A119,Articoli!$1:$48422,3,FALSE)),\"Codice Errato\",VLOOKUP(A119,Articoli!$1:$48422,3,FALSE)))","v":""}]
[null,{"$f":"IF(A120=\"\",\"\",IF(ISERROR(VLOOKUP(A120,Articoli!$1:$48422,2,FALSE)),\"Codice Errato\",VLOOKUP(A120,Articoli!$1:$48422,2,FALSE)))","v":""},null,0,"        ","        ;",0,"      ","      ","",{"$f":"IF(A120=\"\",\"\",IF(ISERROR(VLOOKUP(A120,Articoli!$1:$48422,3,FALSE)),\"Codice Errato\",VLOOKUP(A120,Articoli!$1:$48422,3,FALSE)))","v":""}]
[null,{"$f":"IF(A121=\"\",\"\",IF(ISERROR(VLOOKUP(A121,Articoli!$1:$48422,2,FALSE)),\"Codice Errato\",VLOOKUP(A121,Articoli!$1:$48422,2,FALSE)))","v":""},null,0,"        ","        ;",0,"      ","      ","",{"$f":"IF(A121=\"\",\"\",IF(ISERROR(VLOOKUP(A121,Articoli!$1:$48422,3,FALSE)),\"Codice Errato\",VLOOKUP(A121,Articoli!$1:$48422,3,FALSE)))","v":""}]
[null,{"$f":"IF(A122=\"\",\"\",IF(ISERROR(VLOOKUP(A122,Articoli!$1:$48422,2,FALSE)),\"Codice Errato\",VLOOKUP(A122,Articoli!$1:$48422,2,FALSE)))","v":""},null,0,"        ","        ;",0,"      ","      ","",{"$f":"IF(A122=\"\",\"\",IF(ISERROR(VLOOKUP(A122,Articoli!$1:$48422,3,FALSE)),\"Codice Errato\",VLOOKUP(A122,Articoli!$1:$48422,3,FALSE)))","v":""}]
[null,{"$f":"IF(A123=\"\",\"\",IF(ISERROR(VLOOKUP(A123,Articoli!$1:$48422,2,FALSE)),\"Codice Errato\",VLOOKUP(A123,Articoli!$1:$48422,2,FALSE)))","v":""},null,0,"        ","        ;",0,"      ","      ","",{"$f":"IF(A123=\"\",\"\",IF(ISERROR(VLOOKUP(A123,Articoli!$1:$48422,3,FALSE)),\"Codice Errato\",VLOOKUP(A123,Articoli!$1:$48422,3,FALSE)))","v":""}]
[null,{"$f":"IF(A124=\"\",\"\",IF(ISERROR(VLOOKUP(A124,Articoli!$1:$48422,2,FALSE)),\"Codice Errato\",VLOOKUP(A124,Articoli!$1:$48422,2,FALSE)))","v":""},null,0,"        ","        ;",0,"      ","      ","",{"$f":"IF(A124=\"\",\"\",IF(ISERROR(VLOOKUP(A124,Articoli!$1:$48422,3,FALSE)),\"Codice Errato\",VLOOKUP(A124,Articoli!$1:$48422,3,FALSE)))","v":""}]
[null,{"$f":"IF(A125=\"\",\"\",IF(ISERROR(VLOOKUP(A125,Articoli!$1:$48422,2,FALSE)),\"Codice Errato\",VLOOKUP(A125,Articoli!$1:$48422,2,FALSE)))","v":""},null,0,"        ","        ;",0,"      ","      ","",{"$f":"IF(A125=\"\",\"\",IF(ISERROR(VLOOKUP(A125,Articoli!$1:$48422,3,FALSE)),\"Codice Errato\",VLOOKUP(A125,Articoli!$1:$48422,3,FALSE)))","v":""}]
[null,{"$f":"IF(A126=\"\",\"\",IF(ISERROR(VLOOKUP(A126,Articoli!$1:$48422,2,FALSE)),\"Codice Errato\",VLOOKUP(A126,Articoli!$1:$48422,2,FALSE)))","v":""},null,0,"        ","        ;",0,"      ","      ","",{"$f":"IF(A126=\"\",\"\",IF(ISERROR(VLOOKUP(A126,Articoli!$1:$48422,3,FALSE)),\"Codice Errato\",VLOOKUP(A126,Articoli!$1:$48422,3,FALSE)))","v":""}]
[null,{"$f":"IF(A127=\"\",\"\",IF(ISERROR(VLOOKUP(A127,Articoli!$1:$48422,2,FALSE)),\"Codice Errato\",VLOOKUP(A127,Articoli!$1:$48422,2,FALSE)))","v":""},null,0,"        ","        ;",0,"      ","      ","",{"$f":"IF(A127=\"\",\"\",IF(ISERROR(VLOOKUP(A127,Articoli!$1:$48422,3,FALSE)),\"Codice Errato\",VLOOKUP(A127,Articoli!$1:$48422,3,FALSE)))","v":""}]
[null,{"$f":"IF(A128=\"\",\"\",IF(ISERROR(VLOOKUP(A128,Articoli!$1:$48422,2,FALSE)),\"Codice Errato\",VLOOKUP(A128,Articoli!$1:$48422,2,FALSE)))","v":""},null,0,"        ","        ;",0,"      ","      ","",{"$f":"IF(A128=\"\",\"\",IF(ISERROR(VLOOKUP(A128,Articoli!$1:$48422,3,FALSE)),\"Codice Errato\",VLOOKUP(A128,Articoli!$1:$48422,3,FALSE)))","v":""}]
[null,{"$f":"IF(A129=\"\",\"\",IF(ISERROR(VLOOKUP(A129,Articoli!$1:$48422,2,FALSE)),\"Codice Errato\",VLOOKUP(A129,Articoli!$1:$48422,2,FALSE)))","v":""},null,0,"        ","        ;",0,"      ","      ","",{"$f":"IF(A129=\"\",\"\",IF(ISERROR(VLOOKUP(A129,Articoli!$1:$48422,3,FALSE)),\"Codice Errato\",VLOOKUP(A129,Articoli!$1:$48422,3,FALSE)))","v":""}]
[null,{"$f":"IF(A130=\"\",\"\",IF(ISERROR(VLOOKUP(A130,Articoli!$1:$48422,2,FALSE)),\"Codice Errato\",VLOOKUP(A130,Articoli!$1:$48422,2,FALSE)))","v":""},null,0,"        ","        ;",0,"      ","      ","",{"$f":"IF(A130=\"\",\"\",IF(ISERROR(VLOOKUP(A130,Articoli!$1:$48422,3,FALSE)),\"Codice Errato\",VLOOKUP(A130,Articoli!$1:$48422,3,FALSE)))","v":""}]
[null,{"$f":"IF(A131=\"\",\"\",IF(ISERROR(VLOOKUP(A131,Articoli!$1:$48422,2,FALSE)),\"Codice Errato\",VLOOKUP(A131,Articoli!$1:$48422,2,FALSE)))","v":""},null,0,"        ","        ;",0,"      ","      ","",{"$f":"IF(A131=\"\",\"\",IF(ISERROR(VLOOKUP(A131,Articoli!$1:$48422,3,FALSE)),\"Codice Errato\",VLOOKUP(A131,Articoli!$1:$48422,3,FALSE)))","v":""}]
[null,{"$f":"IF(A132=\"\",\"\",IF(ISERROR(VLOOKUP(A132,Articoli!$1:$48422,2,FALSE)),\"Codice Errato\",VLOOKUP(A132,Articoli!$1:$48422,2,FALSE)))","v":""},null,0,"        ","        ;",0,"      ","      ","",{"$f":"IF(A132=\"\",\"\",IF(ISERROR(VLOOKUP(A132,Articoli!$1:$48422,3,FALSE)),\"Codice Errato\",VLOOKUP(A132,Articoli!$1:$48422,3,FALSE)))","v":""}]
[null,{"$f":"IF(A133=\"\",\"\",IF(ISERROR(VLOOKUP(A133,Articoli!$1:$48422,2,FALSE)),\"Codice Errato\",VLOOKUP(A133,Articoli!$1:$48422,2,FALSE)))","v":""},null,0,"        ","        ;",0,"      ","      ","",{"$f":"IF(A133=\"\",\"\",IF(ISERROR(VLOOKUP(A133,Articoli!$1:$48422,3,FALSE)),\"Codice Errato\",VLOOKUP(A133,Articoli!$1:$48422,3,FALSE)))","v":""}]
[null,{"$f":"IF(A134=\"\",\"\",IF(ISERROR(VLOOKUP(A134,Articoli!$1:$48422,2,FALSE)),\"Codice Errato\",VLOOKUP(A134,Articoli!$1:$48422,2,FALSE)))","v":""},null,0,"        ","        ;",0,"      ","      ","",{"$f":"IF(A134=\"\",\"\",IF(ISERROR(VLOOKUP(A134,Articoli!$1:$48422,3,FALSE)),\"Codice Errato\",VLOOKUP(A134,Articoli!$1:$48422,3,FALSE)))","v":""}]
[null,{"$f":"IF(A135=\"\",\"\",IF(ISERROR(VLOOKUP(A135,Articoli!$1:$48422,2,FALSE)),\"Codice Errato\",VLOOKUP(A135,Articoli!$1:$48422,2,FALSE)))","v":""},null,0,"        ","        ;",0,"      ","      ","",{"$f":"IF(A135=\"\",\"\",IF(ISERROR(VLOOKUP(A135,Articoli!$1:$48422,3,FALSE)),\"Codice Errato\",VLOOKUP(A135,Articoli!$1:$48422,3,FALSE)))","v":""}]
[null,{"$f":"IF(A136=\"\",\"\",IF(ISERROR(VLOOKUP(A136,Articoli!$1:$48422,2,FALSE)),\"Codice Errato\",VLOOKUP(A136,Articoli!$1:$48422,2,FALSE)))","v":""},null,0,"        ","        ;",0,"      ","      ","",{"$f":"IF(A136=\"\",\"\",IF(ISERROR(VLOOKUP(A136,Articoli!$1:$48422,3,FALSE)),\"Codice Errato\",VLOOKUP(A136,Articoli!$1:$48422,3,FALSE)))","v":""}]
[null,{"$f":"IF(A137=\"\",\"\",IF(ISERROR(VLOOKUP(A137,Articoli!$1:$48422,2,FALSE)),\"Codice Errato\",VLOOKUP(A137,Articoli!$1:$48422,2,FALSE)))","v":""},null,0,"        ","        ;",0,"      ","      ","",{"$f":"IF(A137=\"\",\"\",IF(ISERROR(VLOOKUP(A137,Articoli!$1:$48422,3,FALSE)),\"Codice Errato\",VLOOKUP(A137,Articoli!$1:$48422,3,FALSE)))","v":""}]
[null,{"$f":"IF(A138=\"\",\"\",IF(ISERROR(VLOOKUP(A138,Articoli!$1:$48422,2,FALSE)),\"Codice Errato\",VLOOKUP(A138,Articoli!$1:$48422,2,FALSE)))","v":""},null,0,"        ","        ;",0,"      ","      ","",{"$f":"IF(A138=\"\",\"\",IF(ISERROR(VLOOKUP(A138,Articoli!$1:$48422,3,FALSE)),\"Codice Errato\",VLOOKUP(A138,Articoli!$1:$48422,3,FALSE)))","v":""}]
[null,{"$f":"IF(A139=\"\",\"\",IF(ISERROR(VLOOKUP(A139,Articoli!$1:$48422,2,FALSE)),\"Codice Errato\",VLOOKUP(A139,Articoli!$1:$48422,2,FALSE)))","v":""},null,0,"        ","        ;",0,"      ","      ","",{"$f":"IF(A139=\"\",\"\",IF(ISERROR(VLOOKUP(A139,Articoli!$1:$48422,3,FALSE)),\"Codice Errato\",VLOOKUP(A139,Articoli!$1:$48422,3,FALSE)))","v":""}]
[null,{"$f":"IF(A140=\"\",\"\",IF(ISERROR(VLOOKUP(A140,Articoli!$1:$48422,2,FALSE)),\"Codice Errato\",VLOOKUP(A140,Articoli!$1:$48422,2,FALSE)))","v":""},null,0,"        ","        ;",0,"      ","      ","",{"$f":"IF(A140=\"\",\"\",IF(ISERROR(VLOOKUP(A140,Articoli!$1:$48422,3,FALSE)),\"Codice Errato\",VLOOKUP(A140,Articoli!$1:$48422,3,FALSE)))","v":""}]
[null,{"$f":"IF(A141=\"\",\"\",IF(ISERROR(VLOOKUP(A141,Articoli!$1:$48422,2,FALSE)),\"Codice Errato\",VLOOKUP(A141,Articoli!$1:$48422,2,FALSE)))","v":""},null,0,"        ","        ;",0,"      ","      ","",{"$f":"IF(A141=\"\",\"\",IF(ISERROR(VLOOKUP(A141,Articoli!$1:$48422,3,FALSE)),\"Codice Errato\",VLOOKUP(A141,Articoli!$1:$48422,3,FALSE)))","v":""}]
[null,{"$f":"IF(A142=\"\",\"\",IF(ISERROR(VLOOKUP(A142,Articoli!$1:$48422,2,FALSE)),\"Codice Errato\",VLOOKUP(A142,Articoli!$1:$48422,2,FALSE)))","v":""},null,0,"        ","        ;",0,"      ","      ","",{"$f":"IF(A142=\"\",\"\",IF(ISERROR(VLOOKUP(A142,Articoli!$1:$48422,3,FALSE)),\"Codice Errato\",VLOOKUP(A142,Articoli!$1:$48422,3,FALSE)))","v":""}]
[null,{"$f":"IF(A143=\"\",\"\",IF(ISERROR(VLOOKUP(A143,Articoli!$1:$48422,2,FALSE)),\"Codice Errato\",VLOOKUP(A143,Articoli!$1:$48422,2,FALSE)))","v":""},null,{"$f":"LEN(A143)","v":0},{"$f":"REPT(\" \",8-D143)","v":"        "},{"$f":"CONCATENATE(A143,E143,\";\",)","v":"        ;"},{"$f":"LEN(C143)","v":0},{"$f":"REPT(\" \",6-G143)","v":"      "},{"$f":"CONCATENATE(H143,C143,)","v":"      "},{"$f":"IF(C143=\"\",\"\",CONCATENATE(F143,I143))","v":""},{"$f":"IF(A143=\"\",\"\",IF(ISERROR(VLOOKUP(A143,Articoli!$1:$48422,3,FALSE)),\"Codice Errato\",VLOOKUP(A143,Articoli!$1:$48422,3,FALSE)))","v":""}]
[null,{"$f":"IF(A144=\"\",\"\",IF(ISERROR(VLOOKUP(A144,Articoli!$1:$48422,2,FALSE)),\"Codice Errato\",VLOOKUP(A144,Articoli!$1:$48422,2,FALSE)))","v":""},null,0,"        ","        ;",0,"      ","      ","",{"$f":"IF(A144=\"\",\"\",IF(ISERROR(VLOOKUP(A144,Articoli!$1:$48422,3,FALSE)),\"Codice Errato\",VLOOKUP(A144,Articoli!$1:$48422,3,FALSE)))","v":""}]
[null,{"$f":"IF(A145=\"\",\"\",IF(ISERROR(VLOOKUP(A145,Articoli!$1:$48422,2,FALSE)),\"Codice Errato\",VLOOKUP(A145,Articoli!$1:$48422,2,FALSE)))","v":""},null,0,"        ","        ;",0,"      ","      ","",{"$f":"IF(A145=\"\",\"\",IF(ISERROR(VLOOKUP(A145,Articoli!$1:$48422,3,FALSE)),\"Codice Errato\",VLOOKUP(A145,Articoli!$1:$48422,3,FALSE)))","v":""}]
[null,{"$f":"IF(A146=\"\",\"\",IF(ISERROR(VLOOKUP(A146,Articoli!$1:$48422,2,FALSE)),\"Codice Errato\",VLOOKUP(A146,Articoli!$1:$48422,2,FALSE)))","v":""},null,0,"        ","        ;",0,"      ","      ","",{"$f":"IF(A146=\"\",\"\",IF(ISERROR(VLOOKUP(A146,Articoli!$1:$48422,3,FALSE)),\"Codice Errato\",VLOOKUP(A146,Articoli!$1:$48422,3,FALSE)))","v":""}]
[null,{"$f":"IF(A147=\"\",\"\",IF(ISERROR(VLOOKUP(A147,Articoli!$1:$48422,2,FALSE)),\"Codice Errato\",VLOOKUP(A147,Articoli!$1:$48422,2,FALSE)))","v":""},null,0,"        ","        ;",0,"      ","      ","",{"$f":"IF(A147=\"\",\"\",IF(ISERROR(VLOOKUP(A147,Articoli!$1:$48422,3,FALSE)),\"Codice Errato\",VLOOKUP(A147,Articoli!$1:$48422,3,FALSE)))","v":""}]
[null,{"$f":"IF(A148=\"\",\"\",IF(ISERROR(VLOOKUP(A148,Articoli!$1:$48422,2,FALSE)),\"Codice Errato\",VLOOKUP(A148,Articoli!$1:$48422,2,FALSE)))","v":""},null,0,"        ","        ;",0,"      ","      ","",{"$f":"IF(A148=\"\",\"\",IF(ISERROR(VLOOKUP(A148,Articoli!$1:$48422,3,FALSE)),\"Codice Errato\",VLOOKUP(A148,Articoli!$1:$48422,3,FALSE)))","v":""}]
[null,{"$f":"IF(A149=\"\",\"\",IF(ISERROR(VLOOKUP(A149,Articoli!$1:$48422,2,FALSE)),\"Codice Errato\",VLOOKUP(A149,Articoli!$1:$48422,2,FALSE)))","v":""},null,0,"        ","        ;",0,"      ","      ","",{"$f":"IF(A149=\"\",\"\",IF(ISERROR(VLOOKUP(A149,Articoli!$1:$48422,3,FALSE)),\"Codice Errato\",VLOOKUP(A149,Articoli!$1:$48422,3,FALSE)))","v":""}]
[null,{"$f":"IF(A150=\"\",\"\",IF(ISERROR(VLOOKUP(A150,Articoli!$1:$48422,2,FALSE)),\"Codice Errato\",VLOOKUP(A150,Articoli!$1:$48422,2,FALSE)))","v":""},null,0,"        ","        ;",0,"      ","      ","",{"$f":"IF(A150=\"\",\"\",IF(ISERROR(VLOOKUP(A150,Articoli!$1:$48422,3,FALSE)),\"Codice Errato\",VLOOKUP(A150,Articoli!$1:$48422,3,FALSE)))","v":""}]
[null,{"$f":"IF(A151=\"\",\"\",IF(ISERROR(VLOOKUP(A151,Articoli!$1:$48422,2,FALSE)),\"Codice Errato\",VLOOKUP(A151,Articoli!$1:$48422,2,FALSE)))","v":""},null,0,"        ","        ;",0,"      ","      ","",{"$f":"IF(A151=\"\",\"\",IF(ISERROR(VLOOKUP(A151,Articoli!$1:$48422,3,FALSE)),\"Codice Errato\",VLOOKUP(A151,Articoli!$1:$48422,3,FALSE)))","v":""}]
[null,{"$f":"IF(A152=\"\",\"\",IF(ISERROR(VLOOKUP(A152,Articoli!$1:$48422,2,FALSE)),\"Codice Errato\",VLOOKUP(A152,Articoli!$1:$48422,2,FALSE)))","v":""},null,0,"        ","        ;",0,"      ","      ","",{"$f":"IF(A152=\"\",\"\",IF(ISERROR(VLOOKUP(A152,Articoli!$1:$48422,3,FALSE)),\"Codice Errato\",VLOOKUP(A152,Articoli!$1:$48422,3,FALSE)))","v":""}]
[null,{"$f":"IF(A153=\"\",\"\",IF(ISERROR(VLOOKUP(A153,Articoli!$1:$48422,2,FALSE)),\"Codice Errato\",VLOOKUP(A153,Articoli!$1:$48422,2,FALSE)))","v":""},null,0,"        ","        ;",0,"      ","      ","",{"$f":"IF(A153=\"\",\"\",IF(ISERROR(VLOOKUP(A153,Articoli!$1:$48422,3,FALSE)),\"Codice Errato\",VLOOKUP(A153,Articoli!$1:$48422,3,FALSE)))","v":""}]
[null,{"$f":"IF(A154=\"\",\"\",IF(ISERROR(VLOOKUP(A154,Articoli!$1:$48422,2,FALSE)),\"Codice Errato\",VLOOKUP(A154,Articoli!$1:$48422,2,FALSE)))","v":""},null,0,"        ","        ;",0,"      ","      ","",{"$f":"IF(A154=\"\",\"\",IF(ISERROR(VLOOKUP(A154,Articoli!$1:$48422,3,FALSE)),\"Codice Errato\",VLOOKUP(A154,Articoli!$1:$48422,3,FALSE)))","v":""}]
[null,{"$f":"IF(A155=\"\",\"\",IF(ISERROR(VLOOKUP(A155,Articoli!$1:$48422,2,FALSE)),\"Codice Errato\",VLOOKUP(A155,Articoli!$1:$48422,2,FALSE)))","v":""},null,0,"        ","        ;",0,"      ","      ","",{"$f":"IF(A155=\"\",\"\",IF(ISERROR(VLOOKUP(A155,Articoli!$1:$48422,3,FALSE)),\"Codice Errato\",VLOOKUP(A155,Articoli!$1:$48422,3,FALSE)))","v":""}]
[null,{"$f":"IF(A156=\"\",\"\",IF(ISERROR(VLOOKUP(A156,Articoli!$1:$48422,2,FALSE)),\"Codice Errato\",VLOOKUP(A156,Articoli!$1:$48422,2,FALSE)))","v":""},null,0,"        ","        ;",0,"      ","      ","",{"$f":"IF(A156=\"\",\"\",IF(ISERROR(VLOOKUP(A156,Articoli!$1:$48422,3,FALSE)),\"Codice Errato\",VLOOKUP(A156,Articoli!$1:$48422,3,FALSE)))","v":""}]
[null,{"$f":"IF(A157=\"\",\"\",IF(ISERROR(VLOOKUP(A157,Articoli!$1:$48422,2,FALSE)),\"Codice Errato\",VLOOKUP(A157,Articoli!$1:$48422,2,FALSE)))","v":""},null,0,"        ","        ;",0,"      ","      ","",{"$f":"IF(A157=\"\",\"\",IF(ISERROR(VLOOKUP(A157,Articoli!$1:$48422,3,FALSE)),\"Codice Errato\",VLOOKUP(A157,Articoli!$1:$48422,3,FALSE)))","v":""}]
[null,{"$f":"IF(A158=\"\",\"\",IF(ISERROR(VLOOKUP(A158,Articoli!$1:$48422,2,FALSE)),\"Codice Errato\",VLOOKUP(A158,Articoli!$1:$48422,2,FALSE)))","v":""},null,0,"        ","        ;",0,"      ","      ","",{"$f":"IF(A158=\"\",\"\",IF(ISERROR(VLOOKUP(A158,Articoli!$1:$48422,3,FALSE)),\"Codice Errato\",VLOOKUP(A158,Articoli!$1:$48422,3,FALSE)))","v":""}]
[null,{"$f":"IF(A159=\"\",\"\",IF(ISERROR(VLOOKUP(A159,Articoli!$1:$48422,2,FALSE)),\"Codice Errato\",VLOOKUP(A159,Articoli!$1:$48422,2,FALSE)))","v":""},null,0,"        ","        ;",0,"      ","      ","",{"$f":"IF(A159=\"\",\"\",IF(ISERROR(VLOOKUP(A159,Articoli!$1:$48422,3,FALSE)),\"Codice Errato\",VLOOKUP(A159,Articoli!$1:$48422,3,FALSE)))","v":""}]
[null,{"$f":"IF(A160=\"\",\"\",IF(ISERROR(VLOOKUP(A160,Articoli!$1:$48422,2,FALSE)),\"Codice Errato\",VLOOKUP(A160,Articoli!$1:$48422,2,FALSE)))","v":""},null,0,"        ","        ;",0,"      ","      ","",{"$f":"IF(A160=\"\",\"\",IF(ISERROR(VLOOKUP(A160,Articoli!$1:$48422,3,FALSE)),\"Codice Errato\",VLOOKUP(A160,Articoli!$1:$48422,3,FALSE)))","v":""}]
[null,{"$f":"IF(A161=\"\",\"\",IF(ISERROR(VLOOKUP(A161,Articoli!$1:$48422,2,FALSE)),\"Codice Errato\",VLOOKUP(A161,Articoli!$1:$48422,2,FALSE)))","v":""},null,0,"        ","        ;",0,"      ","      ","",{"$f":"IF(A161=\"\",\"\",IF(ISERROR(VLOOKUP(A161,Articoli!$1:$48422,3,FALSE)),\"Codice Errato\",VLOOKUP(A161,Articoli!$1:$48422,3,FALSE)))","v":""}]
[null,{"$f":"IF(A162=\"\",\"\",IF(ISERROR(VLOOKUP(A162,Articoli!$1:$48422,2,FALSE)),\"Codice Errato\",VLOOKUP(A162,Articoli!$1:$48422,2,FALSE)))","v":""},null,0,"        ","        ;",0,"      ","      ","",{"$f":"IF(A162=\"\",\"\",IF(ISERROR(VLOOKUP(A162,Articoli!$1:$48422,3,FALSE)),\"Codice Errato\",VLOOKUP(A162,Articoli!$1:$48422,3,FALSE)))","v":""}]
[null,{"$f":"IF(A163=\"\",\"\",IF(ISERROR(VLOOKUP(A163,Articoli!$1:$48422,2,FALSE)),\"Codice Errato\",VLOOKUP(A163,Articoli!$1:$48422,2,FALSE)))","v":""},null,0,"        ","        ;",0,"      ","      ","",{"$f":"IF(A163=\"\",\"\",IF(ISERROR(VLOOKUP(A163,Articoli!$1:$48422,3,FALSE)),\"Codice Errato\",VLOOKUP(A163,Articoli!$1:$48422,3,FALSE)))","v":""}]
[null,{"$f":"IF(A164=\"\",\"\",IF(ISERROR(VLOOKUP(A164,Articoli!$1:$48422,2,FALSE)),\"Codice Errato\",VLOOKUP(A164,Articoli!$1:$48422,2,FALSE)))","v":""},null,0,"        ","        ;",0,"      ","      ","",{"$f":"IF(A164=\"\",\"\",IF(ISERROR(VLOOKUP(A164,Articoli!$1:$48422,3,FALSE)),\"Codice Errato\",VLOOKUP(A164,Articoli!$1:$48422,3,FALSE)))","v":""}]
[null,{"$f":"IF(A165=\"\",\"\",IF(ISERROR(VLOOKUP(A165,Articoli!$1:$48422,2,FALSE)),\"Codice Errato\",VLOOKUP(A165,Articoli!$1:$48422,2,FALSE)))","v":""},null,0,"        ","        ;",0,"      ","      ","",{"$f":"IF(A165=\"\",\"\",IF(ISERROR(VLOOKUP(A165,Articoli!$1:$48422,3,FALSE)),\"Codice Errato\",VLOOKUP(A165,Articoli!$1:$48422,3,FALSE)))","v":""}]
[null,{"$f":"IF(A166=\"\",\"\",IF(ISERROR(VLOOKUP(A166,Articoli!$1:$48422,2,FALSE)),\"Codice Errato\",VLOOKUP(A166,Articoli!$1:$48422,2,FALSE)))","v":""},null,0,"        ","        ;",0,"      ","      ","",{"$f":"IF(A166=\"\",\"\",IF(ISERROR(VLOOKUP(A166,Articoli!$1:$48422,3,FALSE)),\"Codice Errato\",VLOOKUP(A166,Articoli!$1:$48422,3,FALSE)))","v":""}]
[null,{"$f":"IF(A167=\"\",\"\",IF(ISERROR(VLOOKUP(A167,Articoli!$1:$48422,2,FALSE)),\"Codice Errato\",VLOOKUP(A167,Articoli!$1:$48422,2,FALSE)))","v":""},null,0,"        ","        ;",0,"      ","      ","",{"$f":"IF(A167=\"\",\"\",IF(ISERROR(VLOOKUP(A167,Articoli!$1:$48422,3,FALSE)),\"Codice Errato\",VLOOKUP(A167,Articoli!$1:$48422,3,FALSE)))","v":""}]
[null,{"$f":"IF(A168=\"\",\"\",IF(ISERROR(VLOOKUP(A168,Articoli!$1:$48422,2,FALSE)),\"Codice Errato\",VLOOKUP(A168,Articoli!$1:$48422,2,FALSE)))","v":""},null,0,"        ","        ;",0,"      ","      ","",{"$f":"IF(A168=\"\",\"\",IF(ISERROR(VLOOKUP(A168,Articoli!$1:$48422,3,FALSE)),\"Codice Errato\",VLOOKUP(A168,Articoli!$1:$48422,3,FALSE)))","v":""}]
[null,{"$f":"IF(A169=\"\",\"\",IF(ISERROR(VLOOKUP(A169,Articoli!$1:$48422,2,FALSE)),\"Codice Errato\",VLOOKUP(A169,Articoli!$1:$48422,2,FALSE)))","v":""},null,0,"        ","        ;",0,"      ","      ","",{"$f":"IF(A169=\"\",\"\",IF(ISERROR(VLOOKUP(A169,Articoli!$1:$48422,3,FALSE)),\"Codice Errato\",VLOOKUP(A169,Articoli!$1:$48422,3,FALSE)))","v":""}]
[null,{"$f":"IF(A170=\"\",\"\",IF(ISERROR(VLOOKUP(A170,Articoli!$1:$48422,2,FALSE)),\"Codice Errato\",VLOOKUP(A170,Articoli!$1:$48422,2,FALSE)))","v":""},null,0,"        ","        ;",0,"      ","      ","",{"$f":"IF(A170=\"\",\"\",IF(ISERROR(VLOOKUP(A170,Articoli!$1:$48422,3,FALSE)),\"Codice Errato\",VLOOKUP(A170,Articoli!$1:$48422,3,FALSE)))","v":""}]
[null,{"$f":"IF(A171=\"\",\"\",IF(ISERROR(VLOOKUP(A171,Articoli!$1:$48422,2,FALSE)),\"Codice Errato\",VLOOKUP(A171,Articoli!$1:$48422,2,FALSE)))","v":""},null,0,"        ","        ;",0,"      ","      ","",{"$f":"IF(A171=\"\",\"\",IF(ISERROR(VLOOKUP(A171,Articoli!$1:$48422,3,FALSE)),\"Codice Errato\",VLOOKUP(A171,Articoli!$1:$48422,3,FALSE)))","v":""}]
[null,{"$f":"IF(A172=\"\",\"\",IF(ISERROR(VLOOKUP(A172,Articoli!$1:$48422,2,FALSE)),\"Codice Errato\",VLOOKUP(A172,Articoli!$1:$48422,2,FALSE)))","v":""},null,0,"        ","        ;",0,"      ","      ","",{"$f":"IF(A172=\"\",\"\",IF(ISERROR(VLOOKUP(A172,Articoli!$1:$48422,3,FALSE)),\"Codice Errato\",VLOOKUP(A172,Articoli!$1:$48422,3,FALSE)))","v":""}]
[null,{"$f":"IF(A173=\"\",\"\",IF(ISERROR(VLOOKUP(A173,Articoli!$1:$48422,2,FALSE)),\"Codice Errato\",VLOOKUP(A173,Articoli!$1:$48422,2,FALSE)))","v":""},null,0,"        ","        ;",0,"      ","      ","",{"$f":"IF(A173=\"\",\"\",IF(ISERROR(VLOOKUP(A173,Articoli!$1:$48422,3,FALSE)),\"Codice Errato\",VLOOKUP(A173,Articoli!$1:$48422,3,FALSE)))","v":""}]
[null,{"$f":"IF(A174=\"\",\"\",IF(ISERROR(VLOOKUP(A174,Articoli!$1:$48422,2,FALSE)),\"Codice Errato\",VLOOKUP(A174,Articoli!$1:$48422,2,FALSE)))","v":""},null,0,"        ","        ;",0,"      ","      ","",{"$f":"IF(A174=\"\",\"\",IF(ISERROR(VLOOKUP(A174,Articoli!$1:$48422,3,FALSE)),\"Codice Errato\",VLOOKUP(A174,Articoli!$1:$48422,3,FALSE)))","v":""}]
[null,{"$f":"IF(A175=\"\",\"\",IF(ISERROR(VLOOKUP(A175,Articoli!$1:$48422,2,FALSE)),\"Codice Errato\",VLOOKUP(A175,Articoli!$1:$48422,2,FALSE)))","v":""},null,0,"        ","        ;",0,"      ","      ","",{"$f":"IF(A175=\"\",\"\",IF(ISERROR(VLOOKUP(A175,Articoli!$1:$48422,3,FALSE)),\"Codice Errato\",VLOOKUP(A175,Articoli!$1:$48422,3,FALSE)))","v":""}]
[null,{"$f":"IF(A176=\"\",\"\",IF(ISERROR(VLOOKUP(A176,Articoli!$1:$48422,2,FALSE)),\"Codice Errato\",VLOOKUP(A176,Articoli!$1:$48422,2,FALSE)))","v":""},null,0,"        ","        ;",0,"      ","      ","",{"$f":"IF(A176=\"\",\"\",IF(ISERROR(VLOOKUP(A176,Articoli!$1:$48422,3,FALSE)),\"Codice Errato\",VLOOKUP(A176,Articoli!$1:$48422,3,FALSE)))","v":""}]
[null,{"$f":"IF(A177=\"\",\"\",IF(ISERROR(VLOOKUP(A177,Articoli!$1:$48422,2,FALSE)),\"Codice Errato\",VLOOKUP(A177,Articoli!$1:$48422,2,FALSE)))","v":""},null,0,"        ","        ;",0,"      ","      ","",{"$f":"IF(A177=\"\",\"\",IF(ISERROR(VLOOKUP(A177,Articoli!$1:$48422,3,FALSE)),\"Codice Errato\",VLOOKUP(A177,Articoli!$1:$48422,3,FALSE)))","v":""}]
[null,{"$f":"IF(A178=\"\",\"\",IF(ISERROR(VLOOKUP(A178,Articoli!$1:$48422,2,FALSE)),\"Codice Errato\",VLOOKUP(A178,Articoli!$1:$48422,2,FALSE)))","v":""},null,0,"        ","        ;",0,"      ","      ","",{"$f":"IF(A178=\"\",\"\",IF(ISERROR(VLOOKUP(A178,Articoli!$1:$48422,3,FALSE)),\"Codice Errato\",VLOOKUP(A178,Articoli!$1:$48422,3,FALSE)))","v":""}]
[null,{"$f":"IF(A179=\"\",\"\",IF(ISERROR(VLOOKUP(A179,Articoli!$1:$48422,2,FALSE)),\"Codice Errato\",VLOOKUP(A179,Articoli!$1:$48422,2,FALSE)))","v":""},null,0,"        ","        ;",0,"      ","      ","",{"$f":"IF(A179=\"\",\"\",IF(ISERROR(VLOOKUP(A179,Articoli!$1:$48422,3,FALSE)),\"Codice Errato\",VLOOKUP(A179,Articoli!$1:$48422,3,FALSE)))","v":""}]
[null,{"$f":"IF(A180=\"\",\"\",IF(ISERROR(VLOOKUP(A180,Articoli!$1:$48422,2,FALSE)),\"Codice Errato\",VLOOKUP(A180,Articoli!$1:$48422,2,FALSE)))","v":""},null,0,"        ","        ;",0,"      ","      ","",{"$f":"IF(A180=\"\",\"\",IF(ISERROR(VLOOKUP(A180,Articoli!$1:$48422,3,FALSE)),\"Codice Errato\",VLOOKUP(A180,Articoli!$1:$48422,3,FALSE)))","v":""}]
[null,{"$f":"IF(A181=\"\",\"\",IF(ISERROR(VLOOKUP(A181,Articoli!$1:$48422,2,FALSE)),\"Codice Errato\",VLOOKUP(A181,Articoli!$1:$48422,2,FALSE)))","v":""},null,0,"        ","        ;",0,"      ","      ","",{"$f":"IF(A181=\"\",\"\",IF(ISERROR(VLOOKUP(A181,Articoli!$1:$48422,3,FALSE)),\"Codice Errato\",VLOOKUP(A181,Articoli!$1:$48422,3,FALSE)))","v":""}]
[null,{"$f":"IF(A182=\"\",\"\",IF(ISERROR(VLOOKUP(A182,Articoli!$1:$48422,2,FALSE)),\"Codice Errato\",VLOOKUP(A182,Articoli!$1:$48422,2,FALSE)))","v":""},null,0,"        ","        ;",0,"      ","      ","",{"$f":"IF(A182=\"\",\"\",IF(ISERROR(VLOOKUP(A182,Articoli!$1:$48422,3,FALSE)),\"Codice Errato\",VLOOKUP(A182,Articoli!$1:$48422,3,FALSE)))","v":""}]
[null,{"$f":"IF(A183=\"\",\"\",IF(ISERROR(VLOOKUP(A183,Articoli!$1:$48422,2,FALSE)),\"Codice Errato\",VLOOKUP(A183,Articoli!$1:$48422,2,FALSE)))","v":""},null,0,"        ","        ;",0,"      ","      ","",{"$f":"IF(A183=\"\",\"\",IF(ISERROR(VLOOKUP(A183,Articoli!$1:$48422,3,FALSE)),\"Codice Errato\",VLOOKUP(A183,Articoli!$1:$48422,3,FALSE)))","v":""}]
[null,{"$f":"IF(A184=\"\",\"\",IF(ISERROR(VLOOKUP(A184,Articoli!$1:$48422,2,FALSE)),\"Codice Errato\",VLOOKUP(A184,Articoli!$1:$48422,2,FALSE)))","v":""},null,0,"        ","        ;",0,"      ","      ","",{"$f":"IF(A184=\"\",\"\",IF(ISERROR(VLOOKUP(A184,Articoli!$1:$48422,3,FALSE)),\"Codice Errato\",VLOOKUP(A184,Articoli!$1:$48422,3,FALSE)))","v":""}]
[null,{"$f":"IF(A185=\"\",\"\",IF(ISERROR(VLOOKUP(A185,Articoli!$1:$48422,2,FALSE)),\"Codice Errato\",VLOOKUP(A185,Articoli!$1:$48422,2,FALSE)))","v":""},null,0,"        ","        ;",0,"      ","      ","",{"$f":"IF(A185=\"\",\"\",IF(ISERROR(VLOOKUP(A185,Articoli!$1:$48422,3,FALSE)),\"Codice Errato\",VLOOKUP(A185,Articoli!$1:$48422,3,FALSE)))","v":""}]
[null,{"$f":"IF(A186=\"\",\"\",IF(ISERROR(VLOOKUP(A186,Articoli!$1:$48422,2,FALSE)),\"Codice Errato\",VLOOKUP(A186,Articoli!$1:$48422,2,FALSE)))","v":""},null,0,"        ","        ;",0,"      ","      ","",{"$f":"IF(A186=\"\",\"\",IF(ISERROR(VLOOKUP(A186,Articoli!$1:$48422,3,FALSE)),\"Codice Errato\",VLOOKUP(A186,Articoli!$1:$48422,3,FALSE)))","v":""}]
[null,{"$f":"IF(A187=\"\",\"\",IF(ISERROR(VLOOKUP(A187,Articoli!$1:$48422,2,FALSE)),\"Codice Errato\",VLOOKUP(A187,Articoli!$1:$48422,2,FALSE)))","v":""},null,0,"        ","        ;",0,"      ","      ","",{"$f":"IF(A187=\"\",\"\",IF(ISERROR(VLOOKUP(A187,Articoli!$1:$48422,3,FALSE)),\"Codice Errato\",VLOOKUP(A187,Articoli!$1:$48422,3,FALSE)))","v":""}]
[null,{"$f":"IF(A188=\"\",\"\",IF(ISERROR(VLOOKUP(A188,Articoli!$1:$48422,2,FALSE)),\"Codice Errato\",VLOOKUP(A188,Articoli!$1:$48422,2,FALSE)))","v":""},null,0,"        ","        ;",0,"      ","      ","",{"$f":"IF(A188=\"\",\"\",IF(ISERROR(VLOOKUP(A188,Articoli!$1:$48422,3,FALSE)),\"Codice Errato\",VLOOKUP(A188,Articoli!$1:$48422,3,FALSE)))","v":""}]
[null,{"$f":"IF(A189=\"\",\"\",IF(ISERROR(VLOOKUP(A189,Articoli!$1:$48422,2,FALSE)),\"Codice Errato\",VLOOKUP(A189,Articoli!$1:$48422,2,FALSE)))","v":""},null,0,"        ","        ;",0,"      ","      ","",{"$f":"IF(A189=\"\",\"\",IF(ISERROR(VLOOKUP(A189,Articoli!$1:$48422,3,FALSE)),\"Codice Errato\",VLOOKUP(A189,Articoli!$1:$48422,3,FALSE)))","v":""}]
[null,{"$f":"IF(A190=\"\",\"\",IF(ISERROR(VLOOKUP(A190,Articoli!$1:$48422,2,FALSE)),\"Codice Errato\",VLOOKUP(A190,Articoli!$1:$48422,2,FALSE)))","v":""},null,0,"        ","        ;",0,"      ","      ","",{"$f":"IF(A190=\"\",\"\",IF(ISERROR(VLOOKUP(A190,Articoli!$1:$48422,3,FALSE)),\"Codice Errato\",VLOOKUP(A190,Articoli!$1:$48422,3,FALSE)))","v":""}]
[null,{"$f":"IF(A191=\"\",\"\",IF(ISERROR(VLOOKUP(A191,Articoli!$1:$48422,2,FALSE)),\"Codice Errato\",VLOOKUP(A191,Articoli!$1:$48422,2,FALSE)))","v":""},null,0,"        ","        ;",0,"      ","      ","",{"$f":"IF(A191=\"\",\"\",IF(ISERROR(VLOOKUP(A191,Articoli!$1:$48422,3,FALSE)),\"Codice Errato\",VLOOKUP(A191,Articoli!$1:$48422,3,FALSE)))","v":""}]
[null,{"$f":"IF(A192=\"\",\"\",IF(ISERROR(VLOOKUP(A192,Articoli!$1:$48422,2,FALSE)),\"Codice Errato\",VLOOKUP(A192,Articoli!$1:$48422,2,FALSE)))","v":""},null,0,"        ","        ;",0,"      ","      ","",{"$f":"IF(A192=\"\",\"\",IF(ISERROR(VLOOKUP(A192,Articoli!$1:$48422,3,FALSE)),\"Codice Errato\",VLOOKUP(A192,Articoli!$1:$48422,3,FALSE)))","v":""}]
[null,{"$f":"IF(A193=\"\",\"\",IF(ISERROR(VLOOKUP(A193,Articoli!$1:$48422,2,FALSE)),\"Codice Errato\",VLOOKUP(A193,Articoli!$1:$48422,2,FALSE)))","v":""},null,0,"        ","        ;",0,"      ","      ","",{"$f":"IF(A193=\"\",\"\",IF(ISERROR(VLOOKUP(A193,Articoli!$1:$48422,3,FALSE)),\"Codice Errato\",VLOOKUP(A193,Articoli!$1:$48422,3,FALSE)))","v":""}]
[null,{"$f":"IF(A194=\"\",\"\",IF(ISERROR(VLOOKUP(A194,Articoli!$1:$48422,2,FALSE)),\"Codice Errato\",VLOOKUP(A194,Articoli!$1:$48422,2,FALSE)))","v":""},null,0,"        ","        ;",0,"      ","      ","",{"$f":"IF(A194=\"\",\"\",IF(ISERROR(VLOOKUP(A194,Articoli!$1:$48422,3,FALSE)),\"Codice Errato\",VLOOKUP(A194,Articoli!$1:$48422,3,FALSE)))","v":""}]
[null,{"$f":"IF(A195=\"\",\"\",IF(ISERROR(VLOOKUP(A195,Articoli!$1:$48422,2,FALSE)),\"Codice Errato\",VLOOKUP(A195,Articoli!$1:$48422,2,FALSE)))","v":""},null,0,"        ","        ;",0,"      ","      ","",{"$f":"IF(A195=\"\",\"\",IF(ISERROR(VLOOKUP(A195,Articoli!$1:$48422,3,FALSE)),\"Codice Errato\",VLOOKUP(A195,Articoli!$1:$48422,3,FALSE)))","v":""}]
[null,{"$f":"IF(A196=\"\",\"\",IF(ISERROR(VLOOKUP(A196,Articoli!$1:$48422,2,FALSE)),\"Codice Errato\",VLOOKUP(A196,Articoli!$1:$48422,2,FALSE)))","v":""},null,0,"        ","        ;",0,"      ","      ","",{"$f":"IF(A196=\"\",\"\",IF(ISERROR(VLOOKUP(A196,Articoli!$1:$48422,3,FALSE)),\"Codice Errato\",VLOOKUP(A196,Articoli!$1:$48422,3,FALSE)))","v":""}]
[null,{"$f":"IF(A197=\"\",\"\",IF(ISERROR(VLOOKUP(A197,Articoli!$1:$48422,2,FALSE)),\"Codice Errato\",VLOOKUP(A197,Articoli!$1:$48422,2,FALSE)))","v":""},null,0,"        ","        ;",0,"      ","      ","",{"$f":"IF(A197=\"\",\"\",IF(ISERROR(VLOOKUP(A197,Articoli!$1:$48422,3,FALSE)),\"Codice Errato\",VLOOKUP(A197,Articoli!$1:$48422,3,FALSE)))","v":""}]
[null,{"$f":"IF(A198=\"\",\"\",IF(ISERROR(VLOOKUP(A198,Articoli!$1:$48422,2,FALSE)),\"Codice Errato\",VLOOKUP(A198,Articoli!$1:$48422,2,FALSE)))","v":""},null,0,"        ","        ;",0,"      ","      ","",{"$f":"IF(A198=\"\",\"\",IF(ISERROR(VLOOKUP(A198,Articoli!$1:$48422,3,FALSE)),\"Codice Errato\",VLOOKUP(A198,Articoli!$1:$48422,3,FALSE)))","v":""}]
[null,{"$f":"IF(A199=\"\",\"\",IF(ISERROR(VLOOKUP(A199,Articoli!$1:$48422,2,FALSE)),\"Codice Errato\",VLOOKUP(A199,Articoli!$1:$48422,2,FALSE)))","v":""},null,0,"        ","        ;",0,"      ","      ","",{"$f":"IF(A199=\"\",\"\",IF(ISERROR(VLOOKUP(A199,Articoli!$1:$48422,3,FALSE)),\"Codice Errato\",VLOOKUP(A199,Articoli!$1:$48422,3,FALSE)))","v":""}]
[null,{"$f":"IF(A200=\"\",\"\",IF(ISERROR(VLOOKUP(A200,Articoli!$1:$48422,2,FALSE)),\"Codice Errato\",VLOOKUP(A200,Articoli!$1:$48422,2,FALSE)))","v":""},null,0,"        ","        ;",0,"      ","      ","",{"$f":"IF(A200=\"\",\"\",IF(ISERROR(VLOOKUP(A200,Articoli!$1:$48422,3,FALSE)),\"Codice Errato\",VLOOKUP(A200,Articoli!$1:$48422,3,FALSE)))","v":""}]
[null,{"$f":"IF(A201=\"\",\"\",IF(ISERROR(VLOOKUP(A201,Articoli!$1:$48422,2,FALSE)),\"Codice Errato\",VLOOKUP(A201,Articoli!$1:$48422,2,FALSE)))","v":""},null,0,"        ","        ;",0,"      ","      ","",{"$f":"IF(A201=\"\",\"\",IF(ISERROR(VLOOKUP(A201,Articoli!$1:$48422,3,FALSE)),\"Codice Errato\",VLOOKUP(A201,Articoli!$1:$48422,3,FALSE)))","v":""}]
[null,{"$f":"IF(A202=\"\",\"\",IF(ISERROR(VLOOKUP(A202,Articoli!$1:$48422,2,FALSE)),\"Codice Errato\",VLOOKUP(A202,Articoli!$1:$48422,2,FALSE)))","v":""},null,0,"        ","        ;",0,"      ","      ","",{"$f":"IF(A202=\"\",\"\",IF(ISERROR(VLOOKUP(A202,Articoli!$1:$48422,3,FALSE)),\"Codice Errato\",VLOOKUP(A202,Articoli!$1:$48422,3,FALSE)))","v":""}]
[null,{"$f":"IF(A203=\"\",\"\",IF(ISERROR(VLOOKUP(A203,Articoli!$1:$48422,2,FALSE)),\"Codice Errato\",VLOOKUP(A203,Articoli!$1:$48422,2,FALSE)))","v":""},null,0,"        ","        ;",0,"      ","      ","",{"$f":"IF(A203=\"\",\"\",IF(ISERROR(VLOOKUP(A203,Articoli!$1:$48422,3,FALSE)),\"Codice Errato\",VLOOKUP(A203,Articoli!$1:$48422,3,FALSE)))","v":""}]
[null,{"$f":"IF(A204=\"\",\"\",IF(ISERROR(VLOOKUP(A204,Articoli!$1:$48422,2,FALSE)),\"Codice Errato\",VLOOKUP(A204,Articoli!$1:$48422,2,FALSE)))","v":""},null,0,"        ","        ;",0,"      ","      ","",{"$f":"IF(A204=\"\",\"\",IF(ISERROR(VLOOKUP(A204,Articoli!$1:$48422,3,FALSE)),\"Codice Errato\",VLOOKUP(A204,Articoli!$1:$48422,3,FALSE)))","v":""}]
[null,{"$f":"IF(A205=\"\",\"\",IF(ISERROR(VLOOKUP(A205,Articoli!$1:$48422,2,FALSE)),\"Codice Errato\",VLOOKUP(A205,Articoli!$1:$48422,2,FALSE)))","v":""},null,0,"        ","        ;",0,"      ","      ","",{"$f":"IF(A205=\"\",\"\",IF(ISERROR(VLOOKUP(A205,Articoli!$1:$48422,3,FALSE)),\"Codice Errato\",VLOOKUP(A205,Articoli!$1:$48422,3,FALSE)))","v":""}]
[null,{"$f":"IF(A206=\"\",\"\",IF(ISERROR(VLOOKUP(A206,Articoli!$1:$48422,2,FALSE)),\"Codice Errato\",VLOOKUP(A206,Articoli!$1:$48422,2,FALSE)))","v":""},null,0,"        ","        ;",0,"      ","      ","",{"$f":"IF(A206=\"\",\"\",IF(ISERROR(VLOOKUP(A206,Articoli!$1:$48422,3,FALSE)),\"Codice Errato\",VLOOKUP(A206,Articoli!$1:$48422,3,FALSE)))","v":""}]
[null,{"$f":"IF(A207=\"\",\"\",IF(ISERROR(VLOOKUP(A207,Articoli!$1:$48422,2,FALSE)),\"Codice Errato\",VLOOKUP(A207,Articoli!$1:$48422,2,FALSE)))","v":""},null,{"$f":"LEN(A207)","v":0},{"$f":"REPT(\" \",8-D207)","v":"        "},{"$f":"CONCATENATE(A207,E207,\";\",)","v":"        ;"},{"$f":"LEN(C207)","v":0},{"$f":"REPT(\" \",6-G207)","v":"      "},{"$f":"CONCATENATE(H207,C207,)","v":"      "},{"$f":"IF(C207=\"\",\"\",CONCATENATE(F207,I207))","v":""},{"$f":"IF(A207=\"\",\"\",IF(ISERROR(VLOOKUP(A207,Articoli!$1:$48422,3,FALSE)),\"Codice Errato\",VLOOKUP(A207,Articoli!$1:$48422,3,FALSE)))","v":""}]
[null,{"$f":"IF(A208=\"\",\"\",IF(ISERROR(VLOOKUP(A208,Articoli!$1:$48422,2,FALSE)),\"Codice Errato\",VLOOKUP(A208,Articoli!$1:$48422,2,FALSE)))","v":""},null,0,"        ","        ;",0,"      ","      ","",{"$f":"IF(A208=\"\",\"\",IF(ISERROR(VLOOKUP(A208,Articoli!$1:$48422,3,FALSE)),\"Codice Errato\",VLOOKUP(A208,Articoli!$1:$48422,3,FALSE)))","v":""}]
[null,{"$f":"IF(A209=\"\",\"\",IF(ISERROR(VLOOKUP(A209,Articoli!$1:$48422,2,FALSE)),\"Codice Errato\",VLOOKUP(A209,Articoli!$1:$48422,2,FALSE)))","v":""},null,0,"        ","        ;",0,"      ","      ","",{"$f":"IF(A209=\"\",\"\",IF(ISERROR(VLOOKUP(A209,Articoli!$1:$48422,3,FALSE)),\"Codice Errato\",VLOOKUP(A209,Articoli!$1:$48422,3,FALSE)))","v":""}]
[null,{"$f":"IF(A210=\"\",\"\",IF(ISERROR(VLOOKUP(A210,Articoli!$1:$48422,2,FALSE)),\"Codice Errato\",VLOOKUP(A210,Articoli!$1:$48422,2,FALSE)))","v":""},null,0,"        ","        ;",0,"      ","      ","",{"$f":"IF(A210=\"\",\"\",IF(ISERROR(VLOOKUP(A210,Articoli!$1:$48422,3,FALSE)),\"Codice Errato\",VLOOKUP(A210,Articoli!$1:$48422,3,FALSE)))","v":""}]
[null,{"$f":"IF(A211=\"\",\"\",IF(ISERROR(VLOOKUP(A211,Articoli!$1:$48422,2,FALSE)),\"Codice Errato\",VLOOKUP(A211,Articoli!$1:$48422,2,FALSE)))","v":""},null,0,"        ","        ;",0,"      ","      ","",{"$f":"IF(A211=\"\",\"\",IF(ISERROR(VLOOKUP(A211,Articoli!$1:$48422,3,FALSE)),\"Codice Errato\",VLOOKUP(A211,Articoli!$1:$48422,3,FALSE)))","v":""}]
[null,{"$f":"IF(A212=\"\",\"\",IF(ISERROR(VLOOKUP(A212,Articoli!$1:$48422,2,FALSE)),\"Codice Errato\",VLOOKUP(A212,Articoli!$1:$48422,2,FALSE)))","v":""},null,0,"        ","        ;",0,"      ","      ","",{"$f":"IF(A212=\"\",\"\",IF(ISERROR(VLOOKUP(A212,Articoli!$1:$48422,3,FALSE)),\"Codice Errato\",VLOOKUP(A212,Articoli!$1:$48422,3,FALSE)))","v":""}]
[null,{"$f":"IF(A213=\"\",\"\",IF(ISERROR(VLOOKUP(A213,Articoli!$1:$48422,2,FALSE)),\"Codice Errato\",VLOOKUP(A213,Articoli!$1:$48422,2,FALSE)))","v":""},null,0,"        ","        ;",0,"      ","      ","",{"$f":"IF(A213=\"\",\"\",IF(ISERROR(VLOOKUP(A213,Articoli!$1:$48422,3,FALSE)),\"Codice Errato\",VLOOKUP(A213,Articoli!$1:$48422,3,FALSE)))","v":""}]
[null,{"$f":"IF(A214=\"\",\"\",IF(ISERROR(VLOOKUP(A214,Articoli!$1:$48422,2,FALSE)),\"Codice Errato\",VLOOKUP(A214,Articoli!$1:$48422,2,FALSE)))","v":""},null,0,"        ","        ;",0,"      ","      ","",{"$f":"IF(A214=\"\",\"\",IF(ISERROR(VLOOKUP(A214,Articoli!$1:$48422,3,FALSE)),\"Codice Errato\",VLOOKUP(A214,Articoli!$1:$48422,3,FALSE)))","v":""}]
[null,{"$f":"IF(A215=\"\",\"\",IF(ISERROR(VLOOKUP(A215,Articoli!$1:$48422,2,FALSE)),\"Codice Errato\",VLOOKUP(A215,Articoli!$1:$48422,2,FALSE)))","v":""},null,0,"        ","        ;",0,"      ","      ","",{"$f":"IF(A215=\"\",\"\",IF(ISERROR(VLOOKUP(A215,Articoli!$1:$48422,3,FALSE)),\"Codice Errato\",VLOOKUP(A215,Articoli!$1:$48422,3,FALSE)))","v":""}]
[null,{"$f":"IF(A216=\"\",\"\",IF(ISERROR(VLOOKUP(A216,Articoli!$1:$48422,2,FALSE)),\"Codice Errato\",VLOOKUP(A216,Articoli!$1:$48422,2,FALSE)))","v":""},null,0,"        ","        ;",0,"      ","      ","",{"$f":"IF(A216=\"\",\"\",IF(ISERROR(VLOOKUP(A216,Articoli!$1:$48422,3,FALSE)),\"Codice Errato\",VLOOKUP(A216,Articoli!$1:$48422,3,FALSE)))","v":""}]
[null,{"$f":"IF(A217=\"\",\"\",IF(ISERROR(VLOOKUP(A217,Articoli!$1:$48422,2,FALSE)),\"Codice Errato\",VLOOKUP(A217,Articoli!$1:$48422,2,FALSE)))","v":""},null,0,"        ","        ;",0,"      ","      ","",{"$f":"IF(A217=\"\",\"\",IF(ISERROR(VLOOKUP(A217,Articoli!$1:$48422,3,FALSE)),\"Codice Errato\",VLOOKUP(A217,Articoli!$1:$48422,3,FALSE)))","v":""}]
[null,{"$f":"IF(A218=\"\",\"\",IF(ISERROR(VLOOKUP(A218,Articoli!$1:$48422,2,FALSE)),\"Codice Errato\",VLOOKUP(A218,Articoli!$1:$48422,2,FALSE)))","v":""},null,0,"        ","        ;",0,"      ","      ","",{"$f":"IF(A218=\"\",\"\",IF(ISERROR(VLOOKUP(A218,Articoli!$1:$48422,3,FALSE)),\"Codice Errato\",VLOOKUP(A218,Articoli!$1:$48422,3,FALSE)))","v":""}]
[null,{"$f":"IF(A219=\"\",\"\",IF(ISERROR(VLOOKUP(A219,Articoli!$1:$48422,2,FALSE)),\"Codice Errato\",VLOOKUP(A219,Articoli!$1:$48422,2,FALSE)))","v":""},null,0,"        ","        ;",0,"      ","      ","",{"$f":"IF(A219=\"\",\"\",IF(ISERROR(VLOOKUP(A219,Articoli!$1:$48422,3,FALSE)),\"Codice Errato\",VLOOKUP(A219,Articoli!$1:$48422,3,FALSE)))","v":""}]
[null,{"$f":"IF(A220=\"\",\"\",IF(ISERROR(VLOOKUP(A220,Articoli!$1:$48422,2,FALSE)),\"Codice Errato\",VLOOKUP(A220,Articoli!$1:$48422,2,FALSE)))","v":""},null,0,"        ","        ;",0,"      ","      ","",{"$f":"IF(A220=\"\",\"\",IF(ISERROR(VLOOKUP(A220,Articoli!$1:$48422,3,FALSE)),\"Codice Errato\",VLOOKUP(A220,Articoli!$1:$48422,3,FALSE)))","v":""}]
[null,{"$f":"IF(A221=\"\",\"\",IF(ISERROR(VLOOKUP(A221,Articoli!$1:$48422,2,FALSE)),\"Codice Errato\",VLOOKUP(A221,Articoli!$1:$48422,2,FALSE)))","v":""},null,0,"        ","        ;",0,"      ","      ","",{"$f":"IF(A221=\"\",\"\",IF(ISERROR(VLOOKUP(A221,Articoli!$1:$48422,3,FALSE)),\"Codice Errato\",VLOOKUP(A221,Articoli!$1:$48422,3,FALSE)))","v":""}]
[null,{"$f":"IF(A222=\"\",\"\",IF(ISERROR(VLOOKUP(A222,Articoli!$1:$48422,2,FALSE)),\"Codice Errato\",VLOOKUP(A222,Articoli!$1:$48422,2,FALSE)))","v":""},null,0,"        ","        ;",0,"      ","      ","",{"$f":"IF(A222=\"\",\"\",IF(ISERROR(VLOOKUP(A222,Articoli!$1:$48422,3,FALSE)),\"Codice Errato\",VLOOKUP(A222,Articoli!$1:$48422,3,FALSE)))","v":""}]
[null,{"$f":"IF(A223=\"\",\"\",IF(ISERROR(VLOOKUP(A223,Articoli!$1:$48422,2,FALSE)),\"Codice Errato\",VLOOKUP(A223,Articoli!$1:$48422,2,FALSE)))","v":""},null,0,"        ","        ;",0,"      ","      ","",{"$f":"IF(A223=\"\",\"\",IF(ISERROR(VLOOKUP(A223,Articoli!$1:$48422,3,FALSE)),\"Codice Errato\",VLOOKUP(A223,Articoli!$1:$48422,3,FALSE)))","v":""}]
[null,{"$f":"IF(A224=\"\",\"\",IF(ISERROR(VLOOKUP(A224,Articoli!$1:$48422,2,FALSE)),\"Codice Errato\",VLOOKUP(A224,Articoli!$1:$48422,2,FALSE)))","v":""},null,0,"        ","        ;",0,"      ","      ","",{"$f":"IF(A224=\"\",\"\",IF(ISERROR(VLOOKUP(A224,Articoli!$1:$48422,3,FALSE)),\"Codice Errato\",VLOOKUP(A224,Articoli!$1:$48422,3,FALSE)))","v":""}]
[null,{"$f":"IF(A225=\"\",\"\",IF(ISERROR(VLOOKUP(A225,Articoli!$1:$48422,2,FALSE)),\"Codice Errato\",VLOOKUP(A225,Articoli!$1:$48422,2,FALSE)))","v":""},null,0,"        ","        ;",0,"      ","      ","",{"$f":"IF(A225=\"\",\"\",IF(ISERROR(VLOOKUP(A225,Articoli!$1:$48422,3,FALSE)),\"Codice Errato\",VLOOKUP(A225,Articoli!$1:$48422,3,FALSE)))","v":""}]
[null,{"$f":"IF(A226=\"\",\"\",IF(ISERROR(VLOOKUP(A226,Articoli!$1:$48422,2,FALSE)),\"Codice Errato\",VLOOKUP(A226,Articoli!$1:$48422,2,FALSE)))","v":""},null,0,"        ","        ;",0,"      ","      ","",{"$f":"IF(A226=\"\",\"\",IF(ISERROR(VLOOKUP(A226,Articoli!$1:$48422,3,FALSE)),\"Codice Errato\",VLOOKUP(A226,Articoli!$1:$48422,3,FALSE)))","v":""}]
[null,{"$f":"IF(A227=\"\",\"\",IF(ISERROR(VLOOKUP(A227,Articoli!$1:$48422,2,FALSE)),\"Codice Errato\",VLOOKUP(A227,Articoli!$1:$48422,2,FALSE)))","v":""},null,0,"        ","        ;",0,"      ","      ","",{"$f":"IF(A227=\"\",\"\",IF(ISERROR(VLOOKUP(A227,Articoli!$1:$48422,3,FALSE)),\"Codice Errato\",VLOOKUP(A227,Articoli!$1:$48422,3,FALSE)))","v":""}]
[null,{"$f":"IF(A228=\"\",\"\",IF(ISERROR(VLOOKUP(A228,Articoli!$1:$48422,2,FALSE)),\"Codice Errato\",VLOOKUP(A228,Articoli!$1:$48422,2,FALSE)))","v":""},null,0,"        ","        ;",0,"      ","      ","",{"$f":"IF(A228=\"\",\"\",IF(ISERROR(VLOOKUP(A228,Articoli!$1:$48422,3,FALSE)),\"Codice Errato\",VLOOKUP(A228,Articoli!$1:$48422,3,FALSE)))","v":""}]
[null,{"$f":"IF(A229=\"\",\"\",IF(ISERROR(VLOOKUP(A229,Articoli!$1:$48422,2,FALSE)),\"Codice Errato\",VLOOKUP(A229,Articoli!$1:$48422,2,FALSE)))","v":""},null,0,"        ","        ;",0,"      ","      ","",{"$f":"IF(A229=\"\",\"\",IF(ISERROR(VLOOKUP(A229,Articoli!$1:$48422,3,FALSE)),\"Codice Errato\",VLOOKUP(A229,Articoli!$1:$48422,3,FALSE)))","v":""}]
[null,{"$f":"IF(A230=\"\",\"\",IF(ISERROR(VLOOKUP(A230,Articoli!$1:$48422,2,FALSE)),\"Codice Errato\",VLOOKUP(A230,Articoli!$1:$48422,2,FALSE)))","v":""},null,0,"        ","        ;",0,"      ","      ","",{"$f":"IF(A230=\"\",\"\",IF(ISERROR(VLOOKUP(A230,Articoli!$1:$48422,3,FALSE)),\"Codice Errato\",VLOOKUP(A230,Articoli!$1:$48422,3,FALSE)))","v":""}]
[null,{"$f":"IF(A231=\"\",\"\",IF(ISERROR(VLOOKUP(A231,Articoli!$1:$48422,2,FALSE)),\"Codice Errato\",VLOOKUP(A231,Articoli!$1:$48422,2,FALSE)))","v":""},null,0,"        ","        ;",0,"      ","      ","",{"$f":"IF(A231=\"\",\"\",IF(ISERROR(VLOOKUP(A231,Articoli!$1:$48422,3,FALSE)),\"Codice Errato\",VLOOKUP(A231,Articoli!$1:$48422,3,FALSE)))","v":""}]
[null,{"$f":"IF(A232=\"\",\"\",IF(ISERROR(VLOOKUP(A232,Articoli!$1:$48422,2,FALSE)),\"Codice Errato\",VLOOKUP(A232,Articoli!$1:$48422,2,FALSE)))","v":""},null,0,"        ","        ;",0,"      ","      ","",{"$f":"IF(A232=\"\",\"\",IF(ISERROR(VLOOKUP(A232,Articoli!$1:$48422,3,FALSE)),\"Codice Errato\",VLOOKUP(A232,Articoli!$1:$48422,3,FALSE)))","v":""}]
[null,{"$f":"IF(A233=\"\",\"\",IF(ISERROR(VLOOKUP(A233,Articoli!$1:$48422,2,FALSE)),\"Codice Errato\",VLOOKUP(A233,Articoli!$1:$48422,2,FALSE)))","v":""},null,0,"        ","        ;",0,"      ","      ","",{"$f":"IF(A233=\"\",\"\",IF(ISERROR(VLOOKUP(A233,Articoli!$1:$48422,3,FALSE)),\"Codice Errato\",VLOOKUP(A233,Articoli!$1:$48422,3,FALSE)))","v":""}]
[null,{"$f":"IF(A234=\"\",\"\",IF(ISERROR(VLOOKUP(A234,Articoli!$1:$48422,2,FALSE)),\"Codice Errato\",VLOOKUP(A234,Articoli!$1:$48422,2,FALSE)))","v":""},null,0,"        ","        ;",0,"      ","      ","",{"$f":"IF(A234=\"\",\"\",IF(ISERROR(VLOOKUP(A234,Articoli!$1:$48422,3,FALSE)),\"Codice Errato\",VLOOKUP(A234,Articoli!$1:$48422,3,FALSE)))","v":""}]
[null,{"$f":"IF(A235=\"\",\"\",IF(ISERROR(VLOOKUP(A235,Articoli!$1:$48422,2,FALSE)),\"Codice Errato\",VLOOKUP(A235,Articoli!$1:$48422,2,FALSE)))","v":""},null,0,"        ","        ;",0,"      ","      ","",{"$f":"IF(A235=\"\",\"\",IF(ISERROR(VLOOKUP(A235,Articoli!$1:$48422,3,FALSE)),\"Codice Errato\",VLOOKUP(A235,Articoli!$1:$48422,3,FALSE)))","v":""}]
[null,{"$f":"IF(A236=\"\",\"\",IF(ISERROR(VLOOKUP(A236,Articoli!$1:$48422,2,FALSE)),\"Codice Errato\",VLOOKUP(A236,Articoli!$1:$48422,2,FALSE)))","v":""},null,0,"        ","        ;",0,"      ","      ","",{"$f":"IF(A236=\"\",\"\",IF(ISERROR(VLOOKUP(A236,Articoli!$1:$48422,3,FALSE)),\"Codice Errato\",VLOOKUP(A236,Articoli!$1:$48422,3,FALSE)))","v":""}]
[null,{"$f":"IF(A237=\"\",\"\",IF(ISERROR(VLOOKUP(A237,Articoli!$1:$48422,2,FALSE)),\"Codice Errato\",VLOOKUP(A237,Articoli!$1:$48422,2,FALSE)))","v":""},null,0,"        ","        ;",0,"      ","      ","",{"$f":"IF(A237=\"\",\"\",IF(ISERROR(VLOOKUP(A237,Articoli!$1:$48422,3,FALSE)),\"Codice Errato\",VLOOKUP(A237,Articoli!$1:$48422,3,FALSE)))","v":""}]
[null,{"$f":"IF(A238=\"\",\"\",IF(ISERROR(VLOOKUP(A238,Articoli!$1:$48422,2,FALSE)),\"Codice Errato\",VLOOKUP(A238,Articoli!$1:$48422,2,FALSE)))","v":""},null,0,"        ","        ;",0,"      ","      ","",{"$f":"IF(A238=\"\",\"\",IF(ISERROR(VLOOKUP(A238,Articoli!$1:$48422,3,FALSE)),\"Codice Errato\",VLOOKUP(A238,Articoli!$1:$48422,3,FALSE)))","v":""}]
[null,{"$f":"IF(A239=\"\",\"\",IF(ISERROR(VLOOKUP(A239,Articoli!$1:$48422,2,FALSE)),\"Codice Errato\",VLOOKUP(A239,Articoli!$1:$48422,2,FALSE)))","v":""},null,0,"        ","        ;",0,"      ","      ","",{"$f":"IF(A239=\"\",\"\",IF(ISERROR(VLOOKUP(A239,Articoli!$1:$48422,3,FALSE)),\"Codice Errato\",VLOOKUP(A239,Articoli!$1:$48422,3,FALSE)))","v":""}]
[null,{"$f":"IF(A240=\"\",\"\",IF(ISERROR(VLOOKUP(A240,Articoli!$1:$48422,2,FALSE)),\"Codice Errato\",VLOOKUP(A240,Articoli!$1:$48422,2,FALSE)))","v":""},null,0,"        ","        ;",0,"      ","      ","",{"$f":"IF(A240=\"\",\"\",IF(ISERROR(VLOOKUP(A240,Articoli!$1:$48422,3,FALSE)),\"Codice Errato\",VLOOKUP(A240,Articoli!$1:$48422,3,FALSE)))","v":""}]
[null,{"$f":"IF(A241=\"\",\"\",IF(ISERROR(VLOOKUP(A241,Articoli!$1:$48422,2,FALSE)),\"Codice Errato\",VLOOKUP(A241,Articoli!$1:$48422,2,FALSE)))","v":""},null,0,"        ","        ;",0,"      ","      ","",{"$f":"IF(A241=\"\",\"\",IF(ISERROR(VLOOKUP(A241,Articoli!$1:$48422,3,FALSE)),\"Codice Errato\",VLOOKUP(A241,Articoli!$1:$48422,3,FALSE)))","v":""}]
[null,{"$f":"IF(A242=\"\",\"\",IF(ISERROR(VLOOKUP(A242,Articoli!$1:$48422,2,FALSE)),\"Codice Errato\",VLOOKUP(A242,Articoli!$1:$48422,2,FALSE)))","v":""},null,0,"        ","        ;",0,"      ","      ","",{"$f":"IF(A242=\"\",\"\",IF(ISERROR(VLOOKUP(A242,Articoli!$1:$48422,3,FALSE)),\"Codice Errato\",VLOOKUP(A242,Articoli!$1:$48422,3,FALSE)))","v":""}]
[null,{"$f":"IF(A243=\"\",\"\",IF(ISERROR(VLOOKUP(A243,Articoli!$1:$48422,2,FALSE)),\"Codice Errato\",VLOOKUP(A243,Articoli!$1:$48422,2,FALSE)))","v":""},null,0,"        ","        ;",0,"      ","      ","",{"$f":"IF(A243=\"\",\"\",IF(ISERROR(VLOOKUP(A243,Articoli!$1:$48422,3,FALSE)),\"Codice Errato\",VLOOKUP(A243,Articoli!$1:$48422,3,FALSE)))","v":""}]
[null,{"$f":"IF(A244=\"\",\"\",IF(ISERROR(VLOOKUP(A244,Articoli!$1:$48422,2,FALSE)),\"Codice Errato\",VLOOKUP(A244,Articoli!$1:$48422,2,FALSE)))","v":""},null,0,"        ","        ;",0,"      ","      ","",{"$f":"IF(A244=\"\",\"\",IF(ISERROR(VLOOKUP(A244,Articoli!$1:$48422,3,FALSE)),\"Codice Errato\",VLOOKUP(A244,Articoli!$1:$48422,3,FALSE)))","v":""}]
[null,{"$f":"IF(A245=\"\",\"\",IF(ISERROR(VLOOKUP(A245,Articoli!$1:$48422,2,FALSE)),\"Codice Errato\",VLOOKUP(A245,Articoli!$1:$48422,2,FALSE)))","v":""},null,0,"        ","        ;",0,"      ","      ","",{"$f":"IF(A245=\"\",\"\",IF(ISERROR(VLOOKUP(A245,Articoli!$1:$48422,3,FALSE)),\"Codice Errato\",VLOOKUP(A245,Articoli!$1:$48422,3,FALSE)))","v":""}]
[null,{"$f":"IF(A246=\"\",\"\",IF(ISERROR(VLOOKUP(A246,Articoli!$1:$48422,2,FALSE)),\"Codice Errato\",VLOOKUP(A246,Articoli!$1:$48422,2,FALSE)))","v":""},null,0,"        ","        ;",0,"      ","      ","",{"$f":"IF(A246=\"\",\"\",IF(ISERROR(VLOOKUP(A246,Articoli!$1:$48422,3,FALSE)),\"Codice Errato\",VLOOKUP(A246,Articoli!$1:$48422,3,FALSE)))","v":""}]
[null,{"$f":"IF(A247=\"\",\"\",IF(ISERROR(VLOOKUP(A247,Articoli!$1:$48422,2,FALSE)),\"Codice Errato\",VLOOKUP(A247,Articoli!$1:$48422,2,FALSE)))","v":""},null,0,"        ","        ;",0,"      ","      ","",{"$f":"IF(A247=\"\",\"\",IF(ISERROR(VLOOKUP(A247,Articoli!$1:$48422,3,FALSE)),\"Codice Errato\",VLOOKUP(A247,Articoli!$1:$48422,3,FALSE)))","v":""}]
[null,{"$f":"IF(A248=\"\",\"\",IF(ISERROR(VLOOKUP(A248,Articoli!$1:$48422,2,FALSE)),\"Codice Errato\",VLOOKUP(A248,Articoli!$1:$48422,2,FALSE)))","v":""},null,0,"        ","        ;",0,"      ","      ","",{"$f":"IF(A248=\"\",\"\",IF(ISERROR(VLOOKUP(A248,Articoli!$1:$48422,3,FALSE)),\"Codice Errato\",VLOOKUP(A248,Articoli!$1:$48422,3,FALSE)))","v":""}]
[null,{"$f":"IF(A249=\"\",\"\",IF(ISERROR(VLOOKUP(A249,Articoli!$1:$48422,2,FALSE)),\"Codice Errato\",VLOOKUP(A249,Articoli!$1:$48422,2,FALSE)))","v":""},null,0,"        ","        ;",0,"      ","      ","",{"$f":"IF(A249=\"\",\"\",IF(ISERROR(VLOOKUP(A249,Articoli!$1:$48422,3,FALSE)),\"Codice Errato\",VLOOKUP(A249,Articoli!$1:$48422,3,FALSE)))","v":""}]
[null,{"$f":"IF(A250=\"\",\"\",IF(ISERROR(VLOOKUP(A250,Articoli!$1:$48422,2,FALSE)),\"Codice Errato\",VLOOKUP(A250,Articoli!$1:$48422,2,FALSE)))","v":""},null,0,"        ","        ;",0,"      ","      ","",{"$f":"IF(A250=\"\",\"\",IF(ISERROR(VLOOKUP(A250,Articoli!$1:$48422,3,FALSE)),\"Codice Errato\",VLOOKUP(A250,Articoli!$1:$48422,3,FALSE)))","v":""}]
[null,{"$f":"IF(A251=\"\",\"\",IF(ISERROR(VLOOKUP(A251,Articoli!$1:$48422,2,FALSE)),\"Codice Errato\",VLOOKUP(A251,Articoli!$1:$48422,2,FALSE)))","v":""},null,0,"        ","        ;",0,"      ","      ","",{"$f":"IF(A251=\"\",\"\",IF(ISERROR(VLOOKUP(A251,Articoli!$1:$48422,3,FALSE)),\"Codice Errato\",VLOOKUP(A251,Articoli!$1:$48422,3,FALSE)))","v":""}]
[null,{"$f":"IF(A252=\"\",\"\",IF(ISERROR(VLOOKUP(A252,Articoli!$1:$48422,2,FALSE)),\"Codice Errato\",VLOOKUP(A252,Articoli!$1:$48422,2,FALSE)))","v":""},null,0,"        ","        ;",0,"      ","      ","",{"$f":"IF(A252=\"\",\"\",IF(ISERROR(VLOOKUP(A252,Articoli!$1:$48422,3,FALSE)),\"Codice Errato\",VLOOKUP(A252,Articoli!$1:$48422,3,FALSE)))","v":""}]
[null,{"$f":"IF(A253=\"\",\"\",IF(ISERROR(VLOOKUP(A253,Articoli!$1:$48422,2,FALSE)),\"Codice Errato\",VLOOKUP(A253,Articoli!$1:$48422,2,FALSE)))","v":""},null,0,"        ","        ;",0,"      ","      ","",{"$f":"IF(A253=\"\",\"\",IF(ISERROR(VLOOKUP(A253,Articoli!$1:$48422,3,FALSE)),\"Codice Errato\",VLOOKUP(A253,Articoli!$1:$48422,3,FALSE)))","v":""}]
[null,{"$f":"IF(A254=\"\",\"\",IF(ISERROR(VLOOKUP(A254,Articoli!$1:$48422,2,FALSE)),\"Codice Errato\",VLOOKUP(A254,Articoli!$1:$48422,2,FALSE)))","v":""},null,0,"        ","        ;",0,"      ","      ","",{"$f":"IF(A254=\"\",\"\",IF(ISERROR(VLOOKUP(A254,Articoli!$1:$48422,3,FALSE)),\"Codice Errato\",VLOOKUP(A254,Articoli!$1:$48422,3,FALSE)))","v":""}]
[null,{"$f":"IF(A255=\"\",\"\",IF(ISERROR(VLOOKUP(A255,Articoli!$1:$48422,2,FALSE)),\"Codice Errato\",VLOOKUP(A255,Articoli!$1:$48422,2,FALSE)))","v":""},null,0,"        ","        ;",0,"      ","      ","",{"$f":"IF(A255=\"\",\"\",IF(ISERROR(VLOOKUP(A255,Articoli!$1:$48422,3,FALSE)),\"Codice Errato\",VLOOKUP(A255,Articoli!$1:$48422,3,FALSE)))","v":""}]
[null,{"$f":"IF(A256=\"\",\"\",IF(ISERROR(VLOOKUP(A256,Articoli!$1:$48422,2,FALSE)),\"Codice Errato\",VLOOKUP(A256,Articoli!$1:$48422,2,FALSE)))","v":""},null,0,"        ","        ;",0,"      ","      ","",{"$f":"IF(A256=\"\",\"\",IF(ISERROR(VLOOKUP(A256,Articoli!$1:$48422,3,FALSE)),\"Codice Errato\",VLOOKUP(A256,Articoli!$1:$48422,3,FALSE)))","v":""}]
[null,{"$f":"IF(A257=\"\",\"\",IF(ISERROR(VLOOKUP(A257,Articoli!$1:$48422,2,FALSE)),\"Codice Errato\",VLOOKUP(A257,Articoli!$1:$48422,2,FALSE)))","v":""},null,0,"        ","        ;",0,"      ","      ","",{"$f":"IF(A257=\"\",\"\",IF(ISERROR(VLOOKUP(A257,Articoli!$1:$48422,3,FALSE)),\"Codice Errato\",VLOOKUP(A257,Articoli!$1:$48422,3,FALSE)))","v":""}]
[null,{"$f":"IF(A258=\"\",\"\",IF(ISERROR(VLOOKUP(A258,Articoli!$1:$48422,2,FALSE)),\"Codice Errato\",VLOOKUP(A258,Articoli!$1:$48422,2,FALSE)))","v":""},null,0,"        ","        ;",0,"      ","      ","",{"$f":"IF(A258=\"\",\"\",IF(ISERROR(VLOOKUP(A258,Articoli!$1:$48422,3,FALSE)),\"Codice Errato\",VLOOKUP(A258,Articoli!$1:$48422,3,FALSE)))","v":""}]
[null,{"$f":"IF(A259=\"\",\"\",IF(ISERROR(VLOOKUP(A259,Articoli!$1:$48422,2,FALSE)),\"Codice Errato\",VLOOKUP(A259,Articoli!$1:$48422,2,FALSE)))","v":""},null,0,"        ","        ;",0,"      ","      ","",{"$f":"IF(A259=\"\",\"\",IF(ISERROR(VLOOKUP(A259,Articoli!$1:$48422,3,FALSE)),\"Codice Errato\",VLOOKUP(A259,Articoli!$1:$48422,3,FALSE)))","v":""}]
[null,{"$f":"IF(A260=\"\",\"\",IF(ISERROR(VLOOKUP(A260,Articoli!$1:$48422,2,FALSE)),\"Codice Errato\",VLOOKUP(A260,Articoli!$1:$48422,2,FALSE)))","v":""},null,0,"        ","        ;",0,"      ","      ","",{"$f":"IF(A260=\"\",\"\",IF(ISERROR(VLOOKUP(A260,Articoli!$1:$48422,3,FALSE)),\"Codice Errato\",VLOOKUP(A260,Articoli!$1:$48422,3,FALSE)))","v":""}]
[null,{"$f":"IF(A261=\"\",\"\",IF(ISERROR(VLOOKUP(A261,Articoli!$1:$48422,2,FALSE)),\"Codice Errato\",VLOOKUP(A261,Articoli!$1:$48422,2,FALSE)))","v":""},null,0,"        ","        ;",0,"      ","      ","",{"$f":"IF(A261=\"\",\"\",IF(ISERROR(VLOOKUP(A261,Articoli!$1:$48422,3,FALSE)),\"Codice Errato\",VLOOKUP(A261,Articoli!$1:$48422,3,FALSE)))","v":""}]
[null,{"$f":"IF(A262=\"\",\"\",IF(ISERROR(VLOOKUP(A262,Articoli!$1:$48422,2,FALSE)),\"Codice Errato\",VLOOKUP(A262,Articoli!$1:$48422,2,FALSE)))","v":""},null,0,"        ","        ;",0,"      ","      ","",{"$f":"IF(A262=\"\",\"\",IF(ISERROR(VLOOKUP(A262,Articoli!$1:$48422,3,FALSE)),\"Codice Errato\",VLOOKUP(A262,Articoli!$1:$48422,3,FALSE)))","v":""}]
[null,{"$f":"IF(A263=\"\",\"\",IF(ISERROR(VLOOKUP(A263,Articoli!$1:$48422,2,FALSE)),\"Codice Errato\",VLOOKUP(A263,Articoli!$1:$48422,2,FALSE)))","v":""},null,0,"        ","        ;",0,"      ","      ","",{"$f":"IF(A263=\"\",\"\",IF(ISERROR(VLOOKUP(A263,Articoli!$1:$48422,3,FALSE)),\"Codice Errato\",VLOOKUP(A263,Articoli!$1:$48422,3,FALSE)))","v":""}]
[null,{"$f":"IF(A264=\"\",\"\",IF(ISERROR(VLOOKUP(A264,Articoli!$1:$48422,2,FALSE)),\"Codice Errato\",VLOOKUP(A264,Articoli!$1:$48422,2,FALSE)))","v":""},null,0,"        ","        ;",0,"      ","      ","",{"$f":"IF(A264=\"\",\"\",IF(ISERROR(VLOOKUP(A264,Articoli!$1:$48422,3,FALSE)),\"Codice Errato\",VLOOKUP(A264,Articoli!$1:$48422,3,FALSE)))","v":""}]
[null,{"$f":"IF(A265=\"\",\"\",IF(ISERROR(VLOOKUP(A265,Articoli!$1:$48422,2,FALSE)),\"Codice Errato\",VLOOKUP(A265,Articoli!$1:$48422,2,FALSE)))","v":""},null,0,"        ","        ;",0,"      ","      ","",{"$f":"IF(A265=\"\",\"\",IF(ISERROR(VLOOKUP(A265,Articoli!$1:$48422,3,FALSE)),\"Codice Errato\",VLOOKUP(A265,Articoli!$1:$48422,3,FALSE)))","v":""}]
[null,{"$f":"IF(A266=\"\",\"\",IF(ISERROR(VLOOKUP(A266,Articoli!$1:$48422,2,FALSE)),\"Codice Errato\",VLOOKUP(A266,Articoli!$1:$48422,2,FALSE)))","v":""},null,0,"        ","        ;",0,"      ","      ","",{"$f":"IF(A266=\"\",\"\",IF(ISERROR(VLOOKUP(A266,Articoli!$1:$48422,3,FALSE)),\"Codice Errato\",VLOOKUP(A266,Articoli!$1:$48422,3,FALSE)))","v":""}]
[null,{"$f":"IF(A267=\"\",\"\",IF(ISERROR(VLOOKUP(A267,Articoli!$1:$48422,2,FALSE)),\"Codice Errato\",VLOOKUP(A267,Articoli!$1:$48422,2,FALSE)))","v":""},null,0,"        ","        ;",0,"      ","      ","",{"$f":"IF(A267=\"\",\"\",IF(ISERROR(VLOOKUP(A267,Articoli!$1:$48422,3,FALSE)),\"Codice Errato\",VLOOKUP(A267,Articoli!$1:$48422,3,FALSE)))","v":""}]
[null,{"$f":"IF(A268=\"\",\"\",IF(ISERROR(VLOOKUP(A268,Articoli!$1:$48422,2,FALSE)),\"Codice Errato\",VLOOKUP(A268,Articoli!$1:$48422,2,FALSE)))","v":""},null,0,"        ","        ;",0,"      ","      ","",{"$f":"IF(A268=\"\",\"\",IF(ISERROR(VLOOKUP(A268,Articoli!$1:$48422,3,FALSE)),\"Codice Errato\",VLOOKUP(A268,Articoli!$1:$48422,3,FALSE)))","v":""}]
[null,{"$f":"IF(A269=\"\",\"\",IF(ISERROR(VLOOKUP(A269,Articoli!$1:$48422,2,FALSE)),\"Codice Errato\",VLOOKUP(A269,Articoli!$1:$48422,2,FALSE)))","v":""},null,0,"        ","        ;",0,"      ","      ","",{"$f":"IF(A269=\"\",\"\",IF(ISERROR(VLOOKUP(A269,Articoli!$1:$48422,3,FALSE)),\"Codice Errato\",VLOOKUP(A269,Articoli!$1:$48422,3,FALSE)))","v":""}]
[null,{"$f":"IF(A270=\"\",\"\",IF(ISERROR(VLOOKUP(A270,Articoli!$1:$48422,2,FALSE)),\"Codice Errato\",VLOOKUP(A270,Articoli!$1:$48422,2,FALSE)))","v":""},null,0,"        ","        ;",0,"      ","      ","",{"$f":"IF(A270=\"\",\"\",IF(ISERROR(VLOOKUP(A270,Articoli!$1:$48422,3,FALSE)),\"Codice Errato\",VLOOKUP(A270,Articoli!$1:$48422,3,FALSE)))","v":""}]
[null,{"$f":"IF(A271=\"\",\"\",IF(ISERROR(VLOOKUP(A271,Articoli!$1:$48422,2,FALSE)),\"Codice Errato\",VLOOKUP(A271,Articoli!$1:$48422,2,FALSE)))","v":""},null,0,{"$f":"REPT(\" \",8-D271)","v":"        "},{"$f":"CONCATENATE(A271,E271,\";\",)","v":"        ;"},0,{"$f":"REPT(\" \",6-G271)","v":"      "},{"$f":"CONCATENATE(H271,C271,)","v":"      "},{"$f":"IF(C271=\"\",\"\",CONCATENATE(F271,I271))","v":""},{"$f":"IF(A271=\"\",\"\",IF(ISERROR(VLOOKUP(A271,Articoli!$1:$48422,3,FALSE)),\"Codice Errato\",VLOOKUP(A271,Articoli!$1:$48422,3,FALSE)))","v":""}]
[null,{"$f":"IF(A272=\"\",\"\",IF(ISERROR(VLOOKUP(A272,Articoli!$1:$48422,2,FALSE)),\"Codice Errato\",VLOOKUP(A272,Articoli!$1:$48422,2,FALSE)))","v":""},null,0,"        ","        ;",0,"      ","      ","",{"$f":"IF(A272=\"\",\"\",IF(ISERROR(VLOOKUP(A272,Articoli!$1:$48422,3,FALSE)),\"Codice Errato\",VLOOKUP(A272,Articoli!$1:$48422,3,FALSE)))","v":""}]
[null,{"$f":"IF(A273=\"\",\"\",IF(ISERROR(VLOOKUP(A273,Articoli!$1:$48422,2,FALSE)),\"Codice Errato\",VLOOKUP(A273,Articoli!$1:$48422,2,FALSE)))","v":""},null,0,"        ","        ;",0,"      ","      ","",{"$f":"IF(A273=\"\",\"\",IF(ISERROR(VLOOKUP(A273,Articoli!$1:$48422,3,FALSE)),\"Codice Errato\",VLOOKUP(A273,Articoli!$1:$48422,3,FALSE)))","v":""}]
[null,{"$f":"IF(A274=\"\",\"\",IF(ISERROR(VLOOKUP(A274,Articoli!$1:$48422,2,FALSE)),\"Codice Errato\",VLOOKUP(A274,Articoli!$1:$48422,2,FALSE)))","v":""},null,0,"        ","        ;",0,"      ","      ","",{"$f":"IF(A274=\"\",\"\",IF(ISERROR(VLOOKUP(A274,Articoli!$1:$48422,3,FALSE)),\"Codice Errato\",VLOOKUP(A274,Articoli!$1:$48422,3,FALSE)))","v":""}]
[null,{"$f":"IF(A275=\"\",\"\",IF(ISERROR(VLOOKUP(A275,Articoli!$1:$48422,2,FALSE)),\"Codice Errato\",VLOOKUP(A275,Articoli!$1:$48422,2,FALSE)))","v":""},null,0,"        ","        ;",0,"      ","      ","",{"$f":"IF(A275=\"\",\"\",IF(ISERROR(VLOOKUP(A275,Articoli!$1:$48422,3,FALSE)),\"Codice Errato\",VLOOKUP(A275,Articoli!$1:$48422,3,FALSE)))","v":""}]
[null,{"$f":"IF(A276=\"\",\"\",IF(ISERROR(VLOOKUP(A276,Articoli!$1:$48422,2,FALSE)),\"Codice Errato\",VLOOKUP(A276,Articoli!$1:$48422,2,FALSE)))","v":""},null,{"$f":"LEN(A276)","v":0},{"$f":"REPT(\" \",8-D276)","v":"        "},{"$f":"CONCATENATE(A276,E276,\";\",)","v":"        ;"},{"$f":"LEN(C276)","v":0},{"$f":"REPT(\" \",6-G276)","v":"      "},{"$f":"CONCATENATE(H276,C276,)","v":"      "},{"$f":"IF(C276=\"\",\"\",CONCATENATE(F276,I276))","v":""}]
[null,{"$f":"IF(A277=\"\",\"\",IF(ISERROR(VLOOKUP(A277,Articoli!$1:$48422,2,FALSE)),\"Codice Errato\",VLOOKUP(A277,Articoli!$1:$48422,2,FALSE)))","v":""},null,{"$f":"LEN(A277)","v":0},{"$f":"REPT(\" \",8-D277)","v":"        "},{"$f":"CONCATENATE(A277,E277,\";\",)","v":"        ;"},{"$f":"LEN(C277)","v":0},{"$f":"REPT(\" \",6-G277)","v":"      "},"      ",""]
[null,{"$f":"IF(A278=\"\",\"\",IF(ISERROR(VLOOKUP(A278,Articoli!$1:$48422,2,FALSE)),\"Codice Errato\",VLOOKUP(A278,Articoli!$1:$48422,2,FALSE)))","v":""},null,0,"        ","        ;",0,"      ","      ",""]
[null,{"$f":"IF(A279=\"\",\"\",IF(ISERROR(VLOOKUP(A279,Articoli!$1:$48422,2,FALSE)),\"Codice Errato\",VLOOKUP(A279,Articoli!$1:$48422,2,FALSE)))","v":""},null,0,"        ","        ;",0,"      ","      ",""]
[null,{"$f":"IF(A280=\"\",\"\",IF(ISERROR(VLOOKUP(A280,Articoli!$1:$48422,2,FALSE)),\"Codice Errato\",VLOOKUP(A280,Articoli!$1:$48422,2,FALSE)))","v":""},null,0,"        ","        ;",0,"      ","      ",""]
[null,{"$f":"IF(A281=\"\",\"\",IF(ISERROR(VLOOKUP(A281,Articoli!$1:$48422,2,FALSE)),\"Codice Errato\",VLOOKUP(A281,Articoli!$1:$48422,2,FALSE)))","v":""},null,0,"        ","        ;",0,"      ","      ",""]
[null,{"$f":"IF(A282=\"\",\"\",IF(ISERROR(VLOOKUP(A282,Articoli!$1:$48422,2,FALSE)),\"Codice Errato\",VLOOKUP(A282,Articoli!$1:$48422,2,FALSE)))","v":""},null,0,"        ","        ;",0,"      ","      ",""]
[null,{"$f":"IF(A283=\"\",\"\",IF(ISERROR(VLOOKUP(A283,Articoli!$1:$48422,2,FALSE)),\"Codice Errato\",VLOOKUP(A283,Articoli!$1:$48422,2,FALSE)))","v":""},null,0,"        ","        ;",0,"      ","      ",""]
[null,{"$f":"IF(A284=\"\",\"\",IF(ISERROR(VLOOKUP(A284,Articoli!$1:$48422,2,FALSE)),\"Codice Errato\",VLOOKUP(A284,Articoli!$1:$48422,2,FALSE)))","v":""},null,0,"        ","        ;",0,"      ","      ",""]
[null,{"$f":"IF(A285=\"\",\"\",IF(ISERROR(VLOOKUP(A285,Articoli!$1:$48422,2,FALSE)),\"Codice Errato\",VLOOKUP(A285,Articoli!$1:$48422,2,FALSE)))","v":""},null,0,"        ","        ;",0,"      ","      ",""]
[null,{"$f":"IF(A286=\"\",\"\",IF(ISERROR(VLOOKUP(A286,Articoli!$1:$48422,2,FALSE)),\"Codice Errato\",VLOOKUP(A286,Articoli!$1:$48422,2,FALSE)))","v":""},null,0,"        ","        ;",0,"      ","      ",""]
[null,{"$f":"IF(A287=\"\",\"\",IF(ISERROR(VLOOKUP(A287,Articoli!$1:$48422,2,FALSE)),\"Codice Errato\",VLOOKUP(A287,Articoli!$1:$48422,2,FALSE)))","v":""},null,0,"        ","        ;",0,"      ","      ",""]
[null,{"$f":"IF(A288=\"\",\"\",IF(ISERROR(VLOOKUP(A288,Articoli!$1:$48422,2,FALSE)),\"Codice Errato\",VLOOKUP(A288,Articoli!$1:$48422,2,FALSE)))","v":""},null,0,"        ","        ;",0,"      ",{"$f":"CONCATENATE(H288,C288,)","v":"      "},{"$f":"IF(C288=\"\",\"\",CONCATENATE(F288,I288))","v":""}]
[null,{"$f":"IF(A289=\"\",\"\",IF(ISERROR(VLOOKUP(A289,Articoli!$1:$48422,2,FALSE)),\"Codice Errato\",VLOOKUP(A289,Articoli!$1:$48422,2,FALSE)))","v":""},null,0,"        ","        ;",0,"      ","      ",""]
[null,{"$f":"IF(A290=\"\",\"\",IF(ISERROR(VLOOKUP(A290,Articoli!$1:$48422,2,FALSE)),\"Codice Errato\",VLOOKUP(A290,Articoli!$1:$48422,2,FALSE)))","v":""},null,0,"        ","        ;",0,"      ","      ",""]
[null,{"$f":"IF(A291=\"\",\"\",IF(ISERROR(VLOOKUP(A291,Articoli!$1:$48422,2,FALSE)),\"Codice Errato\",VLOOKUP(A291,Articoli!$1:$48422,2,FALSE)))","v":""},null,0,"        ","        ;",0,"      ","      ",""]
[null,{"$f":"IF(A292=\"\",\"\",IF(ISERROR(VLOOKUP(A292,Articoli!$1:$48422,2,FALSE)),\"Codice Errato\",VLOOKUP(A292,Articoli!$1:$48422,2,FALSE)))","v":""},null,0,"        ","        ;",0,"      ","      ",""]
[null,{"$f":"IF(A293=\"\",\"\",IF(ISERROR(VLOOKUP(A293,Articoli!$1:$48422,2,FALSE)),\"Codice Errato\",VLOOKUP(A293,Articoli!$1:$48422,2,FALSE)))","v":""},null,0,"        ","        ;",0,"      ","      ",""]
[null,{"$f":"IF(A294=\"\",\"\",IF(ISERROR(VLOOKUP(A294,Articoli!$1:$48422,2,FALSE)),\"Codice Errato\",VLOOKUP(A294,Articoli!$1:$48422,2,FALSE)))","v":""},null,0,"        ","        ;",0,"      ","      ",""]
[null,{"$f":"IF(A295=\"\",\"\",IF(ISERROR(VLOOKUP(A295,Articoli!$1:$48422,2,FALSE)),\"Codice Errato\",VLOOKUP(A295,Articoli!$1:$48422,2,FALSE)))","v":""},null,0,"        ","        ;",0,"      ","      ",""]
[null,{"$f":"IF(A296=\"\",\"\",IF(ISERROR(VLOOKUP(A296,Articoli!$1:$48422,2,FALSE)),\"Codice Errato\",VLOOKUP(A296,Articoli!$1:$48422,2,FALSE)))","v":""},null,0,"        ","        ;",0,"      ","      ",""]
[null,{"$f":"IF(A297=\"\",\"\",IF(ISERROR(VLOOKUP(A297,Articoli!$1:$48422,2,FALSE)),\"Codice Errato\",VLOOKUP(A297,Articoli!$1:$48422,2,FALSE)))","v":""},null,0,"        ","        ;",0,"      ","      ",""]
[null,{"$f":"IF(A298=\"\",\"\",IF(ISERROR(VLOOKUP(A298,Articoli!$1:$48422,2,FALSE)),\"Codice Errato\",VLOOKUP(A298,Articoli!$1:$48422,2,FALSE)))","v":""},null,0,"        ","        ;",0,"      ","      ",""]
[null,{"$f":"IF(A299=\"\",\"\",IF(ISERROR(VLOOKUP(A299,Articoli!$1:$48422,2,FALSE)),\"Codice Errato\",VLOOKUP(A299,Articoli!$1:$48422,2,FALSE)))","v":""},null,0,"        ","        ;",0,"      ","      ",""]
[null,{"$f":"IF(A300=\"\",\"\",IF(ISERROR(VLOOKUP(A300,Articoli!$1:$48422,2,FALSE)),\"Codice Errato\",VLOOKUP(A300,Articoli!$1:$48422,2,FALSE)))","v":""},null,0,"        ","        ;",0,"      ","      ",""]
[null,{"$f":"IF(A301=\"\",\"\",IF(ISERROR(VLOOKUP(A301,Articoli!$1:$48422,2,FALSE)),\"Codice Errato\",VLOOKUP(A301,Articoli!$1:$48422,2,FALSE)))","v":""},null,0,"        ","        ;",0,"      ","      ",""]
[null,{"$f":"IF(A302=\"\",\"\",IF(ISERROR(VLOOKUP(A302,Articoli!$1:$48422,2,FALSE)),\"Codice Errato\",VLOOKUP(A302,Articoli!$1:$48422,2,FALSE)))","v":""},null,0,"        ","        ;",0,"      ","      ",""]
[null,{"$f":"IF(A303=\"\",\"\",IF(ISERROR(VLOOKUP(A303,Articoli!$1:$48422,2,FALSE)),\"Codice Errato\",VLOOKUP(A303,Articoli!$1:$48422,2,FALSE)))","v":""},null,0,"        ","        ;",0,"      ","      ",""]
[null,{"$f":"IF(A304=\"\",\"\",IF(ISERROR(VLOOKUP(A304,Articoli!$1:$48422,2,FALSE)),\"Codice Errato\",VLOOKUP(A304,Articoli!$1:$48422,2,FALSE)))","v":""},null,0,"        ","        ;",0,"      ","      ",""]
[null,{"$f":"IF(A305=\"\",\"\",IF(ISERROR(VLOOKUP(A305,Articoli!$1:$48422,2,FALSE)),\"Codice Errato\",VLOOKUP(A305,Articoli!$1:$48422,2,FALSE)))","v":""},null,0,"        ","        ;",0,"      ","      ",""]
[null,{"$f":"IF(A306=\"\",\"\",IF(ISERROR(VLOOKUP(A306,Articoli!$1:$48422,2,FALSE)),\"Codice Errato\",VLOOKUP(A306,Articoli!$1:$48422,2,FALSE)))","v":""},null,0,"        ","        ;",0,"      ","      ",""]
[null,{"$f":"IF(A307=\"\",\"\",IF(ISERROR(VLOOKUP(A307,Articoli!$1:$48422,2,FALSE)),\"Codice Errato\",VLOOKUP(A307,Articoli!$1:$48422,2,FALSE)))","v":""},null,0,"        ","        ;",0,"      ","      ",""]
[null,{"$f":"IF(A308=\"\",\"\",IF(ISERROR(VLOOKUP(A308,Articoli!$1:$48422,2,FALSE)),\"Codice Errato\",VLOOKUP(A308,Articoli!$1:$48422,2,FALSE)))","v":""},null,0,"        ","        ;",0,"      ","      ",""]
[null,{"$f":"IF(A309=\"\",\"\",IF(ISERROR(VLOOKUP(A309,Articoli!$1:$48422,2,FALSE)),\"Codice Errato\",VLOOKUP(A309,Articoli!$1:$48422,2,FALSE)))","v":""},null,0,"        ","        ;",0,"      ","      ",""]
[null,{"$f":"IF(A310=\"\",\"\",IF(ISERROR(VLOOKUP(A310,Articoli!$1:$48422,2,FALSE)),\"Codice Errato\",VLOOKUP(A310,Articoli!$1:$48422,2,FALSE)))","v":""},null,0,"        ","        ;",0,"      ","      ",""]
[null,{"$f":"IF(A311=\"\",\"\",IF(ISERROR(VLOOKUP(A311,Articoli!$1:$48422,2,FALSE)),\"Codice Errato\",VLOOKUP(A311,Articoli!$1:$48422,2,FALSE)))","v":""},null,0,"        ","        ;",0,"      ","      ",""]
[null,{"$f":"IF(A312=\"\",\"\",IF(ISERROR(VLOOKUP(A312,Articoli!$1:$48422,2,FALSE)),\"Codice Errato\",VLOOKUP(A312,Articoli!$1:$48422,2,FALSE)))","v":""},null,0,"        ","        ;",0,"      ","      ",""]
[null,{"$f":"IF(A313=\"\",\"\",IF(ISERROR(VLOOKUP(A313,Articoli!$1:$48422,2,FALSE)),\"Codice Errato\",VLOOKUP(A313,Articoli!$1:$48422,2,FALSE)))","v":""},null,0,"        ","        ;",0,"      ","      ",""]
[null,{"$f":"IF(A314=\"\",\"\",IF(ISERROR(VLOOKUP(A314,Articoli!$1:$48422,2,FALSE)),\"Codice Errato\",VLOOKUP(A314,Articoli!$1:$48422,2,FALSE)))","v":""},null,0,"        ","        ;",0,"      ","      ",""]
[null,{"$f":"IF(A315=\"\",\"\",IF(ISERROR(VLOOKUP(A315,Articoli!$1:$48422,2,FALSE)),\"Codice Errato\",VLOOKUP(A315,Articoli!$1:$48422,2,FALSE)))","v":""},null,0,"        ","        ;",0,"      ","      ",""]
[null,{"$f":"IF(A316=\"\",\"\",IF(ISERROR(VLOOKUP(A316,Articoli!$1:$48422,2,FALSE)),\"Codice Errato\",VLOOKUP(A316,Articoli!$1:$48422,2,FALSE)))","v":""},null,0,"        ","        ;",0,"      ","      ",""]
[null,{"$f":"IF(A317=\"\",\"\",IF(ISERROR(VLOOKUP(A317,Articoli!$1:$48422,2,FALSE)),\"Codice Errato\",VLOOKUP(A317,Articoli!$1:$48422,2,FALSE)))","v":""},null,0,"        ","        ;",0,"      ","      ",""]
[null,{"$f":"IF(A318=\"\",\"\",IF(ISERROR(VLOOKUP(A318,Articoli!$1:$48422,2,FALSE)),\"Codice Errato\",VLOOKUP(A318,Articoli!$1:$48422,2,FALSE)))","v":""},null,0,"        ","        ;",0,"      ","      ",""]
[null,{"$f":"IF(A319=\"\",\"\",IF(ISERROR(VLOOKUP(A319,Articoli!$1:$48422,2,FALSE)),\"Codice Errato\",VLOOKUP(A319,Articoli!$1:$48422,2,FALSE)))","v":""},null,0,"        ","        ;",0,"      ","      ",""]
[null,{"$f":"IF(A320=\"\",\"\",IF(ISERROR(VLOOKUP(A320,Articoli!$1:$48422,2,FALSE)),\"Codice Errato\",VLOOKUP(A320,Articoli!$1:$48422,2,FALSE)))","v":""},null,0,"        ","        ;",0,"      ","      ",""]
[null,{"$f":"IF(A321=\"\",\"\",IF(ISERROR(VLOOKUP(A321,Articoli!$1:$48422,2,FALSE)),\"Codice Errato\",VLOOKUP(A321,Articoli!$1:$48422,2,FALSE)))","v":""},null,0,"        ","        ;",0,"      ","      ",""]
[null,{"$f":"IF(A322=\"\",\"\",IF(ISERROR(VLOOKUP(A322,Articoli!$1:$48422,2,FALSE)),\"Codice Errato\",VLOOKUP(A322,Articoli!$1:$48422,2,FALSE)))","v":""},null,0,"        ","        ;",0,"      ","      ",""]
[null,{"$f":"IF(A323=\"\",\"\",IF(ISERROR(VLOOKUP(A323,Articoli!$1:$48422,2,FALSE)),\"Codice Errato\",VLOOKUP(A323,Articoli!$1:$48422,2,FALSE)))","v":""},null,0,"        ","        ;",0,"      ","      ",""]
[null,{"$f":"IF(A324=\"\",\"\",IF(ISERROR(VLOOKUP(A324,Articoli!$1:$48422,2,FALSE)),\"Codice Errato\",VLOOKUP(A324,Articoli!$1:$48422,2,FALSE)))","v":""},null,0,"        ","        ;",0,"      ","      ",""]
[null,{"$f":"IF(A325=\"\",\"\",IF(ISERROR(VLOOKUP(A325,Articoli!$1:$48422,2,FALSE)),\"Codice Errato\",VLOOKUP(A325,Articoli!$1:$48422,2,FALSE)))","v":""},null,0,"        ","        ;",0,"      ","      ",""]
[null,{"$f":"IF(A326=\"\",\"\",IF(ISERROR(VLOOKUP(A326,Articoli!$1:$48422,2,FALSE)),\"Codice Errato\",VLOOKUP(A326,Articoli!$1:$48422,2,FALSE)))","v":""},null,0,"        ","        ;",0,"      ","      ",""]
[null,{"$f":"IF(A327=\"\",\"\",IF(ISERROR(VLOOKUP(A327,Articoli!$1:$48422,2,FALSE)),\"Codice Errato\",VLOOKUP(A327,Articoli!$1:$48422,2,FALSE)))","v":""},null,0,"        ","        ;",0,"      ","      ",""]
[null,{"$f":"IF(A328=\"\",\"\",IF(ISERROR(VLOOKUP(A328,Articoli!$1:$48422,2,FALSE)),\"Codice Errato\",VLOOKUP(A328,Articoli!$1:$48422,2,FALSE)))","v":""},null,0,"        ","        ;",0,"      ","      ",""]
[null,{"$f":"IF(A329=\"\",\"\",IF(ISERROR(VLOOKUP(A329,Articoli!$1:$48422,2,FALSE)),\"Codice Errato\",VLOOKUP(A329,Articoli!$1:$48422,2,FALSE)))","v":""},null,0,"        ","        ;",0,"      ","      ",""]
[null,{"$f":"IF(A330=\"\",\"\",IF(ISERROR(VLOOKUP(A330,Articoli!$1:$48422,2,FALSE)),\"Codice Errato\",VLOOKUP(A330,Articoli!$1:$48422,2,FALSE)))","v":""},null,0,"        ","        ;",0,"      ","      ",""]
[null,{"$f":"IF(A331=\"\",\"\",IF(ISERROR(VLOOKUP(A331,Articoli!$1:$48422,2,FALSE)),\"Codice Errato\",VLOOKUP(A331,Articoli!$1:$48422,2,FALSE)))","v":""},null,0,"        ","        ;",0,"      ","      ",""]
[null,{"$f":"IF(A332=\"\",\"\",IF(ISERROR(VLOOKUP(A332,Articoli!$1:$48422,2,FALSE)),\"Codice Errato\",VLOOKUP(A332,Articoli!$1:$48422,2,FALSE)))","v":""},null,0,"        ","        ;",0,"      ","      ",""]
[null,{"$f":"IF(A333=\"\",\"\",IF(ISERROR(VLOOKUP(A333,Articoli!$1:$48422,2,FALSE)),\"Codice Errato\",VLOOKUP(A333,Articoli!$1:$48422,2,FALSE)))","v":""},null,0,"        ","        ;",0,"      ","      ",""]
[null,{"$f":"IF(A334=\"\",\"\",IF(ISERROR(VLOOKUP(A334,Articoli!$1:$48422,2,FALSE)),\"Codice Errato\",VLOOKUP(A334,Articoli!$1:$48422,2,FALSE)))","v":""},null,0,"        ","        ;",0,"      ","      ",""]
[null,{"$f":"IF(A335=\"\",\"\",IF(ISERROR(VLOOKUP(A335,Articoli!$1:$48422,2,FALSE)),\"Codice Errato\",VLOOKUP(A335,Articoli!$1:$48422,2,FALSE)))","v":""},null,0,"        ","        ;",0,"      ","      ",""]
[null,{"$f":"IF(A336=\"\",\"\",IF(ISERROR(VLOOKUP(A336,Articoli!$1:$48422,2,FALSE)),\"Codice Errato\",VLOOKUP(A336,Articoli!$1:$48422,2,FALSE)))","v":""},null,0,"        ","        ;",0,"      ","      ",""]
[null,{"$f":"IF(A337=\"\",\"\",IF(ISERROR(VLOOKUP(A337,Articoli!$1:$48422,2,FALSE)),\"Codice Errato\",VLOOKUP(A337,Articoli!$1:$48422,2,FALSE)))","v":""},null,0,"        ","        ;",0,"      ","      ",""]
[null,{"$f":"IF(A338=\"\",\"\",IF(ISERROR(VLOOKUP(A338,Articoli!$1:$48422,2,FALSE)),\"Codice Errato\",VLOOKUP(A338,Articoli!$1:$48422,2,FALSE)))","v":""},null,0,"        ","        ;",0,"      ","      ",""]
[null,{"$f":"IF(A339=\"\",\"\",IF(ISERROR(VLOOKUP(A339,Articoli!$1:$48422,2,FALSE)),\"Codice Errato\",VLOOKUP(A339,Articoli!$1:$48422,2,FALSE)))","v":""},null,0,"        ","        ;",0,"      ","      ",""]
[null,{"$f":"IF(A340=\"\",\"\",IF(ISERROR(VLOOKUP(A340,Articoli!$1:$48422,2,FALSE)),\"Codice Errato\",VLOOKUP(A340,Articoli!$1:$48422,2,FALSE)))","v":""},null,0,"        ","        ;",0,"      ","      ",""]
[null,{"$f":"IF(A341=\"\",\"\",IF(ISERROR(VLOOKUP(A341,Articoli!$1:$48422,2,FALSE)),\"Codice Errato\",VLOOKUP(A341,Articoli!$1:$48422,2,FALSE)))","v":""},null,{"$f":"LEN(A341)","v":0},{"$f":"REPT(\" \",8-D341)","v":"        "},{"$f":"CONCATENATE(A341,E341,\";\",)","v":"        ;"},{"$f":"LEN(C341)","v":0},{"$f":"REPT(\" \",6-G341)","v":"      "},"      ",""]
[null,{"$f":"IF(A342=\"\",\"\",IF(ISERROR(VLOOKUP(A342,Articoli!$1:$48422,2,FALSE)),\"Codice Errato\",VLOOKUP(A342,Articoli!$1:$48422,2,FALSE)))","v":""},null,0,"        ","        ;",0,"      ","      ",""]
[null,{"$f":"IF(A343=\"\",\"\",IF(ISERROR(VLOOKUP(A343,Articoli!$1:$48422,2,FALSE)),\"Codice Errato\",VLOOKUP(A343,Articoli!$1:$48422,2,FALSE)))","v":""},null,0,"        ","        ;",0,"      ","      ",""]
[null,{"$f":"IF(A344=\"\",\"\",IF(ISERROR(VLOOKUP(A344,Articoli!$1:$48422,2,FALSE)),\"Codice Errato\",VLOOKUP(A344,Articoli!$1:$48422,2,FALSE)))","v":""},null,0,"        ","        ;",0,"      ","      ",""]
[null,{"$f":"IF(A345=\"\",\"\",IF(ISERROR(VLOOKUP(A345,Articoli!$1:$48422,2,FALSE)),\"Codice Errato\",VLOOKUP(A345,Articoli!$1:$48422,2,FALSE)))","v":""},null,0,"        ","        ;",0,"      ","      ",""]
[null,{"$f":"IF(A346=\"\",\"\",IF(ISERROR(VLOOKUP(A346,Articoli!$1:$48422,2,FALSE)),\"Codice Errato\",VLOOKUP(A346,Articoli!$1:$48422,2,FALSE)))","v":""},null,0,"        ","        ;",0,"      ","      ",""]
[null,{"$f":"IF(A347=\"\",\"\",IF(ISERROR(VLOOKUP(A347,Articoli!$1:$48422,2,FALSE)),\"Codice Errato\",VLOOKUP(A347,Articoli!$1:$48422,2,FALSE)))","v":""},null,0,"        ","        ;",0,"      ","      ",""]
[null,{"$f":"IF(A348=\"\",\"\",IF(ISERROR(VLOOKUP(A348,Articoli!$1:$48422,2,FALSE)),\"Codice Errato\",VLOOKUP(A348,Articoli!$1:$48422,2,FALSE)))","v":""},null,0,"        ","        ;",0,"      ","      ",""]
[null,{"$f":"IF(A349=\"\",\"\",IF(ISERROR(VLOOKUP(A349,Articoli!$1:$48422,2,FALSE)),\"Codice Errato\",VLOOKUP(A349,Articoli!$1:$48422,2,FALSE)))","v":""},null,0,"        ","        ;",0,"      ","      ",""]
[null,{"$f":"IF(A350=\"\",\"\",IF(ISERROR(VLOOKUP(A350,Articoli!$1:$48422,2,FALSE)),\"Codice Errato\",VLOOKUP(A350,Articoli!$1:$48422,2,FALSE)))","v":""},null,0,"        ","        ;",0,"      ","      ",""]
[null,{"$f":"IF(A351=\"\",\"\",IF(ISERROR(VLOOKUP(A351,Articoli!$1:$48422,2,FALSE)),\"Codice Errato\",VLOOKUP(A351,Articoli!$1:$48422,2,FALSE)))","v":""},null,0,"        ","        ;",0,"      ","      ",""]
[null,{"$f":"IF(A352=\"\",\"\",IF(ISERROR(VLOOKUP(A352,Articoli!$1:$48422,2,FALSE)),\"Codice Errato\",VLOOKUP(A352,Articoli!$1:$48422,2,FALSE)))","v":""},null,0,"        ","        ;",0,"      ",{"$f":"CONCATENATE(H352,C352,)","v":"      "},{"$f":"IF(C352=\"\",\"\",CONCATENATE(F352,I352))","v":""}]
[null,{"$f":"IF(A353=\"\",\"\",IF(ISERROR(VLOOKUP(A353,Articoli!$1:$48422,2,FALSE)),\"Codice Errato\",VLOOKUP(A353,Articoli!$1:$48422,2,FALSE)))","v":""},null,0,"        ","        ;",0,"      ","      ",""]
[null,{"$f":"IF(A354=\"\",\"\",IF(ISERROR(VLOOKUP(A354,Articoli!$1:$48422,2,FALSE)),\"Codice Errato\",VLOOKUP(A354,Articoli!$1:$48422,2,FALSE)))","v":""},null,0,"        ","        ;",0,"      ","      ",""]
[null,{"$f":"IF(A355=\"\",\"\",IF(ISERROR(VLOOKUP(A355,Articoli!$1:$48422,2,FALSE)),\"Codice Errato\",VLOOKUP(A355,Articoli!$1:$48422,2,FALSE)))","v":""},null,0,"        ","        ;",0,"      ","      ",""]
[null,{"$f":"IF(A356=\"\",\"\",IF(ISERROR(VLOOKUP(A356,Articoli!$1:$48422,2,FALSE)),\"Codice Errato\",VLOOKUP(A356,Articoli!$1:$48422,2,FALSE)))","v":""},null,0,"        ","        ;",0,"      ","      ",""]
[null,{"$f":"IF(A357=\"\",\"\",IF(ISERROR(VLOOKUP(A357,Articoli!$1:$48422,2,FALSE)),\"Codice Errato\",VLOOKUP(A357,Articoli!$1:$48422,2,FALSE)))","v":""},null,0,"        ","        ;",0,"      ","      ",""]
[null,{"$f":"IF(A358=\"\",\"\",IF(ISERROR(VLOOKUP(A358,Articoli!$1:$48422,2,FALSE)),\"Codice Errato\",VLOOKUP(A358,Articoli!$1:$48422,2,FALSE)))","v":""},null,0,"        ","        ;",0,"      ","      ",""]
[null,{"$f":"IF(A359=\"\",\"\",IF(ISERROR(VLOOKUP(A359,Articoli!$1:$48422,2,FALSE)),\"Codice Errato\",VLOOKUP(A359,Articoli!$1:$48422,2,FALSE)))","v":""},null,0,"        ","        ;",0,"      ","      ",""]
[null,{"$f":"IF(A360=\"\",\"\",IF(ISERROR(VLOOKUP(A360,Articoli!$1:$48422,2,FALSE)),\"Codice Errato\",VLOOKUP(A360,Articoli!$1:$48422,2,FALSE)))","v":""},null,0,"        ","        ;",0,"      ","      ",""]
[null,{"$f":"IF(A361=\"\",\"\",IF(ISERROR(VLOOKUP(A361,Articoli!$1:$48422,2,FALSE)),\"Codice Errato\",VLOOKUP(A361,Articoli!$1:$48422,2,FALSE)))","v":""},null,0,"        ","        ;",0,"      ","      ",""]
[null,{"$f":"IF(A362=\"\",\"\",IF(ISERROR(VLOOKUP(A362,Articoli!$1:$48422,2,FALSE)),\"Codice Errato\",VLOOKUP(A362,Articoli!$1:$48422,2,FALSE)))","v":""},null,0,"        ","        ;",0,"      ","      ",""]
[null,{"$f":"IF(A363=\"\",\"\",IF(ISERROR(VLOOKUP(A363,Articoli!$1:$48422,2,FALSE)),\"Codice Errato\",VLOOKUP(A363,Articoli!$1:$48422,2,FALSE)))","v":""},null,0,"        ","        ;",0,"      ","      ",""]
[null,{"$f":"IF(A364=\"\",\"\",IF(ISERROR(VLOOKUP(A364,Articoli!$1:$48422,2,FALSE)),\"Codice Errato\",VLOOKUP(A364,Articoli!$1:$48422,2,FALSE)))","v":""},null,0,"        ","        ;",0,"      ","      ",""]
[null,{"$f":"IF(A365=\"\",\"\",IF(ISERROR(VLOOKUP(A365,Articoli!$1:$48422,2,FALSE)),\"Codice Errato\",VLOOKUP(A365,Articoli!$1:$48422,2,FALSE)))","v":""},null,0,"        ","        ;",0,"      ","      ",""]
[null,{"$f":"IF(A366=\"\",\"\",IF(ISERROR(VLOOKUP(A366,Articoli!$1:$48422,2,FALSE)),\"Codice Errato\",VLOOKUP(A366,Articoli!$1:$48422,2,FALSE)))","v":""},null,0,"        ","        ;",0,"      ","      ",""]
[null,{"$f":"IF(A367=\"\",\"\",IF(ISERROR(VLOOKUP(A367,Articoli!$1:$48422,2,FALSE)),\"Codice Errato\",VLOOKUP(A367,Articoli!$1:$48422,2,FALSE)))","v":""},null,0,"        ","        ;",0,"      ","      ",""]
[null,{"$f":"IF(A368=\"\",\"\",IF(ISERROR(VLOOKUP(A368,Articoli!$1:$48422,2,FALSE)),\"Codice Errato\",VLOOKUP(A368,Articoli!$1:$48422,2,FALSE)))","v":""},null,0,"        ","        ;",0,"      ","      ",""]
[null,{"$f":"IF(A369=\"\",\"\",IF(ISERROR(VLOOKUP(A369,Articoli!$1:$48422,2,FALSE)),\"Codice Errato\",VLOOKUP(A369,Articoli!$1:$48422,2,FALSE)))","v":""},null,0,"        ","        ;",0,"      ","      ",""]
[null,{"$f":"IF(A370=\"\",\"\",IF(ISERROR(VLOOKUP(A370,Articoli!$1:$48422,2,FALSE)),\"Codice Errato\",VLOOKUP(A370,Articoli!$1:$48422,2,FALSE)))","v":""},null,{"$f":"LEN(A370)","v":0},{"$f":"REPT(\" \",8-D370)","v":"        "},{"$f":"CONCATENATE(A370,E370,\";\",)","v":"        ;"},{"$f":"LEN(C370)","v":0},{"$f":"REPT(\" \",6-G370)","v":"      "},{"$f":"CONCATENATE(H370,C370,)","v":"      "},""]
[null,{"$f":"IF(A371=\"\",\"\",IF(ISERROR(VLOOKUP(A371,Articoli!$1:$48422,2,FALSE)),\"Codice Errato\",VLOOKUP(A371,Articoli!$1:$48422,2,FALSE)))","v":""},null,0,"        ","        ;",0,"      ","      ",""]
[null,{"$f":"IF(A372=\"\",\"\",IF(ISERROR(VLOOKUP(A372,Articoli!$1:$48422,2,FALSE)),\"Codice Errato\",VLOOKUP(A372,Articoli!$1:$48422,2,FALSE)))","v":""},null,0,"        ","        ;",0,"      ","      ",""]
[null,{"$f":"IF(A373=\"\",\"\",IF(ISERROR(VLOOKUP(A373,Articoli!$1:$48422,2,FALSE)),\"Codice Errato\",VLOOKUP(A373,Articoli!$1:$48422,2,FALSE)))","v":""},null,0,"        ","        ;",0,"      ","      ",""]
[null,{"$f":"IF(A374=\"\",\"\",IF(ISERROR(VLOOKUP(A374,Articoli!$1:$48422,2,FALSE)),\"Codice Errato\",VLOOKUP(A374,Articoli!$1:$48422,2,FALSE)))","v":""},null,0,"        ","        ;",0,"      ","      ",""]
[null,{"$f":"IF(A375=\"\",\"\",IF(ISERROR(VLOOKUP(A375,Articoli!$1:$48422,2,FALSE)),\"Codice Errato\",VLOOKUP(A375,Articoli!$1:$48422,2,FALSE)))","v":""},null,0,"        ","        ;",0,"      ","      ",""]
[null,{"$f":"IF(A376=\"\",\"\",IF(ISERROR(VLOOKUP(A376,Articoli!$1:$48422,2,FALSE)),\"Codice Errato\",VLOOKUP(A376,Articoli!$1:$48422,2,FALSE)))","v":""},null,0,"        ","        ;",0,"      ","      ",""]
[null,{"$f":"IF(A377=\"\",\"\",IF(ISERROR(VLOOKUP(A377,Articoli!$1:$48422,2,FALSE)),\"Codice Errato\",VLOOKUP(A377,Articoli!$1:$48422,2,FALSE)))","v":""},null,0,"        ","        ;",0,"      ","      ",""]
[null,{"$f":"IF(A378=\"\",\"\",IF(ISERROR(VLOOKUP(A378,Articoli!$1:$48422,2,FALSE)),\"Codice Errato\",VLOOKUP(A378,Articoli!$1:$48422,2,FALSE)))","v":""},null,0,"        ","        ;",0,"      ","      ",""]
[null,{"$f":"IF(A379=\"\",\"\",IF(ISERROR(VLOOKUP(A379,Articoli!$1:$48422,2,FALSE)),\"Codice Errato\",VLOOKUP(A379,Articoli!$1:$48422,2,FALSE)))","v":""},null,0,"        ","        ;",0,"      ","      ",""]
[null,{"$f":"IF(A380=\"\",\"\",IF(ISERROR(VLOOKUP(A380,Articoli!$1:$48422,2,FALSE)),\"Codice Errato\",VLOOKUP(A380,Articoli!$1:$48422,2,FALSE)))","v":""},null,0,"        ","        ;",0,"      ","      ",""]
[null,{"$f":"IF(A381=\"\",\"\",IF(ISERROR(VLOOKUP(A381,Articoli!$1:$48422,2,FALSE)),\"Codice Errato\",VLOOKUP(A381,Articoli!$1:$48422,2,FALSE)))","v":""},null,0,"        ","        ;",0,"      ","      ",""]
[null,{"$f":"IF(A382=\"\",\"\",IF(ISERROR(VLOOKUP(A382,Articoli!$1:$48422,2,FALSE)),\"Codice Errato\",VLOOKUP(A382,Articoli!$1:$48422,2,FALSE)))","v":""},null,0,"        ","        ;",0,"      ","      ",""]
[null,{"$f":"IF(A383=\"\",\"\",IF(ISERROR(VLOOKUP(A383,Articoli!$1:$48422,2,FALSE)),\"Codice Errato\",VLOOKUP(A383,Articoli!$1:$48422,2,FALSE)))","v":""},null,0,"        ","        ;",0,"      ","      ",""]
[null,{"$f":"IF(A384=\"\",\"\",IF(ISERROR(VLOOKUP(A384,Articoli!$1:$48422,2,FALSE)),\"Codice Errato\",VLOOKUP(A384,Articoli!$1:$48422,2,FALSE)))","v":""},null,0,"        ","        ;",0,"      ","      ",""]
[null,{"$f":"IF(A385=\"\",\"\",IF(ISERROR(VLOOKUP(A385,Articoli!$1:$48422,2,FALSE)),\"Codice Errato\",VLOOKUP(A385,Articoli!$1:$48422,2,FALSE)))","v":""},null,0,"        ","        ;",0,"      ","      ",""]
[null,{"$f":"IF(A386=\"\",\"\",IF(ISERROR(VLOOKUP(A386,Articoli!$1:$48422,2,FALSE)),\"Codice Errato\",VLOOKUP(A386,Articoli!$1:$48422,2,FALSE)))","v":""},null,0,"        ","        ;",0,"      ","      ",""]
[null,{"$f":"IF(A387=\"\",\"\",IF(ISERROR(VLOOKUP(A387,Articoli!$1:$48422,2,FALSE)),\"Codice Errato\",VLOOKUP(A387,Articoli!$1:$48422,2,FALSE)))","v":""},null,0,"        ","        ;",0,"      ","      ",""]
[null,{"$f":"IF(A388=\"\",\"\",IF(ISERROR(VLOOKUP(A388,Articoli!$1:$48422,2,FALSE)),\"Codice Errato\",VLOOKUP(A388,Articoli!$1:$48422,2,FALSE)))","v":""},null,0,"        ","        ;",0,"      ","      ",""]
[null,{"$f":"IF(A389=\"\",\"\",IF(ISERROR(VLOOKUP(A389,Articoli!$1:$48422,2,FALSE)),\"Codice Errato\",VLOOKUP(A389,Articoli!$1:$48422,2,FALSE)))","v":""},null,0,"        ","        ;",0,"      ","      ",""]
[null,{"$f":"IF(A390=\"\",\"\",IF(ISERROR(VLOOKUP(A390,Articoli!$1:$48422,2,FALSE)),\"Codice Errato\",VLOOKUP(A390,Articoli!$1:$48422,2,FALSE)))","v":""},null,0,"        ","        ;",0,"      ","      ",""]
[null,{"$f":"IF(A391=\"\",\"\",IF(ISERROR(VLOOKUP(A391,Articoli!$1:$48422,2,FALSE)),\"Codice Errato\",VLOOKUP(A391,Articoli!$1:$48422,2,FALSE)))","v":""},null,0,"        ","        ;",0,"      ","      ",""]
[null,{"$f":"IF(A392=\"\",\"\",IF(ISERROR(VLOOKUP(A392,Articoli!$1:$48422,2,FALSE)),\"Codice Errato\",VLOOKUP(A392,Articoli!$1:$48422,2,FALSE)))","v":""},null,0,"        ","        ;",0,"      ","      ",""]
[null,{"$f":"IF(A393=\"\",\"\",IF(ISERROR(VLOOKUP(A393,Articoli!$1:$48422,2,FALSE)),\"Codice Errato\",VLOOKUP(A393,Articoli!$1:$48422,2,FALSE)))","v":""},null,0,"        ","        ;",0,"      ","      ",""]
[null,{"$f":"IF(A394=\"\",\"\",IF(ISERROR(VLOOKUP(A394,Articoli!$1:$48422,2,FALSE)),\"Codice Errato\",VLOOKUP(A394,Articoli!$1:$48422,2,FALSE)))","v":""},null,0,"        ","        ;",0,"      ","      ",""]
[null,{"$f":"IF(A395=\"\",\"\",IF(ISERROR(VLOOKUP(A395,Articoli!$1:$48422,2,FALSE)),\"Codice Errato\",VLOOKUP(A395,Articoli!$1:$48422,2,FALSE)))","v":""},null,0,"        ","        ;",0,"      ","      ",""]
[null,{"$f":"IF(A396=\"\",\"\",IF(ISERROR(VLOOKUP(A396,Articoli!$1:$48422,2,FALSE)),\"Codice Errato\",VLOOKUP(A396,Articoli!$1:$48422,2,FALSE)))","v":""},null,0,"        ","        ;",0,"      ","      ",""]
[null,{"$f":"IF(A397=\"\",\"\",IF(ISERROR(VLOOKUP(A397,Articoli!$1:$48422,2,FALSE)),\"Codice Errato\",VLOOKUP(A397,Articoli!$1:$48422,2,FALSE)))","v":""},null,0,"        ","        ;",0,"      ","      ",""]
[null,{"$f":"IF(A398=\"\",\"\",IF(ISERROR(VLOOKUP(A398,Articoli!$1:$48422,2,FALSE)),\"Codice Errato\",VLOOKUP(A398,Articoli!$1:$48422,2,FALSE)))","v":""},null,0,"        ","        ;",0,"      ","      ",""]
[null,{"$f":"IF(A399=\"\",\"\",IF(ISERROR(VLOOKUP(A399,Articoli!$1:$48422,2,FALSE)),\"Codice Errato\",VLOOKUP(A399,Articoli!$1:$48422,2,FALSE)))","v":""},null,0,"        ","        ;",0,"      ","      ",""]
[null,{"$f":"IF(A400=\"\",\"\",IF(ISERROR(VLOOKUP(A400,Articoli!$1:$48422,2,FALSE)),\"Codice Errato\",VLOOKUP(A400,Articoli!$1:$48422,2,FALSE)))","v":""},null,0,"        ","        ;",0,"      ","      ",""]
[null,{"$f":"IF(A401=\"\",\"\",IF(ISERROR(VLOOKUP(A401,Articoli!$1:$48422,2,FALSE)),\"Codice Errato\",VLOOKUP(A401,Articoli!$1:$48422,2,FALSE)))","v":""},null,0,"        ","        ;",0,"      ","      ",""]
[null,{"$f":"IF(A402=\"\",\"\",IF(ISERROR(VLOOKUP(A402,Articoli!$1:$48422,2,FALSE)),\"Codice Errato\",VLOOKUP(A402,Articoli!$1:$48422,2,FALSE)))","v":""},null,0,"        ","        ;",0,"      ","      ",""]
[null,{"$f":"IF(A403=\"\",\"\",IF(ISERROR(VLOOKUP(A403,Articoli!$1:$48422,2,FALSE)),\"Codice Errato\",VLOOKUP(A403,Articoli!$1:$48422,2,FALSE)))","v":""},null,0,"        ","        ;",0,"      ","      ",""]
[null,{"$f":"IF(A404=\"\",\"\",IF(ISERROR(VLOOKUP(A404,Articoli!$1:$48422,2,FALSE)),\"Codice Errato\",VLOOKUP(A404,Articoli!$1:$48422,2,FALSE)))","v":""},null,0,"        ","        ;",0,"      ","      ",""]
[null,{"$f":"IF(A405=\"\",\"\",IF(ISERROR(VLOOKUP(A405,Articoli!$1:$48422,2,FALSE)),\"Codice Errato\",VLOOKUP(A405,Articoli!$1:$48422,2,FALSE)))","v":""},null,0,"        ","        ;",0,"      ","      ",""]
[null,{"$f":"IF(A406=\"\",\"\",IF(ISERROR(VLOOKUP(A406,Articoli!$1:$48422,2,FALSE)),\"Codice Errato\",VLOOKUP(A406,Articoli!$1:$48422,2,FALSE)))","v":""},null,0,"        ","        ;",0,"      ","      ",""]
[null,{"$f":"IF(A407=\"\",\"\",IF(ISERROR(VLOOKUP(A407,Articoli!$1:$48422,2,FALSE)),\"Codice Errato\",VLOOKUP(A407,Articoli!$1:$48422,2,FALSE)))","v":""},null,0,"        ","        ;",0,"      ","      ",""]
[null,{"$f":"IF(A408=\"\",\"\",IF(ISERROR(VLOOKUP(A408,Articoli!$1:$48422,2,FALSE)),\"Codice Errato\",VLOOKUP(A408,Articoli!$1:$48422,2,FALSE)))","v":""},null,0,"        ","        ;",0,"      ","      ",""]
[null,{"$f":"IF(A409=\"\",\"\",IF(ISERROR(VLOOKUP(A409,Articoli!$1:$48422,2,FALSE)),\"Codice Errato\",VLOOKUP(A409,Articoli!$1:$48422,2,FALSE)))","v":""},null,0,"        ","        ;",0,"      ","      ",""]
[null,{"$f":"IF(A410=\"\",\"\",IF(ISERROR(VLOOKUP(A410,Articoli!$1:$48422,2,FALSE)),\"Codice Errato\",VLOOKUP(A410,Articoli!$1:$48422,2,FALSE)))","v":""},null,0,"        ","        ;",0,"      ","      ",""]
[null,{"$f":"IF(A411=\"\",\"\",IF(ISERROR(VLOOKUP(A411,Articoli!$1:$48422,2,FALSE)),\"Codice Errato\",VLOOKUP(A411,Articoli!$1:$48422,2,FALSE)))","v":""},null,0,"        ","        ;",0,"      ","      ",""]
[null,{"$f":"IF(A412=\"\",\"\",IF(ISERROR(VLOOKUP(A412,Articoli!$1:$48422,2,FALSE)),\"Codice Errato\",VLOOKUP(A412,Articoli!$1:$48422,2,FALSE)))","v":""},null,0,"        ","        ;",0,"      ","      ",""]
[null,{"$f":"IF(A413=\"\",\"\",IF(ISERROR(VLOOKUP(A413,Articoli!$1:$48422,2,FALSE)),\"Codice Errato\",VLOOKUP(A413,Articoli!$1:$48422,2,FALSE)))","v":""},null,0,"        ","        ;",0,"      ","      ",""]
[null,{"$f":"IF(A414=\"\",\"\",IF(ISERROR(VLOOKUP(A414,Articoli!$1:$48422,2,FALSE)),\"Codice Errato\",VLOOKUP(A414,Articoli!$1:$48422,2,FALSE)))","v":""},null,0,"        ","        ;",0,"      ","      ",""]
[null,{"$f":"IF(A415=\"\",\"\",IF(ISERROR(VLOOKUP(A415,Articoli!$1:$48422,2,FALSE)),\"Codice Errato\",VLOOKUP(A415,Articoli!$1:$48422,2,FALSE)))","v":""},null,0,"        ","        ;",0,"      ","      ",""]
[null,{"$f":"IF(A416=\"\",\"\",IF(ISERROR(VLOOKUP(A416,Articoli!$1:$48422,2,FALSE)),\"Codice Errato\",VLOOKUP(A416,Articoli!$1:$48422,2,FALSE)))","v":""},null,0,"        ","        ;",0,"      ","      ",{"$f":"IF(C416=\"\",\"\",CONCATENATE(F416,I416))","v":""}]
[null,{"$f":"IF(A417=\"\",\"\",IF(ISERROR(VLOOKUP(A417,Articoli!$1:$48422,2,FALSE)),\"Codice Errato\",VLOOKUP(A417,Articoli!$1:$48422,2,FALSE)))","v":""},null,0,"        ","        ;",0,"      ","      ",""]
[null,{"$f":"IF(A418=\"\",\"\",IF(ISERROR(VLOOKUP(A418,Articoli!$1:$48422,2,FALSE)),\"Codice Errato\",VLOOKUP(A418,Articoli!$1:$48422,2,FALSE)))","v":""},null,0,"        ","        ;",0,"      ","      ",""]
[null,{"$f":"IF(A419=\"\",\"\",IF(ISERROR(VLOOKUP(A419,Articoli!$1:$48422,2,FALSE)),\"Codice Errato\",VLOOKUP(A419,Articoli!$1:$48422,2,FALSE)))","v":""},null,0,"        ","        ;",0,"      ","      ",""]
[null,{"$f":"IF(A420=\"\",\"\",IF(ISERROR(VLOOKUP(A420,Articoli!$1:$48422,2,FALSE)),\"Codice Errato\",VLOOKUP(A420,Articoli!$1:$48422,2,FALSE)))","v":""},null,0,"        ","        ;",0,"      ","      ",""]
[null,{"$f":"IF(A421=\"\",\"\",IF(ISERROR(VLOOKUP(A421,Articoli!$1:$48422,2,FALSE)),\"Codice Errato\",VLOOKUP(A421,Articoli!$1:$48422,2,FALSE)))","v":""},null,0,"        ","        ;",0,"      ","      ",""]
[null,{"$f":"IF(A422=\"\",\"\",IF(ISERROR(VLOOKUP(A422,Articoli!$1:$48422,2,FALSE)),\"Codice Errato\",VLOOKUP(A422,Articoli!$1:$48422,2,FALSE)))","v":""},null,0,"        ","        ;",0,"      ","      ",""]
[null,{"$f":"IF(A423=\"\",\"\",IF(ISERROR(VLOOKUP(A423,Articoli!$1:$48422,2,FALSE)),\"Codice Errato\",VLOOKUP(A423,Articoli!$1:$48422,2,FALSE)))","v":""},null,0,"        ","        ;",0,"      ","      ",""]
[null,{"$f":"IF(A424=\"\",\"\",IF(ISERROR(VLOOKUP(A424,Articoli!$1:$48422,2,FALSE)),\"Codice Errato\",VLOOKUP(A424,Articoli!$1:$48422,2,FALSE)))","v":""},null,0,"        ","        ;",0,"      ","      ",""]
[null,{"$f":"IF(A425=\"\",\"\",IF(ISERROR(VLOOKUP(A425,Articoli!$1:$48422,2,FALSE)),\"Codice Errato\",VLOOKUP(A425,Articoli!$1:$48422,2,FALSE)))","v":""},null,0,"        ","        ;",0,"      ","      ",""]
[null,{"$f":"IF(A426=\"\",\"\",IF(ISERROR(VLOOKUP(A426,Articoli!$1:$48422,2,FALSE)),\"Codice Errato\",VLOOKUP(A426,Articoli!$1:$48422,2,FALSE)))","v":""},null,0,"        ","        ;",0,"      ","      ",""]
[null,{"$f":"IF(A427=\"\",\"\",IF(ISERROR(VLOOKUP(A427,Articoli!$1:$48422,2,FALSE)),\"Codice Errato\",VLOOKUP(A427,Articoli!$1:$48422,2,FALSE)))","v":""},null,0,"        ","        ;",0,"      ","      ",""]
[null,{"$f":"IF(A428=\"\",\"\",IF(ISERROR(VLOOKUP(A428,Articoli!$1:$48422,2,FALSE)),\"Codice Errato\",VLOOKUP(A428,Articoli!$1:$48422,2,FALSE)))","v":""},null,0,"        ","        ;",0,"      ","      ",""]
[null,{"$f":"IF(A429=\"\",\"\",IF(ISERROR(VLOOKUP(A429,Articoli!$1:$48422,2,FALSE)),\"Codice Errato\",VLOOKUP(A429,Articoli!$1:$48422,2,FALSE)))","v":""},null,0,"        ","        ;",0,"      ","      ",""]
[null,{"$f":"IF(A430=\"\",\"\",IF(ISERROR(VLOOKUP(A430,Articoli!$1:$48422,2,FALSE)),\"Codice Errato\",VLOOKUP(A430,Articoli!$1:$48422,2,FALSE)))","v":""},null,0,"        ","        ;",0,"      ","      ",""]
[null,{"$f":"IF(A431=\"\",\"\",IF(ISERROR(VLOOKUP(A431,Articoli!$1:$48422,2,FALSE)),\"Codice Errato\",VLOOKUP(A431,Articoli!$1:$48422,2,FALSE)))","v":""},null,0,"        ","        ;",0,"      ","      ",""]
[null,{"$f":"IF(A432=\"\",\"\",IF(ISERROR(VLOOKUP(A432,Articoli!$1:$48422,2,FALSE)),\"Codice Errato\",VLOOKUP(A432,Articoli!$1:$48422,2,FALSE)))","v":""},null,0,"        ","        ;",0,"      ","      ",""]
[null,{"$f":"IF(A433=\"\",\"\",IF(ISERROR(VLOOKUP(A433,Articoli!$1:$48422,2,FALSE)),\"Codice Errato\",VLOOKUP(A433,Articoli!$1:$48422,2,FALSE)))","v":""},null,0,"        ","        ;",0,"      ","      ",""]
[null,{"$f":"IF(A434=\"\",\"\",IF(ISERROR(VLOOKUP(A434,Articoli!$1:$48422,2,FALSE)),\"Codice Errato\",VLOOKUP(A434,Articoli!$1:$48422,2,FALSE)))","v":""},null,{"$f":"LEN(A434)","v":0},{"$f":"REPT(\" \",8-D434)","v":"        "},{"$f":"CONCATENATE(A434,E434,\";\",)","v":"        ;"},{"$f":"LEN(C434)","v":0},{"$f":"REPT(\" \",6-G434)","v":"      "},{"$f":"CONCATENATE(H434,C434,)","v":"      "},""]
[null,{"$f":"IF(A435=\"\",\"\",IF(ISERROR(VLOOKUP(A435,Articoli!$1:$48422,2,FALSE)),\"Codice Errato\",VLOOKUP(A435,Articoli!$1:$48422,2,FALSE)))","v":""},null,0,"        ","        ;",0,"      ","      ",""]
[null,{"$f":"IF(A436=\"\",\"\",IF(ISERROR(VLOOKUP(A436,Articoli!$1:$48422,2,FALSE)),\"Codice Errato\",VLOOKUP(A436,Articoli!$1:$48422,2,FALSE)))","v":""},null,0,"        ","        ;",0,"      ","      ",""]
[null,{"$f":"IF(A437=\"\",\"\",IF(ISERROR(VLOOKUP(A437,Articoli!$1:$48422,2,FALSE)),\"Codice Errato\",VLOOKUP(A437,Articoli!$1:$48422,2,FALSE)))","v":""},null,0,"        ","        ;",0,"      ","      ",""]
[null,{"$f":"IF(A438=\"\",\"\",IF(ISERROR(VLOOKUP(A438,Articoli!$1:$48422,2,FALSE)),\"Codice Errato\",VLOOKUP(A438,Articoli!$1:$48422,2,FALSE)))","v":""},null,0,"        ","        ;",0,"      ","      ",""]
[null,{"$f":"IF(A439=\"\",\"\",IF(ISERROR(VLOOKUP(A439,Articoli!$1:$48422,2,FALSE)),\"Codice Errato\",VLOOKUP(A439,Articoli!$1:$48422,2,FALSE)))","v":""},null,0,"        ","        ;",0,"      ","      ",""]
[null,{"$f":"IF(A440=\"\",\"\",IF(ISERROR(VLOOKUP(A440,Articoli!$1:$48422,2,FALSE)),\"Codice Errato\",VLOOKUP(A440,Articoli!$1:$48422,2,FALSE)))","v":""},null,0,"        ","        ;",0,"      ","      ",""]
[null,{"$f":"IF(A441=\"\",\"\",IF(ISERROR(VLOOKUP(A441,Articoli!$1:$48422,2,FALSE)),\"Codice Errato\",VLOOKUP(A441,Articoli!$1:$48422,2,FALSE)))","v":""},null,0,"        ","        ;",0,"      ","      ",""]
[null,{"$f":"IF(A442=\"\",\"\",IF(ISERROR(VLOOKUP(A442,Articoli!$1:$48422,2,FALSE)),\"Codice Errato\",VLOOKUP(A442,Articoli!$1:$48422,2,FALSE)))","v":""},null,0,"        ","        ;",0,"      ","      ",""]
[null,{"$f":"IF(A443=\"\",\"\",IF(ISERROR(VLOOKUP(A443,Articoli!$1:$48422,2,FALSE)),\"Codice Errato\",VLOOKUP(A443,Articoli!$1:$48422,2,FALSE)))","v":""},null,0,"        ","        ;",0,"      ","      ",""]
[null,{"$f":"IF(A444=\"\",\"\",IF(ISERROR(VLOOKUP(A444,Articoli!$1:$48422,2,FALSE)),\"Codice Errato\",VLOOKUP(A444,Articoli!$1:$48422,2,FALSE)))","v":""},null,0,"        ","        ;",0,"      ","      ",""]
[null,{"$f":"IF(A445=\"\",\"\",IF(ISERROR(VLOOKUP(A445,Articoli!$1:$48422,2,FALSE)),\"Codice Errato\",VLOOKUP(A445,Articoli!$1:$48422,2,FALSE)))","v":""},null,0,"        ","        ;",0,"      ","      ",""]
[null,{"$f":"IF(A446=\"\",\"\",IF(ISERROR(VLOOKUP(A446,Articoli!$1:$48422,2,FALSE)),\"Codice Errato\",VLOOKUP(A446,Articoli!$1:$48422,2,FALSE)))","v":""},null,0,"        ","        ;",0,"      ","      ",""]
[null,{"$f":"IF(A447=\"\",\"\",IF(ISERROR(VLOOKUP(A447,Articoli!$1:$48422,2,FALSE)),\"Codice Errato\",VLOOKUP(A447,Articoli!$1:$48422,2,FALSE)))","v":""},null,0,"        ","        ;",0,"      ","      ",""]
[null,{"$f":"IF(A448=\"\",\"\",IF(ISERROR(VLOOKUP(A448,Articoli!$1:$48422,2,FALSE)),\"Codice Errato\",VLOOKUP(A448,Articoli!$1:$48422,2,FALSE)))","v":""},null,0,"        ","        ;",0,"      ","      ",""]
[null,{"$f":"IF(A449=\"\",\"\",IF(ISERROR(VLOOKUP(A449,Articoli!$1:$48422,2,FALSE)),\"Codice Errato\",VLOOKUP(A449,Articoli!$1:$48422,2,FALSE)))","v":""},null,0,"        ","        ;",0,"      ","      ",""]
[null,{"$f":"IF(A450=\"\",\"\",IF(ISERROR(VLOOKUP(A450,Articoli!$1:$48422,2,FALSE)),\"Codice Errato\",VLOOKUP(A450,Articoli!$1:$48422,2,FALSE)))","v":""},null,0,"        ","        ;",0,"      ","      ",""]
[null,{"$f":"IF(A451=\"\",\"\",IF(ISERROR(VLOOKUP(A451,Articoli!$1:$48422,2,FALSE)),\"Codice Errato\",VLOOKUP(A451,Articoli!$1:$48422,2,FALSE)))","v":""},null,0,"        ","        ;",0,"      ","      ",""]
[null,{"$f":"IF(A452=\"\",\"\",IF(ISERROR(VLOOKUP(A452,Articoli!$1:$48422,2,FALSE)),\"Codice Errato\",VLOOKUP(A452,Articoli!$1:$48422,2,FALSE)))","v":""},null,0,"        ","        ;",0,"      ","      ",""]
[null,{"$f":"IF(A453=\"\",\"\",IF(ISERROR(VLOOKUP(A453,Articoli!$1:$48422,2,FALSE)),\"Codice Errato\",VLOOKUP(A453,Articoli!$1:$48422,2,FALSE)))","v":""},null,0,"        ","        ;",0,"      ","      ",""]
[null,{"$f":"IF(A454=\"\",\"\",IF(ISERROR(VLOOKUP(A454,Articoli!$1:$48422,2,FALSE)),\"Codice Errato\",VLOOKUP(A454,Articoli!$1:$48422,2,FALSE)))","v":""},null,0,"        ","        ;",0,"      ","      ",""]
[null,{"$f":"IF(A455=\"\",\"\",IF(ISERROR(VLOOKUP(A455,Articoli!$1:$48422,2,FALSE)),\"Codice Errato\",VLOOKUP(A455,Articoli!$1:$48422,2,FALSE)))","v":""},null,0,"        ","        ;",0,"      ","      ",""]
[null,{"$f":"IF(A456=\"\",\"\",IF(ISERROR(VLOOKUP(A456,Articoli!$1:$48422,2,FALSE)),\"Codice Errato\",VLOOKUP(A456,Articoli!$1:$48422,2,FALSE)))","v":""},null,0,"        ","        ;",0,"      ","      ",""]
[null,{"$f":"IF(A457=\"\",\"\",IF(ISERROR(VLOOKUP(A457,Articoli!$1:$48422,2,FALSE)),\"Codice Errato\",VLOOKUP(A457,Articoli!$1:$48422,2,FALSE)))","v":""},null,0,"        ","        ;",0,"      ","      ",""]
[null,{"$f":"IF(A458=\"\",\"\",IF(ISERROR(VLOOKUP(A458,Articoli!$1:$48422,2,FALSE)),\"Codice Errato\",VLOOKUP(A458,Articoli!$1:$48422,2,FALSE)))","v":""},null,0,"        ","        ;",0,"      ","      ",""]
[null,{"$f":"IF(A459=\"\",\"\",IF(ISERROR(VLOOKUP(A459,Articoli!$1:$48422,2,FALSE)),\"Codice Errato\",VLOOKUP(A459,Articoli!$1:$48422,2,FALSE)))","v":""},null,0,"        ","        ;",0,"      ","      ",""]
[null,{"$f":"IF(A460=\"\",\"\",IF(ISERROR(VLOOKUP(A460,Articoli!$1:$48422,2,FALSE)),\"Codice Errato\",VLOOKUP(A460,Articoli!$1:$48422,2,FALSE)))","v":""},null,0,"        ","        ;",0,"      ","      ",""]
[null,{"$f":"IF(A461=\"\",\"\",IF(ISERROR(VLOOKUP(A461,Articoli!$1:$48422,2,FALSE)),\"Codice Errato\",VLOOKUP(A461,Articoli!$1:$48422,2,FALSE)))","v":""},null,0,"        ","        ;",0,"      ","      ",""]
[null,{"$f":"IF(A462=\"\",\"\",IF(ISERROR(VLOOKUP(A462,Articoli!$1:$48422,2,FALSE)),\"Codice Errato\",VLOOKUP(A462,Articoli!$1:$48422,2,FALSE)))","v":""},null,0,"        ","        ;",0,"      ","      ",""]
[null,{"$f":"IF(A463=\"\",\"\",IF(ISERROR(VLOOKUP(A463,Articoli!$1:$48422,2,FALSE)),\"Codice Errato\",VLOOKUP(A463,Articoli!$1:$48422,2,FALSE)))","v":""},null,0,"        ","        ;",0,"      ","      ",""]
[null,{"$f":"IF(A464=\"\",\"\",IF(ISERROR(VLOOKUP(A464,Articoli!$1:$48422,2,FALSE)),\"Codice Errato\",VLOOKUP(A464,Articoli!$1:$48422,2,FALSE)))","v":""},null,0,"        ","        ;",0,"      ","      ",""]
[null,{"$f":"IF(A465=\"\",\"\",IF(ISERROR(VLOOKUP(A465,Articoli!$1:$48422,2,FALSE)),\"Codice Errato\",VLOOKUP(A465,Articoli!$1:$48422,2,FALSE)))","v":""},null,0,"        ","        ;",0,"      ","      ",""]
[null,{"$f":"IF(A466=\"\",\"\",IF(ISERROR(VLOOKUP(A466,Articoli!$1:$48422,2,FALSE)),\"Codice Errato\",VLOOKUP(A466,Articoli!$1:$48422,2,FALSE)))","v":""},null,0,"        ","        ;",0,"      ","      ",""]
[null,{"$f":"IF(A467=\"\",\"\",IF(ISERROR(VLOOKUP(A467,Articoli!$1:$48422,2,FALSE)),\"Codice Errato\",VLOOKUP(A467,Articoli!$1:$48422,2,FALSE)))","v":""},null,0,"        ","        ;",0,"      ","      ",""]
[null,{"$f":"IF(A468=\"\",\"\",IF(ISERROR(VLOOKUP(A468,Articoli!$1:$48422,2,FALSE)),\"Codice Errato\",VLOOKUP(A468,Articoli!$1:$48422,2,FALSE)))","v":""},null,0,"        ","        ;",0,"      ","      ",""]
[null,{"$f":"IF(A469=\"\",\"\",IF(ISERROR(VLOOKUP(A469,Articoli!$1:$48422,2,FALSE)),\"Codice Errato\",VLOOKUP(A469,Articoli!$1:$48422,2,FALSE)))","v":""},null,0,"        ","        ;",0,"      ","      ",""]
[null,{"$f":"IF(A470=\"\",\"\",IF(ISERROR(VLOOKUP(A470,Articoli!$1:$48422,2,FALSE)),\"Codice Errato\",VLOOKUP(A470,Articoli!$1:$48422,2,FALSE)))","v":""},null,0,"        ","        ;",0,"      ","      ",""]
[null,{"$f":"IF(A471=\"\",\"\",IF(ISERROR(VLOOKUP(A471,Articoli!$1:$48422,2,FALSE)),\"Codice Errato\",VLOOKUP(A471,Articoli!$1:$48422,2,FALSE)))","v":""},null,0,"        ","        ;",0,"      ","      ",""]
[null,{"$f":"IF(A472=\"\",\"\",IF(ISERROR(VLOOKUP(A472,Articoli!$1:$48422,2,FALSE)),\"Codice Errato\",VLOOKUP(A472,Articoli!$1:$48422,2,FALSE)))","v":""},null,0,"        ","        ;",0,"      ","      ",""]
[null,{"$f":"IF(A473=\"\",\"\",IF(ISERROR(VLOOKUP(A473,Articoli!$1:$48422,2,FALSE)),\"Codice Errato\",VLOOKUP(A473,Articoli!$1:$48422,2,FALSE)))","v":""},null,0,"        ","        ;",0,"      ","      ",""]
[null,{"$f":"IF(A474=\"\",\"\",IF(ISERROR(VLOOKUP(A474,Articoli!$1:$48422,2,FALSE)),\"Codice Errato\",VLOOKUP(A474,Articoli!$1:$48422,2,FALSE)))","v":""},null,0,"        ","        ;",0,"      ","      ",""]
[null,{"$f":"IF(A475=\"\",\"\",IF(ISERROR(VLOOKUP(A475,Articoli!$1:$48422,2,FALSE)),\"Codice Errato\",VLOOKUP(A475,Articoli!$1:$48422,2,FALSE)))","v":""},null,0,"        ","        ;",0,"      ","      ",""]
[null,{"$f":"IF(A476=\"\",\"\",IF(ISERROR(VLOOKUP(A476,Articoli!$1:$48422,2,FALSE)),\"Codice Errato\",VLOOKUP(A476,Articoli!$1:$48422,2,FALSE)))","v":""},null,0,"        ","        ;",0,"      ","      ",""]
[null,{"$f":"IF(A477=\"\",\"\",IF(ISERROR(VLOOKUP(A477,Articoli!$1:$48422,2,FALSE)),\"Codice Errato\",VLOOKUP(A477,Articoli!$1:$48422,2,FALSE)))","v":""},null,0,"        ","        ;",0,"      ","      ",""]
[null,{"$f":"IF(A478=\"\",\"\",IF(ISERROR(VLOOKUP(A478,Articoli!$1:$48422,2,FALSE)),\"Codice Errato\",VLOOKUP(A478,Articoli!$1:$48422,2,FALSE)))","v":""},null,0,"        ","        ;",0,"      ","      ",""]
[null,{"$f":"IF(A479=\"\",\"\",IF(ISERROR(VLOOKUP(A479,Articoli!$1:$48422,2,FALSE)),\"Codice Errato\",VLOOKUP(A479,Articoli!$1:$48422,2,FALSE)))","v":""},null,0,"        ","        ;",0,"      ","      ",""]
[null,{"$f":"IF(A480=\"\",\"\",IF(ISERROR(VLOOKUP(A480,Articoli!$1:$48422,2,FALSE)),\"Codice Errato\",VLOOKUP(A480,Articoli!$1:$48422,2,FALSE)))","v":""},null,0,"        ","        ;",0,"      ","      ",{"$f":"IF(C480=\"\",\"\",CONCATENATE(F480,I480))","v":""}]
[null,{"$f":"IF(A481=\"\",\"\",IF(ISERROR(VLOOKUP(A481,Articoli!$1:$48422,2,FALSE)),\"Codice Errato\",VLOOKUP(A481,Articoli!$1:$48422,2,FALSE)))","v":""},null,0,"        ","        ;",0,"      ","      ",""]
[null,{"$f":"IF(A482=\"\",\"\",IF(ISERROR(VLOOKUP(A482,Articoli!$1:$48422,2,FALSE)),\"Codice Errato\",VLOOKUP(A482,Articoli!$1:$48422,2,FALSE)))","v":""},null,0,"        ","        ;",0,"      ","      ",""]
[null,{"$f":"IF(A483=\"\",\"\",IF(ISERROR(VLOOKUP(A483,Articoli!$1:$48422,2,FALSE)),\"Codice Errato\",VLOOKUP(A483,Articoli!$1:$48422,2,FALSE)))","v":""},null,0,"        ","        ;",0,"      ","      ",""]
[null,{"$f":"IF(A484=\"\",\"\",IF(ISERROR(VLOOKUP(A484,Articoli!$1:$48422,2,FALSE)),\"Codice Errato\",VLOOKUP(A484,Articoli!$1:$48422,2,FALSE)))","v":""},null,0,"        ","        ;",0,"      ","      ",""]
[null,{"$f":"IF(A485=\"\",\"\",IF(ISERROR(VLOOKUP(A485,Articoli!$1:$48422,2,FALSE)),\"Codice Errato\",VLOOKUP(A485,Articoli!$1:$48422,2,FALSE)))","v":""},null,0,"        ","        ;",0,"      ","      ",""]
[null,{"$f":"IF(A486=\"\",\"\",IF(ISERROR(VLOOKUP(A486,Articoli!$1:$48422,2,FALSE)),\"Codice Errato\",VLOOKUP(A486,Articoli!$1:$48422,2,FALSE)))","v":""},null,0,"        ","        ;",0,"      ","      ",""]
[null,{"$f":"IF(A487=\"\",\"\",IF(ISERROR(VLOOKUP(A487,Articoli!$1:$48422,2,FALSE)),\"Codice Errato\",VLOOKUP(A487,Articoli!$1:$48422,2,FALSE)))","v":""},null,0,"        ","        ;",0,"      ","      ",""]
[null,{"$f":"IF(A488=\"\",\"\",IF(ISERROR(VLOOKUP(A488,Articoli!$1:$48422,2,FALSE)),\"Codice Errato\",VLOOKUP(A488,Articoli!$1:$48422,2,FALSE)))","v":""},null,0,"        ","        ;",0,"      ","      ",""]
[null,{"$f":"IF(A489=\"\",\"\",IF(ISERROR(VLOOKUP(A489,Articoli!$1:$48422,2,FALSE)),\"Codice Errato\",VLOOKUP(A489,Articoli!$1:$48422,2,FALSE)))","v":""},null,0,"        ","        ;",0,"      ","      ",""]
[null,{"$f":"IF(A490=\"\",\"\",IF(ISERROR(VLOOKUP(A490,Articoli!$1:$48422,2,FALSE)),\"Codice Errato\",VLOOKUP(A490,Articoli!$1:$48422,2,FALSE)))","v":""},null,0,"        ","        ;",0,"      ","      ",""]
[null,{"$f":"IF(A491=\"\",\"\",IF(ISERROR(VLOOKUP(A491,Articoli!$1:$48422,2,FALSE)),\"Codice Errato\",VLOOKUP(A491,Articoli!$1:$48422,2,FALSE)))","v":""},null,0,"        ","        ;",0,"      ","      ",""]
[null,{"$f":"IF(A492=\"\",\"\",IF(ISERROR(VLOOKUP(A492,Articoli!$1:$48422,2,FALSE)),\"Codice Errato\",VLOOKUP(A492,Articoli!$1:$48422,2,FALSE)))","v":""},null,0,"        ","        ;",0,"      ","      ",""]
[null,{"$f":"IF(A493=\"\",\"\",IF(ISERROR(VLOOKUP(A493,Articoli!$1:$48422,2,FALSE)),\"Codice Errato\",VLOOKUP(A493,Articoli!$1:$48422,2,FALSE)))","v":""},null,0,"        ","        ;",0,"      ","      ",""]
[null,{"$f":"IF(A494=\"\",\"\",IF(ISERROR(VLOOKUP(A494,Articoli!$1:$48422,2,FALSE)),\"Codice Errato\",VLOOKUP(A494,Articoli!$1:$48422,2,FALSE)))","v":""},null,0,"        ","        ;",0,"      ","      ",""]
[null,{"$f":"IF(A495=\"\",\"\",IF(ISERROR(VLOOKUP(A495,Articoli!$1:$48422,2,FALSE)),\"Codice Errato\",VLOOKUP(A495,Articoli!$1:$48422,2,FALSE)))","v":""},null,0,"        ","        ;",0,"      ","      ",""]
[null,{"$f":"IF(A496=\"\",\"\",IF(ISERROR(VLOOKUP(A496,Articoli!$1:$48422,2,FALSE)),\"Codice Errato\",VLOOKUP(A496,Articoli!$1:$48422,2,FALSE)))","v":""},null,0,"        ","        ;",0,"      ","      ",""]
[null,{"$f":"IF(A497=\"\",\"\",IF(ISERROR(VLOOKUP(A497,Articoli!$1:$48422,2,FALSE)),\"Codice Errato\",VLOOKUP(A497,Articoli!$1:$48422,2,FALSE)))","v":""},null,0,"        ","        ;",0,"      ","      ",""]
[null,{"$f":"IF(A498=\"\",\"\",IF(ISERROR(VLOOKUP(A498,Articoli!$1:$48422,2,FALSE)),\"Codice Errato\",VLOOKUP(A498,Articoli!$1:$48422,2,FALSE)))","v":""},null,{"$f":"LEN(A498)","v":0},{"$f":"REPT(\" \",8-D498)","v":"        "},{"$f":"CONCATENATE(A498,E498,\";\",)","v":"        ;"},{"$f":"LEN(C498)","v":0},{"$f":"REPT(\" \",6-G498)","v":"      "},{"$f":"CONCATENATE(H498,C498,)","v":"      "},""]
[null,{"$f":"IF(A499=\"\",\"\",IF(ISERROR(VLOOKUP(A499,Articoli!$1:$48422,2,FALSE)),\"Codice Errato\",VLOOKUP(A499,Articoli!$1:$48422,2,FALSE)))","v":""},null,0,"        ","        ;",0,"      ","      ",""]
[null,{"$f":"IF(A500=\"\",\"\",IF(ISERROR(VLOOKUP(A500,Articoli!$1:$48422,2,FALSE)),\"Codice Errato\",VLOOKUP(A500,Articoli!$1:$48422,2,FALSE)))","v":""},null,0,"        ","        ;",0,"      ","      ",""]
[null,{"$f":"IF(A501=\"\",\"\",IF(ISERROR(VLOOKUP(A501,Articoli!$1:$48422,2,FALSE)),\"Codice Errato\",VLOOKUP(A501,Articoli!$1:$48422,2,FALSE)))","v":""},null,0,"        ","        ;",0,"      ","      ",""]
[null,{"$f":"IF(A502=\"\",\"\",IF(ISERROR(VLOOKUP(A502,Articoli!$1:$48422,2,FALSE)),\"Codice Errato\",VLOOKUP(A502,Articoli!$1:$48422,2,FALSE)))","v":""},null,0,"        ","        ;",0,"      ","      ",""]
[null,{"$f":"IF(A503=\"\",\"\",IF(ISERROR(VLOOKUP(A503,Articoli!$1:$48422,2,FALSE)),\"Codice Errato\",VLOOKUP(A503,Articoli!$1:$48422,2,FALSE)))","v":""},null,0,"        ","        ;",0,"      ","      ",""]
[null,{"$f":"IF(A504=\"\",\"\",IF(ISERROR(VLOOKUP(A504,Articoli!$1:$48422,2,FALSE)),\"Codice Errato\",VLOOKUP(A504,Articoli!$1:$48422,2,FALSE)))","v":""},null,0,"        ","        ;",0,"      ","      ",""]
[null,{"$f":"IF(A505=\"\",\"\",IF(ISERROR(VLOOKUP(A505,Articoli!$1:$48422,2,FALSE)),\"Codice Errato\",VLOOKUP(A505,Articoli!$1:$48422,2,FALSE)))","v":""},null,0,"        ","        ;",0,"      ","      ",""]
[null,{"$f":"IF(A506=\"\",\"\",IF(ISERROR(VLOOKUP(A506,Articoli!$1:$48422,2,FALSE)),\"Codice Errato\",VLOOKUP(A506,Articoli!$1:$48422,2,FALSE)))","v":""},null,0,"        ","        ;",0,"      ","      ",""]
[null,{"$f":"IF(A507=\"\",\"\",IF(ISERROR(VLOOKUP(A507,Articoli!$1:$48422,2,FALSE)),\"Codice Errato\",VLOOKUP(A507,Articoli!$1:$48422,2,FALSE)))","v":""},null,0,"        ","        ;",0,"      ","      ",""]
[null,{"$f":"IF(A508=\"\",\"\",IF(ISERROR(VLOOKUP(A508,Articoli!$1:$48422,2,FALSE)),\"Codice Errato\",VLOOKUP(A508,Articoli!$1:$48422,2,FALSE)))","v":""},null,0,"        ","        ;",0,"      ","      ",""]
[null,{"$f":"IF(A509=\"\",\"\",IF(ISERROR(VLOOKUP(A509,Articoli!$1:$48422,2,FALSE)),\"Codice Errato\",VLOOKUP(A509,Articoli!$1:$48422,2,FALSE)))","v":""},null,0,"        ","        ;",0,"      ","      ",""]
[null,{"$f":"IF(A510=\"\",\"\",IF(ISERROR(VLOOKUP(A510,Articoli!$1:$48422,2,FALSE)),\"Codice Errato\",VLOOKUP(A510,Articoli!$1:$48422,2,FALSE)))","v":""},null,0,"        ","        ;",0,"      ","      ",""]
[null,{"$f":"IF(A511=\"\",\"\",IF(ISERROR(VLOOKUP(A511,Articoli!$1:$48422,2,FALSE)),\"Codice Errato\",VLOOKUP(A511,Articoli!$1:$48422,2,FALSE)))","v":""},null,0,"        ","        ;",0,"      ","      ",""]
[null,{"$f":"IF(A512=\"\",\"\",IF(ISERROR(VLOOKUP(A512,Articoli!$1:$48422,2,FALSE)),\"Codice Errato\",VLOOKUP(A512,Articoli!$1:$48422,2,FALSE)))","v":""},null,0,"        ","        ;",0,"      ","      ",""]
[null,{"$f":"IF(A513=\"\",\"\",IF(ISERROR(VLOOKUP(A513,Articoli!$1:$48422,2,FALSE)),\"Codice Errato\",VLOOKUP(A513,Articoli!$1:$48422,2,FALSE)))","v":""},null,0,"        ","        ;",0,"      ","      ",""]
[null,{"$f":"IF(A514=\"\",\"\",IF(ISERROR(VLOOKUP(A514,Articoli!$1:$48422,2,FALSE)),\"Codice Errato\",VLOOKUP(A514,Articoli!$1:$48422,2,FALSE)))","v":""},null,0,"        ","        ;",0,"      ","      ",""]
[null,{"$f":"IF(A515=\"\",\"\",IF(ISERROR(VLOOKUP(A515,Articoli!$1:$48422,2,FALSE)),\"Codice Errato\",VLOOKUP(A515,Articoli!$1:$48422,2,FALSE)))","v":""},null,0,"        ","        ;",0,"      ","      ",""]
[null,{"$f":"IF(A516=\"\",\"\",IF(ISERROR(VLOOKUP(A516,Articoli!$1:$48422,2,FALSE)),\"Codice Errato\",VLOOKUP(A516,Articoli!$1:$48422,2,FALSE)))","v":""},null,0,"        ","        ;",0,"      ","      ",""]
[null,{"$f":"IF(A517=\"\",\"\",IF(ISERROR(VLOOKUP(A517,Articoli!$1:$48422,2,FALSE)),\"Codice Errato\",VLOOKUP(A517,Articoli!$1:$48422,2,FALSE)))","v":""},null,0,"        ","        ;",0,"      ","      ",""]
[null,{"$f":"IF(A518=\"\",\"\",IF(ISERROR(VLOOKUP(A518,Articoli!$1:$48422,2,FALSE)),\"Codice Errato\",VLOOKUP(A518,Articoli!$1:$48422,2,FALSE)))","v":""},null,0,"        ","        ;",0,"      ","      ",""]
[null,{"$f":"IF(A519=\"\",\"\",IF(ISERROR(VLOOKUP(A519,Articoli!$1:$48422,2,FALSE)),\"Codice Errato\",VLOOKUP(A519,Articoli!$1:$48422,2,FALSE)))","v":""},null,0,"        ","        ;",0,"      ","      ",""]
[null,{"$f":"IF(A520=\"\",\"\",IF(ISERROR(VLOOKUP(A520,Articoli!$1:$48422,2,FALSE)),\"Codice Errato\",VLOOKUP(A520,Articoli!$1:$48422,2,FALSE)))","v":""},null,0,"        ","        ;",0,"      ","      ",""]
[null,{"$f":"IF(A521=\"\",\"\",IF(ISERROR(VLOOKUP(A521,Articoli!$1:$48422,2,FALSE)),\"Codice Errato\",VLOOKUP(A521,Articoli!$1:$48422,2,FALSE)))","v":""},null,0,"        ","        ;",0,"      ","      ",""]
[null,{"$f":"IF(A522=\"\",\"\",IF(ISERROR(VLOOKUP(A522,Articoli!$1:$48422,2,FALSE)),\"Codice Errato\",VLOOKUP(A522,Articoli!$1:$48422,2,FALSE)))","v":""},null,0,"        ","        ;",0,"      ","      ",""]
[null,{"$f":"IF(A523=\"\",\"\",IF(ISERROR(VLOOKUP(A523,Articoli!$1:$48422,2,FALSE)),\"Codice Errato\",VLOOKUP(A523,Articoli!$1:$48422,2,FALSE)))","v":""},null,0,"        ","        ;",0,"      ","      ",""]
[null,{"$f":"IF(A524=\"\",\"\",IF(ISERROR(VLOOKUP(A524,Articoli!$1:$48422,2,FALSE)),\"Codice Errato\",VLOOKUP(A524,Articoli!$1:$48422,2,FALSE)))","v":""},null,0,"        ","        ;",0,"      ","      ",""]
[null,{"$f":"IF(A525=\"\",\"\",IF(ISERROR(VLOOKUP(A525,Articoli!$1:$48422,2,FALSE)),\"Codice Errato\",VLOOKUP(A525,Articoli!$1:$48422,2,FALSE)))","v":""},null,0,"        ","        ;",0,"      ","      ",""]
[null,{"$f":"IF(A526=\"\",\"\",IF(ISERROR(VLOOKUP(A526,Articoli!$1:$48422,2,FALSE)),\"Codice Errato\",VLOOKUP(A526,Articoli!$1:$48422,2,FALSE)))","v":""},null,0,"        ","        ;",0,"      ","      ",""]
[null,{"$f":"IF(A527=\"\",\"\",IF(ISERROR(VLOOKUP(A527,Articoli!$1:$48422,2,FALSE)),\"Codice Errato\",VLOOKUP(A527,Articoli!$1:$48422,2,FALSE)))","v":""},null,0,"        ","        ;",0,"      ","      ",""]
[null,{"$f":"IF(A528=\"\",\"\",IF(ISERROR(VLOOKUP(A528,Articoli!$1:$48422,2,FALSE)),\"Codice Errato\",VLOOKUP(A528,Articoli!$1:$48422,2,FALSE)))","v":""},null,0,"        ","        ;",0,"      ","      ",""]
[null,{"$f":"IF(A529=\"\",\"\",IF(ISERROR(VLOOKUP(A529,Articoli!$1:$48422,2,FALSE)),\"Codice Errato\",VLOOKUP(A529,Articoli!$1:$48422,2,FALSE)))","v":""},null,0,"        ","        ;",0,"      ","      ",""]
[null,{"$f":"IF(A530=\"\",\"\",IF(ISERROR(VLOOKUP(A530,Articoli!$1:$48422,2,FALSE)),\"Codice Errato\",VLOOKUP(A530,Articoli!$1:$48422,2,FALSE)))","v":""},null,0,"        ","        ;",0,"      ","      ",""]
[null,{"$f":"IF(A531=\"\",\"\",IF(ISERROR(VLOOKUP(A531,Articoli!$1:$48422,2,FALSE)),\"Codice Errato\",VLOOKUP(A531,Articoli!$1:$48422,2,FALSE)))","v":""},null,0,"        ","        ;",0,"      ","      ",""]
[null,{"$f":"IF(A532=\"\",\"\",IF(ISERROR(VLOOKUP(A532,Articoli!$1:$48422,2,FALSE)),\"Codice Errato\",VLOOKUP(A532,Articoli!$1:$48422,2,FALSE)))","v":""},null,0,"        ","        ;",0,"      ","      ",""]
[null,{"$f":"IF(A533=\"\",\"\",IF(ISERROR(VLOOKUP(A533,Articoli!$1:$48422,2,FALSE)),\"Codice Errato\",VLOOKUP(A533,Articoli!$1:$48422,2,FALSE)))","v":""},null,0,"        ","        ;",0,"      ","      ",""]
[null,{"$f":"IF(A534=\"\",\"\",IF(ISERROR(VLOOKUP(A534,Articoli!$1:$48422,2,FALSE)),\"Codice Errato\",VLOOKUP(A534,Articoli!$1:$48422,2,FALSE)))","v":""},null,0,"        ","        ;",0,"      ","      ",""]
[null,{"$f":"IF(A535=\"\",\"\",IF(ISERROR(VLOOKUP(A535,Articoli!$1:$48422,2,FALSE)),\"Codice Errato\",VLOOKUP(A535,Articoli!$1:$48422,2,FALSE)))","v":""},null,0,"        ","        ;",0,"      ","      ",""]
[null,{"$f":"IF(A536=\"\",\"\",IF(ISERROR(VLOOKUP(A536,Articoli!$1:$48422,2,FALSE)),\"Codice Errato\",VLOOKUP(A536,Articoli!$1:$48422,2,FALSE)))","v":""},null,0,"        ","        ;",0,"      ","      ",""]
[null,{"$f":"IF(A537=\"\",\"\",IF(ISERROR(VLOOKUP(A537,Articoli!$1:$48422,2,FALSE)),\"Codice Errato\",VLOOKUP(A537,Articoli!$1:$48422,2,FALSE)))","v":""},null,0,"        ","        ;",0,"      ","      ",""]
[null,{"$f":"IF(A538=\"\",\"\",IF(ISERROR(VLOOKUP(A538,Articoli!$1:$48422,2,FALSE)),\"Codice Errato\",VLOOKUP(A538,Articoli!$1:$48422,2,FALSE)))","v":""},null,0,"        ","        ;",0,"      ","      ",""]
[null,{"$f":"IF(A539=\"\",\"\",IF(ISERROR(VLOOKUP(A539,Articoli!$1:$48422,2,FALSE)),\"Codice Errato\",VLOOKUP(A539,Articoli!$1:$48422,2,FALSE)))","v":""},null,0,"        ","        ;",0,"      ","      ",""]
[null,{"$f":"IF(A540=\"\",\"\",IF(ISERROR(VLOOKUP(A540,Articoli!$1:$48422,2,FALSE)),\"Codice Errato\",VLOOKUP(A540,Articoli!$1:$48422,2,FALSE)))","v":""},null,0,"        ","        ;",0,"      ","      ",""]
[null,{"$f":"IF(A541=\"\",\"\",IF(ISERROR(VLOOKUP(A541,Articoli!$1:$48422,2,FALSE)),\"Codice Errato\",VLOOKUP(A541,Articoli!$1:$48422,2,FALSE)))","v":""},null,0,"        ","        ;",0,"      ","      ",""]
[null,{"$f":"IF(A542=\"\",\"\",IF(ISERROR(VLOOKUP(A542,Articoli!$1:$48422,2,FALSE)),\"Codice Errato\",VLOOKUP(A542,Articoli!$1:$48422,2,FALSE)))","v":""},null,0,"        ","        ;",0,"      ","      ",""]
[null,{"$f":"IF(A543=\"\",\"\",IF(ISERROR(VLOOKUP(A543,Articoli!$1:$48422,2,FALSE)),\"Codice Errato\",VLOOKUP(A543,Articoli!$1:$48422,2,FALSE)))","v":""},null,0,"        ","        ;",0,"      ","      ",""]
[null,{"$f":"IF(A544=\"\",\"\",IF(ISERROR(VLOOKUP(A544,Articoli!$1:$48422,2,FALSE)),\"Codice Errato\",VLOOKUP(A544,Articoli!$1:$48422,2,FALSE)))","v":""},null,0,"        ","        ;",0,"      ","      ",{"$f":"IF(C544=\"\",\"\",CONCATENATE(F544,I544))","v":""}]
[null,{"$f":"IF(A545=\"\",\"\",IF(ISERROR(VLOOKUP(A545,Articoli!$1:$48422,2,FALSE)),\"Codice Errato\",VLOOKUP(A545,Articoli!$1:$48422,2,FALSE)))","v":""},null,0,"        ","        ;",0,"      ","      ",""]
[null,{"$f":"IF(A546=\"\",\"\",IF(ISERROR(VLOOKUP(A546,Articoli!$1:$48422,2,FALSE)),\"Codice Errato\",VLOOKUP(A546,Articoli!$1:$48422,2,FALSE)))","v":""},null,0,"        ","        ;",0,"      ","      ",""]
[null,{"$f":"IF(A547=\"\",\"\",IF(ISERROR(VLOOKUP(A547,Articoli!$1:$48422,2,FALSE)),\"Codice Errato\",VLOOKUP(A547,Articoli!$1:$48422,2,FALSE)))","v":""},null,0,"        ","        ;",0,"      ","      ",""]
[null,{"$f":"IF(A548=\"\",\"\",IF(ISERROR(VLOOKUP(A548,Articoli!$1:$48422,2,FALSE)),\"Codice Errato\",VLOOKUP(A548,Articoli!$1:$48422,2,FALSE)))","v":""},null,0,"        ","        ;",0,"      ","      ",""]
[null,{"$f":"IF(A549=\"\",\"\",IF(ISERROR(VLOOKUP(A549,Articoli!$1:$48422,2,FALSE)),\"Codice Errato\",VLOOKUP(A549,Articoli!$1:$48422,2,FALSE)))","v":""},null,0,"        ","        ;",0,"      ","      ",""]
[null,{"$f":"IF(A550=\"\",\"\",IF(ISERROR(VLOOKUP(A550,Articoli!$1:$48422,2,FALSE)),\"Codice Errato\",VLOOKUP(A550,Articoli!$1:$48422,2,FALSE)))","v":""},null,0,"        ","        ;",0,"      ","      ",""]
[null,{"$f":"IF(A551=\"\",\"\",IF(ISERROR(VLOOKUP(A551,Articoli!$1:$48422,2,FALSE)),\"Codice Errato\",VLOOKUP(A551,Articoli!$1:$48422,2,FALSE)))","v":""},null,0,"        ","        ;",0,"      ","      ",""]
[null,{"$f":"IF(A552=\"\",\"\",IF(ISERROR(VLOOKUP(A552,Articoli!$1:$48422,2,FALSE)),\"Codice Errato\",VLOOKUP(A552,Articoli!$1:$48422,2,FALSE)))","v":""},null,0,"        ","        ;",0,"      ","      ",""]
[null,{"$f":"IF(A553=\"\",\"\",IF(ISERROR(VLOOKUP(A553,Articoli!$1:$48422,2,FALSE)),\"Codice Errato\",VLOOKUP(A553,Articoli!$1:$48422,2,FALSE)))","v":""},null,0,"        ","        ;",0,"      ","      ",""]
[null,{"$f":"IF(A554=\"\",\"\",IF(ISERROR(VLOOKUP(A554,Articoli!$1:$48422,2,FALSE)),\"Codice Errato\",VLOOKUP(A554,Articoli!$1:$48422,2,FALSE)))","v":""},null,0,"        ","        ;",0,"      ","      ",""]
[null,{"$f":"IF(A555=\"\",\"\",IF(ISERROR(VLOOKUP(A555,Articoli!$1:$48422,2,FALSE)),\"Codice Errato\",VLOOKUP(A555,Articoli!$1:$48422,2,FALSE)))","v":""},null,0,"        ","        ;",0,"      ","      ",""]
[null,{"$f":"IF(A556=\"\",\"\",IF(ISERROR(VLOOKUP(A556,Articoli!$1:$48422,2,FALSE)),\"Codice Errato\",VLOOKUP(A556,Articoli!$1:$48422,2,FALSE)))","v":""},null,0,"        ","        ;",0,"      ","      ",""]
[null,{"$f":"IF(A557=\"\",\"\",IF(ISERROR(VLOOKUP(A557,Articoli!$1:$48422,2,FALSE)),\"Codice Errato\",VLOOKUP(A557,Articoli!$1:$48422,2,FALSE)))","v":""},null,0,"        ","        ;",0,"      ","      ",""]
[null,{"$f":"IF(A558=\"\",\"\",IF(ISERROR(VLOOKUP(A558,Articoli!$1:$48422,2,FALSE)),\"Codice Errato\",VLOOKUP(A558,Articoli!$1:$48422,2,FALSE)))","v":""},null,0,"        ","        ;",0,"      ","      ",""]
[null,{"$f":"IF(A559=\"\",\"\",IF(ISERROR(VLOOKUP(A559,Articoli!$1:$48422,2,FALSE)),\"Codice Errato\",VLOOKUP(A559,Articoli!$1:$48422,2,FALSE)))","v":""},null,0,"        ","        ;",0,"      ","      ",""]
[null,{"$f":"IF(A560=\"\",\"\",IF(ISERROR(VLOOKUP(A560,Articoli!$1:$48422,2,FALSE)),\"Codice Errato\",VLOOKUP(A560,Articoli!$1:$48422,2,FALSE)))","v":""},null,0,"        ","        ;",0,"      ","      ",""]
[null,{"$f":"IF(A561=\"\",\"\",IF(ISERROR(VLOOKUP(A561,Articoli!$1:$48422,2,FALSE)),\"Codice Errato\",VLOOKUP(A561,Articoli!$1:$48422,2,FALSE)))","v":""},null,0,"        ","        ;",0,"      ","      ",""]
[null,{"$f":"IF(A562=\"\",\"\",IF(ISERROR(VLOOKUP(A562,Articoli!$1:$48422,2,FALSE)),\"Codice Errato\",VLOOKUP(A562,Articoli!$1:$48422,2,FALSE)))","v":""},null,{"$f":"LEN(A562)","v":0},{"$f":"REPT(\" \",8-D562)","v":"        "},{"$f":"CONCATENATE(A562,E562,\";\",)","v":"        ;"},{"$f":"LEN(C562)","v":0},{"$f":"REPT(\" \",6-G562)","v":"      "},{"$f":"CONCATENATE(H562,C562,)","v":"      "},""]
[null,{"$f":"IF(A563=\"\",\"\",IF(ISERROR(VLOOKUP(A563,Articoli!$1:$48422,2,FALSE)),\"Codice Errato\",VLOOKUP(A563,Articoli!$1:$48422,2,FALSE)))","v":""},null,0,"        ","        ;",0,"      ","      ",""]
[null,{"$f":"IF(A564=\"\",\"\",IF(ISERROR(VLOOKUP(A564,Articoli!$1:$48422,2,FALSE)),\"Codice Errato\",VLOOKUP(A564,Articoli!$1:$48422,2,FALSE)))","v":""},null,0,"        ","        ;",0,"      ","      ",""]
[null,{"$f":"IF(A565=\"\",\"\",IF(ISERROR(VLOOKUP(A565,Articoli!$1:$48422,2,FALSE)),\"Codice Errato\",VLOOKUP(A565,Articoli!$1:$48422,2,FALSE)))","v":""},null,0,"        ","        ;",0,"      ","      ",""]
[null,{"$f":"IF(A566=\"\",\"\",IF(ISERROR(VLOOKUP(A566,Articoli!$1:$48422,2,FALSE)),\"Codice Errato\",VLOOKUP(A566,Articoli!$1:$48422,2,FALSE)))","v":""},null,0,"        ","        ;",0,"      ","      ",""]
[null,{"$f":"IF(A567=\"\",\"\",IF(ISERROR(VLOOKUP(A567,Articoli!$1:$48422,2,FALSE)),\"Codice Errato\",VLOOKUP(A567,Articoli!$1:$48422,2,FALSE)))","v":""},null,0,"        ","        ;",0,"      ","      ",""]
[null,{"$f":"IF(A568=\"\",\"\",IF(ISERROR(VLOOKUP(A568,Articoli!$1:$48422,2,FALSE)),\"Codice Errato\",VLOOKUP(A568,Articoli!$1:$48422,2,FALSE)))","v":""},null,0,"        ","        ;",0,"      ","      ",""]
[null,{"$f":"IF(A569=\"\",\"\",IF(ISERROR(VLOOKUP(A569,Articoli!$1:$48422,2,FALSE)),\"Codice Errato\",VLOOKUP(A569,Articoli!$1:$48422,2,FALSE)))","v":""},null,0,"        ","        ;",0,"      ","      ",""]
[null,{"$f":"IF(A570=\"\",\"\",IF(ISERROR(VLOOKUP(A570,Articoli!$1:$48422,2,FALSE)),\"Codice Errato\",VLOOKUP(A570,Articoli!$1:$48422,2,FALSE)))","v":""},null,0,"        ","        ;",0,"      ","      ",""]
[null,{"$f":"IF(A571=\"\",\"\",IF(ISERROR(VLOOKUP(A571,Articoli!$1:$48422,2,FALSE)),\"Codice Errato\",VLOOKUP(A571,Articoli!$1:$48422,2,FALSE)))","v":""},null,0,"        ","        ;",0,"      ","      ",""]
[null,{"$f":"IF(A572=\"\",\"\",IF(ISERROR(VLOOKUP(A572,Articoli!$1:$48422,2,FALSE)),\"Codice Errato\",VLOOKUP(A572,Articoli!$1:$48422,2,FALSE)))","v":""},null,0,"        ","        ;",0,"      ","      ",""]
[null,{"$f":"IF(A573=\"\",\"\",IF(ISERROR(VLOOKUP(A573,Articoli!$1:$48422,2,FALSE)),\"Codice Errato\",VLOOKUP(A573,Articoli!$1:$48422,2,FALSE)))","v":""},null,0,"        ","        ;",0,"      ","      ",""]
[null,{"$f":"IF(A574=\"\",\"\",IF(ISERROR(VLOOKUP(A574,Articoli!$1:$48422,2,FALSE)),\"Codice Errato\",VLOOKUP(A574,Articoli!$1:$48422,2,FALSE)))","v":""},null,0,"        ","        ;",0,"      ","      ",""]
[null,{"$f":"IF(A575=\"\",\"\",IF(ISERROR(VLOOKUP(A575,Articoli!$1:$48422,2,FALSE)),\"Codice Errato\",VLOOKUP(A575,Articoli!$1:$48422,2,FALSE)))","v":""},null,0,"        ","        ;",0,"      ","      ",""]
[null,{"$f":"IF(A576=\"\",\"\",IF(ISERROR(VLOOKUP(A576,Articoli!$1:$48422,2,FALSE)),\"Codice Errato\",VLOOKUP(A576,Articoli!$1:$48422,2,FALSE)))","v":""},null,0,"        ","        ;",0,"      ","      ",""]
[null,{"$f":"IF(A577=\"\",\"\",IF(ISERROR(VLOOKUP(A577,Articoli!$1:$48422,2,FALSE)),\"Codice Errato\",VLOOKUP(A577,Articoli!$1:$48422,2,FALSE)))","v":""},null,0,"        ","        ;",0,"      ","      ",""]
[null,{"$f":"IF(A578=\"\",\"\",IF(ISERROR(VLOOKUP(A578,Articoli!$1:$48422,2,FALSE)),\"Codice Errato\",VLOOKUP(A578,Articoli!$1:$48422,2,FALSE)))","v":""},null,0,"        ","        ;",0,"      ","      ",""]
[null,{"$f":"IF(A579=\"\",\"\",IF(ISERROR(VLOOKUP(A579,Articoli!$1:$48422,2,FALSE)),\"Codice Errato\",VLOOKUP(A579,Articoli!$1:$48422,2,FALSE)))","v":""},null,0,"        ","        ;",0,"      ","      ",""]
[null,{"$f":"IF(A580=\"\",\"\",IF(ISERROR(VLOOKUP(A580,Articoli!$1:$48422,2,FALSE)),\"Codice Errato\",VLOOKUP(A580,Articoli!$1:$48422,2,FALSE)))","v":""},null,0,"        ","        ;",0,"      ","      ",""]
[null,{"$f":"IF(A581=\"\",\"\",IF(ISERROR(VLOOKUP(A581,Articoli!$1:$48422,2,FALSE)),\"Codice Errato\",VLOOKUP(A581,Articoli!$1:$48422,2,FALSE)))","v":""},null,0,"        ","        ;",0,"      ","      ",""]
[null,{"$f":"IF(A582=\"\",\"\",IF(ISERROR(VLOOKUP(A582,Articoli!$1:$48422,2,FALSE)),\"Codice Errato\",VLOOKUP(A582,Articoli!$1:$48422,2,FALSE)))","v":""},null,0,"        ","        ;",0,"      ","      ",""]
[null,{"$f":"IF(A583=\"\",\"\",IF(ISERROR(VLOOKUP(A583,Articoli!$1:$48422,2,FALSE)),\"Codice Errato\",VLOOKUP(A583,Articoli!$1:$48422,2,FALSE)))","v":""},null,0,"        ","        ;",0,"      ","      ",""]
[null,{"$f":"IF(A584=\"\",\"\",IF(ISERROR(VLOOKUP(A584,Articoli!$1:$48422,2,FALSE)),\"Codice Errato\",VLOOKUP(A584,Articoli!$1:$48422,2,FALSE)))","v":""},null,0,"        ","        ;",0,"      ","      ",""]
[null,{"$f":"IF(A585=\"\",\"\",IF(ISERROR(VLOOKUP(A585,Articoli!$1:$48422,2,FALSE)),\"Codice Errato\",VLOOKUP(A585,Articoli!$1:$48422,2,FALSE)))","v":""},null,0,"        ","        ;",0,"      ","      ",""]
[null,{"$f":"IF(A586=\"\",\"\",IF(ISERROR(VLOOKUP(A586,Articoli!$1:$48422,2,FALSE)),\"Codice Errato\",VLOOKUP(A586,Articoli!$1:$48422,2,FALSE)))","v":""},null,0,"        ","        ;",0,"      ","      ",""]
[null,{"$f":"IF(A587=\"\",\"\",IF(ISERROR(VLOOKUP(A587,Articoli!$1:$48422,2,FALSE)),\"Codice Errato\",VLOOKUP(A587,Articoli!$1:$48422,2,FALSE)))","v":""},null,0,"        ","        ;",0,"      ","      ",""]
[null,{"$f":"IF(A588=\"\",\"\",IF(ISERROR(VLOOKUP(A588,Articoli!$1:$48422,2,FALSE)),\"Codice Errato\",VLOOKUP(A588,Articoli!$1:$48422,2,FALSE)))","v":""},null,0,"        ","        ;",0,"      ","      ",""]
[null,{"$f":"IF(A589=\"\",\"\",IF(ISERROR(VLOOKUP(A589,Articoli!$1:$48422,2,FALSE)),\"Codice Errato\",VLOOKUP(A589,Articoli!$1:$48422,2,FALSE)))","v":""},null,0,"        ","        ;",0,"      ","      ",""]
[null,{"$f":"IF(A590=\"\",\"\",IF(ISERROR(VLOOKUP(A590,Articoli!$1:$48422,2,FALSE)),\"Codice Errato\",VLOOKUP(A590,Articoli!$1:$48422,2,FALSE)))","v":""},null,0,"        ","        ;",0,"      ","      ",""]
[null,{"$f":"IF(A591=\"\",\"\",IF(ISERROR(VLOOKUP(A591,Articoli!$1:$48422,2,FALSE)),\"Codice Errato\",VLOOKUP(A591,Articoli!$1:$48422,2,FALSE)))","v":""},null,0,"        ","        ;",0,"      ","      ",""]
[null,{"$f":"IF(A592=\"\",\"\",IF(ISERROR(VLOOKUP(A592,Articoli!$1:$48422,2,FALSE)),\"Codice Errato\",VLOOKUP(A592,Articoli!$1:$48422,2,FALSE)))","v":""},null,0,"        ","        ;",0,"      ","      ",""]
[null,{"$f":"IF(A593=\"\",\"\",IF(ISERROR(VLOOKUP(A593,Articoli!$1:$48422,2,FALSE)),\"Codice Errato\",VLOOKUP(A593,Articoli!$1:$48422,2,FALSE)))","v":""},null,0,"        ","        ;",0,"      ","      ",""]
[null,{"$f":"IF(A594=\"\",\"\",IF(ISERROR(VLOOKUP(A594,Articoli!$1:$48422,2,FALSE)),\"Codice Errato\",VLOOKUP(A594,Articoli!$1:$48422,2,FALSE)))","v":""},null,0,"        ","        ;",0,"      ","      ",""]
[null,{"$f":"IF(A595=\"\",\"\",IF(ISERROR(VLOOKUP(A595,Articoli!$1:$48422,2,FALSE)),\"Codice Errato\",VLOOKUP(A595,Articoli!$1:$48422,2,FALSE)))","v":""},null,0,"        ","        ;",0,"      ","      ",""]
[null,{"$f":"IF(A596=\"\",\"\",IF(ISERROR(VLOOKUP(A596,Articoli!$1:$48422,2,FALSE)),\"Codice Errato\",VLOOKUP(A596,Articoli!$1:$48422,2,FALSE)))","v":""},null,0,"        ","        ;",0,"      ","      ",""]
[null,{"$f":"IF(A597=\"\",\"\",IF(ISERROR(VLOOKUP(A597,Articoli!$1:$48422,2,FALSE)),\"Codice Errato\",VLOOKUP(A597,Articoli!$1:$48422,2,FALSE)))","v":""},null,0,"        ","        ;",0,"      ","      ",""]
[null,{"$f":"IF(A598=\"\",\"\",IF(ISERROR(VLOOKUP(A598,Articoli!$1:$48422,2,FALSE)),\"Codice Errato\",VLOOKUP(A598,Articoli!$1:$48422,2,FALSE)))","v":""},null,0,"        ","        ;",0,"      ","      ",""]
[null,{"$f":"IF(A599=\"\",\"\",IF(ISERROR(VLOOKUP(A599,Articoli!$1:$48422,2,FALSE)),\"Codice Errato\",VLOOKUP(A599,Articoli!$1:$48422,2,FALSE)))","v":""},null,0,"        ","        ;",0,"      ","      ",""]
[null,{"$f":"IF(A600=\"\",\"\",IF(ISERROR(VLOOKUP(A600,Articoli!$1:$48422,2,FALSE)),\"Codice Errato\",VLOOKUP(A600,Articoli!$1:$48422,2,FALSE)))","v":""},null,0,"        ","        ;",0,"      ","      ",""]
[null,{"$f":"IF(A601=\"\",\"\",IF(ISERROR(VLOOKUP(A601,Articoli!$1:$48422,2,FALSE)),\"Codice Errato\",VLOOKUP(A601,Articoli!$1:$48422,2,FALSE)))","v":""},null,0,"        ","        ;",0,"      ","      ",""]
[null,{"$f":"IF(A602=\"\",\"\",IF(ISERROR(VLOOKUP(A602,Articoli!$1:$48422,2,FALSE)),\"Codice Errato\",VLOOKUP(A602,Articoli!$1:$48422,2,FALSE)))","v":""},null,0,"        ","        ;",0,"      ","      ",""]
[null,{"$f":"IF(A603=\"\",\"\",IF(ISERROR(VLOOKUP(A603,Articoli!$1:$48422,2,FALSE)),\"Codice Errato\",VLOOKUP(A603,Articoli!$1:$48422,2,FALSE)))","v":""},null,0,"        ","        ;",0,"      ","      ",""]
[null,{"$f":"IF(A604=\"\",\"\",IF(ISERROR(VLOOKUP(A604,Articoli!$1:$48422,2,FALSE)),\"Codice Errato\",VLOOKUP(A604,Articoli!$1:$48422,2,FALSE)))","v":""},null,0,"        ","        ;",0,"      ","      ",""]
[null,{"$f":"IF(A605=\"\",\"\",IF(ISERROR(VLOOKUP(A605,Articoli!$1:$48422,2,FALSE)),\"Codice Errato\",VLOOKUP(A605,Articoli!$1:$48422,2,FALSE)))","v":""},null,0,"        ","        ;",0,"      ","      ",""]
[null,{"$f":"IF(A606=\"\",\"\",IF(ISERROR(VLOOKUP(A606,Articoli!$1:$48422,2,FALSE)),\"Codice Errato\",VLOOKUP(A606,Articoli!$1:$48422,2,FALSE)))","v":""},null,0,"        ","        ;",0,"      ","      ",""]
[null,{"$f":"IF(A607=\"\",\"\",IF(ISERROR(VLOOKUP(A607,Articoli!$1:$48422,2,FALSE)),\"Codice Errato\",VLOOKUP(A607,Articoli!$1:$48422,2,FALSE)))","v":""},null,0,"        ","        ;",0,"      ","      ",""]
[null,{"$f":"IF(A608=\"\",\"\",IF(ISERROR(VLOOKUP(A608,Articoli!$1:$48422,2,FALSE)),\"Codice Errato\",VLOOKUP(A608,Articoli!$1:$48422,2,FALSE)))","v":""},null,0,"        ","        ;",0,"      ","      ",{"$f":"IF(C608=\"\",\"\",CONCATENATE(F608,I608))","v":""}]
[null,{"$f":"IF(A609=\"\",\"\",IF(ISERROR(VLOOKUP(A609,Articoli!$1:$48422,2,FALSE)),\"Codice Errato\",VLOOKUP(A609,Articoli!$1:$48422,2,FALSE)))","v":""},null,0,"        ","        ;",0,"      ","      ",""]
[null,{"$f":"IF(A610=\"\",\"\",IF(ISERROR(VLOOKUP(A610,Articoli!$1:$48422,2,FALSE)),\"Codice Errato\",VLOOKUP(A610,Articoli!$1:$48422,2,FALSE)))","v":""},null,0,"        ","        ;",0,"      ","      ",""]
[null,{"$f":"IF(A611=\"\",\"\",IF(ISERROR(VLOOKUP(A611,Articoli!$1:$48422,2,FALSE)),\"Codice Errato\",VLOOKUP(A611,Articoli!$1:$48422,2,FALSE)))","v":""},null,0,"        ","        ;",0,"      ","      ",""]
[null,{"$f":"IF(A612=\"\",\"\",IF(ISERROR(VLOOKUP(A612,Articoli!$1:$48422,2,FALSE)),\"Codice Errato\",VLOOKUP(A612,Articoli!$1:$48422,2,FALSE)))","v":""},null,0,"        ","        ;",0,"      ","      ",""]
[null,{"$f":"IF(A613=\"\",\"\",IF(ISERROR(VLOOKUP(A613,Articoli!$1:$48422,2,FALSE)),\"Codice Errato\",VLOOKUP(A613,Articoli!$1:$48422,2,FALSE)))","v":""},null,0,"        ","        ;",0,"      ","      ",""]
[null,{"$f":"IF(A614=\"\",\"\",IF(ISERROR(VLOOKUP(A614,Articoli!$1:$48422,2,FALSE)),\"Codice Errato\",VLOOKUP(A614,Articoli!$1:$48422,2,FALSE)))","v":""},null,0,"        ","        ;",0,"      ","      ",""]
[null,{"$f":"IF(A615=\"\",\"\",IF(ISERROR(VLOOKUP(A615,Articoli!$1:$48422,2,FALSE)),\"Codice Errato\",VLOOKUP(A615,Articoli!$1:$48422,2,FALSE)))","v":""},null,0,"        ","        ;",0,"      ","      ",""]
[null,{"$f":"IF(A616=\"\",\"\",IF(ISERROR(VLOOKUP(A616,Articoli!$1:$48422,2,FALSE)),\"Codice Errato\",VLOOKUP(A616,Articoli!$1:$48422,2,FALSE)))","v":""},null,0,"        ","        ;",0,"      ","      ",""]
[null,{"$f":"IF(A617=\"\",\"\",IF(ISERROR(VLOOKUP(A617,Articoli!$1:$48422,2,FALSE)),\"Codice Errato\",VLOOKUP(A617,Articoli!$1:$48422,2,FALSE)))","v":""},null,0,"        ","        ;",0,"      ","      ",""]
[null,{"$f":"IF(A618=\"\",\"\",IF(ISERROR(VLOOKUP(A618,Articoli!$1:$48422,2,FALSE)),\"Codice Errato\",VLOOKUP(A618,Articoli!$1:$48422,2,FALSE)))","v":""},null,0,"        ","        ;",0,"      ","      ",""]
[null,{"$f":"IF(A619=\"\",\"\",IF(ISERROR(VLOOKUP(A619,Articoli!$1:$48422,2,FALSE)),\"Codice Errato\",VLOOKUP(A619,Articoli!$1:$48422,2,FALSE)))","v":""},null,0,"        ","        ;",0,"      ","      ",""]
[null,{"$f":"IF(A620=\"\",\"\",IF(ISERROR(VLOOKUP(A620,Articoli!$1:$48422,2,FALSE)),\"Codice Errato\",VLOOKUP(A620,Articoli!$1:$48422,2,FALSE)))","v":""},null,0,"        ","        ;",0,"      ","      ",""]
[null,{"$f":"IF(A621=\"\",\"\",IF(ISERROR(VLOOKUP(A621,Articoli!$1:$48422,2,FALSE)),\"Codice Errato\",VLOOKUP(A621,Articoli!$1:$48422,2,FALSE)))","v":""},null,0,"        ","        ;",0,"      ","      ",""]
[null,{"$f":"IF(A622=\"\",\"\",IF(ISERROR(VLOOKUP(A622,Articoli!$1:$48422,2,FALSE)),\"Codice Errato\",VLOOKUP(A622,Articoli!$1:$48422,2,FALSE)))","v":""},null,0,"        ","        ;",0,"      ","      ",""]
[null,{"$f":"IF(A623=\"\",\"\",IF(ISERROR(VLOOKUP(A623,Articoli!$1:$48422,2,FALSE)),\"Codice Errato\",VLOOKUP(A623,Articoli!$1:$48422,2,FALSE)))","v":""},null,0,"        ","        ;",0,"      ","      ",""]
[null,{"$f":"IF(A624=\"\",\"\",IF(ISERROR(VLOOKUP(A624,Articoli!$1:$48422,2,FALSE)),\"Codice Errato\",VLOOKUP(A624,Articoli!$1:$48422,2,FALSE)))","v":""},null,0,"        ","        ;",0,"      ","      ",""]
[null,{"$f":"IF(A625=\"\",\"\",IF(ISERROR(VLOOKUP(A625,Articoli!$1:$48422,2,FALSE)),\"Codice Errato\",VLOOKUP(A625,Articoli!$1:$48422,2,FALSE)))","v":""},null,0,"        ","        ;",0,"      ","      ",""]
[null,{"$f":"IF(A626=\"\",\"\",IF(ISERROR(VLOOKUP(A626,Articoli!$1:$48422,2,FALSE)),\"Codice Errato\",VLOOKUP(A626,Articoli!$1:$48422,2,FALSE)))","v":""},null,{"$f":"LEN(A626)","v":0},{"$f":"REPT(\" \",8-D626)","v":"        "},{"$f":"CONCATENATE(A626,E626,\";\",)","v":"        ;"},{"$f":"LEN(C626)","v":0},{"$f":"REPT(\" \",6-G626)","v":"      "},{"$f":"CONCATENATE(H626,C626,)","v":"      "},""]
[null,{"$f":"IF(A627=\"\",\"\",IF(ISERROR(VLOOKUP(A627,Articoli!$1:$48422,2,FALSE)),\"Codice Errato\",VLOOKUP(A627,Articoli!$1:$48422,2,FALSE)))","v":""},null,0,"        ","        ;",0,"      ","      ",""]
[null,{"$f":"IF(A628=\"\",\"\",IF(ISERROR(VLOOKUP(A628,Articoli!$1:$48422,2,FALSE)),\"Codice Errato\",VLOOKUP(A628,Articoli!$1:$48422,2,FALSE)))","v":""},null,0,"        ","        ;",0,"      ","      ",""]
[null,{"$f":"IF(A629=\"\",\"\",IF(ISERROR(VLOOKUP(A629,Articoli!$1:$48422,2,FALSE)),\"Codice Errato\",VLOOKUP(A629,Articoli!$1:$48422,2,FALSE)))","v":""},null,0,"        ","        ;",0,"      ","      ",""]
[null,{"$f":"IF(A630=\"\",\"\",IF(ISERROR(VLOOKUP(A630,Articoli!$1:$48422,2,FALSE)),\"Codice Errato\",VLOOKUP(A630,Articoli!$1:$48422,2,FALSE)))","v":""},null,0,"        ","        ;",0,"      ","      ",""]
[null,{"$f":"IF(A631=\"\",\"\",IF(ISERROR(VLOOKUP(A631,Articoli!$1:$48422,2,FALSE)),\"Codice Errato\",VLOOKUP(A631,Articoli!$1:$48422,2,FALSE)))","v":""},null,0,"        ","        ;",0,"      ","      ",""]
[null,{"$f":"IF(A632=\"\",\"\",IF(ISERROR(VLOOKUP(A632,Articoli!$1:$48422,2,FALSE)),\"Codice Errato\",VLOOKUP(A632,Articoli!$1:$48422,2,FALSE)))","v":""},null,0,"        ","        ;",0,"      ","      ",""]
[null,{"$f":"IF(A633=\"\",\"\",IF(ISERROR(VLOOKUP(A633,Articoli!$1:$48422,2,FALSE)),\"Codice Errato\",VLOOKUP(A633,Articoli!$1:$48422,2,FALSE)))","v":""},null,0,"        ","        ;",0,"      ","      ",""]
[null,{"$f":"IF(A634=\"\",\"\",IF(ISERROR(VLOOKUP(A634,Articoli!$1:$48422,2,FALSE)),\"Codice Errato\",VLOOKUP(A634,Articoli!$1:$48422,2,FALSE)))","v":""},null,0,"        ","        ;",0,"      ","      ",""]
[null,{"$f":"IF(A635=\"\",\"\",IF(ISERROR(VLOOKUP(A635,Articoli!$1:$48422,2,FALSE)),\"Codice Errato\",VLOOKUP(A635,Articoli!$1:$48422,2,FALSE)))","v":""},null,0,"        ","        ;",0,"      ","      ",""]
[null,{"$f":"IF(A636=\"\",\"\",IF(ISERROR(VLOOKUP(A636,Articoli!$1:$48422,2,FALSE)),\"Codice Errato\",VLOOKUP(A636,Articoli!$1:$48422,2,FALSE)))","v":""},null,0,"        ","        ;",0,"      ","      ",""]
[null,{"$f":"IF(A637=\"\",\"\",IF(ISERROR(VLOOKUP(A637,Articoli!$1:$48422,2,FALSE)),\"Codice Errato\",VLOOKUP(A637,Articoli!$1:$48422,2,FALSE)))","v":""},null,0,"        ","        ;",0,"      ","      ",""]
[null,{"$f":"IF(A638=\"\",\"\",IF(ISERROR(VLOOKUP(A638,Articoli!$1:$48422,2,FALSE)),\"Codice Errato\",VLOOKUP(A638,Articoli!$1:$48422,2,FALSE)))","v":""},null,0,"        ","        ;",0,"      ","      ",""]
[null,{"$f":"IF(A639=\"\",\"\",IF(ISERROR(VLOOKUP(A639,Articoli!$1:$48422,2,FALSE)),\"Codice Errato\",VLOOKUP(A639,Articoli!$1:$48422,2,FALSE)))","v":""},null,0,"        ","        ;",0,"      ","      ",""]
[null,{"$f":"IF(A640=\"\",\"\",IF(ISERROR(VLOOKUP(A640,Articoli!$1:$48422,2,FALSE)),\"Codice Errato\",VLOOKUP(A640,Articoli!$1:$48422,2,FALSE)))","v":""},null,0,"        ","        ;",0,"      ","      ",""]
[null,{"$f":"IF(A641=\"\",\"\",IF(ISERROR(VLOOKUP(A641,Articoli!$1:$48422,2,FALSE)),\"Codice Errato\",VLOOKUP(A641,Articoli!$1:$48422,2,FALSE)))","v":""},null,0,"        ","        ;",0,"      ","      ",""]
[null,{"$f":"IF(A642=\"\",\"\",IF(ISERROR(VLOOKUP(A642,Articoli!$1:$48422,2,FALSE)),\"Codice Errato\",VLOOKUP(A642,Articoli!$1:$48422,2,FALSE)))","v":""},null,0,"        ","        ;",0,"      ","      ",""]
[null,{"$f":"IF(A643=\"\",\"\",IF(ISERROR(VLOOKUP(A643,Articoli!$1:$48422,2,FALSE)),\"Codice Errato\",VLOOKUP(A643,Articoli!$1:$48422,2,FALSE)))","v":""},null,0,"        ","        ;",0,"      ","      ",""]
[null,{"$f":"IF(A644=\"\",\"\",IF(ISERROR(VLOOKUP(A644,Articoli!$1:$48422,2,FALSE)),\"Codice Errato\",VLOOKUP(A644,Articoli!$1:$48422,2,FALSE)))","v":""},null,0,"        ","        ;",0,"      ","      ",""]
[null,{"$f":"IF(A645=\"\",\"\",IF(ISERROR(VLOOKUP(A645,Articoli!$1:$48422,2,FALSE)),\"Codice Errato\",VLOOKUP(A645,Articoli!$1:$48422,2,FALSE)))","v":""},null,0,"        ","        ;",0,"      ","      ",""]
[null,{"$f":"IF(A646=\"\",\"\",IF(ISERROR(VLOOKUP(A646,Articoli!$1:$48422,2,FALSE)),\"Codice Errato\",VLOOKUP(A646,Articoli!$1:$48422,2,FALSE)))","v":""},null,0,"        ","        ;",0,"      ","      ",""]
[null,{"$f":"IF(A647=\"\",\"\",IF(ISERROR(VLOOKUP(A647,Articoli!$1:$48422,2,FALSE)),\"Codice Errato\",VLOOKUP(A647,Articoli!$1:$48422,2,FALSE)))","v":""},null,0,"        ","        ;",0,"      ","      ",""]
[null,{"$f":"IF(A648=\"\",\"\",IF(ISERROR(VLOOKUP(A648,Articoli!$1:$48422,2,FALSE)),\"Codice Errato\",VLOOKUP(A648,Articoli!$1:$48422,2,FALSE)))","v":""},null,0,"        ","        ;",0,"      ","      ",""]
[null,{"$f":"IF(A649=\"\",\"\",IF(ISERROR(VLOOKUP(A649,Articoli!$1:$48422,2,FALSE)),\"Codice Errato\",VLOOKUP(A649,Articoli!$1:$48422,2,FALSE)))","v":""},null,0,"        ","        ;",0,"      ","      ",""]
[null,{"$f":"IF(A650=\"\",\"\",IF(ISERROR(VLOOKUP(A650,Articoli!$1:$48422,2,FALSE)),\"Codice Errato\",VLOOKUP(A650,Articoli!$1:$48422,2,FALSE)))","v":""},null,0,"        ","        ;",0,"      ","      ",""]
[null,{"$f":"IF(A651=\"\",\"\",IF(ISERROR(VLOOKUP(A651,Articoli!$1:$48422,2,FALSE)),\"Codice Errato\",VLOOKUP(A651,Articoli!$1:$48422,2,FALSE)))","v":""},null,0,"        ","        ;",0,"      ","      ",""]
[null,{"$f":"IF(A652=\"\",\"\",IF(ISERROR(VLOOKUP(A652,Articoli!$1:$48422,2,FALSE)),\"Codice Errato\",VLOOKUP(A652,Articoli!$1:$48422,2,FALSE)))","v":""},null,0,"        ","        ;",0,"      ","      ",""]
[null,{"$f":"IF(A653=\"\",\"\",IF(ISERROR(VLOOKUP(A653,Articoli!$1:$48422,2,FALSE)),\"Codice Errato\",VLOOKUP(A653,Articoli!$1:$48422,2,FALSE)))","v":""},null,0,"        ","        ;",0,"      ","      ",""]
[null,{"$f":"IF(A654=\"\",\"\",IF(ISERROR(VLOOKUP(A654,Articoli!$1:$48422,2,FALSE)),\"Codice Errato\",VLOOKUP(A654,Articoli!$1:$48422,2,FALSE)))","v":""},null,0,"        ","        ;",0,"      ","      ",""]
[null,{"$f":"IF(A655=\"\",\"\",IF(ISERROR(VLOOKUP(A655,Articoli!$1:$48422,2,FALSE)),\"Codice Errato\",VLOOKUP(A655,Articoli!$1:$48422,2,FALSE)))","v":""},null,0,"        ","        ;",0,"      ","      ",""]
[null,{"$f":"IF(A656=\"\",\"\",IF(ISERROR(VLOOKUP(A656,Articoli!$1:$48422,2,FALSE)),\"Codice Errato\",VLOOKUP(A656,Articoli!$1:$48422,2,FALSE)))","v":""},null,0,"        ","        ;",0,"      ","      ",""]
[null,{"$f":"IF(A657=\"\",\"\",IF(ISERROR(VLOOKUP(A657,Articoli!$1:$48422,2,FALSE)),\"Codice Errato\",VLOOKUP(A657,Articoli!$1:$48422,2,FALSE)))","v":""},null,0,"        ","        ;",0,"      ","      ",""]
[null,{"$f":"IF(A658=\"\",\"\",IF(ISERROR(VLOOKUP(A658,Articoli!$1:$48422,2,FALSE)),\"Codice Errato\",VLOOKUP(A658,Articoli!$1:$48422,2,FALSE)))","v":""},null,0,"        ","        ;",0,"      ","      ",""]
[null,{"$f":"IF(A659=\"\",\"\",IF(ISERROR(VLOOKUP(A659,Articoli!$1:$48422,2,FALSE)),\"Codice Errato\",VLOOKUP(A659,Articoli!$1:$48422,2,FALSE)))","v":""},null,0,"        ","        ;",0,"      ","      ",""]
[null,{"$f":"IF(A660=\"\",\"\",IF(ISERROR(VLOOKUP(A660,Articoli!$1:$48422,2,FALSE)),\"Codice Errato\",VLOOKUP(A660,Articoli!$1:$48422,2,FALSE)))","v":""},null,0,"        ","        ;",0,"      ","      ",""]
[null,{"$f":"IF(A661=\"\",\"\",IF(ISERROR(VLOOKUP(A661,Articoli!$1:$48422,2,FALSE)),\"Codice Errato\",VLOOKUP(A661,Articoli!$1:$48422,2,FALSE)))","v":""},null,0,"        ","        ;",0,"      ","      ",""]
[null,{"$f":"IF(A662=\"\",\"\",IF(ISERROR(VLOOKUP(A662,Articoli!$1:$48422,2,FALSE)),\"Codice Errato\",VLOOKUP(A662,Articoli!$1:$48422,2,FALSE)))","v":""},null,0,"        ","        ;",0,"      ","      ",""]
[null,{"$f":"IF(A663=\"\",\"\",IF(ISERROR(VLOOKUP(A663,Articoli!$1:$48422,2,FALSE)),\"Codice Errato\",VLOOKUP(A663,Articoli!$1:$48422,2,FALSE)))","v":""},null,0,"        ","        ;",0,"      ","      ",""]
[null,{"$f":"IF(A664=\"\",\"\",IF(ISERROR(VLOOKUP(A664,Articoli!$1:$48422,2,FALSE)),\"Codice Errato\",VLOOKUP(A664,Articoli!$1:$48422,2,FALSE)))","v":""},null,0,"        ","        ;",0,"      ","      ",""]
[null,{"$f":"IF(A665=\"\",\"\",IF(ISERROR(VLOOKUP(A665,Articoli!$1:$48422,2,FALSE)),\"Codice Errato\",VLOOKUP(A665,Articoli!$1:$48422,2,FALSE)))","v":""},null,0,"        ","        ;",0,"      ","      ",""]
[null,{"$f":"IF(A666=\"\",\"\",IF(ISERROR(VLOOKUP(A666,Articoli!$1:$48422,2,FALSE)),\"Codice Errato\",VLOOKUP(A666,Articoli!$1:$48422,2,FALSE)))","v":""},null,0,"        ","        ;",0,"      ","      ",""]
[null,{"$f":"IF(A667=\"\",\"\",IF(ISERROR(VLOOKUP(A667,Articoli!$1:$48422,2,FALSE)),\"Codice Errato\",VLOOKUP(A667,Articoli!$1:$48422,2,FALSE)))","v":""},null,0,"        ","        ;",0,"      ","      ",""]
[null,{"$f":"IF(A668=\"\",\"\",IF(ISERROR(VLOOKUP(A668,Articoli!$1:$48422,2,FALSE)),\"Codice Errato\",VLOOKUP(A668,Articoli!$1:$48422,2,FALSE)))","v":""},null,0,"        ","        ;",0,"      ","      ",""]
[null,{"$f":"IF(A669=\"\",\"\",IF(ISERROR(VLOOKUP(A669,Articoli!$1:$48422,2,FALSE)),\"Codice Errato\",VLOOKUP(A669,Articoli!$1:$48422,2,FALSE)))","v":""},null,0,"        ","        ;",0,"      ","      ",""]
[null,{"$f":"IF(A670=\"\",\"\",IF(ISERROR(VLOOKUP(A670,Articoli!$1:$48422,2,FALSE)),\"Codice Errato\",VLOOKUP(A670,Articoli!$1:$48422,2,FALSE)))","v":""},null,0,"        ","        ;",0,"      ","      ",""]
[null,{"$f":"IF(A671=\"\",\"\",IF(ISERROR(VLOOKUP(A671,Articoli!$1:$48422,2,FALSE)),\"Codice Errato\",VLOOKUP(A671,Articoli!$1:$48422,2,FALSE)))","v":""},null,0,"        ","        ;",0,"      ","      ",""]
[null,{"$f":"IF(A672=\"\",\"\",IF(ISERROR(VLOOKUP(A672,Articoli!$1:$48422,2,FALSE)),\"Codice Errato\",VLOOKUP(A672,Articoli!$1:$48422,2,FALSE)))","v":""},null,0,"        ","        ;",0,"      ","      ",{"$f":"IF(C672=\"\",\"\",CONCATENATE(F672,I672))","v":""}]
[null,{"$f":"IF(A673=\"\",\"\",IF(ISERROR(VLOOKUP(A673,Articoli!$1:$48422,2,FALSE)),\"Codice Errato\",VLOOKUP(A673,Articoli!$1:$48422,2,FALSE)))","v":""},null,0,"        ","        ;",0,"      ","      ",""]
[null,{"$f":"IF(A674=\"\",\"\",IF(ISERROR(VLOOKUP(A674,Articoli!$1:$48422,2,FALSE)),\"Codice Errato\",VLOOKUP(A674,Articoli!$1:$48422,2,FALSE)))","v":""},null,0,"        ","        ;",0,"      ","      ",""]
[null,{"$f":"IF(A675=\"\",\"\",IF(ISERROR(VLOOKUP(A675,Articoli!$1:$48422,2,FALSE)),\"Codice Errato\",VLOOKUP(A675,Articoli!$1:$48422,2,FALSE)))","v":""},null,0,"        ","        ;",0,"      ","      ",""]
[null,{"$f":"IF(A676=\"\",\"\",IF(ISERROR(VLOOKUP(A676,Articoli!$1:$48422,2,FALSE)),\"Codice Errato\",VLOOKUP(A676,Articoli!$1:$48422,2,FALSE)))","v":""},null,0,"        ","        ;",0,"      ","      ",""]
[null,{"$f":"IF(A677=\"\",\"\",IF(ISERROR(VLOOKUP(A677,Articoli!$1:$48422,2,FALSE)),\"Codice Errato\",VLOOKUP(A677,Articoli!$1:$48422,2,FALSE)))","v":""},null,0,"        ","        ;",0,"      ","      ",""]
[null,{"$f":"IF(A678=\"\",\"\",IF(ISERROR(VLOOKUP(A678,Articoli!$1:$48422,2,FALSE)),\"Codice Errato\",VLOOKUP(A678,Articoli!$1:$48422,2,FALSE)))","v":""},null,0,"        ","        ;",0,"      ","      ",""]
[null,{"$f":"IF(A679=\"\",\"\",IF(ISERROR(VLOOKUP(A679,Articoli!$1:$48422,2,FALSE)),\"Codice Errato\",VLOOKUP(A679,Articoli!$1:$48422,2,FALSE)))","v":""},null,0,"        ","        ;",0,"      ","      ",""]
[null,{"$f":"IF(A680=\"\",\"\",IF(ISERROR(VLOOKUP(A680,Articoli!$1:$48422,2,FALSE)),\"Codice Errato\",VLOOKUP(A680,Articoli!$1:$48422,2,FALSE)))","v":""},null,0,"        ","        ;",0,"      ","      ",""]
[null,{"$f":"IF(A681=\"\",\"\",IF(ISERROR(VLOOKUP(A681,Articoli!$1:$48422,2,FALSE)),\"Codice Errato\",VLOOKUP(A681,Articoli!$1:$48422,2,FALSE)))","v":""},null,0,"        ","        ;",0,"      ","      ",""]
[null,{"$f":"IF(A682=\"\",\"\",IF(ISERROR(VLOOKUP(A682,Articoli!$1:$48422,2,FALSE)),\"Codice Errato\",VLOOKUP(A682,Articoli!$1:$48422,2,FALSE)))","v":""},null,0,"        ","        ;",0,"      ","      ",""]
[null,{"$f":"IF(A683=\"\",\"\",IF(ISERROR(VLOOKUP(A683,Articoli!$1:$48422,2,FALSE)),\"Codice Errato\",VLOOKUP(A683,Articoli!$1:$48422,2,FALSE)))","v":""},null,0,"        ","        ;",0,"      ","      ",""]
[null,{"$f":"IF(A684=\"\",\"\",IF(ISERROR(VLOOKUP(A684,Articoli!$1:$48422,2,FALSE)),\"Codice Errato\",VLOOKUP(A684,Articoli!$1:$48422,2,FALSE)))","v":""},null,0,"        ","        ;",0,"      ","      ",""]
[null,{"$f":"IF(A685=\"\",\"\",IF(ISERROR(VLOOKUP(A685,Articoli!$1:$48422,2,FALSE)),\"Codice Errato\",VLOOKUP(A685,Articoli!$1:$48422,2,FALSE)))","v":""},null,0,"        ","        ;",0,"      ","      ",""]
[null,{"$f":"IF(A686=\"\",\"\",IF(ISERROR(VLOOKUP(A686,Articoli!$1:$48422,2,FALSE)),\"Codice Errato\",VLOOKUP(A686,Articoli!$1:$48422,2,FALSE)))","v":""},null,0,"        ","        ;",0,"      ","      ",""]
[null,{"$f":"IF(A687=\"\",\"\",IF(ISERROR(VLOOKUP(A687,Articoli!$1:$48422,2,FALSE)),\"Codice Errato\",VLOOKUP(A687,Articoli!$1:$48422,2,FALSE)))","v":""},null,0,"        ","        ;",0,"      ","      ",""]
[null,{"$f":"IF(A688=\"\",\"\",IF(ISERROR(VLOOKUP(A688,Articoli!$1:$48422,2,FALSE)),\"Codice Errato\",VLOOKUP(A688,Articoli!$1:$48422,2,FALSE)))","v":""},null,0,"        ","        ;",0,"      ","      ",""]
[null,{"$f":"IF(A689=\"\",\"\",IF(ISERROR(VLOOKUP(A689,Articoli!$1:$48422,2,FALSE)),\"Codice Errato\",VLOOKUP(A689,Articoli!$1:$48422,2,FALSE)))","v":""},null,0,"        ","        ;",0,"      ","      ",""]
[null,{"$f":"IF(A690=\"\",\"\",IF(ISERROR(VLOOKUP(A690,Articoli!$1:$48422,2,FALSE)),\"Codice Errato\",VLOOKUP(A690,Articoli!$1:$48422,2,FALSE)))","v":""},null,{"$f":"LEN(A690)","v":0},{"$f":"REPT(\" \",8-D690)","v":"        "},{"$f":"CONCATENATE(A690,E690,\";\",)","v":"        ;"},{"$f":"LEN(C690)","v":0},{"$f":"REPT(\" \",6-G690)","v":"      "},{"$f":"CONCATENATE(H690,C690,)","v":"      "},""]
[null,{"$f":"IF(A691=\"\",\"\",IF(ISERROR(VLOOKUP(A691,Articoli!$1:$48422,2,FALSE)),\"Codice Errato\",VLOOKUP(A691,Articoli!$1:$48422,2,FALSE)))","v":""},null,0,"        ","        ;",0,"      ","      ",""]
[null,{"$f":"IF(A692=\"\",\"\",IF(ISERROR(VLOOKUP(A692,Articoli!$1:$48422,2,FALSE)),\"Codice Errato\",VLOOKUP(A692,Articoli!$1:$48422,2,FALSE)))","v":""},null,0,"        ","        ;",0,"      ","      ",""]
[null,{"$f":"IF(A693=\"\",\"\",IF(ISERROR(VLOOKUP(A693,Articoli!$1:$48422,2,FALSE)),\"Codice Errato\",VLOOKUP(A693,Articoli!$1:$48422,2,FALSE)))","v":""},null,0,"        ","        ;",0,"      ","      ",""]
[null,{"$f":"IF(A694=\"\",\"\",IF(ISERROR(VLOOKUP(A694,Articoli!$1:$48422,2,FALSE)),\"Codice Errato\",VLOOKUP(A694,Articoli!$1:$48422,2,FALSE)))","v":""},null,0,"        ","        ;",0,"      ","      ",""]
[null,{"$f":"IF(A695=\"\",\"\",IF(ISERROR(VLOOKUP(A695,Articoli!$1:$48422,2,FALSE)),\"Codice Errato\",VLOOKUP(A695,Articoli!$1:$48422,2,FALSE)))","v":""},null,0,"        ","        ;",0,"      ","      ",""]
[null,{"$f":"IF(A696=\"\",\"\",IF(ISERROR(VLOOKUP(A696,Articoli!$1:$48422,2,FALSE)),\"Codice Errato\",VLOOKUP(A696,Articoli!$1:$48422,2,FALSE)))","v":""},null,0,"        ","        ;",0,"      ","      ",""]
[null,{"$f":"IF(A697=\"\",\"\",IF(ISERROR(VLOOKUP(A697,Articoli!$1:$48422,2,FALSE)),\"Codice Errato\",VLOOKUP(A697,Articoli!$1:$48422,2,FALSE)))","v":""},null,0,"        ","        ;",0,"      ","      ",""]
[null,{"$f":"IF(A698=\"\",\"\",IF(ISERROR(VLOOKUP(A698,Articoli!$1:$48422,2,FALSE)),\"Codice Errato\",VLOOKUP(A698,Articoli!$1:$48422,2,FALSE)))","v":""},null,0,"        ","        ;",0,"      ","      ",""]
[null,{"$f":"IF(A699=\"\",\"\",IF(ISERROR(VLOOKUP(A699,Articoli!$1:$48422,2,FALSE)),\"Codice Errato\",VLOOKUP(A699,Articoli!$1:$48422,2,FALSE)))","v":""},null,0,"        ","        ;",0,"      ","      ",""]
[null,{"$f":"IF(A700=\"\",\"\",IF(ISERROR(VLOOKUP(A700,Articoli!$1:$48422,2,FALSE)),\"Codice Errato\",VLOOKUP(A700,Articoli!$1:$48422,2,FALSE)))","v":""},null,0,"        ","        ;",0,"      ","      ",""]
[null,{"$f":"IF(A701=\"\",\"\",IF(ISERROR(VLOOKUP(A701,Articoli!$1:$48422,2,FALSE)),\"Codice Errato\",VLOOKUP(A701,Articoli!$1:$48422,2,FALSE)))","v":""},null,0,"        ","        ;",0,"      ","      ",""]
[null,{"$f":"IF(A702=\"\",\"\",IF(ISERROR(VLOOKUP(A702,Articoli!$1:$48422,2,FALSE)),\"Codice Errato\",VLOOKUP(A702,Articoli!$1:$48422,2,FALSE)))","v":""},null,0,"        ","        ;",0,"      ","      ",""]
[null,{"$f":"IF(A703=\"\",\"\",IF(ISERROR(VLOOKUP(A703,Articoli!$1:$48422,2,FALSE)),\"Codice Errato\",VLOOKUP(A703,Articoli!$1:$48422,2,FALSE)))","v":""},null,0,"        ","        ;",0,"      ","      ",""]
[null,{"$f":"IF(A704=\"\",\"\",IF(ISERROR(VLOOKUP(A704,Articoli!$1:$48422,2,FALSE)),\"Codice Errato\",VLOOKUP(A704,Articoli!$1:$48422,2,FALSE)))","v":""},null,0,"        ","        ;",0,"      ","      ",""]
[null,{"$f":"IF(A705=\"\",\"\",IF(ISERROR(VLOOKUP(A705,Articoli!$1:$48422,2,FALSE)),\"Codice Errato\",VLOOKUP(A705,Articoli!$1:$48422,2,FALSE)))","v":""},null,0,"        ","        ;",0,"      ","      ",""]
[null,{"$f":"IF(A706=\"\",\"\",IF(ISERROR(VLOOKUP(A706,Articoli!$1:$48422,2,FALSE)),\"Codice Errato\",VLOOKUP(A706,Articoli!$1:$48422,2,FALSE)))","v":""},null,0,"        ","        ;",0,"      ","      ",""]
[null,{"$f":"IF(A707=\"\",\"\",IF(ISERROR(VLOOKUP(A707,Articoli!$1:$48422,2,FALSE)),\"Codice Errato\",VLOOKUP(A707,Articoli!$1:$48422,2,FALSE)))","v":""},null,0,"        ","        ;",0,"      ","      ",""]
[null,{"$f":"IF(A708=\"\",\"\",IF(ISERROR(VLOOKUP(A708,Articoli!$1:$48422,2,FALSE)),\"Codice Errato\",VLOOKUP(A708,Articoli!$1:$48422,2,FALSE)))","v":""},null,0,"        ","        ;",0,"      ","      ",""]
[null,{"$f":"IF(A709=\"\",\"\",IF(ISERROR(VLOOKUP(A709,Articoli!$1:$48422,2,FALSE)),\"Codice Errato\",VLOOKUP(A709,Articoli!$1:$48422,2,FALSE)))","v":""},null,0,"        ","        ;",0,"      ","      ",""]
[null,{"$f":"IF(A710=\"\",\"\",IF(ISERROR(VLOOKUP(A710,Articoli!$1:$48422,2,FALSE)),\"Codice Errato\",VLOOKUP(A710,Articoli!$1:$48422,2,FALSE)))","v":""},null,0,"        ","        ;",0,"      ","      ",""]
[null,{"$f":"IF(A711=\"\",\"\",IF(ISERROR(VLOOKUP(A711,Articoli!$1:$48422,2,FALSE)),\"Codice Errato\",VLOOKUP(A711,Articoli!$1:$48422,2,FALSE)))","v":""},null,0,"        ","        ;",0,"      ","      ",""]
[null,{"$f":"IF(A712=\"\",\"\",IF(ISERROR(VLOOKUP(A712,Articoli!$1:$48422,2,FALSE)),\"Codice Errato\",VLOOKUP(A712,Articoli!$1:$48422,2,FALSE)))","v":""},null,0,"        ","        ;",0,"      ","      ",""]
[null,{"$f":"IF(A713=\"\",\"\",IF(ISERROR(VLOOKUP(A713,Articoli!$1:$48422,2,FALSE)),\"Codice Errato\",VLOOKUP(A713,Articoli!$1:$48422,2,FALSE)))","v":""},null,0,"        ","        ;",0,"      ","      ",""]
[null,{"$f":"IF(A714=\"\",\"\",IF(ISERROR(VLOOKUP(A714,Articoli!$1:$48422,2,FALSE)),\"Codice Errato\",VLOOKUP(A714,Articoli!$1:$48422,2,FALSE)))","v":""},null,0,"        ","        ;",0,"      ","      ",""]
[null,{"$f":"IF(A715=\"\",\"\",IF(ISERROR(VLOOKUP(A715,Articoli!$1:$48422,2,FALSE)),\"Codice Errato\",VLOOKUP(A715,Articoli!$1:$48422,2,FALSE)))","v":""},null,0,"        ","        ;",0,"      ","      ",""]
[null,{"$f":"IF(A716=\"\",\"\",IF(ISERROR(VLOOKUP(A716,Articoli!$1:$48422,2,FALSE)),\"Codice Errato\",VLOOKUP(A716,Articoli!$1:$48422,2,FALSE)))","v":""},null,0,"        ","        ;",0,"      ","      ",""]
[null,{"$f":"IF(A717=\"\",\"\",IF(ISERROR(VLOOKUP(A717,Articoli!$1:$48422,2,FALSE)),\"Codice Errato\",VLOOKUP(A717,Articoli!$1:$48422,2,FALSE)))","v":""},null,0,"        ","        ;",0,"      ","      ",""]
[null,{"$f":"IF(A718=\"\",\"\",IF(ISERROR(VLOOKUP(A718,Articoli!$1:$48422,2,FALSE)),\"Codice Errato\",VLOOKUP(A718,Articoli!$1:$48422,2,FALSE)))","v":""},null,0,"        ","        ;",0,"      ","      ",""]
[null,{"$f":"IF(A719=\"\",\"\",IF(ISERROR(VLOOKUP(A719,Articoli!$1:$48422,2,FALSE)),\"Codice Errato\",VLOOKUP(A719,Articoli!$1:$48422,2,FALSE)))","v":""},null,0,"        ","        ;",0,"      ","      ",""]
[null,{"$f":"IF(A720=\"\",\"\",IF(ISERROR(VLOOKUP(A720,Articoli!$1:$48422,2,FALSE)),\"Codice Errato\",VLOOKUP(A720,Articoli!$1:$48422,2,FALSE)))","v":""},null,0,"        ","        ;",0,"      ","      ",""]
[null,{"$f":"IF(A721=\"\",\"\",IF(ISERROR(VLOOKUP(A721,Articoli!$1:$48422,2,FALSE)),\"Codice Errato\",VLOOKUP(A721,Articoli!$1:$48422,2,FALSE)))","v":""},null,0,"        ","        ;",0,"      ","      ",""]
[null,{"$f":"IF(A722=\"\",\"\",IF(ISERROR(VLOOKUP(A722,Articoli!$1:$48422,2,FALSE)),\"Codice Errato\",VLOOKUP(A722,Articoli!$1:$48422,2,FALSE)))","v":""},null,0,"        ","        ;",0,"      ","      ",""]
[null,{"$f":"IF(A723=\"\",\"\",IF(ISERROR(VLOOKUP(A723,Articoli!$1:$48422,2,FALSE)),\"Codice Errato\",VLOOKUP(A723,Articoli!$1:$48422,2,FALSE)))","v":""},null,0,"        ","        ;",0,"      ","      ",""]
[null,{"$f":"IF(A724=\"\",\"\",IF(ISERROR(VLOOKUP(A724,Articoli!$1:$48422,2,FALSE)),\"Codice Errato\",VLOOKUP(A724,Articoli!$1:$48422,2,FALSE)))","v":""},null,0,"        ","        ;",0,"      ","      ",""]
[null,{"$f":"IF(A725=\"\",\"\",IF(ISERROR(VLOOKUP(A725,Articoli!$1:$48422,2,FALSE)),\"Codice Errato\",VLOOKUP(A725,Articoli!$1:$48422,2,FALSE)))","v":""},null,0,"        ","        ;",0,"      ","      ",""]
[null,{"$f":"IF(A726=\"\",\"\",IF(ISERROR(VLOOKUP(A726,Articoli!$1:$48422,2,FALSE)),\"Codice Errato\",VLOOKUP(A726,Articoli!$1:$48422,2,FALSE)))","v":""},null,0,"        ","        ;",0,"      ","      ",""]
[null,{"$f":"IF(A727=\"\",\"\",IF(ISERROR(VLOOKUP(A727,Articoli!$1:$48422,2,FALSE)),\"Codice Errato\",VLOOKUP(A727,Articoli!$1:$48422,2,FALSE)))","v":""},null,0,"        ","        ;",0,"      ","      ",""]
[null,{"$f":"IF(A728=\"\",\"\",IF(ISERROR(VLOOKUP(A728,Articoli!$1:$48422,2,FALSE)),\"Codice Errato\",VLOOKUP(A728,Articoli!$1:$48422,2,FALSE)))","v":""},null,0,"        ","        ;",0,"      ","      ",""]
[null,{"$f":"IF(A729=\"\",\"\",IF(ISERROR(VLOOKUP(A729,Articoli!$1:$48422,2,FALSE)),\"Codice Errato\",VLOOKUP(A729,Articoli!$1:$48422,2,FALSE)))","v":""},null,0,"        ","        ;",0,"      ","      ",""]
[null,{"$f":"IF(A730=\"\",\"\",IF(ISERROR(VLOOKUP(A730,Articoli!$1:$48422,2,FALSE)),\"Codice Errato\",VLOOKUP(A730,Articoli!$1:$48422,2,FALSE)))","v":""},null,0,"        ","        ;",0,"      ","      ",""]
[null,{"$f":"IF(A731=\"\",\"\",IF(ISERROR(VLOOKUP(A731,Articoli!$1:$48422,2,FALSE)),\"Codice Errato\",VLOOKUP(A731,Articoli!$1:$48422,2,FALSE)))","v":""},null,0,"        ","        ;",0,"      ","      ",""]
[null,{"$f":"IF(A732=\"\",\"\",IF(ISERROR(VLOOKUP(A732,Articoli!$1:$48422,2,FALSE)),\"Codice Errato\",VLOOKUP(A732,Articoli!$1:$48422,2,FALSE)))","v":""},null,0,"        ","        ;",0,"      ","      ",""]
[null,{"$f":"IF(A733=\"\",\"\",IF(ISERROR(VLOOKUP(A733,Articoli!$1:$48422,2,FALSE)),\"Codice Errato\",VLOOKUP(A733,Articoli!$1:$48422,2,FALSE)))","v":""},null,0,"        ","        ;",0,"      ","      ",""]
[null,{"$f":"IF(A734=\"\",\"\",IF(ISERROR(VLOOKUP(A734,Articoli!$1:$48422,2,FALSE)),\"Codice Errato\",VLOOKUP(A734,Articoli!$1:$48422,2,FALSE)))","v":""},null,0,"        ","        ;",0,"      ","      ",""]
[null,{"$f":"IF(A735=\"\",\"\",IF(ISERROR(VLOOKUP(A735,Articoli!$1:$48422,2,FALSE)),\"Codice Errato\",VLOOKUP(A735,Articoli!$1:$48422,2,FALSE)))","v":""},null,0,"        ","        ;",0,"      ","      ",""]
[null,{"$f":"IF(A736=\"\",\"\",IF(ISERROR(VLOOKUP(A736,Articoli!$1:$48422,2,FALSE)),\"Codice Errato\",VLOOKUP(A736,Articoli!$1:$48422,2,FALSE)))","v":""},null,0,"        ","        ;",0,"      ","      ",{"$f":"IF(C736=\"\",\"\",CONCATENATE(F736,I736))","v":""}]
[null,{"$f":"IF(A737=\"\",\"\",IF(ISERROR(VLOOKUP(A737,Articoli!$1:$48422,2,FALSE)),\"Codice Errato\",VLOOKUP(A737,Articoli!$1:$48422,2,FALSE)))","v":""},null,0,"        ","        ;",0,"      ","      ",""]
[null,{"$f":"IF(A738=\"\",\"\",IF(ISERROR(VLOOKUP(A738,Articoli!$1:$48422,2,FALSE)),\"Codice Errato\",VLOOKUP(A738,Articoli!$1:$48422,2,FALSE)))","v":""},null,0,"        ","        ;",0,"      ","      ",""]
[null,{"$f":"IF(A739=\"\",\"\",IF(ISERROR(VLOOKUP(A739,Articoli!$1:$48422,2,FALSE)),\"Codice Errato\",VLOOKUP(A739,Articoli!$1:$48422,2,FALSE)))","v":""},null,0,"        ","        ;",0,"      ","      ",""]
[null,{"$f":"IF(A740=\"\",\"\",IF(ISERROR(VLOOKUP(A740,Articoli!$1:$48422,2,FALSE)),\"Codice Errato\",VLOOKUP(A740,Articoli!$1:$48422,2,FALSE)))","v":""},null,0,"        ","        ;",0,"      ","      ",""]
[null,{"$f":"IF(A741=\"\",\"\",IF(ISERROR(VLOOKUP(A741,Articoli!$1:$48422,2,FALSE)),\"Codice Errato\",VLOOKUP(A741,Articoli!$1:$48422,2,FALSE)))","v":""},null,0,"        ","        ;",0,"      ","      ",""]
[null,{"$f":"IF(A742=\"\",\"\",IF(ISERROR(VLOOKUP(A742,Articoli!$1:$48422,2,FALSE)),\"Codice Errato\",VLOOKUP(A742,Articoli!$1:$48422,2,FALSE)))","v":""},null,0,"        ","        ;",0,"      ","      ",""]
[null,{"$f":"IF(A743=\"\",\"\",IF(ISERROR(VLOOKUP(A743,Articoli!$1:$48422,2,FALSE)),\"Codice Errato\",VLOOKUP(A743,Articoli!$1:$48422,2,FALSE)))","v":""},null,0,"        ","        ;",0,"      ","      ",""]
[null,{"$f":"IF(A744=\"\",\"\",IF(ISERROR(VLOOKUP(A744,Articoli!$1:$48422,2,FALSE)),\"Codice Errato\",VLOOKUP(A744,Articoli!$1:$48422,2,FALSE)))","v":""},null,0,"        ","        ;",0,"      ","      ",""]
[null,{"$f":"IF(A745=\"\",\"\",IF(ISERROR(VLOOKUP(A745,Articoli!$1:$48422,2,FALSE)),\"Codice Errato\",VLOOKUP(A745,Articoli!$1:$48422,2,FALSE)))","v":""},null,0,"        ","        ;",0,"      ","      ",""]
[null,{"$f":"IF(A746=\"\",\"\",IF(ISERROR(VLOOKUP(A746,Articoli!$1:$48422,2,FALSE)),\"Codice Errato\",VLOOKUP(A746,Articoli!$1:$48422,2,FALSE)))","v":""},null,0,"        ","        ;",0,"      ","      ",""]
[null,{"$f":"IF(A747=\"\",\"\",IF(ISERROR(VLOOKUP(A747,Articoli!$1:$48422,2,FALSE)),\"Codice Errato\",VLOOKUP(A747,Articoli!$1:$48422,2,FALSE)))","v":""},null,0,"        ","        ;",0,"      ","      ",""]
[null,{"$f":"IF(A748=\"\",\"\",IF(ISERROR(VLOOKUP(A748,Articoli!$1:$48422,2,FALSE)),\"Codice Errato\",VLOOKUP(A748,Articoli!$1:$48422,2,FALSE)))","v":""},null,0,"        ","        ;",0,"      ","      ",""]
[null,{"$f":"IF(A749=\"\",\"\",IF(ISERROR(VLOOKUP(A749,Articoli!$1:$48422,2,FALSE)),\"Codice Errato\",VLOOKUP(A749,Articoli!$1:$48422,2,FALSE)))","v":""},null,0,"        ","        ;",0,"      ","      ",""]
[null,{"$f":"IF(A750=\"\",\"\",IF(ISERROR(VLOOKUP(A750,Articoli!$1:$48422,2,FALSE)),\"Codice Errato\",VLOOKUP(A750,Articoli!$1:$48422,2,FALSE)))","v":""},null,0,"        ","        ;",0,"      ","      ",""]
[null,{"$f":"IF(A751=\"\",\"\",IF(ISERROR(VLOOKUP(A751,Articoli!$1:$48422,2,FALSE)),\"Codice Errato\",VLOOKUP(A751,Articoli!$1:$48422,2,FALSE)))","v":""},null,0,"        ","        ;",0,"      ","      ",""]
[null,{"$f":"IF(A752=\"\",\"\",IF(ISERROR(VLOOKUP(A752,Articoli!$1:$48422,2,FALSE)),\"Codice Errato\",VLOOKUP(A752,Articoli!$1:$48422,2,FALSE)))","v":""},null,0,"        ","        ;",0,"      ","      ",""]
[null,{"$f":"IF(A753=\"\",\"\",IF(ISERROR(VLOOKUP(A753,Articoli!$1:$48422,2,FALSE)),\"Codice Errato\",VLOOKUP(A753,Articoli!$1:$48422,2,FALSE)))","v":""},null,0,"        ","        ;",0,"      ","      ",""]
[null,{"$f":"IF(A754=\"\",\"\",IF(ISERROR(VLOOKUP(A754,Articoli!$1:$48422,2,FALSE)),\"Codice Errato\",VLOOKUP(A754,Articoli!$1:$48422,2,FALSE)))","v":""},null,{"$f":"LEN(A754)","v":0},{"$f":"REPT(\" \",8-D754)","v":"        "},{"$f":"CONCATENATE(A754,E754,\";\",)","v":"        ;"},{"$f":"LEN(C754)","v":0},{"$f":"REPT(\" \",6-G754)","v":"      "},{"$f":"CONCATENATE(H754,C754,)","v":"      "},""]
[null,{"$f":"IF(A755=\"\",\"\",IF(ISERROR(VLOOKUP(A755,Articoli!$1:$48422,2,FALSE)),\"Codice Errato\",VLOOKUP(A755,Articoli!$1:$48422,2,FALSE)))","v":""},null,0,"        ","        ;",0,"      ","      ",""]
[null,{"$f":"IF(A756=\"\",\"\",IF(ISERROR(VLOOKUP(A756,Articoli!$1:$48422,2,FALSE)),\"Codice Errato\",VLOOKUP(A756,Articoli!$1:$48422,2,FALSE)))","v":""},null,0,"        ","        ;",0,"      ","      ",""]
[null,{"$f":"IF(A757=\"\",\"\",IF(ISERROR(VLOOKUP(A757,Articoli!$1:$48422,2,FALSE)),\"Codice Errato\",VLOOKUP(A757,Articoli!$1:$48422,2,FALSE)))","v":""},null,0,"        ","        ;",0,"      ","      ",""]
[null,{"$f":"IF(A758=\"\",\"\",IF(ISERROR(VLOOKUP(A758,Articoli!$1:$48422,2,FALSE)),\"Codice Errato\",VLOOKUP(A758,Articoli!$1:$48422,2,FALSE)))","v":""},null,0,"        ","        ;",0,"      ","      ",""]
[null,{"$f":"IF(A759=\"\",\"\",IF(ISERROR(VLOOKUP(A759,Articoli!$1:$48422,2,FALSE)),\"Codice Errato\",VLOOKUP(A759,Articoli!$1:$48422,2,FALSE)))","v":""},null,0,"        ","        ;",0,"      ","      ",""]
[null,{"$f":"IF(A760=\"\",\"\",IF(ISERROR(VLOOKUP(A760,Articoli!$1:$48422,2,FALSE)),\"Codice Errato\",VLOOKUP(A760,Articoli!$1:$48422,2,FALSE)))","v":""},null,0,"        ","        ;",0,"      ","      ",""]
[null,{"$f":"IF(A761=\"\",\"\",IF(ISERROR(VLOOKUP(A761,Articoli!$1:$48422,2,FALSE)),\"Codice Errato\",VLOOKUP(A761,Articoli!$1:$48422,2,FALSE)))","v":""},null,0,"        ","        ;",0,"      ","      ",""]
[null,{"$f":"IF(A762=\"\",\"\",IF(ISERROR(VLOOKUP(A762,Articoli!$1:$48422,2,FALSE)),\"Codice Errato\",VLOOKUP(A762,Articoli!$1:$48422,2,FALSE)))","v":""},null,0,"        ","        ;",0,"      ","      ",""]
[null,{"$f":"IF(A763=\"\",\"\",IF(ISERROR(VLOOKUP(A763,Articoli!$1:$48422,2,FALSE)),\"Codice Errato\",VLOOKUP(A763,Articoli!$1:$48422,2,FALSE)))","v":""},null,0,"        ","        ;",0,"      ","      ",""]
[null,{"$f":"IF(A764=\"\",\"\",IF(ISERROR(VLOOKUP(A764,Articoli!$1:$48422,2,FALSE)),\"Codice Errato\",VLOOKUP(A764,Articoli!$1:$48422,2,FALSE)))","v":""},null,0,"        ","        ;",0,"      ","      ",""]
[null,{"$f":"IF(A765=\"\",\"\",IF(ISERROR(VLOOKUP(A765,Articoli!$1:$48422,2,FALSE)),\"Codice Errato\",VLOOKUP(A765,Articoli!$1:$48422,2,FALSE)))","v":""},null,0,"        ","        ;",0,"      ","      ",""]
[null,{"$f":"IF(A766=\"\",\"\",IF(ISERROR(VLOOKUP(A766,Articoli!$1:$48422,2,FALSE)),\"Codice Errato\",VLOOKUP(A766,Articoli!$1:$48422,2,FALSE)))","v":""},null,0,"        ","        ;",0,"      ","      ",""]
[null,{"$f":"IF(A767=\"\",\"\",IF(ISERROR(VLOOKUP(A767,Articoli!$1:$48422,2,FALSE)),\"Codice Errato\",VLOOKUP(A767,Articoli!$1:$48422,2,FALSE)))","v":""},null,0,"        ","        ;",0,"      ","      ",""]
[null,{"$f":"IF(A768=\"\",\"\",IF(ISERROR(VLOOKUP(A768,Articoli!$1:$48422,2,FALSE)),\"Codice Errato\",VLOOKUP(A768,Articoli!$1:$48422,2,FALSE)))","v":""},null,0,"        ","        ;",0,"      ","      ",""]
[null,{"$f":"IF(A769=\"\",\"\",IF(ISERROR(VLOOKUP(A769,Articoli!$1:$48422,2,FALSE)),\"Codice Errato\",VLOOKUP(A769,Articoli!$1:$48422,2,FALSE)))","v":""},null,0,"        ","        ;",0,"      ","      ",""]
[null,{"$f":"IF(A770=\"\",\"\",IF(ISERROR(VLOOKUP(A770,Articoli!$1:$48422,2,FALSE)),\"Codice Errato\",VLOOKUP(A770,Articoli!$1:$48422,2,FALSE)))","v":""},null,0,"        ","        ;",0,"      ","      ",""]
[null,{"$f":"IF(A771=\"\",\"\",IF(ISERROR(VLOOKUP(A771,Articoli!$1:$48422,2,FALSE)),\"Codice Errato\",VLOOKUP(A771,Articoli!$1:$48422,2,FALSE)))","v":""},null,0,"        ","        ;",0,"      ","      ",""]
[null,{"$f":"IF(A772=\"\",\"\",IF(ISERROR(VLOOKUP(A772,Articoli!$1:$48422,2,FALSE)),\"Codice Errato\",VLOOKUP(A772,Articoli!$1:$48422,2,FALSE)))","v":""},null,0,"        ","        ;",0,"      ","      ",""]
[null,{"$f":"IF(A773=\"\",\"\",IF(ISERROR(VLOOKUP(A773,Articoli!$1:$48422,2,FALSE)),\"Codice Errato\",VLOOKUP(A773,Articoli!$1:$48422,2,FALSE)))","v":""},null,0,"        ","        ;",0,"      ","      ",""]
[null,{"$f":"IF(A774=\"\",\"\",IF(ISERROR(VLOOKUP(A774,Articoli!$1:$48422,2,FALSE)),\"Codice Errato\",VLOOKUP(A774,Articoli!$1:$48422,2,FALSE)))","v":""},null,0,"        ","        ;",0,"      ","      ",""]
[null,{"$f":"IF(A775=\"\",\"\",IF(ISERROR(VLOOKUP(A775,Articoli!$1:$48422,2,FALSE)),\"Codice Errato\",VLOOKUP(A775,Articoli!$1:$48422,2,FALSE)))","v":""},null,0,"        ","        ;",0,"      ","      ",""]
[null,{"$f":"IF(A776=\"\",\"\",IF(ISERROR(VLOOKUP(A776,Articoli!$1:$48422,2,FALSE)),\"Codice Errato\",VLOOKUP(A776,Articoli!$1:$48422,2,FALSE)))","v":""},null,0,"        ","        ;",0,"      ","      ",""]
[null,{"$f":"IF(A777=\"\",\"\",IF(ISERROR(VLOOKUP(A777,Articoli!$1:$48422,2,FALSE)),\"Codice Errato\",VLOOKUP(A777,Articoli!$1:$48422,2,FALSE)))","v":""},null,0,"        ","        ;",0,"      ","      ",""]
[null,{"$f":"IF(A778=\"\",\"\",IF(ISERROR(VLOOKUP(A778,Articoli!$1:$48422,2,FALSE)),\"Codice Errato\",VLOOKUP(A778,Articoli!$1:$48422,2,FALSE)))","v":""},null,0,"        ","        ;",0,"      ","      ",""]
[null,{"$f":"IF(A779=\"\",\"\",IF(ISERROR(VLOOKUP(A779,Articoli!$1:$48422,2,FALSE)),\"Codice Errato\",VLOOKUP(A779,Articoli!$1:$48422,2,FALSE)))","v":""},null,0,"        ","        ;",0,"      ","      ",""]
[null,{"$f":"IF(A780=\"\",\"\",IF(ISERROR(VLOOKUP(A780,Articoli!$1:$48422,2,FALSE)),\"Codice Errato\",VLOOKUP(A780,Articoli!$1:$48422,2,FALSE)))","v":""},null,0,"        ","        ;",0,"      ","      ",""]
[null,{"$f":"IF(A781=\"\",\"\",IF(ISERROR(VLOOKUP(A781,Articoli!$1:$48422,2,FALSE)),\"Codice Errato\",VLOOKUP(A781,Articoli!$1:$48422,2,FALSE)))","v":""},null,0,"        ","        ;",0,"      ","      ",""]
[null,{"$f":"IF(A782=\"\",\"\",IF(ISERROR(VLOOKUP(A782,Articoli!$1:$48422,2,FALSE)),\"Codice Errato\",VLOOKUP(A782,Articoli!$1:$48422,2,FALSE)))","v":""},null,0,"        ","        ;",0,"      ","      ",""]
[null,{"$f":"IF(A783=\"\",\"\",IF(ISERROR(VLOOKUP(A783,Articoli!$1:$48422,2,FALSE)),\"Codice Errato\",VLOOKUP(A783,Articoli!$1:$48422,2,FALSE)))","v":""},null,0,"        ","        ;",0,"      ","      ",""]
[null,{"$f":"IF(A784=\"\",\"\",IF(ISERROR(VLOOKUP(A784,Articoli!$1:$48422,2,FALSE)),\"Codice Errato\",VLOOKUP(A784,Articoli!$1:$48422,2,FALSE)))","v":""},null,0,"        ","        ;",0,"      ","      ",""]
[null,{"$f":"IF(A785=\"\",\"\",IF(ISERROR(VLOOKUP(A785,Articoli!$1:$48422,2,FALSE)),\"Codice Errato\",VLOOKUP(A785,Articoli!$1:$48422,2,FALSE)))","v":""},null,0,"        ","        ;",0,"      ","      ",""]
[null,{"$f":"IF(A786=\"\",\"\",IF(ISERROR(VLOOKUP(A786,Articoli!$1:$48422,2,FALSE)),\"Codice Errato\",VLOOKUP(A786,Articoli!$1:$48422,2,FALSE)))","v":""},null,0,"        ","        ;",0,"      ","      ",""]
[null,{"$f":"IF(A787=\"\",\"\",IF(ISERROR(VLOOKUP(A787,Articoli!$1:$48422,2,FALSE)),\"Codice Errato\",VLOOKUP(A787,Articoli!$1:$48422,2,FALSE)))","v":""},null,0,"        ","        ;",0,"      ","      ",""]
[null,{"$f":"IF(A788=\"\",\"\",IF(ISERROR(VLOOKUP(A788,Articoli!$1:$48422,2,FALSE)),\"Codice Errato\",VLOOKUP(A788,Articoli!$1:$48422,2,FALSE)))","v":""},null,0,"        ","        ;",0,"      ","      ",""]
[null,{"$f":"IF(A789=\"\",\"\",IF(ISERROR(VLOOKUP(A789,Articoli!$1:$48422,2,FALSE)),\"Codice Errato\",VLOOKUP(A789,Articoli!$1:$48422,2,FALSE)))","v":""},null,0,"        ","        ;",0,"      ","      ",""]
[null,{"$f":"IF(A790=\"\",\"\",IF(ISERROR(VLOOKUP(A790,Articoli!$1:$48422,2,FALSE)),\"Codice Errato\",VLOOKUP(A790,Articoli!$1:$48422,2,FALSE)))","v":""},null,0,"        ","        ;",0,"      ","      ",""]
[null,{"$f":"IF(A791=\"\",\"\",IF(ISERROR(VLOOKUP(A791,Articoli!$1:$48422,2,FALSE)),\"Codice Errato\",VLOOKUP(A791,Articoli!$1:$48422,2,FALSE)))","v":""},null,0,"        ","        ;",0,"      ","      ",""]
[null,{"$f":"IF(A792=\"\",\"\",IF(ISERROR(VLOOKUP(A792,Articoli!$1:$48422,2,FALSE)),\"Codice Errato\",VLOOKUP(A792,Articoli!$1:$48422,2,FALSE)))","v":""},null,0,"        ","        ;",0,"      ","      ",""]
[null,{"$f":"IF(A793=\"\",\"\",IF(ISERROR(VLOOKUP(A793,Articoli!$1:$48422,2,FALSE)),\"Codice Errato\",VLOOKUP(A793,Articoli!$1:$48422,2,FALSE)))","v":""},null,0,"        ","        ;",0,"      ","      ",""]
[null,{"$f":"IF(A794=\"\",\"\",IF(ISERROR(VLOOKUP(A794,Articoli!$1:$48422,2,FALSE)),\"Codice Errato\",VLOOKUP(A794,Articoli!$1:$48422,2,FALSE)))","v":""},null,0,"        ","        ;",0,"      ","      ",""]
[null,{"$f":"IF(A795=\"\",\"\",IF(ISERROR(VLOOKUP(A795,Articoli!$1:$48422,2,FALSE)),\"Codice Errato\",VLOOKUP(A795,Articoli!$1:$48422,2,FALSE)))","v":""},null,0,"        ","        ;",0,"      ","      ",""]
[null,{"$f":"IF(A796=\"\",\"\",IF(ISERROR(VLOOKUP(A796,Articoli!$1:$48422,2,FALSE)),\"Codice Errato\",VLOOKUP(A796,Articoli!$1:$48422,2,FALSE)))","v":""},null,0,"        ","        ;",0,"      ","      ",""]
[null,{"$f":"IF(A797=\"\",\"\",IF(ISERROR(VLOOKUP(A797,Articoli!$1:$48422,2,FALSE)),\"Codice Errato\",VLOOKUP(A797,Articoli!$1:$48422,2,FALSE)))","v":""},null,0,"        ","        ;",0,"      ","      ",""]
[null,{"$f":"IF(A798=\"\",\"\",IF(ISERROR(VLOOKUP(A798,Articoli!$1:$48422,2,FALSE)),\"Codice Errato\",VLOOKUP(A798,Articoli!$1:$48422,2,FALSE)))","v":""},null,0,"        ","        ;",0,"      ","      ",""]
[null,{"$f":"IF(A799=\"\",\"\",IF(ISERROR(VLOOKUP(A799,Articoli!$1:$48422,2,FALSE)),\"Codice Errato\",VLOOKUP(A799,Articoli!$1:$48422,2,FALSE)))","v":""},null,0,"        ","        ;",0,"      ","      ",""]
[null,{"$f":"IF(A800=\"\",\"\",IF(ISERROR(VLOOKUP(A800,Articoli!$1:$48422,2,FALSE)),\"Codice Errato\",VLOOKUP(A800,Articoli!$1:$48422,2,FALSE)))","v":""},null,0,"        ","        ;",0,"      ","      ",{"$f":"IF(C800=\"\",\"\",CONCATENATE(F800,I800))","v":""}]
[null,{"$f":"IF(A801=\"\",\"\",IF(ISERROR(VLOOKUP(A801,Articoli!$1:$48422,2,FALSE)),\"Codice Errato\",VLOOKUP(A801,Articoli!$1:$48422,2,FALSE)))","v":""},null,0,"        ","        ;",0,"      ","      ",""]
[null,{"$f":"IF(A802=\"\",\"\",IF(ISERROR(VLOOKUP(A802,Articoli!$1:$48422,2,FALSE)),\"Codice Errato\",VLOOKUP(A802,Articoli!$1:$48422,2,FALSE)))","v":""},null,0,"        ","        ;",0,"      ","      ",""]
[null,{"$f":"IF(A803=\"\",\"\",IF(ISERROR(VLOOKUP(A803,Articoli!$1:$48422,2,FALSE)),\"Codice Errato\",VLOOKUP(A803,Articoli!$1:$48422,2,FALSE)))","v":""},null,0,"        ","        ;",0,"      ","      ",""]
[null,{"$f":"IF(A804=\"\",\"\",IF(ISERROR(VLOOKUP(A804,Articoli!$1:$48422,2,FALSE)),\"Codice Errato\",VLOOKUP(A804,Articoli!$1:$48422,2,FALSE)))","v":""},null,0,"        ","        ;",0,"      ","      ",""]
[null,{"$f":"IF(A805=\"\",\"\",IF(ISERROR(VLOOKUP(A805,Articoli!$1:$48422,2,FALSE)),\"Codice Errato\",VLOOKUP(A805,Articoli!$1:$48422,2,FALSE)))","v":""},null,0,"        ","        ;",0,"      ","      ",""]
[null,{"$f":"IF(A806=\"\",\"\",IF(ISERROR(VLOOKUP(A806,Articoli!$1:$48422,2,FALSE)),\"Codice Errato\",VLOOKUP(A806,Articoli!$1:$48422,2,FALSE)))","v":""},null,0,"        ","        ;",0,"      ","      ",""]
[null,{"$f":"IF(A807=\"\",\"\",IF(ISERROR(VLOOKUP(A807,Articoli!$1:$48422,2,FALSE)),\"Codice Errato\",VLOOKUP(A807,Articoli!$1:$48422,2,FALSE)))","v":""},null,0,"        ","        ;",0,"      ","      ",""]
[null,{"$f":"IF(A808=\"\",\"\",IF(ISERROR(VLOOKUP(A808,Articoli!$1:$48422,2,FALSE)),\"Codice Errato\",VLOOKUP(A808,Articoli!$1:$48422,2,FALSE)))","v":""},null,0,"        ","        ;",0,"      ","      ",""]
[null,{"$f":"IF(A809=\"\",\"\",IF(ISERROR(VLOOKUP(A809,Articoli!$1:$48422,2,FALSE)),\"Codice Errato\",VLOOKUP(A809,Articoli!$1:$48422,2,FALSE)))","v":""},null,0,"        ","        ;",0,"      ","      ",""]
[null,{"$f":"IF(A810=\"\",\"\",IF(ISERROR(VLOOKUP(A810,Articoli!$1:$48422,2,FALSE)),\"Codice Errato\",VLOOKUP(A810,Articoli!$1:$48422,2,FALSE)))","v":""},null,0,"        ","        ;",0,"      ","      ",""]
[null,{"$f":"IF(A811=\"\",\"\",IF(ISERROR(VLOOKUP(A811,Articoli!$1:$48422,2,FALSE)),\"Codice Errato\",VLOOKUP(A811,Articoli!$1:$48422,2,FALSE)))","v":""},null,0,"        ","        ;",0,"      ","      ",""]
[null,{"$f":"IF(A812=\"\",\"\",IF(ISERROR(VLOOKUP(A812,Articoli!$1:$48422,2,FALSE)),\"Codice Errato\",VLOOKUP(A812,Articoli!$1:$48422,2,FALSE)))","v":""},null,0,"        ","        ;",0,"      ","      ",""]
[null,{"$f":"IF(A813=\"\",\"\",IF(ISERROR(VLOOKUP(A813,Articoli!$1:$48422,2,FALSE)),\"Codice Errato\",VLOOKUP(A813,Articoli!$1:$48422,2,FALSE)))","v":""},null,0,"        ","        ;",0,"      ","      ",""]
[null,{"$f":"IF(A814=\"\",\"\",IF(ISERROR(VLOOKUP(A814,Articoli!$1:$48422,2,FALSE)),\"Codice Errato\",VLOOKUP(A814,Articoli!$1:$48422,2,FALSE)))","v":""},null,0,"        ","        ;",0,"      ","      ",""]
[null,{"$f":"IF(A815=\"\",\"\",IF(ISERROR(VLOOKUP(A815,Articoli!$1:$48422,2,FALSE)),\"Codice Errato\",VLOOKUP(A815,Articoli!$1:$48422,2,FALSE)))","v":""},null,0,"        ","        ;",0,"      ","      ",""]
[null,{"$f":"IF(A816=\"\",\"\",IF(ISERROR(VLOOKUP(A816,Articoli!$1:$48422,2,FALSE)),\"Codice Errato\",VLOOKUP(A816,Articoli!$1:$48422,2,FALSE)))","v":""},null,0,"        ","        ;",0,"      ","      ",""]
[null,{"$f":"IF(A817=\"\",\"\",IF(ISERROR(VLOOKUP(A817,Articoli!$1:$48422,2,FALSE)),\"Codice Errato\",VLOOKUP(A817,Articoli!$1:$48422,2,FALSE)))","v":""},null,0,"        ","        ;",0,"      ","      ",""]
[null,{"$f":"IF(A818=\"\",\"\",IF(ISERROR(VLOOKUP(A818,Articoli!$1:$48422,2,FALSE)),\"Codice Errato\",VLOOKUP(A818,Articoli!$1:$48422,2,FALSE)))","v":""},null,{"$f":"LEN(A818)","v":0},{"$f":"REPT(\" \",8-D818)","v":"        "},{"$f":"CONCATENATE(A818,E818,\";\",)","v":"        ;"},{"$f":"LEN(C818)","v":0},{"$f":"REPT(\" \",6-G818)","v":"      "},{"$f":"CONCATENATE(H818,C818,)","v":"      "},""]
[null,{"$f":"IF(A819=\"\",\"\",IF(ISERROR(VLOOKUP(A819,Articoli!$1:$48422,2,FALSE)),\"Codice Errato\",VLOOKUP(A819,Articoli!$1:$48422,2,FALSE)))","v":""},null,0,"        ","        ;",0,"      ","      ",""]
[null,{"$f":"IF(A820=\"\",\"\",IF(ISERROR(VLOOKUP(A820,Articoli!$1:$48422,2,FALSE)),\"Codice Errato\",VLOOKUP(A820,Articoli!$1:$48422,2,FALSE)))","v":""},null,0,"        ","        ;",0,"      ","      ",""]
[null,{"$f":"IF(A821=\"\",\"\",IF(ISERROR(VLOOKUP(A821,Articoli!$1:$48422,2,FALSE)),\"Codice Errato\",VLOOKUP(A821,Articoli!$1:$48422,2,FALSE)))","v":""},null,0,"        ","        ;",0,"      ","      ",""]
[null,{"$f":"IF(A822=\"\",\"\",IF(ISERROR(VLOOKUP(A822,Articoli!$1:$48422,2,FALSE)),\"Codice Errato\",VLOOKUP(A822,Articoli!$1:$48422,2,FALSE)))","v":""},null,0,"        ","        ;",0,"      ","      ",""]
[null,{"$f":"IF(A823=\"\",\"\",IF(ISERROR(VLOOKUP(A823,Articoli!$1:$48422,2,FALSE)),\"Codice Errato\",VLOOKUP(A823,Articoli!$1:$48422,2,FALSE)))","v":""},null,0,"        ","        ;",0,"      ","      ",""]
[null,{"$f":"IF(A824=\"\",\"\",IF(ISERROR(VLOOKUP(A824,Articoli!$1:$48422,2,FALSE)),\"Codice Errato\",VLOOKUP(A824,Articoli!$1:$48422,2,FALSE)))","v":""},null,0,"        ","        ;",0,"      ","      ",""]
[null,{"$f":"IF(A825=\"\",\"\",IF(ISERROR(VLOOKUP(A825,Articoli!$1:$48422,2,FALSE)),\"Codice Errato\",VLOOKUP(A825,Articoli!$1:$48422,2,FALSE)))","v":""},null,0,"        ","        ;",0,"      ","      ",""]
[null,{"$f":"IF(A826=\"\",\"\",IF(ISERROR(VLOOKUP(A826,Articoli!$1:$48422,2,FALSE)),\"Codice Errato\",VLOOKUP(A826,Articoli!$1:$48422,2,FALSE)))","v":""},null,0,"        ","        ;",0,"      ","      ",""]
[null,{"$f":"IF(A827=\"\",\"\",IF(ISERROR(VLOOKUP(A827,Articoli!$1:$48422,2,FALSE)),\"Codice Errato\",VLOOKUP(A827,Articoli!$1:$48422,2,FALSE)))","v":""},null,0,"        ","        ;",0,"      ","      ",""]
[null,{"$f":"IF(A828=\"\",\"\",IF(ISERROR(VLOOKUP(A828,Articoli!$1:$48422,2,FALSE)),\"Codice Errato\",VLOOKUP(A828,Articoli!$1:$48422,2,FALSE)))","v":""},null,0,"        ","        ;",0,"      ","      ",""]
[null,{"$f":"IF(A829=\"\",\"\",IF(ISERROR(VLOOKUP(A829,Articoli!$1:$48422,2,FALSE)),\"Codice Errato\",VLOOKUP(A829,Articoli!$1:$48422,2,FALSE)))","v":""},null,0,"        ","        ;",0,"      ","      ",""]
[null,{"$f":"IF(A830=\"\",\"\",IF(ISERROR(VLOOKUP(A830,Articoli!$1:$48422,2,FALSE)),\"Codice Errato\",VLOOKUP(A830,Articoli!$1:$48422,2,FALSE)))","v":""},null,0,"        ","        ;",0,"      ","      ",""]
[null,{"$f":"IF(A831=\"\",\"\",IF(ISERROR(VLOOKUP(A831,Articoli!$1:$48422,2,FALSE)),\"Codice Errato\",VLOOKUP(A831,Articoli!$1:$48422,2,FALSE)))","v":""},null,0,"        ","        ;",0,"      ","      ",""]
[null,{"$f":"IF(A832=\"\",\"\",IF(ISERROR(VLOOKUP(A832,Articoli!$1:$48422,2,FALSE)),\"Codice Errato\",VLOOKUP(A832,Articoli!$1:$48422,2,FALSE)))","v":""},null,0,"        ","        ;",0,"      ","      ",""]
[null,{"$f":"IF(A833=\"\",\"\",IF(ISERROR(VLOOKUP(A833,Articoli!$1:$48422,2,FALSE)),\"Codice Errato\",VLOOKUP(A833,Articoli!$1:$48422,2,FALSE)))","v":""},null,0,"        ","        ;",0,"      ","      ",""]
[null,{"$f":"IF(A834=\"\",\"\",IF(ISERROR(VLOOKUP(A834,Articoli!$1:$48422,2,FALSE)),\"Codice Errato\",VLOOKUP(A834,Articoli!$1:$48422,2,FALSE)))","v":""},null,0,"        ","        ;",0,"      ","      ",""]
[null,{"$f":"IF(A835=\"\",\"\",IF(ISERROR(VLOOKUP(A835,Articoli!$1:$48422,2,FALSE)),\"Codice Errato\",VLOOKUP(A835,Articoli!$1:$48422,2,FALSE)))","v":""},null,0,"        ","        ;",0,"      ","      ",""]
[null,{"$f":"IF(A836=\"\",\"\",IF(ISERROR(VLOOKUP(A836,Articoli!$1:$48422,2,FALSE)),\"Codice Errato\",VLOOKUP(A836,Articoli!$1:$48422,2,FALSE)))","v":""},null,0,"        ","        ;",0,"      ","      ",""]
[null,{"$f":"IF(A837=\"\",\"\",IF(ISERROR(VLOOKUP(A837,Articoli!$1:$48422,2,FALSE)),\"Codice Errato\",VLOOKUP(A837,Articoli!$1:$48422,2,FALSE)))","v":""},null,0,"        ","        ;",0,"      ","      ",""]
[null,{"$f":"IF(A838=\"\",\"\",IF(ISERROR(VLOOKUP(A838,Articoli!$1:$48422,2,FALSE)),\"Codice Errato\",VLOOKUP(A838,Articoli!$1:$48422,2,FALSE)))","v":""},null,0,"        ","        ;",0,"      ","      ",""]
[null,{"$f":"IF(A839=\"\",\"\",IF(ISERROR(VLOOKUP(A839,Articoli!$1:$48422,2,FALSE)),\"Codice Errato\",VLOOKUP(A839,Articoli!$1:$48422,2,FALSE)))","v":""},null,0,"        ","        ;",0,"      ","      ",""]
[null,{"$f":"IF(A840=\"\",\"\",IF(ISERROR(VLOOKUP(A840,Articoli!$1:$48422,2,FALSE)),\"Codice Errato\",VLOOKUP(A840,Articoli!$1:$48422,2,FALSE)))","v":""},null,0,"        ","        ;",0,"      ","      ",""]
[null,{"$f":"IF(A841=\"\",\"\",IF(ISERROR(VLOOKUP(A841,Articoli!$1:$48422,2,FALSE)),\"Codice Errato\",VLOOKUP(A841,Articoli!$1:$48422,2,FALSE)))","v":""},null,0,"        ","        ;",0,"      ","      ",""]
[null,{"$f":"IF(A842=\"\",\"\",IF(ISERROR(VLOOKUP(A842,Articoli!$1:$48422,2,FALSE)),\"Codice Errato\",VLOOKUP(A842,Articoli!$1:$48422,2,FALSE)))","v":""},null,0,"        ","        ;",0,"      ","      ",""]
[null,{"$f":"IF(A843=\"\",\"\",IF(ISERROR(VLOOKUP(A843,Articoli!$1:$48422,2,FALSE)),\"Codice Errato\",VLOOKUP(A843,Articoli!$1:$48422,2,FALSE)))","v":""},null,0,"        ","        ;",0,"      ","      ",""]
[null,{"$f":"IF(A844=\"\",\"\",IF(ISERROR(VLOOKUP(A844,Articoli!$1:$48422,2,FALSE)),\"Codice Errato\",VLOOKUP(A844,Articoli!$1:$48422,2,FALSE)))","v":""},null,0,"        ","        ;",0,"      ","      ",""]
[null,{"$f":"IF(A845=\"\",\"\",IF(ISERROR(VLOOKUP(A845,Articoli!$1:$48422,2,FALSE)),\"Codice Errato\",VLOOKUP(A845,Articoli!$1:$48422,2,FALSE)))","v":""},null,0,"        ","        ;",0,"      ","      ",""]
[null,{"$f":"IF(A846=\"\",\"\",IF(ISERROR(VLOOKUP(A846,Articoli!$1:$48422,2,FALSE)),\"Codice Errato\",VLOOKUP(A846,Articoli!$1:$48422,2,FALSE)))","v":""},null,0,"        ","        ;",0,"      ","      ",""]
[null,{"$f":"IF(A847=\"\",\"\",IF(ISERROR(VLOOKUP(A847,Articoli!$1:$48422,2,FALSE)),\"Codice Errato\",VLOOKUP(A847,Articoli!$1:$48422,2,FALSE)))","v":""},null,0,"        ","        ;",0,"      ","      ",""]
[null,{"$f":"IF(A848=\"\",\"\",IF(ISERROR(VLOOKUP(A848,Articoli!$1:$48422,2,FALSE)),\"Codice Errato\",VLOOKUP(A848,Articoli!$1:$48422,2,FALSE)))","v":""},null,0,"        ","        ;",0,"      ","      ",""]
[null,{"$f":"IF(A849=\"\",\"\",IF(ISERROR(VLOOKUP(A849,Articoli!$1:$48422,2,FALSE)),\"Codice Errato\",VLOOKUP(A849,Articoli!$1:$48422,2,FALSE)))","v":""},null,0,"        ","        ;",0,"      ","      ",""]
[null,{"$f":"IF(A850=\"\",\"\",IF(ISERROR(VLOOKUP(A850,Articoli!$1:$48422,2,FALSE)),\"Codice Errato\",VLOOKUP(A850,Articoli!$1:$48422,2,FALSE)))","v":""},null,0,"        ","        ;",0,"      ","      ",""]
[null,{"$f":"IF(A851=\"\",\"\",IF(ISERROR(VLOOKUP(A851,Articoli!$1:$48422,2,FALSE)),\"Codice Errato\",VLOOKUP(A851,Articoli!$1:$48422,2,FALSE)))","v":""},null,0,"        ","        ;",0,"      ","      ",""]
[null,{"$f":"IF(A852=\"\",\"\",IF(ISERROR(VLOOKUP(A852,Articoli!$1:$48422,2,FALSE)),\"Codice Errato\",VLOOKUP(A852,Articoli!$1:$48422,2,FALSE)))","v":""},null,0,"        ","        ;",0,"      ","      ",""]
[null,{"$f":"IF(A853=\"\",\"\",IF(ISERROR(VLOOKUP(A853,Articoli!$1:$48422,2,FALSE)),\"Codice Errato\",VLOOKUP(A853,Articoli!$1:$48422,2,FALSE)))","v":""},null,0,"        ","        ;",0,"      ","      ",""]
[null,{"$f":"IF(A854=\"\",\"\",IF(ISERROR(VLOOKUP(A854,Articoli!$1:$48422,2,FALSE)),\"Codice Errato\",VLOOKUP(A854,Articoli!$1:$48422,2,FALSE)))","v":""},null,0,"        ","        ;",0,"      ","      ",""]
[null,{"$f":"IF(A855=\"\",\"\",IF(ISERROR(VLOOKUP(A855,Articoli!$1:$48422,2,FALSE)),\"Codice Errato\",VLOOKUP(A855,Articoli!$1:$48422,2,FALSE)))","v":""},null,0,"        ","        ;",0,"      ","      ",""]
[null,{"$f":"IF(A856=\"\",\"\",IF(ISERROR(VLOOKUP(A856,Articoli!$1:$48422,2,FALSE)),\"Codice Errato\",VLOOKUP(A856,Articoli!$1:$48422,2,FALSE)))","v":""},null,0,"        ","        ;",0,"      ","      ",""]
[null,{"$f":"IF(A857=\"\",\"\",IF(ISERROR(VLOOKUP(A857,Articoli!$1:$48422,2,FALSE)),\"Codice Errato\",VLOOKUP(A857,Articoli!$1:$48422,2,FALSE)))","v":""},null,0,"        ","        ;",0,"      ","      ",""]
[null,{"$f":"IF(A858=\"\",\"\",IF(ISERROR(VLOOKUP(A858,Articoli!$1:$48422,2,FALSE)),\"Codice Errato\",VLOOKUP(A858,Articoli!$1:$48422,2,FALSE)))","v":""},null,0,"        ","        ;",0,"      ","      ",""]
[null,{"$f":"IF(A859=\"\",\"\",IF(ISERROR(VLOOKUP(A859,Articoli!$1:$48422,2,FALSE)),\"Codice Errato\",VLOOKUP(A859,Articoli!$1:$48422,2,FALSE)))","v":""},null,0,"        ","        ;",0,"      ","      ",""]
[null,{"$f":"IF(A860=\"\",\"\",IF(ISERROR(VLOOKUP(A860,Articoli!$1:$48422,2,FALSE)),\"Codice Errato\",VLOOKUP(A860,Articoli!$1:$48422,2,FALSE)))","v":""},null,0,"        ","        ;",0,"      ","      ",""]
[null,{"$f":"IF(A861=\"\",\"\",IF(ISERROR(VLOOKUP(A861,Articoli!$1:$48422,2,FALSE)),\"Codice Errato\",VLOOKUP(A861,Articoli!$1:$48422,2,FALSE)))","v":""},null,0,"        ","        ;",0,"      ","      ",""]
[null,{"$f":"IF(A862=\"\",\"\",IF(ISERROR(VLOOKUP(A862,Articoli!$1:$48422,2,FALSE)),\"Codice Errato\",VLOOKUP(A862,Articoli!$1:$48422,2,FALSE)))","v":""},null,0,"        ","        ;",0,"      ","      ",""]
[null,{"$f":"IF(A863=\"\",\"\",IF(ISERROR(VLOOKUP(A863,Articoli!$1:$48422,2,FALSE)),\"Codice Errato\",VLOOKUP(A863,Articoli!$1:$48422,2,FALSE)))","v":""},null,0,"        ","        ;",0,"      ","      ",""]
[null,{"$f":"IF(A864=\"\",\"\",IF(ISERROR(VLOOKUP(A864,Articoli!$1:$48422,2,FALSE)),\"Codice Errato\",VLOOKUP(A864,Articoli!$1:$48422,2,FALSE)))","v":""},null,0,"        ","        ;",0,"      ","      ",{"$f":"IF(C864=\"\",\"\",CONCATENATE(F864,I864))","v":""}]
[null,{"$f":"IF(A865=\"\",\"\",IF(ISERROR(VLOOKUP(A865,Articoli!$1:$48422,2,FALSE)),\"Codice Errato\",VLOOKUP(A865,Articoli!$1:$48422,2,FALSE)))","v":""},null,0,"        ","        ;",0,"      ","      ",""]
[null,{"$f":"IF(A866=\"\",\"\",IF(ISERROR(VLOOKUP(A866,Articoli!$1:$48422,2,FALSE)),\"Codice Errato\",VLOOKUP(A866,Articoli!$1:$48422,2,FALSE)))","v":""},null,0,"        ","        ;",0,"      ","      ",""]
[null,{"$f":"IF(A867=\"\",\"\",IF(ISERROR(VLOOKUP(A867,Articoli!$1:$48422,2,FALSE)),\"Codice Errato\",VLOOKUP(A867,Articoli!$1:$48422,2,FALSE)))","v":""},null,0,"        ","        ;",0,"      ","      ",""]
[null,{"$f":"IF(A868=\"\",\"\",IF(ISERROR(VLOOKUP(A868,Articoli!$1:$48422,2,FALSE)),\"Codice Errato\",VLOOKUP(A868,Articoli!$1:$48422,2,FALSE)))","v":""},null,0,"        ","        ;",0,"      ","      ",""]
[null,{"$f":"IF(A869=\"\",\"\",IF(ISERROR(VLOOKUP(A869,Articoli!$1:$48422,2,FALSE)),\"Codice Errato\",VLOOKUP(A869,Articoli!$1:$48422,2,FALSE)))","v":""},null,0,"        ","        ;",0,"      ","      ",""]
[null,{"$f":"IF(A870=\"\",\"\",IF(ISERROR(VLOOKUP(A870,Articoli!$1:$48422,2,FALSE)),\"Codice Errato\",VLOOKUP(A870,Articoli!$1:$48422,2,FALSE)))","v":""},null,0,"        ","        ;",0,"      ","      ",""]
[null,{"$f":"IF(A871=\"\",\"\",IF(ISERROR(VLOOKUP(A871,Articoli!$1:$48422,2,FALSE)),\"Codice Errato\",VLOOKUP(A871,Articoli!$1:$48422,2,FALSE)))","v":""},null,0,"        ","        ;",0,"      ","      ",""]
[null,{"$f":"IF(A872=\"\",\"\",IF(ISERROR(VLOOKUP(A872,Articoli!$1:$48422,2,FALSE)),\"Codice Errato\",VLOOKUP(A872,Articoli!$1:$48422,2,FALSE)))","v":""},null,0,"        ","        ;",0,"      ","      ",""]
[null,{"$f":"IF(A873=\"\",\"\",IF(ISERROR(VLOOKUP(A873,Articoli!$1:$48422,2,FALSE)),\"Codice Errato\",VLOOKUP(A873,Articoli!$1:$48422,2,FALSE)))","v":""},null,0,"        ","        ;",0,"      ","      ",""]
[null,{"$f":"IF(A874=\"\",\"\",IF(ISERROR(VLOOKUP(A874,Articoli!$1:$48422,2,FALSE)),\"Codice Errato\",VLOOKUP(A874,Articoli!$1:$48422,2,FALSE)))","v":""},null,0,"        ","        ;",0,"      ","      ",""]
[null,{"$f":"IF(A875=\"\",\"\",IF(ISERROR(VLOOKUP(A875,Articoli!$1:$48422,2,FALSE)),\"Codice Errato\",VLOOKUP(A875,Articoli!$1:$48422,2,FALSE)))","v":""},null,0,"        ","        ;",0,"      ","      ",""]
[null,{"$f":"IF(A876=\"\",\"\",IF(ISERROR(VLOOKUP(A876,Articoli!$1:$48422,2,FALSE)),\"Codice Errato\",VLOOKUP(A876,Articoli!$1:$48422,2,FALSE)))","v":""},null,0,"        ","        ;",0,"      ","      ",""]
[null,{"$f":"IF(A877=\"\",\"\",IF(ISERROR(VLOOKUP(A877,Articoli!$1:$48422,2,FALSE)),\"Codice Errato\",VLOOKUP(A877,Articoli!$1:$48422,2,FALSE)))","v":""},null,0,"        ","        ;",0,"      ","      ",""]
[null,{"$f":"IF(A878=\"\",\"\",IF(ISERROR(VLOOKUP(A878,Articoli!$1:$48422,2,FALSE)),\"Codice Errato\",VLOOKUP(A878,Articoli!$1:$48422,2,FALSE)))","v":""},null,0,"        ","        ;",0,"      ","      ",""]
[null,{"$f":"IF(A879=\"\",\"\",IF(ISERROR(VLOOKUP(A879,Articoli!$1:$48422,2,FALSE)),\"Codice Errato\",VLOOKUP(A879,Articoli!$1:$48422,2,FALSE)))","v":""},null,0,"        ","        ;",0,"      ","      ",""]
[null,{"$f":"IF(A880=\"\",\"\",IF(ISERROR(VLOOKUP(A880,Articoli!$1:$48422,2,FALSE)),\"Codice Errato\",VLOOKUP(A880,Articoli!$1:$48422,2,FALSE)))","v":""},null,0,"        ","        ;",0,"      ","      ",""]
[null,{"$f":"IF(A881=\"\",\"\",IF(ISERROR(VLOOKUP(A881,Articoli!$1:$48422,2,FALSE)),\"Codice Errato\",VLOOKUP(A881,Articoli!$1:$48422,2,FALSE)))","v":""},null,0,"        ","        ;",0,"      ","      ",""]
[null,{"$f":"IF(A882=\"\",\"\",IF(ISERROR(VLOOKUP(A882,Articoli!$1:$48422,2,FALSE)),\"Codice Errato\",VLOOKUP(A882,Articoli!$1:$48422,2,FALSE)))","v":""},null,{"$f":"LEN(A882)","v":0},{"$f":"REPT(\" \",8-D882)","v":"        "},{"$f":"CONCATENATE(A882,E882,\";\",)","v":"        ;"},{"$f":"LEN(C882)","v":0},{"$f":"REPT(\" \",6-G882)","v":"      "},{"$f":"CONCATENATE(H882,C882,)","v":"      "},""]
[null,{"$f":"IF(A883=\"\",\"\",IF(ISERROR(VLOOKUP(A883,Articoli!$1:$48422,2,FALSE)),\"Codice Errato\",VLOOKUP(A883,Articoli!$1:$48422,2,FALSE)))","v":""},null,0,"        ","        ;",0,"      ","      ",""]
[null,{"$f":"IF(A884=\"\",\"\",IF(ISERROR(VLOOKUP(A884,Articoli!$1:$48422,2,FALSE)),\"Codice Errato\",VLOOKUP(A884,Articoli!$1:$48422,2,FALSE)))","v":""},null,0,"        ","        ;",0,"      ","      ",""]
[null,{"$f":"IF(A885=\"\",\"\",IF(ISERROR(VLOOKUP(A885,Articoli!$1:$48422,2,FALSE)),\"Codice Errato\",VLOOKUP(A885,Articoli!$1:$48422,2,FALSE)))","v":""},null,0,"        ","        ;",0,"      ","      ",""]
[null,{"$f":"IF(A886=\"\",\"\",IF(ISERROR(VLOOKUP(A886,Articoli!$1:$48422,2,FALSE)),\"Codice Errato\",VLOOKUP(A886,Articoli!$1:$48422,2,FALSE)))","v":""},null,0,"        ","        ;",0,"      ","      ",""]
[null,{"$f":"IF(A887=\"\",\"\",IF(ISERROR(VLOOKUP(A887,Articoli!$1:$48422,2,FALSE)),\"Codice Errato\",VLOOKUP(A887,Articoli!$1:$48422,2,FALSE)))","v":""},null,0,"        ","        ;",0,"      ","      ",""]
[null,{"$f":"IF(A888=\"\",\"\",IF(ISERROR(VLOOKUP(A888,Articoli!$1:$48422,2,FALSE)),\"Codice Errato\",VLOOKUP(A888,Articoli!$1:$48422,2,FALSE)))","v":""},null,0,"        ","        ;",0,"      ","      ",""]
[null,{"$f":"IF(A889=\"\",\"\",IF(ISERROR(VLOOKUP(A889,Articoli!$1:$48422,2,FALSE)),\"Codice Errato\",VLOOKUP(A889,Articoli!$1:$48422,2,FALSE)))","v":""},null,0,"        ","        ;",0,"      ","      ",""]
[null,{"$f":"IF(A890=\"\",\"\",IF(ISERROR(VLOOKUP(A890,Articoli!$1:$48422,2,FALSE)),\"Codice Errato\",VLOOKUP(A890,Articoli!$1:$48422,2,FALSE)))","v":""},null,0,"        ","        ;",0,"      ","      ",""]
[null,{"$f":"IF(A891=\"\",\"\",IF(ISERROR(VLOOKUP(A891,Articoli!$1:$48422,2,FALSE)),\"Codice Errato\",VLOOKUP(A891,Articoli!$1:$48422,2,FALSE)))","v":""},null,0,"        ","        ;",0,"      ","      ",""]
[null,{"$f":"IF(A892=\"\",\"\",IF(ISERROR(VLOOKUP(A892,Articoli!$1:$48422,2,FALSE)),\"Codice Errato\",VLOOKUP(A892,Articoli!$1:$48422,2,FALSE)))","v":""},null,0,"        ","        ;",0,"      ","      ",""]
[null,{"$f":"IF(A893=\"\",\"\",IF(ISERROR(VLOOKUP(A893,Articoli!$1:$48422,2,FALSE)),\"Codice Errato\",VLOOKUP(A893,Articoli!$1:$48422,2,FALSE)))","v":""},null,0,"        ","        ;",0,"      ","      ",""]
[null,{"$f":"IF(A894=\"\",\"\",IF(ISERROR(VLOOKUP(A894,Articoli!$1:$48422,2,FALSE)),\"Codice Errato\",VLOOKUP(A894,Articoli!$1:$48422,2,FALSE)))","v":""},null,0,"        ","        ;",0,"      ","      ",""]
[null,{"$f":"IF(A895=\"\",\"\",IF(ISERROR(VLOOKUP(A895,Articoli!$1:$48422,2,FALSE)),\"Codice Errato\",VLOOKUP(A895,Articoli!$1:$48422,2,FALSE)))","v":""},null,0,"        ","        ;",0,"      ","      ",""]
[null,{"$f":"IF(A896=\"\",\"\",IF(ISERROR(VLOOKUP(A896,Articoli!$1:$48422,2,FALSE)),\"Codice Errato\",VLOOKUP(A896,Articoli!$1:$48422,2,FALSE)))","v":""},null,0,"        ","        ;",0,"      ","      ",""]
[null,{"$f":"IF(A897=\"\",\"\",IF(ISERROR(VLOOKUP(A897,Articoli!$1:$48422,2,FALSE)),\"Codice Errato\",VLOOKUP(A897,Articoli!$1:$48422,2,FALSE)))","v":""},null,0,"        ","        ;",0,"      ","      ",""]
[null,{"$f":"IF(A898=\"\",\"\",IF(ISERROR(VLOOKUP(A898,Articoli!$1:$48422,2,FALSE)),\"Codice Errato\",VLOOKUP(A898,Articoli!$1:$48422,2,FALSE)))","v":""},null,0,"        ","        ;",0,"      ","      ",""]
[null,{"$f":"IF(A899=\"\",\"\",IF(ISERROR(VLOOKUP(A899,Articoli!$1:$48422,2,FALSE)),\"Codice Errato\",VLOOKUP(A899,Articoli!$1:$48422,2,FALSE)))","v":""},null,0,"        ","        ;",0,"      ","      ",""]
[null,{"$f":"IF(A900=\"\",\"\",IF(ISERROR(VLOOKUP(A900,Articoli!$1:$48422,2,FALSE)),\"Codice Errato\",VLOOKUP(A900,Articoli!$1:$48422,2,FALSE)))","v":""},null,0,"        ","        ;",0,"      ","      ",""]
[null,{"$f":"IF(A901=\"\",\"\",IF(ISERROR(VLOOKUP(A901,Articoli!$1:$48422,2,FALSE)),\"Codice Errato\",VLOOKUP(A901,Articoli!$1:$48422,2,FALSE)))","v":""},null,0,"        ","        ;",0,"      ","      ",""]
[null,{"$f":"IF(A902=\"\",\"\",IF(ISERROR(VLOOKUP(A902,Articoli!$1:$48422,2,FALSE)),\"Codice Errato\",VLOOKUP(A902,Articoli!$1:$48422,2,FALSE)))","v":""},null,0,"        ","        ;",0,"      ","      ",""]
[null,{"$f":"IF(A903=\"\",\"\",IF(ISERROR(VLOOKUP(A903,Articoli!$1:$48422,2,FALSE)),\"Codice Errato\",VLOOKUP(A903,Articoli!$1:$48422,2,FALSE)))","v":""},null,0,"        ","        ;",0,"      ","      ",""]
[null,{"$f":"IF(A904=\"\",\"\",IF(ISERROR(VLOOKUP(A904,Articoli!$1:$48422,2,FALSE)),\"Codice Errato\",VLOOKUP(A904,Articoli!$1:$48422,2,FALSE)))","v":""},null,0,"        ","        ;",0,"      ","      ",""]
[null,{"$f":"IF(A905=\"\",\"\",IF(ISERROR(VLOOKUP(A905,Articoli!$1:$48422,2,FALSE)),\"Codice Errato\",VLOOKUP(A905,Articoli!$1:$48422,2,FALSE)))","v":""},null,0,"        ","        ;",0,"      ","      ",""]
[null,{"$f":"IF(A906=\"\",\"\",IF(ISERROR(VLOOKUP(A906,Articoli!$1:$48422,2,FALSE)),\"Codice Errato\",VLOOKUP(A906,Articoli!$1:$48422,2,FALSE)))","v":""},null,0,"        ","        ;",0,"      ","      ",""]
[null,{"$f":"IF(A907=\"\",\"\",IF(ISERROR(VLOOKUP(A907,Articoli!$1:$48422,2,FALSE)),\"Codice Errato\",VLOOKUP(A907,Articoli!$1:$48422,2,FALSE)))","v":""},null,0,"        ","        ;",0,"      ","      ",""]
[null,{"$f":"IF(A908=\"\",\"\",IF(ISERROR(VLOOKUP(A908,Articoli!$1:$48422,2,FALSE)),\"Codice Errato\",VLOOKUP(A908,Articoli!$1:$48422,2,FALSE)))","v":""},null,0,"        ","        ;",0,"      ","      ",""]
[null,{"$f":"IF(A909=\"\",\"\",IF(ISERROR(VLOOKUP(A909,Articoli!$1:$48422,2,FALSE)),\"Codice Errato\",VLOOKUP(A909,Articoli!$1:$48422,2,FALSE)))","v":""},null,0,"        ","        ;",0,"      ","      ",""]
[null,{"$f":"IF(A910=\"\",\"\",IF(ISERROR(VLOOKUP(A910,Articoli!$1:$48422,2,FALSE)),\"Codice Errato\",VLOOKUP(A910,Articoli!$1:$48422,2,FALSE)))","v":""},null,0,"        ","        ;",0,"      ","      ",""]
[null,{"$f":"IF(A911=\"\",\"\",IF(ISERROR(VLOOKUP(A911,Articoli!$1:$48422,2,FALSE)),\"Codice Errato\",VLOOKUP(A911,Articoli!$1:$48422,2,FALSE)))","v":""},null,0,"        ","        ;",0,"      ","      ",""]
[null,{"$f":"IF(A912=\"\",\"\",IF(ISERROR(VLOOKUP(A912,Articoli!$1:$48422,2,FALSE)),\"Codice Errato\",VLOOKUP(A912,Articoli!$1:$48422,2,FALSE)))","v":""},null,0,"        ","        ;",0,"      ","      ",""]
[null,{"$f":"IF(A913=\"\",\"\",IF(ISERROR(VLOOKUP(A913,Articoli!$1:$48422,2,FALSE)),\"Codice Errato\",VLOOKUP(A913,Articoli!$1:$48422,2,FALSE)))","v":""},null,0,"        ","        ;",0,"      ","      ",""]
[null,{"$f":"IF(A914=\"\",\"\",IF(ISERROR(VLOOKUP(A914,Articoli!$1:$48422,2,FALSE)),\"Codice Errato\",VLOOKUP(A914,Articoli!$1:$48422,2,FALSE)))","v":""},null,0,"        ","        ;",0,"      ","      ",""]
[null,{"$f":"IF(A915=\"\",\"\",IF(ISERROR(VLOOKUP(A915,Articoli!$1:$48422,2,FALSE)),\"Codice Errato\",VLOOKUP(A915,Articoli!$1:$48422,2,FALSE)))","v":""},null,0,"        ","        ;",0,"      ","      ",""]
[null,{"$f":"IF(A916=\"\",\"\",IF(ISERROR(VLOOKUP(A916,Articoli!$1:$48422,2,FALSE)),\"Codice Errato\",VLOOKUP(A916,Articoli!$1:$48422,2,FALSE)))","v":""},null,0,"        ","        ;",0,"      ","      ",""]
[null,{"$f":"IF(A917=\"\",\"\",IF(ISERROR(VLOOKUP(A917,Articoli!$1:$48422,2,FALSE)),\"Codice Errato\",VLOOKUP(A917,Articoli!$1:$48422,2,FALSE)))","v":""},null,0,"        ","        ;",0,"      ","      ",""]
[null,{"$f":"IF(A918=\"\",\"\",IF(ISERROR(VLOOKUP(A918,Articoli!$1:$48422,2,FALSE)),\"Codice Errato\",VLOOKUP(A918,Articoli!$1:$48422,2,FALSE)))","v":""},null,0,"        ","        ;",0,"      ","      ",""]
[null,{"$f":"IF(A919=\"\",\"\",IF(ISERROR(VLOOKUP(A919,Articoli!$1:$48422,2,FALSE)),\"Codice Errato\",VLOOKUP(A919,Articoli!$1:$48422,2,FALSE)))","v":""},null,0,"        ","        ;",0,"      ","      ",""]
[null,{"$f":"IF(A920=\"\",\"\",IF(ISERROR(VLOOKUP(A920,Articoli!$1:$48422,2,FALSE)),\"Codice Errato\",VLOOKUP(A920,Articoli!$1:$48422,2,FALSE)))","v":""},null,0,"        ","        ;",0,"      ","      ",""]
[null,{"$f":"IF(A921=\"\",\"\",IF(ISERROR(VLOOKUP(A921,Articoli!$1:$48422,2,FALSE)),\"Codice Errato\",VLOOKUP(A921,Articoli!$1:$48422,2,FALSE)))","v":""},null,0,"        ","        ;",0,"      ","      ",""]
[null,{"$f":"IF(A922=\"\",\"\",IF(ISERROR(VLOOKUP(A922,Articoli!$1:$48422,2,FALSE)),\"Codice Errato\",VLOOKUP(A922,Articoli!$1:$48422,2,FALSE)))","v":""},null,0,"        ","        ;",0,"      ","      ",""]
[null,{"$f":"IF(A923=\"\",\"\",IF(ISERROR(VLOOKUP(A923,Articoli!$1:$48422,2,FALSE)),\"Codice Errato\",VLOOKUP(A923,Articoli!$1:$48422,2,FALSE)))","v":""},null,0,"        ","        ;",0,"      ","      ",""]
[null,{"$f":"IF(A924=\"\",\"\",IF(ISERROR(VLOOKUP(A924,Articoli!$1:$48422,2,FALSE)),\"Codice Errato\",VLOOKUP(A924,Articoli!$1:$48422,2,FALSE)))","v":""},null,0,"        ","        ;",0,"      ","      ",""]
[null,{"$f":"IF(A925=\"\",\"\",IF(ISERROR(VLOOKUP(A925,Articoli!$1:$48422,2,FALSE)),\"Codice Errato\",VLOOKUP(A925,Articoli!$1:$48422,2,FALSE)))","v":""},null,0,"        ","        ;",0,"      ","      ",""]
[null,{"$f":"IF(A926=\"\",\"\",IF(ISERROR(VLOOKUP(A926,Articoli!$1:$48422,2,FALSE)),\"Codice Errato\",VLOOKUP(A926,Articoli!$1:$48422,2,FALSE)))","v":""},null,0,"        ","        ;",0,"      ","      ",""]
[null,{"$f":"IF(A927=\"\",\"\",IF(ISERROR(VLOOKUP(A927,Articoli!$1:$48422,2,FALSE)),\"Codice Errato\",VLOOKUP(A927,Articoli!$1:$48422,2,FALSE)))","v":""},null,0,"        ","        ;",0,"      ","      ",""]
[null,{"$f":"IF(A928=\"\",\"\",IF(ISERROR(VLOOKUP(A928,Articoli!$1:$48422,2,FALSE)),\"Codice Errato\",VLOOKUP(A928,Articoli!$1:$48422,2,FALSE)))","v":""},null,0,"        ","        ;",0,"      ","      ",{"$f":"IF(C928=\"\",\"\",CONCATENATE(F928,I928))","v":""}]
[null,{"$f":"IF(A929=\"\",\"\",IF(ISERROR(VLOOKUP(A929,Articoli!$1:$48422,2,FALSE)),\"Codice Errato\",VLOOKUP(A929,Articoli!$1:$48422,2,FALSE)))","v":""},null,0,"        ","        ;",0,"      ","      ",""]
[null,{"$f":"IF(A930=\"\",\"\",IF(ISERROR(VLOOKUP(A930,Articoli!$1:$48422,2,FALSE)),\"Codice Errato\",VLOOKUP(A930,Articoli!$1:$48422,2,FALSE)))","v":""},null,0,"        ","        ;",0,"      ","      ",""]
[null,{"$f":"IF(A931=\"\",\"\",IF(ISERROR(VLOOKUP(A931,Articoli!$1:$48422,2,FALSE)),\"Codice Errato\",VLOOKUP(A931,Articoli!$1:$48422,2,FALSE)))","v":""},null,0,"        ","        ;",0,"      ","      ",""]
[null,{"$f":"IF(A932=\"\",\"\",IF(ISERROR(VLOOKUP(A932,Articoli!$1:$48422,2,FALSE)),\"Codice Errato\",VLOOKUP(A932,Articoli!$1:$48422,2,FALSE)))","v":""},null,0,"        ","        ;",0,"      ","      ",""]
[null,{"$f":"IF(A933=\"\",\"\",IF(ISERROR(VLOOKUP(A933,Articoli!$1:$48422,2,FALSE)),\"Codice Errato\",VLOOKUP(A933,Articoli!$1:$48422,2,FALSE)))","v":""},null,0,"        ","        ;",0,"      ","      ",""]
[null,{"$f":"IF(A934=\"\",\"\",IF(ISERROR(VLOOKUP(A934,Articoli!$1:$48422,2,FALSE)),\"Codice Errato\",VLOOKUP(A934,Articoli!$1:$48422,2,FALSE)))","v":""},null,0,"        ","        ;",0,"      ","      ",""]
[null,{"$f":"IF(A935=\"\",\"\",IF(ISERROR(VLOOKUP(A935,Articoli!$1:$48422,2,FALSE)),\"Codice Errato\",VLOOKUP(A935,Articoli!$1:$48422,2,FALSE)))","v":""},null,0,"        ","        ;",0,"      ","      ",""]
[null,{"$f":"IF(A936=\"\",\"\",IF(ISERROR(VLOOKUP(A936,Articoli!$1:$48422,2,FALSE)),\"Codice Errato\",VLOOKUP(A936,Articoli!$1:$48422,2,FALSE)))","v":""},null,0,"        ","        ;",0,"      ","      ",""]
[null,{"$f":"IF(A937=\"\",\"\",IF(ISERROR(VLOOKUP(A937,Articoli!$1:$48422,2,FALSE)),\"Codice Errato\",VLOOKUP(A937,Articoli!$1:$48422,2,FALSE)))","v":""},null,0,"        ","        ;",0,"      ","      ",""]
[null,{"$f":"IF(A938=\"\",\"\",IF(ISERROR(VLOOKUP(A938,Articoli!$1:$48422,2,FALSE)),\"Codice Errato\",VLOOKUP(A938,Articoli!$1:$48422,2,FALSE)))","v":""},null,0,"        ","        ;",0,"      ","      ",""]
[null,{"$f":"IF(A939=\"\",\"\",IF(ISERROR(VLOOKUP(A939,Articoli!$1:$48422,2,FALSE)),\"Codice Errato\",VLOOKUP(A939,Articoli!$1:$48422,2,FALSE)))","v":""},null,0,"        ","        ;",0,"      ","      ",""]
[null,{"$f":"IF(A940=\"\",\"\",IF(ISERROR(VLOOKUP(A940,Articoli!$1:$48422,2,FALSE)),\"Codice Errato\",VLOOKUP(A940,Articoli!$1:$48422,2,FALSE)))","v":""},null,0,"        ","        ;",0,"      ","      ",""]
[null,{"$f":"IF(A941=\"\",\"\",IF(ISERROR(VLOOKUP(A941,Articoli!$1:$48422,2,FALSE)),\"Codice Errato\",VLOOKUP(A941,Articoli!$1:$48422,2,FALSE)))","v":""},null,0,"        ","        ;",0,"      ","      ",""]
[null,{"$f":"IF(A942=\"\",\"\",IF(ISERROR(VLOOKUP(A942,Articoli!$1:$48422,2,FALSE)),\"Codice Errato\",VLOOKUP(A942,Articoli!$1:$48422,2,FALSE)))","v":""},null,0,"        ","        ;",0,"      ","      ",""]
[null,{"$f":"IF(A943=\"\",\"\",IF(ISERROR(VLOOKUP(A943,Articoli!$1:$48422,2,FALSE)),\"Codice Errato\",VLOOKUP(A943,Articoli!$1:$48422,2,FALSE)))","v":""},null,0,"        ","        ;",0,"      ","      ",""]
[null,{"$f":"IF(A944=\"\",\"\",IF(ISERROR(VLOOKUP(A944,Articoli!$1:$48422,2,FALSE)),\"Codice Errato\",VLOOKUP(A944,Articoli!$1:$48422,2,FALSE)))","v":""},null,0,"        ","        ;",0,"      ","      ",""]
[null,{"$f":"IF(A945=\"\",\"\",IF(ISERROR(VLOOKUP(A945,Articoli!$1:$48422,2,FALSE)),\"Codice Errato\",VLOOKUP(A945,Articoli!$1:$48422,2,FALSE)))","v":""},null,0,"        ","        ;",0,"      ","      ",""]
[null,{"$f":"IF(A946=\"\",\"\",IF(ISERROR(VLOOKUP(A946,Articoli!$1:$48422,2,FALSE)),\"Codice Errato\",VLOOKUP(A946,Articoli!$1:$48422,2,FALSE)))","v":""},null,{"$f":"LEN(A946)","v":0},{"$f":"REPT(\" \",8-D946)","v":"        "},{"$f":"CONCATENATE(A946,E946,\";\",)","v":"        ;"},{"$f":"LEN(C946)","v":0},{"$f":"REPT(\" \",6-G946)","v":"      "},{"$f":"CONCATENATE(H946,C946,)","v":"      "},""]
[null,{"$f":"IF(A947=\"\",\"\",IF(ISERROR(VLOOKUP(A947,Articoli!$1:$48422,2,FALSE)),\"Codice Errato\",VLOOKUP(A947,Articoli!$1:$48422,2,FALSE)))","v":""},null,0,"        ","        ;",0,"      ","      ",""]
[null,{"$f":"IF(A948=\"\",\"\",IF(ISERROR(VLOOKUP(A948,Articoli!$1:$48422,2,FALSE)),\"Codice Errato\",VLOOKUP(A948,Articoli!$1:$48422,2,FALSE)))","v":""},null,0,"        ","        ;",0,"      ","      ",""]
[null,{"$f":"IF(A949=\"\",\"\",IF(ISERROR(VLOOKUP(A949,Articoli!$1:$48422,2,FALSE)),\"Codice Errato\",VLOOKUP(A949,Articoli!$1:$48422,2,FALSE)))","v":""},null,0,"        ","        ;",0,"      ","      ",""]
[null,{"$f":"IF(A950=\"\",\"\",IF(ISERROR(VLOOKUP(A950,Articoli!$1:$48422,2,FALSE)),\"Codice Errato\",VLOOKUP(A950,Articoli!$1:$48422,2,FALSE)))","v":""},null,0,"        ","        ;",0,"      ","      ",""]
[null,{"$f":"IF(A951=\"\",\"\",IF(ISERROR(VLOOKUP(A951,Articoli!$1:$48422,2,FALSE)),\"Codice Errato\",VLOOKUP(A951,Articoli!$1:$48422,2,FALSE)))","v":""},null,0,"        ","        ;",0,"      ","      ",""]
[null,{"$f":"IF(A952=\"\",\"\",IF(ISERROR(VLOOKUP(A952,Articoli!$1:$48422,2,FALSE)),\"Codice Errato\",VLOOKUP(A952,Articoli!$1:$48422,2,FALSE)))","v":""},null,0,"        ","        ;",0,"      ","      ",""]
[null,{"$f":"IF(A953=\"\",\"\",IF(ISERROR(VLOOKUP(A953,Articoli!$1:$48422,2,FALSE)),\"Codice Errato\",VLOOKUP(A953,Articoli!$1:$48422,2,FALSE)))","v":""},null,0,"        ","        ;",0,"      ","      ",""]
[null,{"$f":"IF(A954=\"\",\"\",IF(ISERROR(VLOOKUP(A954,Articoli!$1:$48422,2,FALSE)),\"Codice Errato\",VLOOKUP(A954,Articoli!$1:$48422,2,FALSE)))","v":""},null,0,"        ","        ;",0,"      ","      ",""]
[null,{"$f":"IF(A955=\"\",\"\",IF(ISERROR(VLOOKUP(A955,Articoli!$1:$48422,2,FALSE)),\"Codice Errato\",VLOOKUP(A955,Articoli!$1:$48422,2,FALSE)))","v":""},null,0,"        ","        ;",0,"      ","      ",""]
[null,{"$f":"IF(A956=\"\",\"\",IF(ISERROR(VLOOKUP(A956,Articoli!$1:$48422,2,FALSE)),\"Codice Errato\",VLOOKUP(A956,Articoli!$1:$48422,2,FALSE)))","v":""},null,0,"        ","        ;",0,"      ","      ",""]
[null,{"$f":"IF(A957=\"\",\"\",IF(ISERROR(VLOOKUP(A957,Articoli!$1:$48422,2,FALSE)),\"Codice Errato\",VLOOKUP(A957,Articoli!$1:$48422,2,FALSE)))","v":""},null,0,"        ","        ;",0,"      ","      ",""]
[null,{"$f":"IF(A958=\"\",\"\",IF(ISERROR(VLOOKUP(A958,Articoli!$1:$48422,2,FALSE)),\"Codice Errato\",VLOOKUP(A958,Articoli!$1:$48422,2,FALSE)))","v":""},null,0,"        ","        ;",0,"      ","      ",""]
[null,{"$f":"IF(A959=\"\",\"\",IF(ISERROR(VLOOKUP(A959,Articoli!$1:$48422,2,FALSE)),\"Codice Errato\",VLOOKUP(A959,Articoli!$1:$48422,2,FALSE)))","v":""},null,0,"        ","        ;",0,"      ","      ",""]
[null,{"$f":"IF(A960=\"\",\"\",IF(ISERROR(VLOOKUP(A960,Articoli!$1:$48422,2,FALSE)),\"Codice Errato\",VLOOKUP(A960,Articoli!$1:$48422,2,FALSE)))","v":""},null,0,"        ","        ;",0,"      ","      ",""]
[null,{"$f":"IF(A961=\"\",\"\",IF(ISERROR(VLOOKUP(A961,Articoli!$1:$48422,2,FALSE)),\"Codice Errato\",VLOOKUP(A961,Articoli!$1:$48422,2,FALSE)))","v":""},null,0,"        ","        ;",0,"      ","      ",""]
[null,{"$f":"IF(A962=\"\",\"\",IF(ISERROR(VLOOKUP(A962,Articoli!$1:$48422,2,FALSE)),\"Codice Errato\",VLOOKUP(A962,Articoli!$1:$48422,2,FALSE)))","v":""},null,0,"        ","        ;",0,"      ","      ",""]
[null,{"$f":"IF(A963=\"\",\"\",IF(ISERROR(VLOOKUP(A963,Articoli!$1:$48422,2,FALSE)),\"Codice Errato\",VLOOKUP(A963,Articoli!$1:$48422,2,FALSE)))","v":""},null,0,"        ","        ;",0,"      ","      ",""]
[null,{"$f":"IF(A964=\"\",\"\",IF(ISERROR(VLOOKUP(A964,Articoli!$1:$48422,2,FALSE)),\"Codice Errato\",VLOOKUP(A964,Articoli!$1:$48422,2,FALSE)))","v":""},null,0,"        ","        ;",0,"      ","      ",""]
[null,{"$f":"IF(A965=\"\",\"\",IF(ISERROR(VLOOKUP(A965,Articoli!$1:$48422,2,FALSE)),\"Codice Errato\",VLOOKUP(A965,Articoli!$1:$48422,2,FALSE)))","v":""},null,0,"        ","        ;",0,"      ","      ",""]
[null,{"$f":"IF(A966=\"\",\"\",IF(ISERROR(VLOOKUP(A966,Articoli!$1:$48422,2,FALSE)),\"Codice Errato\",VLOOKUP(A966,Articoli!$1:$48422,2,FALSE)))","v":""},null,0,"        ","        ;",0,"      ","      ",""]
[null,{"$f":"IF(A967=\"\",\"\",IF(ISERROR(VLOOKUP(A967,Articoli!$1:$48422,2,FALSE)),\"Codice Errato\",VLOOKUP(A967,Articoli!$1:$48422,2,FALSE)))","v":""},null,0,"        ","        ;",0,"      ","      ",""]
[null,{"$f":"IF(A968=\"\",\"\",IF(ISERROR(VLOOKUP(A968,Articoli!$1:$48422,2,FALSE)),\"Codice Errato\",VLOOKUP(A968,Articoli!$1:$48422,2,FALSE)))","v":""},null,0,"        ","        ;",0,"      ","      ",""]
[null,{"$f":"IF(A969=\"\",\"\",IF(ISERROR(VLOOKUP(A969,Articoli!$1:$48422,2,FALSE)),\"Codice Errato\",VLOOKUP(A969,Articoli!$1:$48422,2,FALSE)))","v":""},null,0,"        ","        ;",0,"      ","      ",""]
[null,{"$f":"IF(A970=\"\",\"\",IF(ISERROR(VLOOKUP(A970,Articoli!$1:$48422,2,FALSE)),\"Codice Errato\",VLOOKUP(A970,Articoli!$1:$48422,2,FALSE)))","v":""},null,0,"        ","        ;",0,"      ","      ",""]
[null,{"$f":"IF(A971=\"\",\"\",IF(ISERROR(VLOOKUP(A971,Articoli!$1:$48422,2,FALSE)),\"Codice Errato\",VLOOKUP(A971,Articoli!$1:$48422,2,FALSE)))","v":""},null,0,"        ","        ;",0,"      ","      ",""]
[null,{"$f":"IF(A972=\"\",\"\",IF(ISERROR(VLOOKUP(A972,Articoli!$1:$48422,2,FALSE)),\"Codice Errato\",VLOOKUP(A972,Articoli!$1:$48422,2,FALSE)))","v":""},null,0,"        ","        ;",0,"      ","      ",""]
[null,{"$f":"IF(A973=\"\",\"\",IF(ISERROR(VLOOKUP(A973,Articoli!$1:$48422,2,FALSE)),\"Codice Errato\",VLOOKUP(A973,Articoli!$1:$48422,2,FALSE)))","v":""},null,0,"        ","        ;",0,"      ","      ",""]
[null,{"$f":"IF(A974=\"\",\"\",IF(ISERROR(VLOOKUP(A974,Articoli!$1:$48422,2,FALSE)),\"Codice Errato\",VLOOKUP(A974,Articoli!$1:$48422,2,FALSE)))","v":""},null,0,"        ","        ;",0,"      ","      ",""]
[null,{"$f":"IF(A975=\"\",\"\",IF(ISERROR(VLOOKUP(A975,Articoli!$1:$48422,2,FALSE)),\"Codice Errato\",VLOOKUP(A975,Articoli!$1:$48422,2,FALSE)))","v":""},null,0,"        ","        ;",0,"      ","      ",""]
[null,{"$f":"IF(A976=\"\",\"\",IF(ISERROR(VLOOKUP(A976,Articoli!$1:$48422,2,FALSE)),\"Codice Errato\",VLOOKUP(A976,Articoli!$1:$48422,2,FALSE)))","v":""},null,0,"        ","        ;",0,"      ","      ",""]
[null,{"$f":"IF(A977=\"\",\"\",IF(ISERROR(VLOOKUP(A977,Articoli!$1:$48422,2,FALSE)),\"Codice Errato\",VLOOKUP(A977,Articoli!$1:$48422,2,FALSE)))","v":""},null,0,"        ","        ;",0,"      ","      ",""]
[null,{"$f":"IF(A978=\"\",\"\",IF(ISERROR(VLOOKUP(A978,Articoli!$1:$48422,2,FALSE)),\"Codice Errato\",VLOOKUP(A978,Articoli!$1:$48422,2,FALSE)))","v":""},null,0,"        ","        ;",0,"      ","      ",""]
[null,{"$f":"IF(A979=\"\",\"\",IF(ISERROR(VLOOKUP(A979,Articoli!$1:$48422,2,FALSE)),\"Codice Errato\",VLOOKUP(A979,Articoli!$1:$48422,2,FALSE)))","v":""},null,0,"        ","        ;",0,"      ","      ",""]
[null,{"$f":"IF(A980=\"\",\"\",IF(ISERROR(VLOOKUP(A980,Articoli!$1:$48422,2,FALSE)),\"Codice Errato\",VLOOKUP(A980,Articoli!$1:$48422,2,FALSE)))","v":""},null,0,"        ","        ;",0,"      ","      ",""]
[null,{"$f":"IF(A981=\"\",\"\",IF(ISERROR(VLOOKUP(A981,Articoli!$1:$48422,2,FALSE)),\"Codice Errato\",VLOOKUP(A981,Articoli!$1:$48422,2,FALSE)))","v":""},null,0,"        ","        ;",0,"      ","      ",""]
[null,{"$f":"IF(A982=\"\",\"\",IF(ISERROR(VLOOKUP(A982,Articoli!$1:$48422,2,FALSE)),\"Codice Errato\",VLOOKUP(A982,Articoli!$1:$48422,2,FALSE)))","v":""},null,0,"        ","        ;",0,"      ","      ",""]
[null,{"$f":"IF(A983=\"\",\"\",IF(ISERROR(VLOOKUP(A983,Articoli!$1:$48422,2,FALSE)),\"Codice Errato\",VLOOKUP(A983,Articoli!$1:$48422,2,FALSE)))","v":""},null,0,"        ","        ;",0,"      ","      ",""]
[null,{"$f":"IF(A984=\"\",\"\",IF(ISERROR(VLOOKUP(A984,Articoli!$1:$48422,2,FALSE)),\"Codice Errato\",VLOOKUP(A984,Articoli!$1:$48422,2,FALSE)))","v":""},null,0,"        ","        ;",0,"      ","      ",""]
[null,{"$f":"IF(A985=\"\",\"\",IF(ISERROR(VLOOKUP(A985,Articoli!$1:$48422,2,FALSE)),\"Codice Errato\",VLOOKUP(A985,Articoli!$1:$48422,2,FALSE)))","v":""},null,0,"        ","        ;",0,"      ","      ",""]
[null,{"$f":"IF(A986=\"\",\"\",IF(ISERROR(VLOOKUP(A986,Articoli!$1:$48422,2,FALSE)),\"Codice Errato\",VLOOKUP(A986,Articoli!$1:$48422,2,FALSE)))","v":""},null,0,"        ","        ;",0,"      ","      ",""]
[null,{"$f":"IF(A987=\"\",\"\",IF(ISERROR(VLOOKUP(A987,Articoli!$1:$48422,2,FALSE)),\"Codice Errato\",VLOOKUP(A987,Articoli!$1:$48422,2,FALSE)))","v":""},null,0,"        ","        ;",0,"      ","      ",""]
[null,{"$f":"IF(A988=\"\",\"\",IF(ISERROR(VLOOKUP(A988,Articoli!$1:$48422,2,FALSE)),\"Codice Errato\",VLOOKUP(A988,Articoli!$1:$48422,2,FALSE)))","v":""},null,0,"        ","        ;",0,"      ","      ",""]
[null,{"$f":"IF(A989=\"\",\"\",IF(ISERROR(VLOOKUP(A989,Articoli!$1:$48422,2,FALSE)),\"Codice Errato\",VLOOKUP(A989,Articoli!$1:$48422,2,FALSE)))","v":""},null,0,"        ","        ;",0,"      ","      ",""]
[null,{"$f":"IF(A990=\"\",\"\",IF(ISERROR(VLOOKUP(A990,Articoli!$1:$48422,2,FALSE)),\"Codice Errato\",VLOOKUP(A990,Articoli!$1:$48422,2,FALSE)))","v":""},null,0,"        ","        ;",0,"      ","      ",""]
[null,{"$f":"IF(A991=\"\",\"\",IF(ISERROR(VLOOKUP(A991,Articoli!$1:$48422,2,FALSE)),\"Codice Errato\",VLOOKUP(A991,Articoli!$1:$48422,2,FALSE)))","v":""},null,0,"        ","        ;",0,"      ","      ",""]
[null,{"$f":"IF(A992=\"\",\"\",IF(ISERROR(VLOOKUP(A992,Articoli!$1:$48422,2,FALSE)),\"Codice Errato\",VLOOKUP(A992,Articoli!$1:$48422,2,FALSE)))","v":""},null,0,"        ","        ;",0,"      ","      ",{"$f":"IF(C992=\"\",\"\",CONCATENATE(F992,I992))","v":""}]
[null,{"$f":"IF(A993=\"\",\"\",IF(ISERROR(VLOOKUP(A993,Articoli!$1:$48422,2,FALSE)),\"Codice Errato\",VLOOKUP(A993,Articoli!$1:$48422,2,FALSE)))","v":""},null,0,"        ","        ;",0,"      ","      ",""]
[null,{"$f":"IF(A994=\"\",\"\",IF(ISERROR(VLOOKUP(A994,Articoli!$1:$48422,2,FALSE)),\"Codice Errato\",VLOOKUP(A994,Articoli!$1:$48422,2,FALSE)))","v":""},null,0,"        ","        ;",0,"      ","      ",""]
[null,{"$f":"IF(A995=\"\",\"\",IF(ISERROR(VLOOKUP(A995,Articoli!$1:$48422,2,FALSE)),\"Codice Errato\",VLOOKUP(A995,Articoli!$1:$48422,2,FALSE)))","v":""},null,0,"        ","        ;",0,"      ","      ",""]
[null,{"$f":"IF(A996=\"\",\"\",IF(ISERROR(VLOOKUP(A996,Articoli!$1:$48422,2,FALSE)),\"Codice Errato\",VLOOKUP(A996,Articoli!$1:$48422,2,FALSE)))","v":""},null,0,"        ","        ;",0,"      ","      ",""]
[null,{"$f":"IF(A997=\"\",\"\",IF(ISERROR(VLOOKUP(A997,Articoli!$1:$48422,2,FALSE)),\"Codice Errato\",VLOOKUP(A997,Articoli!$1:$48422,2,FALSE)))","v":""},null,0,"        ","        ;",0,"      ","      ",""]
[null,{"$f":"IF(A998=\"\",\"\",IF(ISERROR(VLOOKUP(A998,Articoli!$1:$48422,2,FALSE)),\"Codice Errato\",VLOOKUP(A998,Articoli!$1:$48422,2,FALSE)))","v":""},null,0,"        ","        ;",0,"      ","      ",""]
[null,{"$f":"IF(A999=\"\",\"\",IF(ISERROR(VLOOKUP(A999,Articoli!$1:$48422,2,FALSE)),\"Codice Errato\",VLOOKUP(A999,Articoli!$1:$48422,2,FALSE)))","v":""},null,0,"        ","        ;",0,"      ","      ",""]
[null,{"$f":"IF(A1000=\"\",\"\",IF(ISERROR(VLOOKUP(A1000,Articoli!$1:$48422,2,FALSE)),\"Codice Errato\",VLOOKUP(A1000,Articoli!$1:$48422,2,FALSE)))","v":""},null,0,"        ","        ;",0,"      ","      ",""]
[null,{"$f":"IF(A1001=\"\",\"\",IF(ISERROR(VLOOKUP(A1001,Articoli!$1:$48422,2,FALSE)),\"Codice Errato\",VLOOKUP(A1001,Articoli!$1:$48422,2,FALSE)))","v":""},null,0,"        ","        ;",0,"      ","      ",""]
[null,{"$f":"IF(A1002=\"\",\"\",IF(ISERROR(VLOOKUP(A1002,Articoli!$1:$48422,2,FALSE)),\"Codice Errato\",VLOOKUP(A1002,Articoli!$1:$48422,2,FALSE)))","v":""},null,0,"        ","        ;",0,"      ","      ",""]
[null,{"$f":"IF(A1003=\"\",\"\",IF(ISERROR(VLOOKUP(A1003,Articoli!$1:$48422,2,FALSE)),\"Codice Errato\",VLOOKUP(A1003,Articoli!$1:$48422,2,FALSE)))","v":""},null,0,"        ","        ;",0,"      ","      ",""]
[null,{"$f":"IF(A1004=\"\",\"\",IF(ISERROR(VLOOKUP(A1004,Articoli!$1:$48422,2,FALSE)),\"Codice Errato\",VLOOKUP(A1004,Articoli!$1:$48422,2,FALSE)))","v":""},null,0,"        ","        ;",0,"      ","      ",""]
[null,{"$f":"IF(A1005=\"\",\"\",IF(ISERROR(VLOOKUP(A1005,Articoli!$1:$48422,2,FALSE)),\"Codice Errato\",VLOOKUP(A1005,Articoli!$1:$48422,2,FALSE)))","v":""},null,0,"        ","        ;",0,"      ","      ",""]
[null,{"$f":"IF(A1006=\"\",\"\",IF(ISERROR(VLOOKUP(A1006,Articoli!$1:$48422,2,FALSE)),\"Codice Errato\",VLOOKUP(A1006,Articoli!$1:$48422,2,FALSE)))","v":""},null,0,"        ","        ;",0,"      ","      ",""]
[null,{"$f":"IF(A1007=\"\",\"\",IF(ISERROR(VLOOKUP(A1007,Articoli!$1:$48422,2,FALSE)),\"Codice Errato\",VLOOKUP(A1007,Articoli!$1:$48422,2,FALSE)))","v":""},null,0,"        ","        ;",0,"      ","      ",""]
[null,{"$f":"IF(A1008=\"\",\"\",IF(ISERROR(VLOOKUP(A1008,Articoli!$1:$48422,2,FALSE)),\"Codice Errato\",VLOOKUP(A1008,Articoli!$1:$48422,2,FALSE)))","v":""},null,0,"        ","        ;",0,"      ","      ",""]
[null,{"$f":"IF(A1009=\"\",\"\",IF(ISERROR(VLOOKUP(A1009,Articoli!$1:$48422,2,FALSE)),\"Codice Errato\",VLOOKUP(A1009,Articoli!$1:$48422,2,FALSE)))","v":""},null,0,"        ","        ;",0,"      ","      ",""]
[null,{"$f":"IF(A1010=\"\",\"\",IF(ISERROR(VLOOKUP(A1010,Articoli!$1:$48422,2,FALSE)),\"Codice Errato\",VLOOKUP(A1010,Articoli!$1:$48422,2,FALSE)))","v":""},null,{"$f":"LEN(A1010)","v":0},{"$f":"REPT(\" \",8-D1010)","v":"        "},{"$f":"CONCATENATE(A1010,E1010,\";\",)","v":"        ;"},{"$f":"LEN(C1010)","v":0},{"$f":"REPT(\" \",6-G1010)","v":"      "},{"$f":"CONCATENATE(H1010,C1010,)","v":"      "},""]
[null,{"$f":"IF(A1011=\"\",\"\",IF(ISERROR(VLOOKUP(A1011,Articoli!$1:$48422,2,FALSE)),\"Codice Errato\",VLOOKUP(A1011,Articoli!$1:$48422,2,FALSE)))","v":""},null,0,"        ","        ;",0,"      ","      ",""]
[null,{"$f":"IF(A1012=\"\",\"\",IF(ISERROR(VLOOKUP(A1012,Articoli!$1:$48422,2,FALSE)),\"Codice Errato\",VLOOKUP(A1012,Articoli!$1:$48422,2,FALSE)))","v":""},null,0,"        ","        ;",0,"      ","      ",""]
[null,{"$f":"IF(A1013=\"\",\"\",IF(ISERROR(VLOOKUP(A1013,Articoli!$1:$48422,2,FALSE)),\"Codice Errato\",VLOOKUP(A1013,Articoli!$1:$48422,2,FALSE)))","v":""},null,0,"        ","        ;",0,"      ","      ",""]
[null,{"$f":"IF(A1014=\"\",\"\",IF(ISERROR(VLOOKUP(A1014,Articoli!$1:$48422,2,FALSE)),\"Codice Errato\",VLOOKUP(A1014,Articoli!$1:$48422,2,FALSE)))","v":""},null,0,"        ","        ;",0,"      ","      ",""]
[null,{"$f":"IF(A1015=\"\",\"\",IF(ISERROR(VLOOKUP(A1015,Articoli!$1:$48422,2,FALSE)),\"Codice Errato\",VLOOKUP(A1015,Articoli!$1:$48422,2,FALSE)))","v":""},null,0,"        ","        ;",0,"      ","      ",""]
[null,{"$f":"IF(A1016=\"\",\"\",IF(ISERROR(VLOOKUP(A1016,Articoli!$1:$48422,2,FALSE)),\"Codice Errato\",VLOOKUP(A1016,Articoli!$1:$48422,2,FALSE)))","v":""},null,0,"        ","        ;",0,"      ","      ",""]
[null,{"$f":"IF(A1017=\"\",\"\",IF(ISERROR(VLOOKUP(A1017,Articoli!$1:$48422,2,FALSE)),\"Codice Errato\",VLOOKUP(A1017,Articoli!$1:$48422,2,FALSE)))","v":""},null,0,"        ","        ;",0,"      ","      ",""]
[null,{"$f":"IF(A1018=\"\",\"\",IF(ISERROR(VLOOKUP(A1018,Articoli!$1:$48422,2,FALSE)),\"Codice Errato\",VLOOKUP(A1018,Articoli!$1:$48422,2,FALSE)))","v":""},null,0,"        ","        ;",0,"      ","      ",""]
[null,{"$f":"IF(A1019=\"\",\"\",IF(ISERROR(VLOOKUP(A1019,Articoli!$1:$48422,2,FALSE)),\"Codice Errato\",VLOOKUP(A1019,Articoli!$1:$48422,2,FALSE)))","v":""},null,0,"        ","        ;",0,"      ","      ",""]
[null,{"$f":"IF(A1020=\"\",\"\",IF(ISERROR(VLOOKUP(A1020,Articoli!$1:$48422,2,FALSE)),\"Codice Errato\",VLOOKUP(A1020,Articoli!$1:$48422,2,FALSE)))","v":""},null,0,"        ","        ;",0,"      ","      ",""]
[null,{"$f":"IF(A1021=\"\",\"\",IF(ISERROR(VLOOKUP(A1021,Articoli!$1:$48422,2,FALSE)),\"Codice Errato\",VLOOKUP(A1021,Articoli!$1:$48422,2,FALSE)))","v":""},null,0,"        ","        ;",0,"      ","      ",""]
[null,{"$f":"IF(A1022=\"\",\"\",IF(ISERROR(VLOOKUP(A1022,Articoli!$1:$48422,2,FALSE)),\"Codice Errato\",VLOOKUP(A1022,Articoli!$1:$48422,2,FALSE)))","v":""},null,0,"        ","        ;",0,"      ","      ",""]
[null,{"$f":"IF(A1023=\"\",\"\",IF(ISERROR(VLOOKUP(A1023,Articoli!$1:$48422,2,FALSE)),\"Codice Errato\",VLOOKUP(A1023,Articoli!$1:$48422,2,FALSE)))","v":""},null,0,"        ","        ;",0,"      ","      ",""]
[null,{"$f":"IF(A1024=\"\",\"\",IF(ISERROR(VLOOKUP(A1024,Articoli!$1:$48422,2,FALSE)),\"Codice Errato\",VLOOKUP(A1024,Articoli!$1:$48422,2,FALSE)))","v":""},null,0,"        ","        ;",0,"      ","      ",""]
[null,{"$f":"IF(A1025=\"\",\"\",IF(ISERROR(VLOOKUP(A1025,Articoli!$1:$48422,2,FALSE)),\"Codice Errato\",VLOOKUP(A1025,Articoli!$1:$48422,2,FALSE)))","v":""},null,0,"        ","        ;",0,"      ","      ",""]
[null,{"$f":"IF(A1026=\"\",\"\",IF(ISERROR(VLOOKUP(A1026,Articoli!$1:$48422,2,FALSE)),\"Codice Errato\",VLOOKUP(A1026,Articoli!$1:$48422,2,FALSE)))","v":""},null,0,"        ","        ;",0,"      ","      ",""]
[null,{"$f":"IF(A1027=\"\",\"\",IF(ISERROR(VLOOKUP(A1027,Articoli!$1:$48422,2,FALSE)),\"Codice Errato\",VLOOKUP(A1027,Articoli!$1:$48422,2,FALSE)))","v":""},null,0,"        ","        ;",0,"      ","      ",""]
[null,{"$f":"IF(A1028=\"\",\"\",IF(ISERROR(VLOOKUP(A1028,Articoli!$1:$48422,2,FALSE)),\"Codice Errato\",VLOOKUP(A1028,Articoli!$1:$48422,2,FALSE)))","v":""},null,0,"        ","        ;",0,"      ","      ",""]
[null,{"$f":"IF(A1029=\"\",\"\",IF(ISERROR(VLOOKUP(A1029,Articoli!$1:$48422,2,FALSE)),\"Codice Errato\",VLOOKUP(A1029,Articoli!$1:$48422,2,FALSE)))","v":""},null,0,"        ","        ;",0,"      ","      ",""]
[null,{"$f":"IF(A1030=\"\",\"\",IF(ISERROR(VLOOKUP(A1030,Articoli!$1:$48422,2,FALSE)),\"Codice Errato\",VLOOKUP(A1030,Articoli!$1:$48422,2,FALSE)))","v":""},null,0,"        ","        ;",0,"      ","      ",""]
[null,{"$f":"IF(A1031=\"\",\"\",IF(ISERROR(VLOOKUP(A1031,Articoli!$1:$48422,2,FALSE)),\"Codice Errato\",VLOOKUP(A1031,Articoli!$1:$48422,2,FALSE)))","v":""},null,0,"        ","        ;",0,"      ","      ",""]
[null,{"$f":"IF(A1032=\"\",\"\",IF(ISERROR(VLOOKUP(A1032,Articoli!$1:$48422,2,FALSE)),\"Codice Errato\",VLOOKUP(A1032,Articoli!$1:$48422,2,FALSE)))","v":""},null,0,"        ","        ;",0,"      ","      ",""]
[null,{"$f":"IF(A1033=\"\",\"\",IF(ISERROR(VLOOKUP(A1033,Articoli!$1:$48422,2,FALSE)),\"Codice Errato\",VLOOKUP(A1033,Articoli!$1:$48422,2,FALSE)))","v":""},null,0,"        ","        ;",0,"      ","      ",""]
[null,{"$f":"IF(A1034=\"\",\"\",IF(ISERROR(VLOOKUP(A1034,Articoli!$1:$48422,2,FALSE)),\"Codice Errato\",VLOOKUP(A1034,Articoli!$1:$48422,2,FALSE)))","v":""},null,0,"        ","        ;",0,"      ","      ",""]
[null,{"$f":"IF(A1035=\"\",\"\",IF(ISERROR(VLOOKUP(A1035,Articoli!$1:$48422,2,FALSE)),\"Codice Errato\",VLOOKUP(A1035,Articoli!$1:$48422,2,FALSE)))","v":""},null,0,"        ","        ;",0,"      ","      ",""]
[null,{"$f":"IF(A1036=\"\",\"\",IF(ISERROR(VLOOKUP(A1036,Articoli!$1:$48422,2,FALSE)),\"Codice Errato\",VLOOKUP(A1036,Articoli!$1:$48422,2,FALSE)))","v":""},null,0,"        ","        ;",0,"      ","      ",""]
[null,{"$f":"IF(A1037=\"\",\"\",IF(ISERROR(VLOOKUP(A1037,Articoli!$1:$48422,2,FALSE)),\"Codice Errato\",VLOOKUP(A1037,Articoli!$1:$48422,2,FALSE)))","v":""},null,0,"        ","        ;",0,"      ","      ",""]
[null,{"$f":"IF(A1038=\"\",\"\",IF(ISERROR(VLOOKUP(A1038,Articoli!$1:$48422,2,FALSE)),\"Codice Errato\",VLOOKUP(A1038,Articoli!$1:$48422,2,FALSE)))","v":""},null,0,"        ","        ;",0,"      ","      ",""]
[null,{"$f":"IF(A1039=\"\",\"\",IF(ISERROR(VLOOKUP(A1039,Articoli!$1:$48422,2,FALSE)),\"Codice Errato\",VLOOKUP(A1039,Articoli!$1:$48422,2,FALSE)))","v":""},null,0,"        ","        ;",0,"      ","      ",""]
[null,{"$f":"IF(A1040=\"\",\"\",IF(ISERROR(VLOOKUP(A1040,Articoli!$1:$48422,2,FALSE)),\"Codice Errato\",VLOOKUP(A1040,Articoli!$1:$48422,2,FALSE)))","v":""},null,0,"        ","        ;",0,"      ","      ",""]
[null,{"$f":"IF(A1041=\"\",\"\",IF(ISERROR(VLOOKUP(A1041,Articoli!$1:$48422,2,FALSE)),\"Codice Errato\",VLOOKUP(A1041,Articoli!$1:$48422,2,FALSE)))","v":""},null,0,"        ","        ;",0,"      ","      ",""]
[null,{"$f":"IF(A1042=\"\",\"\",IF(ISERROR(VLOOKUP(A1042,Articoli!$1:$48422,2,FALSE)),\"Codice Errato\",VLOOKUP(A1042,Articoli!$1:$48422,2,FALSE)))","v":""},null,0,"        ","        ;",0,"      ","      ",""]
[null,{"$f":"IF(A1043=\"\",\"\",IF(ISERROR(VLOOKUP(A1043,Articoli!$1:$48422,2,FALSE)),\"Codice Errato\",VLOOKUP(A1043,Articoli!$1:$48422,2,FALSE)))","v":""},null,0,"        ","        ;",0,"      ","      ",""]
[null,{"$f":"IF(A1044=\"\",\"\",IF(ISERROR(VLOOKUP(A1044,Articoli!$1:$48422,2,FALSE)),\"Codice Errato\",VLOOKUP(A1044,Articoli!$1:$48422,2,FALSE)))","v":""},null,0,"        ","        ;",0,"      ","      ",""]
[null,{"$f":"IF(A1045=\"\",\"\",IF(ISERROR(VLOOKUP(A1045,Articoli!$1:$48422,2,FALSE)),\"Codice Errato\",VLOOKUP(A1045,Articoli!$1:$48422,2,FALSE)))","v":""},null,0,"        ","        ;",0,"      ","      ",""]
[null,{"$f":"IF(A1046=\"\",\"\",IF(ISERROR(VLOOKUP(A1046,Articoli!$1:$48422,2,FALSE)),\"Codice Errato\",VLOOKUP(A1046,Articoli!$1:$48422,2,FALSE)))","v":""},null,0,"        ","        ;",0,"      ","      ",""]
[null,{"$f":"IF(A1047=\"\",\"\",IF(ISERROR(VLOOKUP(A1047,Articoli!$1:$48422,2,FALSE)),\"Codice Errato\",VLOOKUP(A1047,Articoli!$1:$48422,2,FALSE)))","v":""},null,0,"        ","        ;",0,"      ","      ",""]
[null,{"$f":"IF(A1048=\"\",\"\",IF(ISERROR(VLOOKUP(A1048,Articoli!$1:$48422,2,FALSE)),\"Codice Errato\",VLOOKUP(A1048,Articoli!$1:$48422,2,FALSE)))","v":""},null,0,"        ","        ;",0,"      ","      ",""]
[null,{"$f":"IF(A1049=\"\",\"\",IF(ISERROR(VLOOKUP(A1049,Articoli!$1:$48422,2,FALSE)),\"Codice Errato\",VLOOKUP(A1049,Articoli!$1:$48422,2,FALSE)))","v":""},null,0,"        ","        ;",0,"      ","      ",""]
[null,{"$f":"IF(A1050=\"\",\"\",IF(ISERROR(VLOOKUP(A1050,Articoli!$1:$48422,2,FALSE)),\"Codice Errato\",VLOOKUP(A1050,Articoli!$1:$48422,2,FALSE)))","v":""},null,0,"        ","        ;",0,"      ","      ",""]
[null,{"$f":"IF(A1051=\"\",\"\",IF(ISERROR(VLOOKUP(A1051,Articoli!$1:$48422,2,FALSE)),\"Codice Errato\",VLOOKUP(A1051,Articoli!$1:$48422,2,FALSE)))","v":""},null,0,"        ","        ;",0,"      ","      ",""]
[null,{"$f":"IF(A1052=\"\",\"\",IF(ISERROR(VLOOKUP(A1052,Articoli!$1:$48422,2,FALSE)),\"Codice Errato\",VLOOKUP(A1052,Articoli!$1:$48422,2,FALSE)))","v":""},null,0,"        ","        ;",0,"      ","      ",""]
[null,{"$f":"IF(A1053=\"\",\"\",IF(ISERROR(VLOOKUP(A1053,Articoli!$1:$48422,2,FALSE)),\"Codice Errato\",VLOOKUP(A1053,Articoli!$1:$48422,2,FALSE)))","v":""},null,0,"        ","        ;",0,"      ","      ",""]
[null,{"$f":"IF(A1054=\"\",\"\",IF(ISERROR(VLOOKUP(A1054,Articoli!$1:$48422,2,FALSE)),\"Codice Errato\",VLOOKUP(A1054,Articoli!$1:$48422,2,FALSE)))","v":""},null,0,"        ","        ;",0,"      ","      ",""]
[null,{"$f":"IF(A1055=\"\",\"\",IF(ISERROR(VLOOKUP(A1055,Articoli!$1:$48422,2,FALSE)),\"Codice Errato\",VLOOKUP(A1055,Articoli!$1:$48422,2,FALSE)))","v":""},null,0,"        ","        ;",0,"      ","      ",""]
[null,{"$f":"IF(A1056=\"\",\"\",IF(ISERROR(VLOOKUP(A1056,Articoli!$1:$48422,2,FALSE)),\"Codice Errato\",VLOOKUP(A1056,Articoli!$1:$48422,2,FALSE)))","v":""},null,0,"        ","        ;",0,"      ","      ",{"$f":"IF(C1056=\"\",\"\",CONCATENATE(F1056,I1056))","v":""}]
[null,{"$f":"IF(A1057=\"\",\"\",IF(ISERROR(VLOOKUP(A1057,Articoli!$1:$48422,2,FALSE)),\"Codice Errato\",VLOOKUP(A1057,Articoli!$1:$48422,2,FALSE)))","v":""},null,0,"        ","        ;",0,"      ","      ",""]
[null,{"$f":"IF(A1058=\"\",\"\",IF(ISERROR(VLOOKUP(A1058,Articoli!$1:$48422,2,FALSE)),\"Codice Errato\",VLOOKUP(A1058,Articoli!$1:$48422,2,FALSE)))","v":""},null,0,"        ","        ;",0,"      ","      ",""]
[null,{"$f":"IF(A1059=\"\",\"\",IF(ISERROR(VLOOKUP(A1059,Articoli!$1:$48422,2,FALSE)),\"Codice Errato\",VLOOKUP(A1059,Articoli!$1:$48422,2,FALSE)))","v":""},null,0,"        ","        ;",0,"      ","      ",""]
[null,{"$f":"IF(A1060=\"\",\"\",IF(ISERROR(VLOOKUP(A1060,Articoli!$1:$48422,2,FALSE)),\"Codice Errato\",VLOOKUP(A1060,Articoli!$1:$48422,2,FALSE)))","v":""},null,0,"        ","        ;",0,"      ","      ",""]
[null,{"$f":"IF(A1061=\"\",\"\",IF(ISERROR(VLOOKUP(A1061,Articoli!$1:$48422,2,FALSE)),\"Codice Errato\",VLOOKUP(A1061,Articoli!$1:$48422,2,FALSE)))","v":""},null,0,"        ","        ;",0,"      ","      ",""]
[null,{"$f":"IF(A1062=\"\",\"\",IF(ISERROR(VLOOKUP(A1062,Articoli!$1:$48422,2,FALSE)),\"Codice Errato\",VLOOKUP(A1062,Articoli!$1:$48422,2,FALSE)))","v":""},null,0,"        ","        ;",0,"      ","      ",""]
[null,{"$f":"IF(A1063=\"\",\"\",IF(ISERROR(VLOOKUP(A1063,Articoli!$1:$48422,2,FALSE)),\"Codice Errato\",VLOOKUP(A1063,Articoli!$1:$48422,2,FALSE)))","v":""},null,0,"        ","        ;",0,"      ","      ",""]
[null,{"$f":"IF(A1064=\"\",\"\",IF(ISERROR(VLOOKUP(A1064,Articoli!$1:$48422,2,FALSE)),\"Codice Errato\",VLOOKUP(A1064,Articoli!$1:$48422,2,FALSE)))","v":""},null,0,"        ","        ;",0,"      ","      ",""]
[null,{"$f":"IF(A1065=\"\",\"\",IF(ISERROR(VLOOKUP(A1065,Articoli!$1:$48422,2,FALSE)),\"Codice Errato\",VLOOKUP(A1065,Articoli!$1:$48422,2,FALSE)))","v":""},null,0,"        ","        ;",0,"      ","      ",""]
[null,{"$f":"IF(A1066=\"\",\"\",IF(ISERROR(VLOOKUP(A1066,Articoli!$1:$48422,2,FALSE)),\"Codice Errato\",VLOOKUP(A1066,Articoli!$1:$48422,2,FALSE)))","v":""},null,0,"        ","        ;",0,"      ","      ",""]
[null,{"$f":"IF(A1067=\"\",\"\",IF(ISERROR(VLOOKUP(A1067,Articoli!$1:$48422,2,FALSE)),\"Codice Errato\",VLOOKUP(A1067,Articoli!$1:$48422,2,FALSE)))","v":""},null,0,"        ","        ;",0,"      ","      ",""]
[null,{"$f":"IF(A1068=\"\",\"\",IF(ISERROR(VLOOKUP(A1068,Articoli!$1:$48422,2,FALSE)),\"Codice Errato\",VLOOKUP(A1068,Articoli!$1:$48422,2,FALSE)))","v":""},null,0,"        ","        ;",0,"      ","      ",""]
[null,{"$f":"IF(A1069=\"\",\"\",IF(ISERROR(VLOOKUP(A1069,Articoli!$1:$48422,2,FALSE)),\"Codice Errato\",VLOOKUP(A1069,Articoli!$1:$48422,2,FALSE)))","v":""},null,0,"        ","        ;",0,"      ","      ",""]
[null,{"$f":"IF(A1070=\"\",\"\",IF(ISERROR(VLOOKUP(A1070,Articoli!$1:$48422,2,FALSE)),\"Codice Errato\",VLOOKUP(A1070,Articoli!$1:$48422,2,FALSE)))","v":""},null,0,"        ","        ;",0,"      ","      ",""]
[null,{"$f":"IF(A1071=\"\",\"\",IF(ISERROR(VLOOKUP(A1071,Articoli!$1:$48422,2,FALSE)),\"Codice Errato\",VLOOKUP(A1071,Articoli!$1:$48422,2,FALSE)))","v":""},null,0,"        ","        ;",0,"      ","      ",""]
[null,{"$f":"IF(A1072=\"\",\"\",IF(ISERROR(VLOOKUP(A1072,Articoli!$1:$48422,2,FALSE)),\"Codice Errato\",VLOOKUP(A1072,Articoli!$1:$48422,2,FALSE)))","v":""},null,0,"        ","        ;",0,"      ","      ",""]
[null,{"$f":"IF(A1073=\"\",\"\",IF(ISERROR(VLOOKUP(A1073,Articoli!$1:$48422,2,FALSE)),\"Codice Errato\",VLOOKUP(A1073,Articoli!$1:$48422,2,FALSE)))","v":""},null,0,"        ","        ;",0,"      ","      ",""]
[null,{"$f":"IF(A1074=\"\",\"\",IF(ISERROR(VLOOKUP(A1074,Articoli!$1:$48422,2,FALSE)),\"Codice Errato\",VLOOKUP(A1074,Articoli!$1:$48422,2,FALSE)))","v":""},null,{"$f":"LEN(A1074)","v":0},{"$f":"REPT(\" \",8-D1074)","v":"        "},{"$f":"CONCATENATE(A1074,E1074,\";\",)","v":"        ;"},{"$f":"LEN(C1074)","v":0},{"$f":"REPT(\" \",6-G1074)","v":"      "},{"$f":"CONCATENATE(H1074,C1074,)","v":"      "},""]
[null,{"$f":"IF(A1075=\"\",\"\",IF(ISERROR(VLOOKUP(A1075,Articoli!$1:$48422,2,FALSE)),\"Codice Errato\",VLOOKUP(A1075,Articoli!$1:$48422,2,FALSE)))","v":""},null,0,"        ","        ;",0,"      ","      ",""]
[null,{"$f":"IF(A1076=\"\",\"\",IF(ISERROR(VLOOKUP(A1076,Articoli!$1:$48422,2,FALSE)),\"Codice Errato\",VLOOKUP(A1076,Articoli!$1:$48422,2,FALSE)))","v":""},null,0,"        ","        ;",0,"      ","      ",""]
[null,{"$f":"IF(A1077=\"\",\"\",IF(ISERROR(VLOOKUP(A1077,Articoli!$1:$48422,2,FALSE)),\"Codice Errato\",VLOOKUP(A1077,Articoli!$1:$48422,2,FALSE)))","v":""},null,0,"        ","        ;",0,"      ","      ",""]
[null,{"$f":"IF(A1078=\"\",\"\",IF(ISERROR(VLOOKUP(A1078,Articoli!$1:$48422,2,FALSE)),\"Codice Errato\",VLOOKUP(A1078,Articoli!$1:$48422,2,FALSE)))","v":""},null,0,"        ","        ;",0,"      ","      ",""]
[null,{"$f":"IF(A1079=\"\",\"\",IF(ISERROR(VLOOKUP(A1079,Articoli!$1:$48422,2,FALSE)),\"Codice Errato\",VLOOKUP(A1079,Articoli!$1:$48422,2,FALSE)))","v":""},null,0,"        ","        ;",0,"      ","      ",""]
[null,{"$f":"IF(A1080=\"\",\"\",IF(ISERROR(VLOOKUP(A1080,Articoli!$1:$48422,2,FALSE)),\"Codice Errato\",VLOOKUP(A1080,Articoli!$1:$48422,2,FALSE)))","v":""},null,0,"        ","        ;",0,"      ","      ",""]
[null,{"$f":"IF(A1081=\"\",\"\",IF(ISERROR(VLOOKUP(A1081,Articoli!$1:$48422,2,FALSE)),\"Codice Errato\",VLOOKUP(A1081,Articoli!$1:$48422,2,FALSE)))","v":""},null,0,"        ","        ;",0,"      ","      ",""]
[null,{"$f":"IF(A1082=\"\",\"\",IF(ISERROR(VLOOKUP(A1082,Articoli!$1:$48422,2,FALSE)),\"Codice Errato\",VLOOKUP(A1082,Articoli!$1:$48422,2,FALSE)))","v":""},null,0,"        ","        ;",0,"      ","      ",""]
[null,{"$f":"IF(A1083=\"\",\"\",IF(ISERROR(VLOOKUP(A1083,Articoli!$1:$48422,2,FALSE)),\"Codice Errato\",VLOOKUP(A1083,Articoli!$1:$48422,2,FALSE)))","v":""},null,0,"        ","        ;",0,"      ","      ",""]
[null,{"$f":"IF(A1084=\"\",\"\",IF(ISERROR(VLOOKUP(A1084,Articoli!$1:$48422,2,FALSE)),\"Codice Errato\",VLOOKUP(A1084,Articoli!$1:$48422,2,FALSE)))","v":""},null,0,"        ","        ;",0,"      ","      ",""]
[null,{"$f":"IF(A1085=\"\",\"\",IF(ISERROR(VLOOKUP(A1085,Articoli!$1:$48422,2,FALSE)),\"Codice Errato\",VLOOKUP(A1085,Articoli!$1:$48422,2,FALSE)))","v":""},null,0,"        ","        ;",0,"      ","      ",""]
[null,{"$f":"IF(A1086=\"\",\"\",IF(ISERROR(VLOOKUP(A1086,Articoli!$1:$48422,2,FALSE)),\"Codice Errato\",VLOOKUP(A1086,Articoli!$1:$48422,2,FALSE)))","v":""},null,0,"        ","        ;",0,"      ","      ",""]
[null,{"$f":"IF(A1087=\"\",\"\",IF(ISERROR(VLOOKUP(A1087,Articoli!$1:$48422,2,FALSE)),\"Codice Errato\",VLOOKUP(A1087,Articoli!$1:$48422,2,FALSE)))","v":""},null,0,"        ","        ;",0,"      ","      ",""]
[null,{"$f":"IF(A1088=\"\",\"\",IF(ISERROR(VLOOKUP(A1088,Articoli!$1:$48422,2,FALSE)),\"Codice Errato\",VLOOKUP(A1088,Articoli!$1:$48422,2,FALSE)))","v":""},null,0,"        ","        ;",0,"      ","      ",""]
[null,{"$f":"IF(A1089=\"\",\"\",IF(ISERROR(VLOOKUP(A1089,Articoli!$1:$48422,2,FALSE)),\"Codice Errato\",VLOOKUP(A1089,Articoli!$1:$48422,2,FALSE)))","v":""},null,0,"        ","        ;",0,"      ","      ",""]
[null,{"$f":"IF(A1090=\"\",\"\",IF(ISERROR(VLOOKUP(A1090,Articoli!$1:$48422,2,FALSE)),\"Codice Errato\",VLOOKUP(A1090,Articoli!$1:$48422,2,FALSE)))","v":""},null,0,"        ","        ;",0,"      ","      ",""]
[null,{"$f":"IF(A1091=\"\",\"\",IF(ISERROR(VLOOKUP(A1091,Articoli!$1:$48422,2,FALSE)),\"Codice Errato\",VLOOKUP(A1091,Articoli!$1:$48422,2,FALSE)))","v":""},null,0,"        ","        ;",0,"      ","      ",""]
[null,{"$f":"IF(A1092=\"\",\"\",IF(ISERROR(VLOOKUP(A1092,Articoli!$1:$48422,2,FALSE)),\"Codice Errato\",VLOOKUP(A1092,Articoli!$1:$48422,2,FALSE)))","v":""},null,0,"        ","        ;",0,"      ","      ",""]
[null,{"$f":"IF(A1093=\"\",\"\",IF(ISERROR(VLOOKUP(A1093,Articoli!$1:$48422,2,FALSE)),\"Codice Errato\",VLOOKUP(A1093,Articoli!$1:$48422,2,FALSE)))","v":""},null,0,"        ","        ;",0,"      ","      ",""]
[null,{"$f":"IF(A1094=\"\",\"\",IF(ISERROR(VLOOKUP(A1094,Articoli!$1:$48422,2,FALSE)),\"Codice Errato\",VLOOKUP(A1094,Articoli!$1:$48422,2,FALSE)))","v":""},null,0,"        ","        ;",0,"      ","      ",""]
[null,{"$f":"IF(A1095=\"\",\"\",IF(ISERROR(VLOOKUP(A1095,Articoli!$1:$48422,2,FALSE)),\"Codice Errato\",VLOOKUP(A1095,Articoli!$1:$48422,2,FALSE)))","v":""},null,0,"        ","        ;",0,"      ","      ",""]
[null,{"$f":"IF(A1096=\"\",\"\",IF(ISERROR(VLOOKUP(A1096,Articoli!$1:$48422,2,FALSE)),\"Codice Errato\",VLOOKUP(A1096,Articoli!$1:$48422,2,FALSE)))","v":""},null,0,"        ","        ;",0,"      ","      ",""]
[null,{"$f":"IF(A1097=\"\",\"\",IF(ISERROR(VLOOKUP(A1097,Articoli!$1:$48422,2,FALSE)),\"Codice Errato\",VLOOKUP(A1097,Articoli!$1:$48422,2,FALSE)))","v":""},null,0,"        ","        ;",0,"      ","      ",""]
[null,{"$f":"IF(A1098=\"\",\"\",IF(ISERROR(VLOOKUP(A1098,Articoli!$1:$48422,2,FALSE)),\"Codice Errato\",VLOOKUP(A1098,Articoli!$1:$48422,2,FALSE)))","v":""},null,0,"        ","        ;",0,"      ","      ",""]
[null,{"$f":"IF(A1099=\"\",\"\",IF(ISERROR(VLOOKUP(A1099,Articoli!$1:$48422,2,FALSE)),\"Codice Errato\",VLOOKUP(A1099,Articoli!$1:$48422,2,FALSE)))","v":""},null,0,"        ","        ;",0,"      ","      ",""]
[null,{"$f":"IF(A1100=\"\",\"\",IF(ISERROR(VLOOKUP(A1100,Articoli!$1:$48422,2,FALSE)),\"Codice Errato\",VLOOKUP(A1100,Articoli!$1:$48422,2,FALSE)))","v":""},null,0,"        ","        ;",0,"      ","      ",""]
[null,{"$f":"IF(A1101=\"\",\"\",IF(ISERROR(VLOOKUP(A1101,Articoli!$1:$48422,2,FALSE)),\"Codice Errato\",VLOOKUP(A1101,Articoli!$1:$48422,2,FALSE)))","v":""},null,0,"        ","        ;",0,"      ","      ",""]
[null,{"$f":"IF(A1102=\"\",\"\",IF(ISERROR(VLOOKUP(A1102,Articoli!$1:$48422,2,FALSE)),\"Codice Errato\",VLOOKUP(A1102,Articoli!$1:$48422,2,FALSE)))","v":""},null,0,"        ","        ;",0,"      ","      ",""]
[null,{"$f":"IF(A1103=\"\",\"\",IF(ISERROR(VLOOKUP(A1103,Articoli!$1:$48422,2,FALSE)),\"Codice Errato\",VLOOKUP(A1103,Articoli!$1:$48422,2,FALSE)))","v":""},null,0,"        ","        ;",0,"      ","      ",""]
[null,{"$f":"IF(A1104=\"\",\"\",IF(ISERROR(VLOOKUP(A1104,Articoli!$1:$48422,2,FALSE)),\"Codice Errato\",VLOOKUP(A1104,Articoli!$1:$48422,2,FALSE)))","v":""},null,0,"        ","        ;",0,"      ","      ",""]
[null,{"$f":"IF(A1105=\"\",\"\",IF(ISERROR(VLOOKUP(A1105,Articoli!$1:$48422,2,FALSE)),\"Codice Errato\",VLOOKUP(A1105,Articoli!$1:$48422,2,FALSE)))","v":""},null,0,"        ","        ;",0,"      ","      ",""]
[null,{"$f":"IF(A1106=\"\",\"\",IF(ISERROR(VLOOKUP(A1106,Articoli!$1:$48422,2,FALSE)),\"Codice Errato\",VLOOKUP(A1106,Articoli!$1:$48422,2,FALSE)))","v":""},null,0,"        ","        ;",0,"      ","      ",""]
[null,{"$f":"IF(A1107=\"\",\"\",IF(ISERROR(VLOOKUP(A1107,Articoli!$1:$48422,2,FALSE)),\"Codice Errato\",VLOOKUP(A1107,Articoli!$1:$48422,2,FALSE)))","v":""},null,0,"        ","        ;",0,"      ","      ",""]
[null,{"$f":"IF(A1108=\"\",\"\",IF(ISERROR(VLOOKUP(A1108,Articoli!$1:$48422,2,FALSE)),\"Codice Errato\",VLOOKUP(A1108,Articoli!$1:$48422,2,FALSE)))","v":""},null,0,"        ","        ;",0,"      ","      ",""]
[null,{"$f":"IF(A1109=\"\",\"\",IF(ISERROR(VLOOKUP(A1109,Articoli!$1:$48422,2,FALSE)),\"Codice Errato\",VLOOKUP(A1109,Articoli!$1:$48422,2,FALSE)))","v":""},null,0,"        ","        ;",0,"      ","      ",""]
[null,{"$f":"IF(A1110=\"\",\"\",IF(ISERROR(VLOOKUP(A1110,Articoli!$1:$48422,2,FALSE)),\"Codice Errato\",VLOOKUP(A1110,Articoli!$1:$48422,2,FALSE)))","v":""},null,0,"        ","        ;",0,"      ","      ",""]
[null,{"$f":"IF(A1111=\"\",\"\",IF(ISERROR(VLOOKUP(A1111,Articoli!$1:$48422,2,FALSE)),\"Codice Errato\",VLOOKUP(A1111,Articoli!$1:$48422,2,FALSE)))","v":""},null,0,"        ","        ;",0,"      ","      ",""]
[null,{"$f":"IF(A1112=\"\",\"\",IF(ISERROR(VLOOKUP(A1112,Articoli!$1:$48422,2,FALSE)),\"Codice Errato\",VLOOKUP(A1112,Articoli!$1:$48422,2,FALSE)))","v":""},null,0,"        ","        ;",0,"      ","      ",""]
[null,{"$f":"IF(A1113=\"\",\"\",IF(ISERROR(VLOOKUP(A1113,Articoli!$1:$48422,2,FALSE)),\"Codice Errato\",VLOOKUP(A1113,Articoli!$1:$48422,2,FALSE)))","v":""},null,0,"        ","        ;",0,"      ","      ",""]
[null,{"$f":"IF(A1114=\"\",\"\",IF(ISERROR(VLOOKUP(A1114,Articoli!$1:$48422,2,FALSE)),\"Codice Errato\",VLOOKUP(A1114,Articoli!$1:$48422,2,FALSE)))","v":""},null,0,"        ","        ;",0,"      ","      ",""]
[null,{"$f":"IF(A1115=\"\",\"\",IF(ISERROR(VLOOKUP(A1115,Articoli!$1:$48422,2,FALSE)),\"Codice Errato\",VLOOKUP(A1115,Articoli!$1:$48422,2,FALSE)))","v":""},null,0,"        ","        ;",0,"      ","      ",""]
[null,{"$f":"IF(A1116=\"\",\"\",IF(ISERROR(VLOOKUP(A1116,Articoli!$1:$48422,2,FALSE)),\"Codice Errato\",VLOOKUP(A1116,Articoli!$1:$48422,2,FALSE)))","v":""},null,0,"        ","        ;",0,"      ","      ",""]
[null,{"$f":"IF(A1117=\"\",\"\",IF(ISERROR(VLOOKUP(A1117,Articoli!$1:$48422,2,FALSE)),\"Codice Errato\",VLOOKUP(A1117,Articoli!$1:$48422,2,FALSE)))","v":""},null,0,"        ","        ;",0,"      ","      ",""]
[null,{"$f":"IF(A1118=\"\",\"\",IF(ISERROR(VLOOKUP(A1118,Articoli!$1:$48422,2,FALSE)),\"Codice Errato\",VLOOKUP(A1118,Articoli!$1:$48422,2,FALSE)))","v":""},null,0,"        ","        ;",0,"      ","      ",""]
[null,{"$f":"IF(A1119=\"\",\"\",IF(ISERROR(VLOOKUP(A1119,Articoli!$1:$48422,2,FALSE)),\"Codice Errato\",VLOOKUP(A1119,Articoli!$1:$48422,2,FALSE)))","v":""},null,0,"        ","        ;",0,"      ","      ",""]
[null,{"$f":"IF(A1120=\"\",\"\",IF(ISERROR(VLOOKUP(A1120,Articoli!$1:$48422,2,FALSE)),\"Codice Errato\",VLOOKUP(A1120,Articoli!$1:$48422,2,FALSE)))","v":""},null,0,"        ","        ;",0,"      ","      ",{"$f":"IF(C1120=\"\",\"\",CONCATENATE(F1120,I1120))","v":""}]
[null,{"$f":"IF(A1121=\"\",\"\",IF(ISERROR(VLOOKUP(A1121,Articoli!$1:$48422,2,FALSE)),\"Codice Errato\",VLOOKUP(A1121,Articoli!$1:$48422,2,FALSE)))","v":""},null,0,"        ","        ;",0,"      ","      ",""]
[null,{"$f":"IF(A1122=\"\",\"\",IF(ISERROR(VLOOKUP(A1122,Articoli!$1:$48422,2,FALSE)),\"Codice Errato\",VLOOKUP(A1122,Articoli!$1:$48422,2,FALSE)))","v":""},null,0,"        ","        ;",0,"      ","      ",""]
[null,{"$f":"IF(A1123=\"\",\"\",IF(ISERROR(VLOOKUP(A1123,Articoli!$1:$48422,2,FALSE)),\"Codice Errato\",VLOOKUP(A1123,Articoli!$1:$48422,2,FALSE)))","v":""},null,0,"        ","        ;",0,"      ","      ",""]
[null,{"$f":"IF(A1124=\"\",\"\",IF(ISERROR(VLOOKUP(A1124,Articoli!$1:$48422,2,FALSE)),\"Codice Errato\",VLOOKUP(A1124,Articoli!$1:$48422,2,FALSE)))","v":""},null,0,"        ","        ;",0,"      ","      ",""]
[null,{"$f":"IF(A1125=\"\",\"\",IF(ISERROR(VLOOKUP(A1125,Articoli!$1:$48422,2,FALSE)),\"Codice Errato\",VLOOKUP(A1125,Articoli!$1:$48422,2,FALSE)))","v":""},null,0,"        ","        ;",0,"      ","      ",""]
[null,{"$f":"IF(A1126=\"\",\"\",IF(ISERROR(VLOOKUP(A1126,Articoli!$1:$48422,2,FALSE)),\"Codice Errato\",VLOOKUP(A1126,Articoli!$1:$48422,2,FALSE)))","v":""},null,0,"        ","        ;",0,"      ","      ",""]
[null,{"$f":"IF(A1127=\"\",\"\",IF(ISERROR(VLOOKUP(A1127,Articoli!$1:$48422,2,FALSE)),\"Codice Errato\",VLOOKUP(A1127,Articoli!$1:$48422,2,FALSE)))","v":""},null,0,"        ","        ;",0,"      ","      ",""]
[null,{"$f":"IF(A1128=\"\",\"\",IF(ISERROR(VLOOKUP(A1128,Articoli!$1:$48422,2,FALSE)),\"Codice Errato\",VLOOKUP(A1128,Articoli!$1:$48422,2,FALSE)))","v":""},null,0,"        ","        ;",0,"      ","      ",""]
[null,{"$f":"IF(A1129=\"\",\"\",IF(ISERROR(VLOOKUP(A1129,Articoli!$1:$48422,2,FALSE)),\"Codice Errato\",VLOOKUP(A1129,Articoli!$1:$48422,2,FALSE)))","v":""},null,0,"        ","        ;",0,"      ","      ",""]
[null,{"$f":"IF(A1130=\"\",\"\",IF(ISERROR(VLOOKUP(A1130,Articoli!$1:$48422,2,FALSE)),\"Codice Errato\",VLOOKUP(A1130,Articoli!$1:$48422,2,FALSE)))","v":""},null,0,"        ","        ;",0,"      ","      ",""]
[null,{"$f":"IF(A1131=\"\",\"\",IF(ISERROR(VLOOKUP(A1131,Articoli!$1:$48422,2,FALSE)),\"Codice Errato\",VLOOKUP(A1131,Articoli!$1:$48422,2,FALSE)))","v":""},null,0,"        ","        ;",0,"      ","      ",""]
[null,{"$f":"IF(A1132=\"\",\"\",IF(ISERROR(VLOOKUP(A1132,Articoli!$1:$48422,2,FALSE)),\"Codice Errato\",VLOOKUP(A1132,Articoli!$1:$48422,2,FALSE)))","v":""},null,0,"        ","        ;",0,"      ","      ",""]
[null,{"$f":"IF(A1133=\"\",\"\",IF(ISERROR(VLOOKUP(A1133,Articoli!$1:$48422,2,FALSE)),\"Codice Errato\",VLOOKUP(A1133,Articoli!$1:$48422,2,FALSE)))","v":""},null,0,"        ","        ;",0,"      ","      ",""]
[null,{"$f":"IF(A1134=\"\",\"\",IF(ISERROR(VLOOKUP(A1134,Articoli!$1:$48422,2,FALSE)),\"Codice Errato\",VLOOKUP(A1134,Articoli!$1:$48422,2,FALSE)))","v":""},null,0,"        ","        ;",0,"      ","      ",""]
[null,{"$f":"IF(A1135=\"\",\"\",IF(ISERROR(VLOOKUP(A1135,Articoli!$1:$48422,2,FALSE)),\"Codice Errato\",VLOOKUP(A1135,Articoli!$1:$48422,2,FALSE)))","v":""},null,0,"        ","        ;",0,"      ","      ",""]
[null,{"$f":"IF(A1136=\"\",\"\",IF(ISERROR(VLOOKUP(A1136,Articoli!$1:$48422,2,FALSE)),\"Codice Errato\",VLOOKUP(A1136,Articoli!$1:$48422,2,FALSE)))","v":""},null,0,"        ","        ;",0,"      ","      ",""]
[null,{"$f":"IF(A1137=\"\",\"\",IF(ISERROR(VLOOKUP(A1137,Articoli!$1:$48422,2,FALSE)),\"Codice Errato\",VLOOKUP(A1137,Articoli!$1:$48422,2,FALSE)))","v":""},null,0,"        ","        ;",0,"      ","      ",""]
[null,{"$f":"IF(A1138=\"\",\"\",IF(ISERROR(VLOOKUP(A1138,Articoli!$1:$48422,2,FALSE)),\"Codice Errato\",VLOOKUP(A1138,Articoli!$1:$48422,2,FALSE)))","v":""},null,{"$f":"LEN(A1138)","v":0},{"$f":"REPT(\" \",8-D1138)","v":"        "},{"$f":"CONCATENATE(A1138,E1138,\";\",)","v":"        ;"},{"$f":"LEN(C1138)","v":0},{"$f":"REPT(\" \",6-G1138)","v":"      "},{"$f":"CONCATENATE(H1138,C1138,)","v":"      "},""]
[null,{"$f":"IF(A1139=\"\",\"\",IF(ISERROR(VLOOKUP(A1139,Articoli!$1:$48422,2,FALSE)),\"Codice Errato\",VLOOKUP(A1139,Articoli!$1:$48422,2,FALSE)))","v":""},null,0,"        ","        ;",0,"      ","      ",""]
[null,{"$f":"IF(A1140=\"\",\"\",IF(ISERROR(VLOOKUP(A1140,Articoli!$1:$48422,2,FALSE)),\"Codice Errato\",VLOOKUP(A1140,Articoli!$1:$48422,2,FALSE)))","v":""},null,0,"        ","        ;",0,"      ","      ",""]
[null,{"$f":"IF(A1141=\"\",\"\",IF(ISERROR(VLOOKUP(A1141,Articoli!$1:$48422,2,FALSE)),\"Codice Errato\",VLOOKUP(A1141,Articoli!$1:$48422,2,FALSE)))","v":""},null,0,"        ","        ;",0,"      ","      ",""]
[null,{"$f":"IF(A1142=\"\",\"\",IF(ISERROR(VLOOKUP(A1142,Articoli!$1:$48422,2,FALSE)),\"Codice Errato\",VLOOKUP(A1142,Articoli!$1:$48422,2,FALSE)))","v":""},null,0,"        ","        ;",0,"      ","      ",""]
[null,{"$f":"IF(A1143=\"\",\"\",IF(ISERROR(VLOOKUP(A1143,Articoli!$1:$48422,2,FALSE)),\"Codice Errato\",VLOOKUP(A1143,Articoli!$1:$48422,2,FALSE)))","v":""},null,0,"        ","        ;",0,"      ","      ",""]
[null,{"$f":"IF(A1144=\"\",\"\",IF(ISERROR(VLOOKUP(A1144,Articoli!$1:$48422,2,FALSE)),\"Codice Errato\",VLOOKUP(A1144,Articoli!$1:$48422,2,FALSE)))","v":""},null,0,"        ","        ;",0,"      ","      ",""]
[null,{"$f":"IF(A1145=\"\",\"\",IF(ISERROR(VLOOKUP(A1145,Articoli!$1:$48422,2,FALSE)),\"Codice Errato\",VLOOKUP(A1145,Articoli!$1:$48422,2,FALSE)))","v":""},null,0,"        ","        ;",0,"      ","      ",""]
[null,{"$f":"IF(A1146=\"\",\"\",IF(ISERROR(VLOOKUP(A1146,Articoli!$1:$48422,2,FALSE)),\"Codice Errato\",VLOOKUP(A1146,Articoli!$1:$48422,2,FALSE)))","v":""},null,0,"        ","        ;",0,"      ","      ",""]
[null,{"$f":"IF(A1147=\"\",\"\",IF(ISERROR(VLOOKUP(A1147,Articoli!$1:$48422,2,FALSE)),\"Codice Errato\",VLOOKUP(A1147,Articoli!$1:$48422,2,FALSE)))","v":""},null,0,"        ","        ;",0,"      ","      ",""]
[null,{"$f":"IF(A1148=\"\",\"\",IF(ISERROR(VLOOKUP(A1148,Articoli!$1:$48422,2,FALSE)),\"Codice Errato\",VLOOKUP(A1148,Articoli!$1:$48422,2,FALSE)))","v":""},null,0,"        ","        ;",0,"      ","      ",""]
[null,{"$f":"IF(A1149=\"\",\"\",IF(ISERROR(VLOOKUP(A1149,Articoli!$1:$48422,2,FALSE)),\"Codice Errato\",VLOOKUP(A1149,Articoli!$1:$48422,2,FALSE)))","v":""},null,0,"        ","        ;",0,"      ","      ",""]
[null,{"$f":"IF(A1150=\"\",\"\",IF(ISERROR(VLOOKUP(A1150,Articoli!$1:$48422,2,FALSE)),\"Codice Errato\",VLOOKUP(A1150,Articoli!$1:$48422,2,FALSE)))","v":""},null,0,"        ","        ;",0,"      ","      ",""]
[null,{"$f":"IF(A1151=\"\",\"\",IF(ISERROR(VLOOKUP(A1151,Articoli!$1:$48422,2,FALSE)),\"Codice Errato\",VLOOKUP(A1151,Articoli!$1:$48422,2,FALSE)))","v":""},null,0,"        ","        ;",0,"      ","      ",""]
[null,{"$f":"IF(A1152=\"\",\"\",IF(ISERROR(VLOOKUP(A1152,Articoli!$1:$48422,2,FALSE)),\"Codice Errato\",VLOOKUP(A1152,Articoli!$1:$48422,2,FALSE)))","v":""},null,0,"        ","        ;",0,"      ","      ",""]
[null,{"$f":"IF(A1153=\"\",\"\",IF(ISERROR(VLOOKUP(A1153,Articoli!$1:$48422,2,FALSE)),\"Codice Errato\",VLOOKUP(A1153,Articoli!$1:$48422,2,FALSE)))","v":""},null,0,"        ","        ;",0,"      ","      ",""]
[null,{"$f":"IF(A1154=\"\",\"\",IF(ISERROR(VLOOKUP(A1154,Articoli!$1:$48422,2,FALSE)),\"Codice Errato\",VLOOKUP(A1154,Articoli!$1:$48422,2,FALSE)))","v":""},null,0,"        ","        ;",0,"      ","      ",""]
[null,{"$f":"IF(A1155=\"\",\"\",IF(ISERROR(VLOOKUP(A1155,Articoli!$1:$48422,2,FALSE)),\"Codice Errato\",VLOOKUP(A1155,Articoli!$1:$48422,2,FALSE)))","v":""},null,0,"        ","        ;",0,"      ","      ",""]
[null,{"$f":"IF(A1156=\"\",\"\",IF(ISERROR(VLOOKUP(A1156,Articoli!$1:$48422,2,FALSE)),\"Codice Errato\",VLOOKUP(A1156,Articoli!$1:$48422,2,FALSE)))","v":""},null,0,"        ","        ;",0,"      ","      ",""]
[null,{"$f":"IF(A1157=\"\",\"\",IF(ISERROR(VLOOKUP(A1157,Articoli!$1:$48422,2,FALSE)),\"Codice Errato\",VLOOKUP(A1157,Articoli!$1:$48422,2,FALSE)))","v":""},null,0,"        ","        ;",0,"      ","      ",""]
[null,{"$f":"IF(A1158=\"\",\"\",IF(ISERROR(VLOOKUP(A1158,Articoli!$1:$48422,2,FALSE)),\"Codice Errato\",VLOOKUP(A1158,Articoli!$1:$48422,2,FALSE)))","v":""},null,0,"        ","        ;",0,"      ","      ",""]
[null,{"$f":"IF(A1159=\"\",\"\",IF(ISERROR(VLOOKUP(A1159,Articoli!$1:$48422,2,FALSE)),\"Codice Errato\",VLOOKUP(A1159,Articoli!$1:$48422,2,FALSE)))","v":""},null,0,"        ","        ;",0,"      ","      ",""]
[null,{"$f":"IF(A1160=\"\",\"\",IF(ISERROR(VLOOKUP(A1160,Articoli!$1:$48422,2,FALSE)),\"Codice Errato\",VLOOKUP(A1160,Articoli!$1:$48422,2,FALSE)))","v":""},null,0,"        ","        ;",0,"      ","      ",""]
[null,{"$f":"IF(A1161=\"\",\"\",IF(ISERROR(VLOOKUP(A1161,Articoli!$1:$48422,2,FALSE)),\"Codice Errato\",VLOOKUP(A1161,Articoli!$1:$48422,2,FALSE)))","v":""},null,0,"        ","        ;",0,"      ","      ",""]
[null,{"$f":"IF(A1162=\"\",\"\",IF(ISERROR(VLOOKUP(A1162,Articoli!$1:$48422,2,FALSE)),\"Codice Errato\",VLOOKUP(A1162,Articoli!$1:$48422,2,FALSE)))","v":""},null,0,"        ","        ;",0,"      ","      ",""]
[null,{"$f":"IF(A1163=\"\",\"\",IF(ISERROR(VLOOKUP(A1163,Articoli!$1:$48422,2,FALSE)),\"Codice Errato\",VLOOKUP(A1163,Articoli!$1:$48422,2,FALSE)))","v":""},null,0,"        ","        ;",0,"      ","      ",""]
[null,{"$f":"IF(A1164=\"\",\"\",IF(ISERROR(VLOOKUP(A1164,Articoli!$1:$48422,2,FALSE)),\"Codice Errato\",VLOOKUP(A1164,Articoli!$1:$48422,2,FALSE)))","v":""},null,0,"        ","        ;",0,"      ","      ",""]
[null,{"$f":"IF(A1165=\"\",\"\",IF(ISERROR(VLOOKUP(A1165,Articoli!$1:$48422,2,FALSE)),\"Codice Errato\",VLOOKUP(A1165,Articoli!$1:$48422,2,FALSE)))","v":""},null,0,"        ","        ;",0,"      ","      ",""]
[null,{"$f":"IF(A1166=\"\",\"\",IF(ISERROR(VLOOKUP(A1166,Articoli!$1:$48422,2,FALSE)),\"Codice Errato\",VLOOKUP(A1166,Articoli!$1:$48422,2,FALSE)))","v":""},null,0,"        ","        ;",0,"      ","      ",""]
[null,{"$f":"IF(A1167=\"\",\"\",IF(ISERROR(VLOOKUP(A1167,Articoli!$1:$48422,2,FALSE)),\"Codice Errato\",VLOOKUP(A1167,Articoli!$1:$48422,2,FALSE)))","v":""},null,0,"        ","        ;",0,"      ","      ",""]
[null,{"$f":"IF(A1168=\"\",\"\",IF(ISERROR(VLOOKUP(A1168,Articoli!$1:$48422,2,FALSE)),\"Codice Errato\",VLOOKUP(A1168,Articoli!$1:$48422,2,FALSE)))","v":""},null,0,"        ","        ;",0,"      ","      ",""]
[null,{"$f":"IF(A1169=\"\",\"\",IF(ISERROR(VLOOKUP(A1169,Articoli!$1:$48422,2,FALSE)),\"Codice Errato\",VLOOKUP(A1169,Articoli!$1:$48422,2,FALSE)))","v":""},null,0,"        ","        ;",0,"      ","      ",""]
[null,{"$f":"IF(A1170=\"\",\"\",IF(ISERROR(VLOOKUP(A1170,Articoli!$1:$48422,2,FALSE)),\"Codice Errato\",VLOOKUP(A1170,Articoli!$1:$48422,2,FALSE)))","v":""},null,0,"        ","        ;",0,"      ","      ",""]
[null,{"$f":"IF(A1171=\"\",\"\",IF(ISERROR(VLOOKUP(A1171,Articoli!$1:$48422,2,FALSE)),\"Codice Errato\",VLOOKUP(A1171,Articoli!$1:$48422,2,FALSE)))","v":""},null,0,"        ","        ;",0,"      ","      ",""]
[null,{"$f":"IF(A1172=\"\",\"\",IF(ISERROR(VLOOKUP(A1172,Articoli!$1:$48422,2,FALSE)),\"Codice Errato\",VLOOKUP(A1172,Articoli!$1:$48422,2,FALSE)))","v":""},null,0,"        ","        ;",0,"      ","      ",""]
[null,{"$f":"IF(A1173=\"\",\"\",IF(ISERROR(VLOOKUP(A1173,Articoli!$1:$48422,2,FALSE)),\"Codice Errato\",VLOOKUP(A1173,Articoli!$1:$48422,2,FALSE)))","v":""},null,0,"        ","        ;",0,"      ","      ",""]
[null,{"$f":"IF(A1174=\"\",\"\",IF(ISERROR(VLOOKUP(A1174,Articoli!$1:$48422,2,FALSE)),\"Codice Errato\",VLOOKUP(A1174,Articoli!$1:$48422,2,FALSE)))","v":""},null,0,"        ","        ;",0,"      ","      ",""]
[null,{"$f":"IF(A1175=\"\",\"\",IF(ISERROR(VLOOKUP(A1175,Articoli!$1:$48422,2,FALSE)),\"Codice Errato\",VLOOKUP(A1175,Articoli!$1:$48422,2,FALSE)))","v":""},null,0,"        ","        ;",0,"      ","      ",""]
[null,{"$f":"IF(A1176=\"\",\"\",IF(ISERROR(VLOOKUP(A1176,Articoli!$1:$48422,2,FALSE)),\"Codice Errato\",VLOOKUP(A1176,Articoli!$1:$48422,2,FALSE)))","v":""},null,0,"        ","        ;",0,"      ","      ",""]
[null,{"$f":"IF(A1177=\"\",\"\",IF(ISERROR(VLOOKUP(A1177,Articoli!$1:$48422,2,FALSE)),\"Codice Errato\",VLOOKUP(A1177,Articoli!$1:$48422,2,FALSE)))","v":""},null,0,"        ","        ;",0,"      ","      ",""]
[null,{"$f":"IF(A1178=\"\",\"\",IF(ISERROR(VLOOKUP(A1178,Articoli!$1:$48422,2,FALSE)),\"Codice Errato\",VLOOKUP(A1178,Articoli!$1:$48422,2,FALSE)))","v":""},null,0,"        ","        ;",0,"      ","      ",""]
[null,{"$f":"IF(A1179=\"\",\"\",IF(ISERROR(VLOOKUP(A1179,Articoli!$1:$48422,2,FALSE)),\"Codice Errato\",VLOOKUP(A1179,Articoli!$1:$48422,2,FALSE)))","v":""},null,0,"        ","        ;",0,"      ","      ",""]
[null,{"$f":"IF(A1180=\"\",\"\",IF(ISERROR(VLOOKUP(A1180,Articoli!$1:$48422,2,FALSE)),\"Codice Errato\",VLOOKUP(A1180,Articoli!$1:$48422,2,FALSE)))","v":""},null,0,"        ","        ;",0,"      ","      ",""]
[null,{"$f":"IF(A1181=\"\",\"\",IF(ISERROR(VLOOKUP(A1181,Articoli!$1:$48422,2,FALSE)),\"Codice Errato\",VLOOKUP(A1181,Articoli!$1:$48422,2,FALSE)))","v":""},null,0,"        ","        ;",0,"      ","      ",""]
[null,{"$f":"IF(A1182=\"\",\"\",IF(ISERROR(VLOOKUP(A1182,Articoli!$1:$48422,2,FALSE)),\"Codice Errato\",VLOOKUP(A1182,Articoli!$1:$48422,2,FALSE)))","v":""},null,0,"        ","        ;",0,"      ","      ",""]
[null,{"$f":"IF(A1183=\"\",\"\",IF(ISERROR(VLOOKUP(A1183,Articoli!$1:$48422,2,FALSE)),\"Codice Errato\",VLOOKUP(A1183,Articoli!$1:$48422,2,FALSE)))","v":""},null,0,"        ","        ;",0,"      ","      ",""]
[null,{"$f":"IF(A1184=\"\",\"\",IF(ISERROR(VLOOKUP(A1184,Articoli!$1:$48422,2,FALSE)),\"Codice Errato\",VLOOKUP(A1184,Articoli!$1:$48422,2,FALSE)))","v":""},null,0,"        ","        ;",0,"      ","      ",{"$f":"IF(C1184=\"\",\"\",CONCATENATE(F1184,I1184))","v":""}]
[null,{"$f":"IF(A1185=\"\",\"\",IF(ISERROR(VLOOKUP(A1185,Articoli!$1:$48422,2,FALSE)),\"Codice Errato\",VLOOKUP(A1185,Articoli!$1:$48422,2,FALSE)))","v":""},null,0,"        ","        ;",0,"      ","      ",""]
[null,{"$f":"IF(A1186=\"\",\"\",IF(ISERROR(VLOOKUP(A1186,Articoli!$1:$48422,2,FALSE)),\"Codice Errato\",VLOOKUP(A1186,Articoli!$1:$48422,2,FALSE)))","v":""},null,0,"        ","        ;",0,"      ","      ",""]
[null,{"$f":"IF(A1187=\"\",\"\",IF(ISERROR(VLOOKUP(A1187,Articoli!$1:$48422,2,FALSE)),\"Codice Errato\",VLOOKUP(A1187,Articoli!$1:$48422,2,FALSE)))","v":""},null,0,"        ","        ;",0,"      ","      ",""]
[null,{"$f":"IF(A1188=\"\",\"\",IF(ISERROR(VLOOKUP(A1188,Articoli!$1:$48422,2,FALSE)),\"Codice Errato\",VLOOKUP(A1188,Articoli!$1:$48422,2,FALSE)))","v":""},null,0,"        ","        ;",0,"      ","      ",""]
[null,{"$f":"IF(A1189=\"\",\"\",IF(ISERROR(VLOOKUP(A1189,Articoli!$1:$48422,2,FALSE)),\"Codice Errato\",VLOOKUP(A1189,Articoli!$1:$48422,2,FALSE)))","v":""},null,0,"        ","        ;",0,"      ","      ",""]
[null,{"$f":"IF(A1190=\"\",\"\",IF(ISERROR(VLOOKUP(A1190,Articoli!$1:$48422,2,FALSE)),\"Codice Errato\",VLOOKUP(A1190,Articoli!$1:$48422,2,FALSE)))","v":""},null,0,"        ","        ;",0,"      ","      ",""]
[null,{"$f":"IF(A1191=\"\",\"\",IF(ISERROR(VLOOKUP(A1191,Articoli!$1:$48422,2,FALSE)),\"Codice Errato\",VLOOKUP(A1191,Articoli!$1:$48422,2,FALSE)))","v":""},null,0,"        ","        ;",0,"      ","      ",""]
[null,{"$f":"IF(A1192=\"\",\"\",IF(ISERROR(VLOOKUP(A1192,Articoli!$1:$48422,2,FALSE)),\"Codice Errato\",VLOOKUP(A1192,Articoli!$1:$48422,2,FALSE)))","v":""},null,0,"        ","        ;",0,"      ","      ",""]
[null,{"$f":"IF(A1193=\"\",\"\",IF(ISERROR(VLOOKUP(A1193,Articoli!$1:$48422,2,FALSE)),\"Codice Errato\",VLOOKUP(A1193,Articoli!$1:$48422,2,FALSE)))","v":""},null,0,"        ","        ;",0,"      ","      ",""]
[null,{"$f":"IF(A1194=\"\",\"\",IF(ISERROR(VLOOKUP(A1194,Articoli!$1:$48422,2,FALSE)),\"Codice Errato\",VLOOKUP(A1194,Articoli!$1:$48422,2,FALSE)))","v":""},null,0,"        ","        ;",0,"      ","      ",""]
[null,{"$f":"IF(A1195=\"\",\"\",IF(ISERROR(VLOOKUP(A1195,Articoli!$1:$48422,2,FALSE)),\"Codice Errato\",VLOOKUP(A1195,Articoli!$1:$48422,2,FALSE)))","v":""},null,0,"        ","        ;",0,"      ","      ",""]
[null,{"$f":"IF(A1196=\"\",\"\",IF(ISERROR(VLOOKUP(A1196,Articoli!$1:$48422,2,FALSE)),\"Codice Errato\",VLOOKUP(A1196,Articoli!$1:$48422,2,FALSE)))","v":""},null,0,"        ","        ;",0,"      ","      ",""]
[null,{"$f":"IF(A1197=\"\",\"\",IF(ISERROR(VLOOKUP(A1197,Articoli!$1:$48422,2,FALSE)),\"Codice Errato\",VLOOKUP(A1197,Articoli!$1:$48422,2,FALSE)))","v":""},null,0,"        ","        ;",0,"      ","      ",""]
[null,{"$f":"IF(A1198=\"\",\"\",IF(ISERROR(VLOOKUP(A1198,Articoli!$1:$48422,2,FALSE)),\"Codice Errato\",VLOOKUP(A1198,Articoli!$1:$48422,2,FALSE)))","v":""},null,0,"        ","        ;",0,"      ","      ",""]
[null,{"$f":"IF(A1199=\"\",\"\",IF(ISERROR(VLOOKUP(A1199,Articoli!$1:$48422,2,FALSE)),\"Codice Errato\",VLOOKUP(A1199,Articoli!$1:$48422,2,FALSE)))","v":""},null,0,"        ","        ;",0,"      ","      ",""]
[null,{"$f":"IF(A1200=\"\",\"\",IF(ISERROR(VLOOKUP(A1200,Articoli!$1:$48422,2,FALSE)),\"Codice Errato\",VLOOKUP(A1200,Articoli!$1:$48422,2,FALSE)))","v":""},null,0,"        ","        ;",0,"      ","      ",""]
[null,{"$f":"IF(A1201=\"\",\"\",IF(ISERROR(VLOOKUP(A1201,Articoli!$1:$48422,2,FALSE)),\"Codice Errato\",VLOOKUP(A1201,Articoli!$1:$48422,2,FALSE)))","v":""},null,0,"        ","        ;",0,"      ","      ",""]
[null,{"$f":"IF(A1202=\"\",\"\",IF(ISERROR(VLOOKUP(A1202,Articoli!$1:$48422,2,FALSE)),\"Codice Errato\",VLOOKUP(A1202,Articoli!$1:$48422,2,FALSE)))","v":""},null,{"$f":"LEN(A1202)","v":0},{"$f":"REPT(\" \",8-D1202)","v":"        "},{"$f":"CONCATENATE(A1202,E1202,\";\",)","v":"        ;"},{"$f":"LEN(C1202)","v":0},{"$f":"REPT(\" \",6-G1202)","v":"      "},{"$f":"CONCATENATE(H1202,C1202,)","v":"      "},""]
[null,{"$f":"IF(A1203=\"\",\"\",IF(ISERROR(VLOOKUP(A1203,Articoli!$1:$48422,2,FALSE)),\"Codice Errato\",VLOOKUP(A1203,Articoli!$1:$48422,2,FALSE)))","v":""},null,0,"        ","        ;",0,"      ","      ",""]
[null,{"$f":"IF(A1204=\"\",\"\",IF(ISERROR(VLOOKUP(A1204,Articoli!$1:$48422,2,FALSE)),\"Codice Errato\",VLOOKUP(A1204,Articoli!$1:$48422,2,FALSE)))","v":""},null,0,"        ","        ;",0,"      ","      ",""]
[null,{"$f":"IF(A1205=\"\",\"\",IF(ISERROR(VLOOKUP(A1205,Articoli!$1:$48422,2,FALSE)),\"Codice Errato\",VLOOKUP(A1205,Articoli!$1:$48422,2,FALSE)))","v":""},null,0,"        ","        ;",0,"      ","      ",""]
[null,{"$f":"IF(A1206=\"\",\"\",IF(ISERROR(VLOOKUP(A1206,Articoli!$1:$48422,2,FALSE)),\"Codice Errato\",VLOOKUP(A1206,Articoli!$1:$48422,2,FALSE)))","v":""},null,0,"        ","        ;",0,"      ","      ",""]
[null,{"$f":"IF(A1207=\"\",\"\",IF(ISERROR(VLOOKUP(A1207,Articoli!$1:$48422,2,FALSE)),\"Codice Errato\",VLOOKUP(A1207,Articoli!$1:$48422,2,FALSE)))","v":""},null,0,"        ","        ;",0,"      ","      ",""]
[null,{"$f":"IF(A1208=\"\",\"\",IF(ISERROR(VLOOKUP(A1208,Articoli!$1:$48422,2,FALSE)),\"Codice Errato\",VLOOKUP(A1208,Articoli!$1:$48422,2,FALSE)))","v":""},null,0,"        ","        ;",0,"      ","      ",""]
[null,{"$f":"IF(A1209=\"\",\"\",IF(ISERROR(VLOOKUP(A1209,Articoli!$1:$48422,2,FALSE)),\"Codice Errato\",VLOOKUP(A1209,Articoli!$1:$48422,2,FALSE)))","v":""},null,0,"        ","        ;",0,"      ","      ",""]
[null,{"$f":"IF(A1210=\"\",\"\",IF(ISERROR(VLOOKUP(A1210,Articoli!$1:$48422,2,FALSE)),\"Codice Errato\",VLOOKUP(A1210,Articoli!$1:$48422,2,FALSE)))","v":""},null,0,"        ","        ;",0,"      ","      ",""]
[null,{"$f":"IF(A1211=\"\",\"\",IF(ISERROR(VLOOKUP(A1211,Articoli!$1:$48422,2,FALSE)),\"Codice Errato\",VLOOKUP(A1211,Articoli!$1:$48422,2,FALSE)))","v":""},null,0,"        ","        ;",0,"      ","      ",""]
[null,{"$f":"IF(A1212=\"\",\"\",IF(ISERROR(VLOOKUP(A1212,Articoli!$1:$48422,2,FALSE)),\"Codice Errato\",VLOOKUP(A1212,Articoli!$1:$48422,2,FALSE)))","v":""},null,0,"        ","        ;",0,"      ","      ",""]
[null,{"$f":"IF(A1213=\"\",\"\",IF(ISERROR(VLOOKUP(A1213,Articoli!$1:$48422,2,FALSE)),\"Codice Errato\",VLOOKUP(A1213,Articoli!$1:$48422,2,FALSE)))","v":""},null,0,"        ","        ;",0,"      ","      ",""]
[null,{"$f":"IF(A1214=\"\",\"\",IF(ISERROR(VLOOKUP(A1214,Articoli!$1:$48422,2,FALSE)),\"Codice Errato\",VLOOKUP(A1214,Articoli!$1:$48422,2,FALSE)))","v":""},null,0,"        ","        ;",0,"      ","      ",""]
[null,{"$f":"IF(A1215=\"\",\"\",IF(ISERROR(VLOOKUP(A1215,Articoli!$1:$48422,2,FALSE)),\"Codice Errato\",VLOOKUP(A1215,Articoli!$1:$48422,2,FALSE)))","v":""},null,0,"        ","        ;",0,"      ","      ",""]
[null,{"$f":"IF(A1216=\"\",\"\",IF(ISERROR(VLOOKUP(A1216,Articoli!$1:$48422,2,FALSE)),\"Codice Errato\",VLOOKUP(A1216,Articoli!$1:$48422,2,FALSE)))","v":""},null,0,"        ","        ;",0,"      ","      ",""]
[null,{"$f":"IF(A1217=\"\",\"\",IF(ISERROR(VLOOKUP(A1217,Articoli!$1:$48422,2,FALSE)),\"Codice Errato\",VLOOKUP(A1217,Articoli!$1:$48422,2,FALSE)))","v":""},null,0,"        ","        ;",0,"      ","      ",""]
[null,{"$f":"IF(A1218=\"\",\"\",IF(ISERROR(VLOOKUP(A1218,Articoli!$1:$48422,2,FALSE)),\"Codice Errato\",VLOOKUP(A1218,Articoli!$1:$48422,2,FALSE)))","v":""},null,0,"        ","        ;",0,"      ","      ",""]
[null,{"$f":"IF(A1219=\"\",\"\",IF(ISERROR(VLOOKUP(A1219,Articoli!$1:$48422,2,FALSE)),\"Codice Errato\",VLOOKUP(A1219,Articoli!$1:$48422,2,FALSE)))","v":""},null,0,"        ","        ;",0,"      ","      ",""]
[null,{"$f":"IF(A1220=\"\",\"\",IF(ISERROR(VLOOKUP(A1220,Articoli!$1:$48422,2,FALSE)),\"Codice Errato\",VLOOKUP(A1220,Articoli!$1:$48422,2,FALSE)))","v":""},null,0,"        ","        ;",0,"      ","      ",""]
[null,{"$f":"IF(A1221=\"\",\"\",IF(ISERROR(VLOOKUP(A1221,Articoli!$1:$48422,2,FALSE)),\"Codice Errato\",VLOOKUP(A1221,Articoli!$1:$48422,2,FALSE)))","v":""},null,0,"        ","        ;",0,"      ","      ",""]
[null,{"$f":"IF(A1222=\"\",\"\",IF(ISERROR(VLOOKUP(A1222,Articoli!$1:$48422,2,FALSE)),\"Codice Errato\",VLOOKUP(A1222,Articoli!$1:$48422,2,FALSE)))","v":""},null,0,"        ","        ;",0,"      ","      ",""]
[null,{"$f":"IF(A1223=\"\",\"\",IF(ISERROR(VLOOKUP(A1223,Articoli!$1:$48422,2,FALSE)),\"Codice Errato\",VLOOKUP(A1223,Articoli!$1:$48422,2,FALSE)))","v":""},null,0,"        ","        ;",0,"      ","      ",""]
[null,{"$f":"IF(A1224=\"\",\"\",IF(ISERROR(VLOOKUP(A1224,Articoli!$1:$48422,2,FALSE)),\"Codice Errato\",VLOOKUP(A1224,Articoli!$1:$48422,2,FALSE)))","v":""},null,0,"        ","        ;",0,"      ","      ",""]
[null,{"$f":"IF(A1225=\"\",\"\",IF(ISERROR(VLOOKUP(A1225,Articoli!$1:$48422,2,FALSE)),\"Codice Errato\",VLOOKUP(A1225,Articoli!$1:$48422,2,FALSE)))","v":""},null,0,"        ","        ;",0,"      ","      ",""]
[null,{"$f":"IF(A1226=\"\",\"\",IF(ISERROR(VLOOKUP(A1226,Articoli!$1:$48422,2,FALSE)),\"Codice Errato\",VLOOKUP(A1226,Articoli!$1:$48422,2,FALSE)))","v":""},null,0,"        ","        ;",0,"      ","      ",""]
[null,{"$f":"IF(A1227=\"\",\"\",IF(ISERROR(VLOOKUP(A1227,Articoli!$1:$48422,2,FALSE)),\"Codice Errato\",VLOOKUP(A1227,Articoli!$1:$48422,2,FALSE)))","v":""},null,0,"        ","        ;",0,"      ","      ",""]
[null,{"$f":"IF(A1228=\"\",\"\",IF(ISERROR(VLOOKUP(A1228,Articoli!$1:$48422,2,FALSE)),\"Codice Errato\",VLOOKUP(A1228,Articoli!$1:$48422,2,FALSE)))","v":""},null,0,"        ","        ;",0,"      ","      ",""]
[null,{"$f":"IF(A1229=\"\",\"\",IF(ISERROR(VLOOKUP(A1229,Articoli!$1:$48422,2,FALSE)),\"Codice Errato\",VLOOKUP(A1229,Articoli!$1:$48422,2,FALSE)))","v":""},null,0,"        ","        ;",0,"      ","      ",""]
[null,{"$f":"IF(A1230=\"\",\"\",IF(ISERROR(VLOOKUP(A1230,Articoli!$1:$48422,2,FALSE)),\"Codice Errato\",VLOOKUP(A1230,Articoli!$1:$48422,2,FALSE)))","v":""},null,0,"        ","        ;",0,"      ","      ",""]
[null,{"$f":"IF(A1231=\"\",\"\",IF(ISERROR(VLOOKUP(A1231,Articoli!$1:$48422,2,FALSE)),\"Codice Errato\",VLOOKUP(A1231,Articoli!$1:$48422,2,FALSE)))","v":""},null,0,"        ","        ;",0,"      ","      ",""]
[null,{"$f":"IF(A1232=\"\",\"\",IF(ISERROR(VLOOKUP(A1232,Articoli!$1:$48422,2,FALSE)),\"Codice Errato\",VLOOKUP(A1232,Articoli!$1:$48422,2,FALSE)))","v":""},null,0,"        ","        ;",0,"      ","      ",""]
[null,{"$f":"IF(A1233=\"\",\"\",IF(ISERROR(VLOOKUP(A1233,Articoli!$1:$48422,2,FALSE)),\"Codice Errato\",VLOOKUP(A1233,Articoli!$1:$48422,2,FALSE)))","v":""},null,0,"        ","        ;",0,"      ","      ",""]
[null,{"$f":"IF(A1234=\"\",\"\",IF(ISERROR(VLOOKUP(A1234,Articoli!$1:$48422,2,FALSE)),\"Codice Errato\",VLOOKUP(A1234,Articoli!$1:$48422,2,FALSE)))","v":""},null,0,"        ","        ;",0,"      ","      ",""]
[null,{"$f":"IF(A1235=\"\",\"\",IF(ISERROR(VLOOKUP(A1235,Articoli!$1:$48422,2,FALSE)),\"Codice Errato\",VLOOKUP(A1235,Articoli!$1:$48422,2,FALSE)))","v":""},null,0,"        ","        ;",0,"      ","      ",""]
[null,{"$f":"IF(A1236=\"\",\"\",IF(ISERROR(VLOOKUP(A1236,Articoli!$1:$48422,2,FALSE)),\"Codice Errato\",VLOOKUP(A1236,Articoli!$1:$48422,2,FALSE)))","v":""},null,0,"        ","        ;",0,"      ","      ",""]
[null,{"$f":"IF(A1237=\"\",\"\",IF(ISERROR(VLOOKUP(A1237,Articoli!$1:$48422,2,FALSE)),\"Codice Errato\",VLOOKUP(A1237,Articoli!$1:$48422,2,FALSE)))","v":""},null,0,"        ","        ;",0,"      ","      ",""]
[null,{"$f":"IF(A1238=\"\",\"\",IF(ISERROR(VLOOKUP(A1238,Articoli!$1:$48422,2,FALSE)),\"Codice Errato\",VLOOKUP(A1238,Articoli!$1:$48422,2,FALSE)))","v":""},null,0,"        ","        ;",0,"      ","      ",""]
[null,{"$f":"IF(A1239=\"\",\"\",IF(ISERROR(VLOOKUP(A1239,Articoli!$1:$48422,2,FALSE)),\"Codice Errato\",VLOOKUP(A1239,Articoli!$1:$48422,2,FALSE)))","v":""},null,0,"        ","        ;",0,"      ","      ",""]
[null,{"$f":"IF(A1240=\"\",\"\",IF(ISERROR(VLOOKUP(A1240,Articoli!$1:$48422,2,FALSE)),\"Codice Errato\",VLOOKUP(A1240,Articoli!$1:$48422,2,FALSE)))","v":""},null,0,"        ","        ;",0,"      ","      ",""]
[null,{"$f":"IF(A1241=\"\",\"\",IF(ISERROR(VLOOKUP(A1241,Articoli!$1:$48422,2,FALSE)),\"Codice Errato\",VLOOKUP(A1241,Articoli!$1:$48422,2,FALSE)))","v":""},null,0,"        ","        ;",0,"      ","      ",""]
[null,{"$f":"IF(A1242=\"\",\"\",IF(ISERROR(VLOOKUP(A1242,Articoli!$1:$48422,2,FALSE)),\"Codice Errato\",VLOOKUP(A1242,Articoli!$1:$48422,2,FALSE)))","v":""},null,0,"        ","        ;",0,"      ","      ",""]
[null,{"$f":"IF(A1243=\"\",\"\",IF(ISERROR(VLOOKUP(A1243,Articoli!$1:$48422,2,FALSE)),\"Codice Errato\",VLOOKUP(A1243,Articoli!$1:$48422,2,FALSE)))","v":""},null,0,"        ","        ;",0,"      ","      ",""]
[null,{"$f":"IF(A1244=\"\",\"\",IF(ISERROR(VLOOKUP(A1244,Articoli!$1:$48422,2,FALSE)),\"Codice Errato\",VLOOKUP(A1244,Articoli!$1:$48422,2,FALSE)))","v":""},null,0,"        ","        ;",0,"      ","      ",""]
[null,{"$f":"IF(A1245=\"\",\"\",IF(ISERROR(VLOOKUP(A1245,Articoli!$1:$48422,2,FALSE)),\"Codice Errato\",VLOOKUP(A1245,Articoli!$1:$48422,2,FALSE)))","v":""},null,0,"        ","        ;",0,"      ","      ",""]
[null,{"$f":"IF(A1246=\"\",\"\",IF(ISERROR(VLOOKUP(A1246,Articoli!$1:$48422,2,FALSE)),\"Codice Errato\",VLOOKUP(A1246,Articoli!$1:$48422,2,FALSE)))","v":""},null,0,"        ","        ;",0,"      ","      ",""]
[null,{"$f":"IF(A1247=\"\",\"\",IF(ISERROR(VLOOKUP(A1247,Articoli!$1:$48422,2,FALSE)),\"Codice Errato\",VLOOKUP(A1247,Articoli!$1:$48422,2,FALSE)))","v":""},null,0,"        ","        ;",0,"      ","      ",""]
[null,{"$f":"IF(A1248=\"\",\"\",IF(ISERROR(VLOOKUP(A1248,Articoli!$1:$48422,2,FALSE)),\"Codice Errato\",VLOOKUP(A1248,Articoli!$1:$48422,2,FALSE)))","v":""},null,0,"        ","        ;",0,"      ","      ",{"$f":"IF(C1248=\"\",\"\",CONCATENATE(F1248,I1248))","v":""}]
[null,{"$f":"IF(A1249=\"\",\"\",IF(ISERROR(VLOOKUP(A1249,Articoli!$1:$48422,2,FALSE)),\"Codice Errato\",VLOOKUP(A1249,Articoli!$1:$48422,2,FALSE)))","v":""},null,0,"        ","        ;",0,"      ","      ",""]
[null,{"$f":"IF(A1250=\"\",\"\",IF(ISERROR(VLOOKUP(A1250,Articoli!$1:$48422,2,FALSE)),\"Codice Errato\",VLOOKUP(A1250,Articoli!$1:$48422,2,FALSE)))","v":""},null,0,"        ","        ;",0,"      ","      ",""]
[null,{"$f":"IF(A1251=\"\",\"\",IF(ISERROR(VLOOKUP(A1251,Articoli!$1:$48422,2,FALSE)),\"Codice Errato\",VLOOKUP(A1251,Articoli!$1:$48422,2,FALSE)))","v":""},null,0,"        ","        ;",0,"      ","      ",""]
[null,{"$f":"IF(A1252=\"\",\"\",IF(ISERROR(VLOOKUP(A1252,Articoli!$1:$48422,2,FALSE)),\"Codice Errato\",VLOOKUP(A1252,Articoli!$1:$48422,2,FALSE)))","v":""},null,0,"        ","        ;",0,"      ","      ",""]
[null,{"$f":"IF(A1253=\"\",\"\",IF(ISERROR(VLOOKUP(A1253,Articoli!$1:$48422,2,FALSE)),\"Codice Errato\",VLOOKUP(A1253,Articoli!$1:$48422,2,FALSE)))","v":""},null,0,"        ","        ;",0,"      ","      ",""]
[null,{"$f":"IF(A1254=\"\",\"\",IF(ISERROR(VLOOKUP(A1254,Articoli!$1:$48422,2,FALSE)),\"Codice Errato\",VLOOKUP(A1254,Articoli!$1:$48422,2,FALSE)))","v":""},null,0,"        ","        ;",0,"      ","      ",""]
[null,{"$f":"IF(A1255=\"\",\"\",IF(ISERROR(VLOOKUP(A1255,Articoli!$1:$48422,2,FALSE)),\"Codice Errato\",VLOOKUP(A1255,Articoli!$1:$48422,2,FALSE)))","v":""},null,0,"        ","        ;",0,"      ","      ",""]
[null,{"$f":"IF(A1256=\"\",\"\",IF(ISERROR(VLOOKUP(A1256,Articoli!$1:$48422,2,FALSE)),\"Codice Errato\",VLOOKUP(A1256,Articoli!$1:$48422,2,FALSE)))","v":""},null,0,"        ","        ;",0,"      ","      ",""]
[null,{"$f":"IF(A1257=\"\",\"\",IF(ISERROR(VLOOKUP(A1257,Articoli!$1:$48422,2,FALSE)),\"Codice Errato\",VLOOKUP(A1257,Articoli!$1:$48422,2,FALSE)))","v":""},null,0,"        ","        ;",0,"      ","      ",""]
[null,{"$f":"IF(A1258=\"\",\"\",IF(ISERROR(VLOOKUP(A1258,Articoli!$1:$48422,2,FALSE)),\"Codice Errato\",VLOOKUP(A1258,Articoli!$1:$48422,2,FALSE)))","v":""},null,0,"        ","        ;",0,"      ","      ",""]
[null,{"$f":"IF(A1259=\"\",\"\",IF(ISERROR(VLOOKUP(A1259,Articoli!$1:$48422,2,FALSE)),\"Codice Errato\",VLOOKUP(A1259,Articoli!$1:$48422,2,FALSE)))","v":""},null,0,"        ","        ;",0,"      ","      ",""]
[null,{"$f":"IF(A1260=\"\",\"\",IF(ISERROR(VLOOKUP(A1260,Articoli!$1:$48422,2,FALSE)),\"Codice Errato\",VLOOKUP(A1260,Articoli!$1:$48422,2,FALSE)))","v":""},null,0,"        ","        ;",0,"      ","      ",""]
[null,{"$f":"IF(A1261=\"\",\"\",IF(ISERROR(VLOOKUP(A1261,Articoli!$1:$48422,2,FALSE)),\"Codice Errato\",VLOOKUP(A1261,Articoli!$1:$48422,2,FALSE)))","v":""},null,0,"        ","        ;",0,"      ","      ",""]
[null,{"$f":"IF(A1262=\"\",\"\",IF(ISERROR(VLOOKUP(A1262,Articoli!$1:$48422,2,FALSE)),\"Codice Errato\",VLOOKUP(A1262,Articoli!$1:$48422,2,FALSE)))","v":""},null,0,"        ","        ;",0,"      ","      ",""]
[null,{"$f":"IF(A1263=\"\",\"\",IF(ISERROR(VLOOKUP(A1263,Articoli!$1:$48422,2,FALSE)),\"Codice Errato\",VLOOKUP(A1263,Articoli!$1:$48422,2,FALSE)))","v":""},null,0,"        ","        ;",0,"      ","      ",""]
[null,{"$f":"IF(A1264=\"\",\"\",IF(ISERROR(VLOOKUP(A1264,Articoli!$1:$48422,2,FALSE)),\"Codice Errato\",VLOOKUP(A1264,Articoli!$1:$48422,2,FALSE)))","v":""},null,0,"        ","        ;",0,"      ","      ",""]
[null,{"$f":"IF(A1265=\"\",\"\",IF(ISERROR(VLOOKUP(A1265,Articoli!$1:$48422,2,FALSE)),\"Codice Errato\",VLOOKUP(A1265,Articoli!$1:$48422,2,FALSE)))","v":""},null,0,"        ","        ;",0,"      ","      ",""]
[null,{"$f":"IF(A1266=\"\",\"\",IF(ISERROR(VLOOKUP(A1266,Articoli!$1:$48422,2,FALSE)),\"Codice Errato\",VLOOKUP(A1266,Articoli!$1:$48422,2,FALSE)))","v":""},null,{"$f":"LEN(A1266)","v":0},{"$f":"REPT(\" \",8-D1266)","v":"        "},{"$f":"CONCATENATE(A1266,E1266,\";\",)","v":"        ;"},{"$f":"LEN(C1266)","v":0},{"$f":"REPT(\" \",6-G1266)","v":"      "},{"$f":"CONCATENATE(H1266,C1266,)","v":"      "},""]
[null,{"$f":"IF(A1267=\"\",\"\",IF(ISERROR(VLOOKUP(A1267,Articoli!$1:$48422,2,FALSE)),\"Codice Errato\",VLOOKUP(A1267,Articoli!$1:$48422,2,FALSE)))","v":""},null,0,"        ","        ;",0,"      ","      ",""]
[null,{"$f":"IF(A1268=\"\",\"\",IF(ISERROR(VLOOKUP(A1268,Articoli!$1:$48422,2,FALSE)),\"Codice Errato\",VLOOKUP(A1268,Articoli!$1:$48422,2,FALSE)))","v":""},null,0,"        ","        ;",0,"      ","      ",""]
[null,{"$f":"IF(A1269=\"\",\"\",IF(ISERROR(VLOOKUP(A1269,Articoli!$1:$48422,2,FALSE)),\"Codice Errato\",VLOOKUP(A1269,Articoli!$1:$48422,2,FALSE)))","v":""},null,0,"        ","        ;",0,"      ","      ",""]
[null,{"$f":"IF(A1270=\"\",\"\",IF(ISERROR(VLOOKUP(A1270,Articoli!$1:$48422,2,FALSE)),\"Codice Errato\",VLOOKUP(A1270,Articoli!$1:$48422,2,FALSE)))","v":""},null,0,"        ","        ;",0,"      ","      ",""]
[null,{"$f":"IF(A1271=\"\",\"\",IF(ISERROR(VLOOKUP(A1271,Articoli!$1:$48422,2,FALSE)),\"Codice Errato\",VLOOKUP(A1271,Articoli!$1:$48422,2,FALSE)))","v":""},null,0,"        ","        ;",0,"      ","      ",""]
[null,{"$f":"IF(A1272=\"\",\"\",IF(ISERROR(VLOOKUP(A1272,Articoli!$1:$48422,2,FALSE)),\"Codice Errato\",VLOOKUP(A1272,Articoli!$1:$48422,2,FALSE)))","v":""},null,0,"        ","        ;",0,"      ","      ",""]
[null,{"$f":"IF(A1273=\"\",\"\",IF(ISERROR(VLOOKUP(A1273,Articoli!$1:$48422,2,FALSE)),\"Codice Errato\",VLOOKUP(A1273,Articoli!$1:$48422,2,FALSE)))","v":""},null,0,"        ","        ;",0,"      ","      ",""]
[null,{"$f":"IF(A1274=\"\",\"\",IF(ISERROR(VLOOKUP(A1274,Articoli!$1:$48422,2,FALSE)),\"Codice Errato\",VLOOKUP(A1274,Articoli!$1:$48422,2,FALSE)))","v":""},null,0,"        ","        ;",0,"      ","      ",""]
[null,{"$f":"IF(A1275=\"\",\"\",IF(ISERROR(VLOOKUP(A1275,Articoli!$1:$48422,2,FALSE)),\"Codice Errato\",VLOOKUP(A1275,Articoli!$1:$48422,2,FALSE)))","v":""},null,0,"        ","        ;",0,"      ","      ",""]
[null,{"$f":"IF(A1276=\"\",\"\",IF(ISERROR(VLOOKUP(A1276,Articoli!$1:$48422,2,FALSE)),\"Codice Errato\",VLOOKUP(A1276,Articoli!$1:$48422,2,FALSE)))","v":""},null,0,"        ","        ;",0,"      ","      ",""]
[null,{"$f":"IF(A1277=\"\",\"\",IF(ISERROR(VLOOKUP(A1277,Articoli!$1:$48422,2,FALSE)),\"Codice Errato\",VLOOKUP(A1277,Articoli!$1:$48422,2,FALSE)))","v":""},null,0,"        ","        ;",0,"      ","      ",""]
[null,{"$f":"IF(A1278=\"\",\"\",IF(ISERROR(VLOOKUP(A1278,Articoli!$1:$48422,2,FALSE)),\"Codice Errato\",VLOOKUP(A1278,Articoli!$1:$48422,2,FALSE)))","v":""},null,0,"        ","        ;",0,"      ","      ",""]
[null,{"$f":"IF(A1279=\"\",\"\",IF(ISERROR(VLOOKUP(A1279,Articoli!$1:$48422,2,FALSE)),\"Codice Errato\",VLOOKUP(A1279,Articoli!$1:$48422,2,FALSE)))","v":""},null,0,"        ","        ;",0,"      ","      ",""]
[null,{"$f":"IF(A1280=\"\",\"\",IF(ISERROR(VLOOKUP(A1280,Articoli!$1:$48422,2,FALSE)),\"Codice Errato\",VLOOKUP(A1280,Articoli!$1:$48422,2,FALSE)))","v":""},null,0,"        ","        ;",0,"      ","      ",""]
[null,{"$f":"IF(A1281=\"\",\"\",IF(ISERROR(VLOOKUP(A1281,Articoli!$1:$48422,2,FALSE)),\"Codice Errato\",VLOOKUP(A1281,Articoli!$1:$48422,2,FALSE)))","v":""},null,0,"        ","        ;",0,"      ","      ",""]
[null,{"$f":"IF(A1282=\"\",\"\",IF(ISERROR(VLOOKUP(A1282,Articoli!$1:$48422,2,FALSE)),\"Codice Errato\",VLOOKUP(A1282,Articoli!$1:$48422,2,FALSE)))","v":""},null,0,"        ","        ;",0,"      ","      ",""]
[null,{"$f":"IF(A1283=\"\",\"\",IF(ISERROR(VLOOKUP(A1283,Articoli!$1:$48422,2,FALSE)),\"Codice Errato\",VLOOKUP(A1283,Articoli!$1:$48422,2,FALSE)))","v":""},null,0,"        ","        ;",0,"      ","      ",""]
[null,{"$f":"IF(A1284=\"\",\"\",IF(ISERROR(VLOOKUP(A1284,Articoli!$1:$48422,2,FALSE)),\"Codice Errato\",VLOOKUP(A1284,Articoli!$1:$48422,2,FALSE)))","v":""},null,0,"        ","        ;",0,"      ","      ",""]
[null,{"$f":"IF(A1285=\"\",\"\",IF(ISERROR(VLOOKUP(A1285,Articoli!$1:$48422,2,FALSE)),\"Codice Errato\",VLOOKUP(A1285,Articoli!$1:$48422,2,FALSE)))","v":""},null,0,"        ","        ;",0,"      ","      ",""]
[null,{"$f":"IF(A1286=\"\",\"\",IF(ISERROR(VLOOKUP(A1286,Articoli!$1:$48422,2,FALSE)),\"Codice Errato\",VLOOKUP(A1286,Articoli!$1:$48422,2,FALSE)))","v":""},null,0,"        ","        ;",0,"      ","      ",""]
[null,{"$f":"IF(A1287=\"\",\"\",IF(ISERROR(VLOOKUP(A1287,Articoli!$1:$48422,2,FALSE)),\"Codice Errato\",VLOOKUP(A1287,Articoli!$1:$48422,2,FALSE)))","v":""},null,0,"        ","        ;",0,"      ","      ",""]
[null,{"$f":"IF(A1288=\"\",\"\",IF(ISERROR(VLOOKUP(A1288,Articoli!$1:$48422,2,FALSE)),\"Codice Errato\",VLOOKUP(A1288,Articoli!$1:$48422,2,FALSE)))","v":""},null,0,"        ","        ;",0,"      ","      ",""]
[null,{"$f":"IF(A1289=\"\",\"\",IF(ISERROR(VLOOKUP(A1289,Articoli!$1:$48422,2,FALSE)),\"Codice Errato\",VLOOKUP(A1289,Articoli!$1:$48422,2,FALSE)))","v":""},null,0,"        ","        ;",0,"      ","      ",""]
[null,{"$f":"IF(A1290=\"\",\"\",IF(ISERROR(VLOOKUP(A1290,Articoli!$1:$48422,2,FALSE)),\"Codice Errato\",VLOOKUP(A1290,Articoli!$1:$48422,2,FALSE)))","v":""},null,0,"        ","        ;",0,"      ","      ",""]
[null,{"$f":"IF(A1291=\"\",\"\",IF(ISERROR(VLOOKUP(A1291,Articoli!$1:$48422,2,FALSE)),\"Codice Errato\",VLOOKUP(A1291,Articoli!$1:$48422,2,FALSE)))","v":""},null,0,"        ","        ;",0,"      ","      ",""]
[null,{"$f":"IF(A1292=\"\",\"\",IF(ISERROR(VLOOKUP(A1292,Articoli!$1:$48422,2,FALSE)),\"Codice Errato\",VLOOKUP(A1292,Articoli!$1:$48422,2,FALSE)))","v":""},null,0,"        ","        ;",0,"      ","      ",""]
[null,{"$f":"IF(A1293=\"\",\"\",IF(ISERROR(VLOOKUP(A1293,Articoli!$1:$48422,2,FALSE)),\"Codice Errato\",VLOOKUP(A1293,Articoli!$1:$48422,2,FALSE)))","v":""},null,0,"        ","        ;",0,"      ","      ",""]
[null,{"$f":"IF(A1294=\"\",\"\",IF(ISERROR(VLOOKUP(A1294,Articoli!$1:$48422,2,FALSE)),\"Codice Errato\",VLOOKUP(A1294,Articoli!$1:$48422,2,FALSE)))","v":""},null,0,"        ","        ;",0,"      ","      ",""]
[null,{"$f":"IF(A1295=\"\",\"\",IF(ISERROR(VLOOKUP(A1295,Articoli!$1:$48422,2,FALSE)),\"Codice Errato\",VLOOKUP(A1295,Articoli!$1:$48422,2,FALSE)))","v":""},null,0,"        ","        ;",0,"      ","      ",""]
[null,{"$f":"IF(A1296=\"\",\"\",IF(ISERROR(VLOOKUP(A1296,Articoli!$1:$48422,2,FALSE)),\"Codice Errato\",VLOOKUP(A1296,Articoli!$1:$48422,2,FALSE)))","v":""},null,0,"        ","        ;",0,"      ","      ",""]
[null,{"$f":"IF(A1297=\"\",\"\",IF(ISERROR(VLOOKUP(A1297,Articoli!$1:$48422,2,FALSE)),\"Codice Errato\",VLOOKUP(A1297,Articoli!$1:$48422,2,FALSE)))","v":""},null,0,"        ","        ;",0,"      ","      ",""]
[null,{"$f":"IF(A1298=\"\",\"\",IF(ISERROR(VLOOKUP(A1298,Articoli!$1:$48422,2,FALSE)),\"Codice Errato\",VLOOKUP(A1298,Articoli!$1:$48422,2,FALSE)))","v":""},null,0,"        ","        ;",0,"      ","      ",""]
[null,{"$f":"IF(A1299=\"\",\"\",IF(ISERROR(VLOOKUP(A1299,Articoli!$1:$48422,2,FALSE)),\"Codice Errato\",VLOOKUP(A1299,Articoli!$1:$48422,2,FALSE)))","v":""},null,0,"        ","        ;",0,"      ","      ",""]
[null,{"$f":"IF(A1300=\"\",\"\",IF(ISERROR(VLOOKUP(A1300,Articoli!$1:$48422,2,FALSE)),\"Codice Errato\",VLOOKUP(A1300,Articoli!$1:$48422,2,FALSE)))","v":""},null,0,"        ","        ;",0,"      ","      ",""]
[null,{"$f":"IF(A1301=\"\",\"\",IF(ISERROR(VLOOKUP(A1301,Articoli!$1:$48422,2,FALSE)),\"Codice Errato\",VLOOKUP(A1301,Articoli!$1:$48422,2,FALSE)))","v":""},null,0,"        ","        ;",0,"      ","      ",""]
[null,{"$f":"IF(A1302=\"\",\"\",IF(ISERROR(VLOOKUP(A1302,Articoli!$1:$48422,2,FALSE)),\"Codice Errato\",VLOOKUP(A1302,Articoli!$1:$48422,2,FALSE)))","v":""},null,0,"        ","        ;",0,"      ","      ",""]
[null,{"$f":"IF(A1303=\"\",\"\",IF(ISERROR(VLOOKUP(A1303,Articoli!$1:$48422,2,FALSE)),\"Codice Errato\",VLOOKUP(A1303,Articoli!$1:$48422,2,FALSE)))","v":""},null,0,"        ","        ;",0,"      ","      ",""]
[null,{"$f":"IF(A1304=\"\",\"\",IF(ISERROR(VLOOKUP(A1304,Articoli!$1:$48422,2,FALSE)),\"Codice Errato\",VLOOKUP(A1304,Articoli!$1:$48422,2,FALSE)))","v":""},null,0,"        ","        ;",0,"      ","      ",""]
[null,{"$f":"IF(A1305=\"\",\"\",IF(ISERROR(VLOOKUP(A1305,Articoli!$1:$48422,2,FALSE)),\"Codice Errato\",VLOOKUP(A1305,Articoli!$1:$48422,2,FALSE)))","v":""},null,0,"        ","        ;",0,"      ","      ",""]
[null,{"$f":"IF(A1306=\"\",\"\",IF(ISERROR(VLOOKUP(A1306,Articoli!$1:$48422,2,FALSE)),\"Codice Errato\",VLOOKUP(A1306,Articoli!$1:$48422,2,FALSE)))","v":""},null,0,"        ","        ;",0,"      ","      ",""]
[null,{"$f":"IF(A1307=\"\",\"\",IF(ISERROR(VLOOKUP(A1307,Articoli!$1:$48422,2,FALSE)),\"Codice Errato\",VLOOKUP(A1307,Articoli!$1:$48422,2,FALSE)))","v":""},null,0,"        ","        ;",0,"      ","      ",""]
[null,{"$f":"IF(A1308=\"\",\"\",IF(ISERROR(VLOOKUP(A1308,Articoli!$1:$48422,2,FALSE)),\"Codice Errato\",VLOOKUP(A1308,Articoli!$1:$48422,2,FALSE)))","v":""},null,0,"        ","        ;",0,"      ","      ",""]
[null,{"$f":"IF(A1309=\"\",\"\",IF(ISERROR(VLOOKUP(A1309,Articoli!$1:$48422,2,FALSE)),\"Codice Errato\",VLOOKUP(A1309,Articoli!$1:$48422,2,FALSE)))","v":""},null,0,"        ","        ;",0,"      ","      ",""]
[null,{"$f":"IF(A1310=\"\",\"\",IF(ISERROR(VLOOKUP(A1310,Articoli!$1:$48422,2,FALSE)),\"Codice Errato\",VLOOKUP(A1310,Articoli!$1:$48422,2,FALSE)))","v":""},null,0,"        ","        ;",0,"      ","      ",""]
[null,{"$f":"IF(A1311=\"\",\"\",IF(ISERROR(VLOOKUP(A1311,Articoli!$1:$48422,2,FALSE)),\"Codice Errato\",VLOOKUP(A1311,Articoli!$1:$48422,2,FALSE)))","v":""},null,0,"        ","        ;",0,"      ","      ",""]
[null,{"$f":"IF(A1312=\"\",\"\",IF(ISERROR(VLOOKUP(A1312,Articoli!$1:$48422,2,FALSE)),\"Codice Errato\",VLOOKUP(A1312,Articoli!$1:$48422,2,FALSE)))","v":""},null,0,"        ","        ;",0,"      ","      ",{"$f":"IF(C1312=\"\",\"\",CONCATENATE(F1312,I1312))","v":""}]
[null,{"$f":"IF(A1313=\"\",\"\",IF(ISERROR(VLOOKUP(A1313,Articoli!$1:$48422,2,FALSE)),\"Codice Errato\",VLOOKUP(A1313,Articoli!$1:$48422,2,FALSE)))","v":""},null,0,"        ","        ;",0,"      ","      ",""]
[null,{"$f":"IF(A1314=\"\",\"\",IF(ISERROR(VLOOKUP(A1314,Articoli!$1:$48422,2,FALSE)),\"Codice Errato\",VLOOKUP(A1314,Articoli!$1:$48422,2,FALSE)))","v":""},null,0,"        ","        ;",0,"      ","      ",""]
[null,{"$f":"IF(A1315=\"\",\"\",IF(ISERROR(VLOOKUP(A1315,Articoli!$1:$48422,2,FALSE)),\"Codice Errato\",VLOOKUP(A1315,Articoli!$1:$48422,2,FALSE)))","v":""},null,0,"        ","        ;",0,"      ","      ",""]
[null,{"$f":"IF(A1316=\"\",\"\",IF(ISERROR(VLOOKUP(A1316,Articoli!$1:$48422,2,FALSE)),\"Codice Errato\",VLOOKUP(A1316,Articoli!$1:$48422,2,FALSE)))","v":""},null,0,"        ","        ;",0,"      ","      ",""]
[null,{"$f":"IF(A1317=\"\",\"\",IF(ISERROR(VLOOKUP(A1317,Articoli!$1:$48422,2,FALSE)),\"Codice Errato\",VLOOKUP(A1317,Articoli!$1:$48422,2,FALSE)))","v":""},null,0,"        ","        ;",0,"      ","      ",""]
[null,{"$f":"IF(A1318=\"\",\"\",IF(ISERROR(VLOOKUP(A1318,Articoli!$1:$48422,2,FALSE)),\"Codice Errato\",VLOOKUP(A1318,Articoli!$1:$48422,2,FALSE)))","v":""},null,0,"        ","        ;",0,"      ","      ",""]
[null,{"$f":"IF(A1319=\"\",\"\",IF(ISERROR(VLOOKUP(A1319,Articoli!$1:$48422,2,FALSE)),\"Codice Errato\",VLOOKUP(A1319,Articoli!$1:$48422,2,FALSE)))","v":""},null,0,"        ","        ;",0,"      ","      ",""]
[null,{"$f":"IF(A1320=\"\",\"\",IF(ISERROR(VLOOKUP(A1320,Articoli!$1:$48422,2,FALSE)),\"Codice Errato\",VLOOKUP(A1320,Articoli!$1:$48422,2,FALSE)))","v":""},null,0,"        ","        ;",0,"      ","      ",""]
[null,{"$f":"IF(A1321=\"\",\"\",IF(ISERROR(VLOOKUP(A1321,Articoli!$1:$48422,2,FALSE)),\"Codice Errato\",VLOOKUP(A1321,Articoli!$1:$48422,2,FALSE)))","v":""},null,0,"        ","        ;",0,"      ","      ",""]
[null,{"$f":"IF(A1322=\"\",\"\",IF(ISERROR(VLOOKUP(A1322,Articoli!$1:$48422,2,FALSE)),\"Codice Errato\",VLOOKUP(A1322,Articoli!$1:$48422,2,FALSE)))","v":""},null,0,"        ","        ;",0,"      ","      ",""]
[null,{"$f":"IF(A1323=\"\",\"\",IF(ISERROR(VLOOKUP(A1323,Articoli!$1:$48422,2,FALSE)),\"Codice Errato\",VLOOKUP(A1323,Articoli!$1:$48422,2,FALSE)))","v":""},null,0,"        ","        ;",0,"      ","      ",""]
[null,{"$f":"IF(A1324=\"\",\"\",IF(ISERROR(VLOOKUP(A1324,Articoli!$1:$48422,2,FALSE)),\"Codice Errato\",VLOOKUP(A1324,Articoli!$1:$48422,2,FALSE)))","v":""},null,0,"        ","        ;",0,"      ","      ",""]
[null,{"$f":"IF(A1325=\"\",\"\",IF(ISERROR(VLOOKUP(A1325,Articoli!$1:$48422,2,FALSE)),\"Codice Errato\",VLOOKUP(A1325,Articoli!$1:$48422,2,FALSE)))","v":""},null,0,"        ","        ;",0,"      ","      ",""]
[null,{"$f":"IF(A1326=\"\",\"\",IF(ISERROR(VLOOKUP(A1326,Articoli!$1:$48422,2,FALSE)),\"Codice Errato\",VLOOKUP(A1326,Articoli!$1:$48422,2,FALSE)))","v":""},null,0,"        ","        ;",0,"      ","      ",""]
[null,{"$f":"IF(A1327=\"\",\"\",IF(ISERROR(VLOOKUP(A1327,Articoli!$1:$48422,2,FALSE)),\"Codice Errato\",VLOOKUP(A1327,Articoli!$1:$48422,2,FALSE)))","v":""},null,0,"        ","        ;",0,"      ","      ",""]
[null,{"$f":"IF(A1328=\"\",\"\",IF(ISERROR(VLOOKUP(A1328,Articoli!$1:$48422,2,FALSE)),\"Codice Errato\",VLOOKUP(A1328,Articoli!$1:$48422,2,FALSE)))","v":""},null,0,"        ","        ;",0,"      ","      ",""]
[null,{"$f":"IF(A1329=\"\",\"\",IF(ISERROR(VLOOKUP(A1329,Articoli!$1:$48422,2,FALSE)),\"Codice Errato\",VLOOKUP(A1329,Articoli!$1:$48422,2,FALSE)))","v":""},null,0,"        ","        ;",0,"      ","      ",""]
[null,{"$f":"IF(A1330=\"\",\"\",IF(ISERROR(VLOOKUP(A1330,Articoli!$1:$48422,2,FALSE)),\"Codice Errato\",VLOOKUP(A1330,Articoli!$1:$48422,2,FALSE)))","v":""},null,{"$f":"LEN(A1330)","v":0},{"$f":"REPT(\" \",8-D1330)","v":"        "},{"$f":"CONCATENATE(A1330,E1330,\";\",)","v":"        ;"},{"$f":"LEN(C1330)","v":0},{"$f":"REPT(\" \",6-G1330)","v":"      "},{"$f":"CONCATENATE(H1330,C1330,)","v":"      "},""]
[null,{"$f":"IF(A1331=\"\",\"\",IF(ISERROR(VLOOKUP(A1331,Articoli!$1:$48422,2,FALSE)),\"Codice Errato\",VLOOKUP(A1331,Articoli!$1:$48422,2,FALSE)))","v":""},null,0,"        ","        ;",0,"      ","      ",""]
[null,{"$f":"IF(A1332=\"\",\"\",IF(ISERROR(VLOOKUP(A1332,Articoli!$1:$48422,2,FALSE)),\"Codice Errato\",VLOOKUP(A1332,Articoli!$1:$48422,2,FALSE)))","v":""},null,0,"        ","        ;",0,"      ","      ",""]
[null,{"$f":"IF(A1333=\"\",\"\",IF(ISERROR(VLOOKUP(A1333,Articoli!$1:$48422,2,FALSE)),\"Codice Errato\",VLOOKUP(A1333,Articoli!$1:$48422,2,FALSE)))","v":""},null,0,"        ","        ;",0,"      ","      ",""]
[null,{"$f":"IF(A1334=\"\",\"\",IF(ISERROR(VLOOKUP(A1334,Articoli!$1:$48422,2,FALSE)),\"Codice Errato\",VLOOKUP(A1334,Articoli!$1:$48422,2,FALSE)))","v":""},null,0,"        ","        ;",0,"      ","      ",""]
[null,{"$f":"IF(A1335=\"\",\"\",IF(ISERROR(VLOOKUP(A1335,Articoli!$1:$48422,2,FALSE)),\"Codice Errato\",VLOOKUP(A1335,Articoli!$1:$48422,2,FALSE)))","v":""},null,0,"        ","        ;",0,"      ","      ",""]
[null,{"$f":"IF(A1336=\"\",\"\",IF(ISERROR(VLOOKUP(A1336,Articoli!$1:$48422,2,FALSE)),\"Codice Errato\",VLOOKUP(A1336,Articoli!$1:$48422,2,FALSE)))","v":""},null,0,"        ","        ;",0,"      ","      ",""]
[null,{"$f":"IF(A1337=\"\",\"\",IF(ISERROR(VLOOKUP(A1337,Articoli!$1:$48422,2,FALSE)),\"Codice Errato\",VLOOKUP(A1337,Articoli!$1:$48422,2,FALSE)))","v":""},null,0,"        ","        ;",0,"      ","      ",""]
[null,{"$f":"IF(A1338=\"\",\"\",IF(ISERROR(VLOOKUP(A1338,Articoli!$1:$48422,2,FALSE)),\"Codice Errato\",VLOOKUP(A1338,Articoli!$1:$48422,2,FALSE)))","v":""},null,0,"        ","        ;",0,"      ","      ",""]
[null,{"$f":"IF(A1339=\"\",\"\",IF(ISERROR(VLOOKUP(A1339,Articoli!$1:$48422,2,FALSE)),\"Codice Errato\",VLOOKUP(A1339,Articoli!$1:$48422,2,FALSE)))","v":""},null,0,"        ","        ;",0,"      ","      ",""]
[null,{"$f":"IF(A1340=\"\",\"\",IF(ISERROR(VLOOKUP(A1340,Articoli!$1:$48422,2,FALSE)),\"Codice Errato\",VLOOKUP(A1340,Articoli!$1:$48422,2,FALSE)))","v":""},null,0,"        ","        ;",0,"      ","      ",""]
[null,{"$f":"IF(A1341=\"\",\"\",IF(ISERROR(VLOOKUP(A1341,Articoli!$1:$48422,2,FALSE)),\"Codice Errato\",VLOOKUP(A1341,Articoli!$1:$48422,2,FALSE)))","v":""},null,0,"        ","        ;",0,"      ","      ",""]
[null,{"$f":"IF(A1342=\"\",\"\",IF(ISERROR(VLOOKUP(A1342,Articoli!$1:$48422,2,FALSE)),\"Codice Errato\",VLOOKUP(A1342,Articoli!$1:$48422,2,FALSE)))","v":""},null,0,"        ","        ;",0,"      ","      ",""]
[null,{"$f":"IF(A1343=\"\",\"\",IF(ISERROR(VLOOKUP(A1343,Articoli!$1:$48422,2,FALSE)),\"Codice Errato\",VLOOKUP(A1343,Articoli!$1:$48422,2,FALSE)))","v":""},null,0,"        ","        ;",0,"      ","      ",""]
[null,{"$f":"IF(A1344=\"\",\"\",IF(ISERROR(VLOOKUP(A1344,Articoli!$1:$48422,2,FALSE)),\"Codice Errato\",VLOOKUP(A1344,Articoli!$1:$48422,2,FALSE)))","v":""},null,0,"        ","        ;",0,"      ","      ",""]
[null,{"$f":"IF(A1345=\"\",\"\",IF(ISERROR(VLOOKUP(A1345,Articoli!$1:$48422,2,FALSE)),\"Codice Errato\",VLOOKUP(A1345,Articoli!$1:$48422,2,FALSE)))","v":""},null,0,"        ","        ;",0,"      ","      ",""]
[null,{"$f":"IF(A1346=\"\",\"\",IF(ISERROR(VLOOKUP(A1346,Articoli!$1:$48422,2,FALSE)),\"Codice Errato\",VLOOKUP(A1346,Articoli!$1:$48422,2,FALSE)))","v":""},null,0,"        ","        ;",0,"      ","      ",""]
[null,{"$f":"IF(A1347=\"\",\"\",IF(ISERROR(VLOOKUP(A1347,Articoli!$1:$48422,2,FALSE)),\"Codice Errato\",VLOOKUP(A1347,Articoli!$1:$48422,2,FALSE)))","v":""},null,0,"        ","        ;",0,"      ","      ",""]
[null,{"$f":"IF(A1348=\"\",\"\",IF(ISERROR(VLOOKUP(A1348,Articoli!$1:$48422,2,FALSE)),\"Codice Errato\",VLOOKUP(A1348,Articoli!$1:$48422,2,FALSE)))","v":""},null,0,"        ","        ;",0,"      ","      ",""]
[null,{"$f":"IF(A1349=\"\",\"\",IF(ISERROR(VLOOKUP(A1349,Articoli!$1:$48422,2,FALSE)),\"Codice Errato\",VLOOKUP(A1349,Articoli!$1:$48422,2,FALSE)))","v":""},null,0,"        ","        ;",0,"      ","      ",""]
[null,{"$f":"IF(A1350=\"\",\"\",IF(ISERROR(VLOOKUP(A1350,Articoli!$1:$48422,2,FALSE)),\"Codice Errato\",VLOOKUP(A1350,Articoli!$1:$48422,2,FALSE)))","v":""},null,0,"        ","        ;",0,"      ","      ",""]
[null,{"$f":"IF(A1351=\"\",\"\",IF(ISERROR(VLOOKUP(A1351,Articoli!$1:$48422,2,FALSE)),\"Codice Errato\",VLOOKUP(A1351,Articoli!$1:$48422,2,FALSE)))","v":""},null,0,"        ","        ;",0,"      ","      ",""]
[null,{"$f":"IF(A1352=\"\",\"\",IF(ISERROR(VLOOKUP(A1352,Articoli!$1:$48422,2,FALSE)),\"Codice Errato\",VLOOKUP(A1352,Articoli!$1:$48422,2,FALSE)))","v":""},null,0,"        ","        ;",0,"      ","      ",""]
[null,{"$f":"IF(A1353=\"\",\"\",IF(ISERROR(VLOOKUP(A1353,Articoli!$1:$48422,2,FALSE)),\"Codice Errato\",VLOOKUP(A1353,Articoli!$1:$48422,2,FALSE)))","v":""},null,0,"        ","        ;",0,"      ","      ",""]
[null,{"$f":"IF(A1354=\"\",\"\",IF(ISERROR(VLOOKUP(A1354,Articoli!$1:$48422,2,FALSE)),\"Codice Errato\",VLOOKUP(A1354,Articoli!$1:$48422,2,FALSE)))","v":""},null,0,"        ","        ;",0,"      ","      ",""]
[null,{"$f":"IF(A1355=\"\",\"\",IF(ISERROR(VLOOKUP(A1355,Articoli!$1:$48422,2,FALSE)),\"Codice Errato\",VLOOKUP(A1355,Articoli!$1:$48422,2,FALSE)))","v":""},null,0,"        ","        ;",0,"      ","      ",""]
[null,{"$f":"IF(A1356=\"\",\"\",IF(ISERROR(VLOOKUP(A1356,Articoli!$1:$48422,2,FALSE)),\"Codice Errato\",VLOOKUP(A1356,Articoli!$1:$48422,2,FALSE)))","v":""},null,0,"        ","        ;",0,"      ","      ",""]
[null,{"$f":"IF(A1357=\"\",\"\",IF(ISERROR(VLOOKUP(A1357,Articoli!$1:$48422,2,FALSE)),\"Codice Errato\",VLOOKUP(A1357,Articoli!$1:$48422,2,FALSE)))","v":""},null,0,"        ","        ;",0,"      ","      ",""]
[null,{"$f":"IF(A1358=\"\",\"\",IF(ISERROR(VLOOKUP(A1358,Articoli!$1:$48422,2,FALSE)),\"Codice Errato\",VLOOKUP(A1358,Articoli!$1:$48422,2,FALSE)))","v":""},null,0,"        ","        ;",0,"      ","      ",""]
[null,{"$f":"IF(A1359=\"\",\"\",IF(ISERROR(VLOOKUP(A1359,Articoli!$1:$48422,2,FALSE)),\"Codice Errato\",VLOOKUP(A1359,Articoli!$1:$48422,2,FALSE)))","v":""},null,0,"        ","        ;",0,"      ","      ",""]
[null,{"$f":"IF(A1360=\"\",\"\",IF(ISERROR(VLOOKUP(A1360,Articoli!$1:$48422,2,FALSE)),\"Codice Errato\",VLOOKUP(A1360,Articoli!$1:$48422,2,FALSE)))","v":""},null,0,"        ","        ;",0,"      ","      ",""]
[null,{"$f":"IF(A1361=\"\",\"\",IF(ISERROR(VLOOKUP(A1361,Articoli!$1:$48422,2,FALSE)),\"Codice Errato\",VLOOKUP(A1361,Articoli!$1:$48422,2,FALSE)))","v":""},null,0,"        ","        ;",0,"      ","      ",""]
[null,{"$f":"IF(A1362=\"\",\"\",IF(ISERROR(VLOOKUP(A1362,Articoli!$1:$48422,2,FALSE)),\"Codice Errato\",VLOOKUP(A1362,Articoli!$1:$48422,2,FALSE)))","v":""},null,0,"        ","        ;",0,"      ","      ",""]
[null,{"$f":"IF(A1363=\"\",\"\",IF(ISERROR(VLOOKUP(A1363,Articoli!$1:$48422,2,FALSE)),\"Codice Errato\",VLOOKUP(A1363,Articoli!$1:$48422,2,FALSE)))","v":""},null,0,"        ","        ;",0,"      ","      ",""]
[null,{"$f":"IF(A1364=\"\",\"\",IF(ISERROR(VLOOKUP(A1364,Articoli!$1:$48422,2,FALSE)),\"Codice Errato\",VLOOKUP(A1364,Articoli!$1:$48422,2,FALSE)))","v":""},null,0,"        ","        ;",0,"      ","      ",""]
[null,{"$f":"IF(A1365=\"\",\"\",IF(ISERROR(VLOOKUP(A1365,Articoli!$1:$48422,2,FALSE)),\"Codice Errato\",VLOOKUP(A1365,Articoli!$1:$48422,2,FALSE)))","v":""},null,0,"        ","        ;",0,"      ","      ",""]
[null,{"$f":"IF(A1366=\"\",\"\",IF(ISERROR(VLOOKUP(A1366,Articoli!$1:$48422,2,FALSE)),\"Codice Errato\",VLOOKUP(A1366,Articoli!$1:$48422,2,FALSE)))","v":""},null,0,"        ","        ;",0,"      ","      ",""]
[null,{"$f":"IF(A1367=\"\",\"\",IF(ISERROR(VLOOKUP(A1367,Articoli!$1:$48422,2,FALSE)),\"Codice Errato\",VLOOKUP(A1367,Articoli!$1:$48422,2,FALSE)))","v":""},null,0,"        ","        ;",0,"      ","      ",""]
[null,{"$f":"IF(A1368=\"\",\"\",IF(ISERROR(VLOOKUP(A1368,Articoli!$1:$48422,2,FALSE)),\"Codice Errato\",VLOOKUP(A1368,Articoli!$1:$48422,2,FALSE)))","v":""},null,0,"        ","        ;",0,"      ","      ",""]
[null,{"$f":"IF(A1369=\"\",\"\",IF(ISERROR(VLOOKUP(A1369,Articoli!$1:$48422,2,FALSE)),\"Codice Errato\",VLOOKUP(A1369,Articoli!$1:$48422,2,FALSE)))","v":""},null,0,"        ","        ;",0,"      ","      ",""]
[null,{"$f":"IF(A1370=\"\",\"\",IF(ISERROR(VLOOKUP(A1370,Articoli!$1:$48422,2,FALSE)),\"Codice Errato\",VLOOKUP(A1370,Articoli!$1:$48422,2,FALSE)))","v":""},null,0,"        ","        ;",0,"      ","      ",""]
[null,{"$f":"IF(A1371=\"\",\"\",IF(ISERROR(VLOOKUP(A1371,Articoli!$1:$48422,2,FALSE)),\"Codice Errato\",VLOOKUP(A1371,Articoli!$1:$48422,2,FALSE)))","v":""},null,0,"        ","        ;",0,"      ","      ",""]
[null,{"$f":"IF(A1372=\"\",\"\",IF(ISERROR(VLOOKUP(A1372,Articoli!$1:$48422,2,FALSE)),\"Codice Errato\",VLOOKUP(A1372,Articoli!$1:$48422,2,FALSE)))","v":""},null,0,"        ","        ;",0,"      ","      ",""]
[null,{"$f":"IF(A1373=\"\",\"\",IF(ISERROR(VLOOKUP(A1373,Articoli!$1:$48422,2,FALSE)),\"Codice Errato\",VLOOKUP(A1373,Articoli!$1:$48422,2,FALSE)))","v":""},null,0,"        ","        ;",0,"      ","      ",""]
[null,{"$f":"IF(A1374=\"\",\"\",IF(ISERROR(VLOOKUP(A1374,Articoli!$1:$48422,2,FALSE)),\"Codice Errato\",VLOOKUP(A1374,Articoli!$1:$48422,2,FALSE)))","v":""},null,0,"        ","        ;",0,"      ","      ",""]
[null,{"$f":"IF(A1375=\"\",\"\",IF(ISERROR(VLOOKUP(A1375,Articoli!$1:$48422,2,FALSE)),\"Codice Errato\",VLOOKUP(A1375,Articoli!$1:$48422,2,FALSE)))","v":""},null,0,"        ","        ;",0,"      ","      ",""]
[null,{"$f":"IF(A1376=\"\",\"\",IF(ISERROR(VLOOKUP(A1376,Articoli!$1:$48422,2,FALSE)),\"Codice Errato\",VLOOKUP(A1376,Articoli!$1:$48422,2,FALSE)))","v":""},null,0,"        ","        ;",0,"      ","      ",{"$f":"IF(C1376=\"\",\"\",CONCATENATE(F1376,I1376))","v":""}]
[null,{"$f":"IF(A1377=\"\",\"\",IF(ISERROR(VLOOKUP(A1377,Articoli!$1:$48422,2,FALSE)),\"Codice Errato\",VLOOKUP(A1377,Articoli!$1:$48422,2,FALSE)))","v":""},null,0,"        ","        ;",0,"      ","      ",""]
[null,{"$f":"IF(A1378=\"\",\"\",IF(ISERROR(VLOOKUP(A1378,Articoli!$1:$48422,2,FALSE)),\"Codice Errato\",VLOOKUP(A1378,Articoli!$1:$48422,2,FALSE)))","v":""},null,0,"        ","        ;",0,"      ","      ",""]
[null,{"$f":"IF(A1379=\"\",\"\",IF(ISERROR(VLOOKUP(A1379,Articoli!$1:$48422,2,FALSE)),\"Codice Errato\",VLOOKUP(A1379,Articoli!$1:$48422,2,FALSE)))","v":""},null,0,"        ","        ;",0,"      ","      ",""]
[null,{"$f":"IF(A1380=\"\",\"\",IF(ISERROR(VLOOKUP(A1380,Articoli!$1:$48422,2,FALSE)),\"Codice Errato\",VLOOKUP(A1380,Articoli!$1:$48422,2,FALSE)))","v":""},null,0,"        ","        ;",0,"      ","      ",""]
[null,{"$f":"IF(A1381=\"\",\"\",IF(ISERROR(VLOOKUP(A1381,Articoli!$1:$48422,2,FALSE)),\"Codice Errato\",VLOOKUP(A1381,Articoli!$1:$48422,2,FALSE)))","v":""},null,0,"        ","        ;",0,"      ","      ",""]
[null,{"$f":"IF(A1382=\"\",\"\",IF(ISERROR(VLOOKUP(A1382,Articoli!$1:$48422,2,FALSE)),\"Codice Errato\",VLOOKUP(A1382,Articoli!$1:$48422,2,FALSE)))","v":""},null,0,"        ","        ;",0,"      ","      ",""]
[null,{"$f":"IF(A1383=\"\",\"\",IF(ISERROR(VLOOKUP(A1383,Articoli!$1:$48422,2,FALSE)),\"Codice Errato\",VLOOKUP(A1383,Articoli!$1:$48422,2,FALSE)))","v":""},null,0,"        ","        ;",0,"      ","      ",""]
[null,{"$f":"IF(A1384=\"\",\"\",IF(ISERROR(VLOOKUP(A1384,Articoli!$1:$48422,2,FALSE)),\"Codice Errato\",VLOOKUP(A1384,Articoli!$1:$48422,2,FALSE)))","v":""},null,0,"        ","        ;",0,"      ","      ",""]
[null,{"$f":"IF(A1385=\"\",\"\",IF(ISERROR(VLOOKUP(A1385,Articoli!$1:$48422,2,FALSE)),\"Codice Errato\",VLOOKUP(A1385,Articoli!$1:$48422,2,FALSE)))","v":""},null,0,"        ","        ;",0,"      ","      ",""]
[null,{"$f":"IF(A1386=\"\",\"\",IF(ISERROR(VLOOKUP(A1386,Articoli!$1:$48422,2,FALSE)),\"Codice Errato\",VLOOKUP(A1386,Articoli!$1:$48422,2,FALSE)))","v":""},null,0,"        ","        ;",0,"      ","      ",""]
[null,{"$f":"IF(A1387=\"\",\"\",IF(ISERROR(VLOOKUP(A1387,Articoli!$1:$48422,2,FALSE)),\"Codice Errato\",VLOOKUP(A1387,Articoli!$1:$48422,2,FALSE)))","v":""},null,0,"        ","        ;",0,"      ","      ",""]
[null,{"$f":"IF(A1388=\"\",\"\",IF(ISERROR(VLOOKUP(A1388,Articoli!$1:$48422,2,FALSE)),\"Codice Errato\",VLOOKUP(A1388,Articoli!$1:$48422,2,FALSE)))","v":""},null,0,"        ","        ;",0,"      ","      ",""]
[null,{"$f":"IF(A1389=\"\",\"\",IF(ISERROR(VLOOKUP(A1389,Articoli!$1:$48422,2,FALSE)),\"Codice Errato\",VLOOKUP(A1389,Articoli!$1:$48422,2,FALSE)))","v":""},null,0,"        ","        ;",0,"      ","      ",""]
[null,{"$f":"IF(A1390=\"\",\"\",IF(ISERROR(VLOOKUP(A1390,Articoli!$1:$48422,2,FALSE)),\"Codice Errato\",VLOOKUP(A1390,Articoli!$1:$48422,2,FALSE)))","v":""},null,0,"        ","        ;",0,"      ","      ",""]
[null,{"$f":"IF(A1391=\"\",\"\",IF(ISERROR(VLOOKUP(A1391,Articoli!$1:$48422,2,FALSE)),\"Codice Errato\",VLOOKUP(A1391,Articoli!$1:$48422,2,FALSE)))","v":""},null,0,"        ","        ;",0,"      ","      ",""]
[null,{"$f":"IF(A1392=\"\",\"\",IF(ISERROR(VLOOKUP(A1392,Articoli!$1:$48422,2,FALSE)),\"Codice Errato\",VLOOKUP(A1392,Articoli!$1:$48422,2,FALSE)))","v":""},null,0,"        ","        ;",0,"      ","      ",""]
[null,{"$f":"IF(A1393=\"\",\"\",IF(ISERROR(VLOOKUP(A1393,Articoli!$1:$48422,2,FALSE)),\"Codice Errato\",VLOOKUP(A1393,Articoli!$1:$48422,2,FALSE)))","v":""},null,0,"        ","        ;",0,"      ","      ",""]
[null,{"$f":"IF(A1394=\"\",\"\",IF(ISERROR(VLOOKUP(A1394,Articoli!$1:$48422,2,FALSE)),\"Codice Errato\",VLOOKUP(A1394,Articoli!$1:$48422,2,FALSE)))","v":""},null,{"$f":"LEN(A1394)","v":0},{"$f":"REPT(\" \",8-D1394)","v":"        "},{"$f":"CONCATENATE(A1394,E1394,\";\",)","v":"        ;"},{"$f":"LEN(C1394)","v":0},{"$f":"REPT(\" \",6-G1394)","v":"      "},{"$f":"CONCATENATE(H1394,C1394,)","v":"      "},""]
[null,{"$f":"IF(A1395=\"\",\"\",IF(ISERROR(VLOOKUP(A1395,Articoli!$1:$48422,2,FALSE)),\"Codice Errato\",VLOOKUP(A1395,Articoli!$1:$48422,2,FALSE)))","v":""},null,0,"        ","        ;",0,"      ","      ",""]
[null,{"$f":"IF(A1396=\"\",\"\",IF(ISERROR(VLOOKUP(A1396,Articoli!$1:$48422,2,FALSE)),\"Codice Errato\",VLOOKUP(A1396,Articoli!$1:$48422,2,FALSE)))","v":""},null,0,"        ","        ;",0,"      ","      ",""]
[null,{"$f":"IF(A1397=\"\",\"\",IF(ISERROR(VLOOKUP(A1397,Articoli!$1:$48422,2,FALSE)),\"Codice Errato\",VLOOKUP(A1397,Articoli!$1:$48422,2,FALSE)))","v":""},null,0,"        ","        ;",0,"      ","      ",""]
[null,{"$f":"IF(A1398=\"\",\"\",IF(ISERROR(VLOOKUP(A1398,Articoli!$1:$48422,2,FALSE)),\"Codice Errato\",VLOOKUP(A1398,Articoli!$1:$48422,2,FALSE)))","v":""},null,0,"        ","        ;",0,"      ","      ",""]
[null,{"$f":"IF(A1399=\"\",\"\",IF(ISERROR(VLOOKUP(A1399,Articoli!$1:$48422,2,FALSE)),\"Codice Errato\",VLOOKUP(A1399,Articoli!$1:$48422,2,FALSE)))","v":""},null,0,"        ","        ;",0,"      ","      ",""]
[null,{"$f":"IF(A1400=\"\",\"\",IF(ISERROR(VLOOKUP(A1400,Articoli!$1:$48422,2,FALSE)),\"Codice Errato\",VLOOKUP(A1400,Articoli!$1:$48422,2,FALSE)))","v":""},null,0,"        ","        ;",0,"      ","      ",""]
[null,{"$f":"IF(A1401=\"\",\"\",IF(ISERROR(VLOOKUP(A1401,Articoli!$1:$48422,2,FALSE)),\"Codice Errato\",VLOOKUP(A1401,Articoli!$1:$48422,2,FALSE)))","v":""},null,0,"        ","        ;",0,"      ","      ",""]
[null,{"$f":"IF(A1402=\"\",\"\",IF(ISERROR(VLOOKUP(A1402,Articoli!$1:$48422,2,FALSE)),\"Codice Errato\",VLOOKUP(A1402,Articoli!$1:$48422,2,FALSE)))","v":""},null,0,"        ","        ;",0,"      ","      ",""]
[null,{"$f":"IF(A1403=\"\",\"\",IF(ISERROR(VLOOKUP(A1403,Articoli!$1:$48422,2,FALSE)),\"Codice Errato\",VLOOKUP(A1403,Articoli!$1:$48422,2,FALSE)))","v":""},null,0,"        ","        ;",0,"      ","      ",""]
[null,{"$f":"IF(A1404=\"\",\"\",IF(ISERROR(VLOOKUP(A1404,Articoli!$1:$48422,2,FALSE)),\"Codice Errato\",VLOOKUP(A1404,Articoli!$1:$48422,2,FALSE)))","v":""},null,0,"        ","        ;",0,"      ","      ",""]
[null,{"$f":"IF(A1405=\"\",\"\",IF(ISERROR(VLOOKUP(A1405,Articoli!$1:$48422,2,FALSE)),\"Codice Errato\",VLOOKUP(A1405,Articoli!$1:$48422,2,FALSE)))","v":""},null,0,"        ","        ;",0,"      ","      ",""]
[null,{"$f":"IF(A1406=\"\",\"\",IF(ISERROR(VLOOKUP(A1406,Articoli!$1:$48422,2,FALSE)),\"Codice Errato\",VLOOKUP(A1406,Articoli!$1:$48422,2,FALSE)))","v":""},null,0,"        ","        ;",0,"      ","      ",""]
[null,{"$f":"IF(A1407=\"\",\"\",IF(ISERROR(VLOOKUP(A1407,Articoli!$1:$48422,2,FALSE)),\"Codice Errato\",VLOOKUP(A1407,Articoli!$1:$48422,2,FALSE)))","v":""},null,0,"        ","        ;",0,"      ","      ",""]
[null,{"$f":"IF(A1408=\"\",\"\",IF(ISERROR(VLOOKUP(A1408,Articoli!$1:$48422,2,FALSE)),\"Codice Errato\",VLOOKUP(A1408,Articoli!$1:$48422,2,FALSE)))","v":""},null,0,"        ","        ;",0,"      ","      ",""]
[null,{"$f":"IF(A1409=\"\",\"\",IF(ISERROR(VLOOKUP(A1409,Articoli!$1:$48422,2,FALSE)),\"Codice Errato\",VLOOKUP(A1409,Articoli!$1:$48422,2,FALSE)))","v":""},null,0,"        ","        ;",0,"      ","      ",""]
[null,{"$f":"IF(A1410=\"\",\"\",IF(ISERROR(VLOOKUP(A1410,Articoli!$1:$48422,2,FALSE)),\"Codice Errato\",VLOOKUP(A1410,Articoli!$1:$48422,2,FALSE)))","v":""},null,0,"        ","        ;",0,"      ","      ",""]
[null,{"$f":"IF(A1411=\"\",\"\",IF(ISERROR(VLOOKUP(A1411,Articoli!$1:$48422,2,FALSE)),\"Codice Errato\",VLOOKUP(A1411,Articoli!$1:$48422,2,FALSE)))","v":""},null,0,"        ","        ;",0,"      ","      ",""]
[null,{"$f":"IF(A1412=\"\",\"\",IF(ISERROR(VLOOKUP(A1412,Articoli!$1:$48422,2,FALSE)),\"Codice Errato\",VLOOKUP(A1412,Articoli!$1:$48422,2,FALSE)))","v":""},null,0,"        ","        ;",0,"      ","      ",""]
[null,{"$f":"IF(A1413=\"\",\"\",IF(ISERROR(VLOOKUP(A1413,Articoli!$1:$48422,2,FALSE)),\"Codice Errato\",VLOOKUP(A1413,Articoli!$1:$48422,2,FALSE)))","v":""},null,0,"        ","        ;",0,"      ","      ",""]
[null,{"$f":"IF(A1414=\"\",\"\",IF(ISERROR(VLOOKUP(A1414,Articoli!$1:$48422,2,FALSE)),\"Codice Errato\",VLOOKUP(A1414,Articoli!$1:$48422,2,FALSE)))","v":""},null,0,"        ","        ;",0,"      ","      ",""]
[null,{"$f":"IF(A1415=\"\",\"\",IF(ISERROR(VLOOKUP(A1415,Articoli!$1:$48422,2,FALSE)),\"Codice Errato\",VLOOKUP(A1415,Articoli!$1:$48422,2,FALSE)))","v":""},null,0,"        ","        ;",0,"      ","      ",""]
[null,{"$f":"IF(A1416=\"\",\"\",IF(ISERROR(VLOOKUP(A1416,Articoli!$1:$48422,2,FALSE)),\"Codice Errato\",VLOOKUP(A1416,Articoli!$1:$48422,2,FALSE)))","v":""},null,0,"        ","        ;",0,"      ","      ",""]
[null,{"$f":"IF(A1417=\"\",\"\",IF(ISERROR(VLOOKUP(A1417,Articoli!$1:$48422,2,FALSE)),\"Codice Errato\",VLOOKUP(A1417,Articoli!$1:$48422,2,FALSE)))","v":""},null,0,"        ","        ;",0,"      ","      ",""]
[null,{"$f":"IF(A1418=\"\",\"\",IF(ISERROR(VLOOKUP(A1418,Articoli!$1:$48422,2,FALSE)),\"Codice Errato\",VLOOKUP(A1418,Articoli!$1:$48422,2,FALSE)))","v":""},null,0,"        ","        ;",0,"      ","      ",""]
[null,{"$f":"IF(A1419=\"\",\"\",IF(ISERROR(VLOOKUP(A1419,Articoli!$1:$48422,2,FALSE)),\"Codice Errato\",VLOOKUP(A1419,Articoli!$1:$48422,2,FALSE)))","v":""},null,0,"        ","        ;",0,"      ","      ",""]
[null,{"$f":"IF(A1420=\"\",\"\",IF(ISERROR(VLOOKUP(A1420,Articoli!$1:$48422,2,FALSE)),\"Codice Errato\",VLOOKUP(A1420,Articoli!$1:$48422,2,FALSE)))","v":""},null,0,"        ","        ;",0,"      ","      ",""]
[null,{"$f":"IF(A1421=\"\",\"\",IF(ISERROR(VLOOKUP(A1421,Articoli!$1:$48422,2,FALSE)),\"Codice Errato\",VLOOKUP(A1421,Articoli!$1:$48422,2,FALSE)))","v":""},null,0,"        ","        ;",0,"      ","      ",""]
[null,{"$f":"IF(A1422=\"\",\"\",IF(ISERROR(VLOOKUP(A1422,Articoli!$1:$48422,2,FALSE)),\"Codice Errato\",VLOOKUP(A1422,Articoli!$1:$48422,2,FALSE)))","v":""},null,0,"        ","        ;",0,"      ","      ",""]
[null,{"$f":"IF(A1423=\"\",\"\",IF(ISERROR(VLOOKUP(A1423,Articoli!$1:$48422,2,FALSE)),\"Codice Errato\",VLOOKUP(A1423,Articoli!$1:$48422,2,FALSE)))","v":""},null,0,"        ","        ;",0,"      ","      ",""]
[null,{"$f":"IF(A1424=\"\",\"\",IF(ISERROR(VLOOKUP(A1424,Articoli!$1:$48422,2,FALSE)),\"Codice Errato\",VLOOKUP(A1424,Articoli!$1:$48422,2,FALSE)))","v":""},null,0,"        ","        ;",0,"      ","      ",""]
[null,{"$f":"IF(A1425=\"\",\"\",IF(ISERROR(VLOOKUP(A1425,Articoli!$1:$48422,2,FALSE)),\"Codice Errato\",VLOOKUP(A1425,Articoli!$1:$48422,2,FALSE)))","v":""},null,0,"        ","        ;",0,"      ","      ",""]
[null,{"$f":"IF(A1426=\"\",\"\",IF(ISERROR(VLOOKUP(A1426,Articoli!$1:$48422,2,FALSE)),\"Codice Errato\",VLOOKUP(A1426,Articoli!$1:$48422,2,FALSE)))","v":""},null,0,"        ","        ;",0,"      ","      ",""]
[null,{"$f":"IF(A1427=\"\",\"\",IF(ISERROR(VLOOKUP(A1427,Articoli!$1:$48422,2,FALSE)),\"Codice Errato\",VLOOKUP(A1427,Articoli!$1:$48422,2,FALSE)))","v":""},null,0,"        ","        ;",0,"      ","      ",""]
[null,{"$f":"IF(A1428=\"\",\"\",IF(ISERROR(VLOOKUP(A1428,Articoli!$1:$48422,2,FALSE)),\"Codice Errato\",VLOOKUP(A1428,Articoli!$1:$48422,2,FALSE)))","v":""},null,0,"        ","        ;",0,"      ","      ",""]
[null,{"$f":"IF(A1429=\"\",\"\",IF(ISERROR(VLOOKUP(A1429,Articoli!$1:$48422,2,FALSE)),\"Codice Errato\",VLOOKUP(A1429,Articoli!$1:$48422,2,FALSE)))","v":""},null,0,"        ","        ;",0,"      ","      ",""]
[null,{"$f":"IF(A1430=\"\",\"\",IF(ISERROR(VLOOKUP(A1430,Articoli!$1:$48422,2,FALSE)),\"Codice Errato\",VLOOKUP(A1430,Articoli!$1:$48422,2,FALSE)))","v":""},null,0,"        ","        ;",0,"      ","      ",""]
[null,{"$f":"IF(A1431=\"\",\"\",IF(ISERROR(VLOOKUP(A1431,Articoli!$1:$48422,2,FALSE)),\"Codice Errato\",VLOOKUP(A1431,Articoli!$1:$48422,2,FALSE)))","v":""},null,0,"        ","        ;",0,"      ","      ",""]
[null,{"$f":"IF(A1432=\"\",\"\",IF(ISERROR(VLOOKUP(A1432,Articoli!$1:$48422,2,FALSE)),\"Codice Errato\",VLOOKUP(A1432,Articoli!$1:$48422,2,FALSE)))","v":""},null,0,"        ","        ;",0,"      ","      ",""]
[null,{"$f":"IF(A1433=\"\",\"\",IF(ISERROR(VLOOKUP(A1433,Articoli!$1:$48422,2,FALSE)),\"Codice Errato\",VLOOKUP(A1433,Articoli!$1:$48422,2,FALSE)))","v":""},null,0,"        ","        ;",0,"      ","      ",""]
[null,{"$f":"IF(A1434=\"\",\"\",IF(ISERROR(VLOOKUP(A1434,Articoli!$1:$48422,2,FALSE)),\"Codice Errato\",VLOOKUP(A1434,Articoli!$1:$48422,2,FALSE)))","v":""},null,0,"        ","        ;",0,"      ","      ",""]
[null,{"$f":"IF(A1435=\"\",\"\",IF(ISERROR(VLOOKUP(A1435,Articoli!$1:$48422,2,FALSE)),\"Codice Errato\",VLOOKUP(A1435,Articoli!$1:$48422,2,FALSE)))","v":""},null,0,"        ","        ;",0,"      ","      ",""]
[null,{"$f":"IF(A1436=\"\",\"\",IF(ISERROR(VLOOKUP(A1436,Articoli!$1:$48422,2,FALSE)),\"Codice Errato\",VLOOKUP(A1436,Articoli!$1:$48422,2,FALSE)))","v":""},null,0,"        ","        ;",0,"      ","      ",""]
[null,{"$f":"IF(A1437=\"\",\"\",IF(ISERROR(VLOOKUP(A1437,Articoli!$1:$48422,2,FALSE)),\"Codice Errato\",VLOOKUP(A1437,Articoli!$1:$48422,2,FALSE)))","v":""},null,0,"        ","        ;",0,"      ","      ",""]
[null,{"$f":"IF(A1438=\"\",\"\",IF(ISERROR(VLOOKUP(A1438,Articoli!$1:$48422,2,FALSE)),\"Codice Errato\",VLOOKUP(A1438,Articoli!$1:$48422,2,FALSE)))","v":""},null,0,"        ","        ;",0,"      ","      ",""]
[null,{"$f":"IF(A1439=\"\",\"\",IF(ISERROR(VLOOKUP(A1439,Articoli!$1:$48422,2,FALSE)),\"Codice Errato\",VLOOKUP(A1439,Articoli!$1:$48422,2,FALSE)))","v":""},null,0,"        ","        ;",0,"      ","      ",""]
[null,{"$f":"IF(A1440=\"\",\"\",IF(ISERROR(VLOOKUP(A1440,Articoli!$1:$48422,2,FALSE)),\"Codice Errato\",VLOOKUP(A1440,Articoli!$1:$48422,2,FALSE)))","v":""},null,0,"        ","        ;",0,"      ","      ",{"$f":"IF(C1440=\"\",\"\",CONCATENATE(F1440,I1440))","v":""}]
[null,{"$f":"IF(A1441=\"\",\"\",IF(ISERROR(VLOOKUP(A1441,Articoli!$1:$48422,2,FALSE)),\"Codice Errato\",VLOOKUP(A1441,Articoli!$1:$48422,2,FALSE)))","v":""},null,0,"        ","        ;",0,"      ","      ",""]
[null,{"$f":"IF(A1442=\"\",\"\",IF(ISERROR(VLOOKUP(A1442,Articoli!$1:$48422,2,FALSE)),\"Codice Errato\",VLOOKUP(A1442,Articoli!$1:$48422,2,FALSE)))","v":""},null,0,"        ","        ;",0,"      ","      ",""]
[null,{"$f":"IF(A1443=\"\",\"\",IF(ISERROR(VLOOKUP(A1443,Articoli!$1:$48422,2,FALSE)),\"Codice Errato\",VLOOKUP(A1443,Articoli!$1:$48422,2,FALSE)))","v":""},null,0,"        ","        ;",0,"      ","      ",""]
[null,{"$f":"IF(A1444=\"\",\"\",IF(ISERROR(VLOOKUP(A1444,Articoli!$1:$48422,2,FALSE)),\"Codice Errato\",VLOOKUP(A1444,Articoli!$1:$48422,2,FALSE)))","v":""},null,0,"        ","        ;",0,"      ","      ",""]
[null,{"$f":"IF(A1445=\"\",\"\",IF(ISERROR(VLOOKUP(A1445,Articoli!$1:$48422,2,FALSE)),\"Codice Errato\",VLOOKUP(A1445,Articoli!$1:$48422,2,FALSE)))","v":""},null,0,"        ","        ;",0,"      ","      ",""]
[null,{"$f":"IF(A1446=\"\",\"\",IF(ISERROR(VLOOKUP(A1446,Articoli!$1:$48422,2,FALSE)),\"Codice Errato\",VLOOKUP(A1446,Articoli!$1:$48422,2,FALSE)))","v":""},null,0,"        ","        ;",0,"      ","      ",""]
[null,{"$f":"IF(A1447=\"\",\"\",IF(ISERROR(VLOOKUP(A1447,Articoli!$1:$48422,2,FALSE)),\"Codice Errato\",VLOOKUP(A1447,Articoli!$1:$48422,2,FALSE)))","v":""},null,0,"        ","        ;",0,"      ","      ",""]
[null,{"$f":"IF(A1448=\"\",\"\",IF(ISERROR(VLOOKUP(A1448,Articoli!$1:$48422,2,FALSE)),\"Codice Errato\",VLOOKUP(A1448,Articoli!$1:$48422,2,FALSE)))","v":""},null,0,"        ","        ;",0,"      ","      ",""]
[null,{"$f":"IF(A1449=\"\",\"\",IF(ISERROR(VLOOKUP(A1449,Articoli!$1:$48422,2,FALSE)),\"Codice Errato\",VLOOKUP(A1449,Articoli!$1:$48422,2,FALSE)))","v":""},null,0,"        ","        ;",0,"      ","      ",""]
[null,{"$f":"IF(A1450=\"\",\"\",IF(ISERROR(VLOOKUP(A1450,Articoli!$1:$48422,2,FALSE)),\"Codice Errato\",VLOOKUP(A1450,Articoli!$1:$48422,2,FALSE)))","v":""},null,0,"        ","        ;",0,"      ","      ",""]
[null,{"$f":"IF(A1451=\"\",\"\",IF(ISERROR(VLOOKUP(A1451,Articoli!$1:$48422,2,FALSE)),\"Codice Errato\",VLOOKUP(A1451,Articoli!$1:$48422,2,FALSE)))","v":""},null,0,"        ","        ;",0,"      ","      ",""]
[null,{"$f":"IF(A1452=\"\",\"\",IF(ISERROR(VLOOKUP(A1452,Articoli!$1:$48422,2,FALSE)),\"Codice Errato\",VLOOKUP(A1452,Articoli!$1:$48422,2,FALSE)))","v":""},null,0,"        ","        ;",0,"      ","      ",""]
[null,{"$f":"IF(A1453=\"\",\"\",IF(ISERROR(VLOOKUP(A1453,Articoli!$1:$48422,2,FALSE)),\"Codice Errato\",VLOOKUP(A1453,Articoli!$1:$48422,2,FALSE)))","v":""},null,0,"        ","        ;",0,"      ","      ",""]
[null,{"$f":"IF(A1454=\"\",\"\",IF(ISERROR(VLOOKUP(A1454,Articoli!$1:$48422,2,FALSE)),\"Codice Errato\",VLOOKUP(A1454,Articoli!$1:$48422,2,FALSE)))","v":""},null,0,"        ","        ;",0,"      ","      ",""]
[null,{"$f":"IF(A1455=\"\",\"\",IF(ISERROR(VLOOKUP(A1455,Articoli!$1:$48422,2,FALSE)),\"Codice Errato\",VLOOKUP(A1455,Articoli!$1:$48422,2,FALSE)))","v":""},null,0,"        ","        ;",0,"      ","      ",""]
[null,{"$f":"IF(A1456=\"\",\"\",IF(ISERROR(VLOOKUP(A1456,Articoli!$1:$48422,2,FALSE)),\"Codice Errato\",VLOOKUP(A1456,Articoli!$1:$48422,2,FALSE)))","v":""},null,0,"        ","        ;",0,"      ","      ",""]
[null,{"$f":"IF(A1457=\"\",\"\",IF(ISERROR(VLOOKUP(A1457,Articoli!$1:$48422,2,FALSE)),\"Codice Errato\",VLOOKUP(A1457,Articoli!$1:$48422,2,FALSE)))","v":""},null,0,"        ","        ;",0,"      ","      ",""]
[null,{"$f":"IF(A1458=\"\",\"\",IF(ISERROR(VLOOKUP(A1458,Articoli!$1:$48422,2,FALSE)),\"Codice Errato\",VLOOKUP(A1458,Articoli!$1:$48422,2,FALSE)))","v":""},null,{"$f":"LEN(A1458)","v":0},{"$f":"REPT(\" \",8-D1458)","v":"        "},{"$f":"CONCATENATE(A1458,E1458,\";\",)","v":"        ;"},{"$f":"LEN(C1458)","v":0},{"$f":"REPT(\" \",6-G1458)","v":"      "},{"$f":"CONCATENATE(H1458,C1458,)","v":"      "},""]
[null,{"$f":"IF(A1459=\"\",\"\",IF(ISERROR(VLOOKUP(A1459,Articoli!$1:$48422,2,FALSE)),\"Codice Errato\",VLOOKUP(A1459,Articoli!$1:$48422,2,FALSE)))","v":""},null,0,"        ","        ;",0,"      ","      ",""]
[null,{"$f":"IF(A1460=\"\",\"\",IF(ISERROR(VLOOKUP(A1460,Articoli!$1:$48422,2,FALSE)),\"Codice Errato\",VLOOKUP(A1460,Articoli!$1:$48422,2,FALSE)))","v":""},null,0,"        ","        ;",0,"      ","      ",""]
[null,{"$f":"IF(A1461=\"\",\"\",IF(ISERROR(VLOOKUP(A1461,Articoli!$1:$48422,2,FALSE)),\"Codice Errato\",VLOOKUP(A1461,Articoli!$1:$48422,2,FALSE)))","v":""},null,0,"        ","        ;",0,"      ","      ",""]
[null,{"$f":"IF(A1462=\"\",\"\",IF(ISERROR(VLOOKUP(A1462,Articoli!$1:$48422,2,FALSE)),\"Codice Errato\",VLOOKUP(A1462,Articoli!$1:$48422,2,FALSE)))","v":""},null,0,"        ","        ;",0,"      ","      ",""]
[null,{"$f":"IF(A1463=\"\",\"\",IF(ISERROR(VLOOKUP(A1463,Articoli!$1:$48422,2,FALSE)),\"Codice Errato\",VLOOKUP(A1463,Articoli!$1:$48422,2,FALSE)))","v":""},null,0,"        ","        ;",0,"      ","      ",""]
[null,{"$f":"IF(A1464=\"\",\"\",IF(ISERROR(VLOOKUP(A1464,Articoli!$1:$48422,2,FALSE)),\"Codice Errato\",VLOOKUP(A1464,Articoli!$1:$48422,2,FALSE)))","v":""},null,0,"        ","        ;",0,"      ","      ",""]
[null,{"$f":"IF(A1465=\"\",\"\",IF(ISERROR(VLOOKUP(A1465,Articoli!$1:$48422,2,FALSE)),\"Codice Errato\",VLOOKUP(A1465,Articoli!$1:$48422,2,FALSE)))","v":""},null,0,"        ","        ;",0,"      ","      ",""]
[null,{"$f":"IF(A1466=\"\",\"\",IF(ISERROR(VLOOKUP(A1466,Articoli!$1:$48422,2,FALSE)),\"Codice Errato\",VLOOKUP(A1466,Articoli!$1:$48422,2,FALSE)))","v":""},null,0,"        ","        ;",0,"      ","      ",""]
[null,{"$f":"IF(A1467=\"\",\"\",IF(ISERROR(VLOOKUP(A1467,Articoli!$1:$48422,2,FALSE)),\"Codice Errato\",VLOOKUP(A1467,Articoli!$1:$48422,2,FALSE)))","v":""},null,0,"        ","        ;",0,"      ","      ",""]
[null,{"$f":"IF(A1468=\"\",\"\",IF(ISERROR(VLOOKUP(A1468,Articoli!$1:$48422,2,FALSE)),\"Codice Errato\",VLOOKUP(A1468,Articoli!$1:$48422,2,FALSE)))","v":""},null,0,"        ","        ;",0,"      ","      ",""]
[null,{"$f":"IF(A1469=\"\",\"\",IF(ISERROR(VLOOKUP(A1469,Articoli!$1:$48422,2,FALSE)),\"Codice Errato\",VLOOKUP(A1469,Articoli!$1:$48422,2,FALSE)))","v":""},null,0,"        ","        ;",0,"      ","      ",""]
[null,{"$f":"IF(A1470=\"\",\"\",IF(ISERROR(VLOOKUP(A1470,Articoli!$1:$48422,2,FALSE)),\"Codice Errato\",VLOOKUP(A1470,Articoli!$1:$48422,2,FALSE)))","v":""},null,0,"        ","        ;",0,"      ","      ",""]
[null,{"$f":"IF(A1471=\"\",\"\",IF(ISERROR(VLOOKUP(A1471,Articoli!$1:$48422,2,FALSE)),\"Codice Errato\",VLOOKUP(A1471,Articoli!$1:$48422,2,FALSE)))","v":""},null,0,"        ","        ;",0,"      ","      ",""]
[null,{"$f":"IF(A1472=\"\",\"\",IF(ISERROR(VLOOKUP(A1472,Articoli!$1:$48422,2,FALSE)),\"Codice Errato\",VLOOKUP(A1472,Articoli!$1:$48422,2,FALSE)))","v":""},null,0,"        ","        ;",0,"      ","      ",""]
[null,{"$f":"IF(A1473=\"\",\"\",IF(ISERROR(VLOOKUP(A1473,Articoli!$1:$48422,2,FALSE)),\"Codice Errato\",VLOOKUP(A1473,Articoli!$1:$48422,2,FALSE)))","v":""},null,0,"        ","        ;",0,"      ","      ",""]
[null,{"$f":"IF(A1474=\"\",\"\",IF(ISERROR(VLOOKUP(A1474,Articoli!$1:$48422,2,FALSE)),\"Codice Errato\",VLOOKUP(A1474,Articoli!$1:$48422,2,FALSE)))","v":""},null,0,"        ","        ;",0,"      ","      ",""]
[null,{"$f":"IF(A1475=\"\",\"\",IF(ISERROR(VLOOKUP(A1475,Articoli!$1:$48422,2,FALSE)),\"Codice Errato\",VLOOKUP(A1475,Articoli!$1:$48422,2,FALSE)))","v":""},null,0,"        ","        ;",0,"      ","      ",""]
[null,{"$f":"IF(A1476=\"\",\"\",IF(ISERROR(VLOOKUP(A1476,Articoli!$1:$48422,2,FALSE)),\"Codice Errato\",VLOOKUP(A1476,Articoli!$1:$48422,2,FALSE)))","v":""},null,0,"        ","        ;",0,"      ","      ",""]
[null,{"$f":"IF(A1477=\"\",\"\",IF(ISERROR(VLOOKUP(A1477,Articoli!$1:$48422,2,FALSE)),\"Codice Errato\",VLOOKUP(A1477,Articoli!$1:$48422,2,FALSE)))","v":""},null,0,"        ","        ;",0,"      ","      ",""]
[null,{"$f":"IF(A1478=\"\",\"\",IF(ISERROR(VLOOKUP(A1478,Articoli!$1:$48422,2,FALSE)),\"Codice Errato\",VLOOKUP(A1478,Articoli!$1:$48422,2,FALSE)))","v":""},null,0,"        ","        ;",0,"      ","      ",""]
[null,{"$f":"IF(A1479=\"\",\"\",IF(ISERROR(VLOOKUP(A1479,Articoli!$1:$48422,2,FALSE)),\"Codice Errato\",VLOOKUP(A1479,Articoli!$1:$48422,2,FALSE)))","v":""},null,0,"        ","        ;",0,"      ","      ",""]
[null,{"$f":"IF(A1480=\"\",\"\",IF(ISERROR(VLOOKUP(A1480,Articoli!$1:$48422,2,FALSE)),\"Codice Errato\",VLOOKUP(A1480,Articoli!$1:$48422,2,FALSE)))","v":""},null,0,"        ","        ;",0,"      ","      ",""]
[null,{"$f":"IF(A1481=\"\",\"\",IF(ISERROR(VLOOKUP(A1481,Articoli!$1:$48422,2,FALSE)),\"Codice Errato\",VLOOKUP(A1481,Articoli!$1:$48422,2,FALSE)))","v":""},null,0,"        ","        ;",0,"      ","      ",""]
[null,{"$f":"IF(A1482=\"\",\"\",IF(ISERROR(VLOOKUP(A1482,Articoli!$1:$48422,2,FALSE)),\"Codice Errato\",VLOOKUP(A1482,Articoli!$1:$48422,2,FALSE)))","v":""},null,0,"        ","        ;",0,"      ","      ",""]
[null,{"$f":"IF(A1483=\"\",\"\",IF(ISERROR(VLOOKUP(A1483,Articoli!$1:$48422,2,FALSE)),\"Codice Errato\",VLOOKUP(A1483,Articoli!$1:$48422,2,FALSE)))","v":""},null,0,"        ","        ;",0,"      ","      ",""]
[null,{"$f":"IF(A1484=\"\",\"\",IF(ISERROR(VLOOKUP(A1484,Articoli!$1:$48422,2,FALSE)),\"Codice Errato\",VLOOKUP(A1484,Articoli!$1:$48422,2,FALSE)))","v":""},null,0,"        ","        ;",0,"      ","      ",""]
[null,{"$f":"IF(A1485=\"\",\"\",IF(ISERROR(VLOOKUP(A1485,Articoli!$1:$48422,2,FALSE)),\"Codice Errato\",VLOOKUP(A1485,Articoli!$1:$48422,2,FALSE)))","v":""},null,0,"        ","        ;",0,"      ","      ",""]
[null,{"$f":"IF(A1486=\"\",\"\",IF(ISERROR(VLOOKUP(A1486,Articoli!$1:$48422,2,FALSE)),\"Codice Errato\",VLOOKUP(A1486,Articoli!$1:$48422,2,FALSE)))","v":""},null,0,"        ","        ;",0,"      ","      ",""]
[null,{"$f":"IF(A1487=\"\",\"\",IF(ISERROR(VLOOKUP(A1487,Articoli!$1:$48422,2,FALSE)),\"Codice Errato\",VLOOKUP(A1487,Articoli!$1:$48422,2,FALSE)))","v":""},null,0,"        ","        ;",0,"      ","      ",""]
[null,{"$f":"IF(A1488=\"\",\"\",IF(ISERROR(VLOOKUP(A1488,Articoli!$1:$48422,2,FALSE)),\"Codice Errato\",VLOOKUP(A1488,Articoli!$1:$48422,2,FALSE)))","v":""},null,0,"        ","        ;",0,"      ","      ",""]
[null,{"$f":"IF(A1489=\"\",\"\",IF(ISERROR(VLOOKUP(A1489,Articoli!$1:$48422,2,FALSE)),\"Codice Errato\",VLOOKUP(A1489,Articoli!$1:$48422,2,FALSE)))","v":""},null,0,"        ","        ;",0,"      ","      ",""]
[null,{"$f":"IF(A1490=\"\",\"\",IF(ISERROR(VLOOKUP(A1490,Articoli!$1:$48422,2,FALSE)),\"Codice Errato\",VLOOKUP(A1490,Articoli!$1:$48422,2,FALSE)))","v":""},null,0,"        ","        ;",0,"      ","      ",""]
[null,{"$f":"IF(A1491=\"\",\"\",IF(ISERROR(VLOOKUP(A1491,Articoli!$1:$48422,2,FALSE)),\"Codice Errato\",VLOOKUP(A1491,Articoli!$1:$48422,2,FALSE)))","v":""},null,0,"        ","        ;",0,"      ","      ",""]
[null,{"$f":"IF(A1492=\"\",\"\",IF(ISERROR(VLOOKUP(A1492,Articoli!$1:$48422,2,FALSE)),\"Codice Errato\",VLOOKUP(A1492,Articoli!$1:$48422,2,FALSE)))","v":""},null,0,"        ","        ;",0,"      ","      ",""]
[null,{"$f":"IF(A1493=\"\",\"\",IF(ISERROR(VLOOKUP(A1493,Articoli!$1:$48422,2,FALSE)),\"Codice Errato\",VLOOKUP(A1493,Articoli!$1:$48422,2,FALSE)))","v":""},null,0,"        ","        ;",0,"      ","      ",""]
[null,{"$f":"IF(A1494=\"\",\"\",IF(ISERROR(VLOOKUP(A1494,Articoli!$1:$48422,2,FALSE)),\"Codice Errato\",VLOOKUP(A1494,Articoli!$1:$48422,2,FALSE)))","v":""},null,0,"        ","        ;",0,"      ","      ",""]
[null,{"$f":"IF(A1495=\"\",\"\",IF(ISERROR(VLOOKUP(A1495,Articoli!$1:$48422,2,FALSE)),\"Codice Errato\",VLOOKUP(A1495,Articoli!$1:$48422,2,FALSE)))","v":""},null,0,"        ","        ;",0,"      ","      ",""]
[null,{"$f":"IF(A1496=\"\",\"\",IF(ISERROR(VLOOKUP(A1496,Articoli!$1:$48422,2,FALSE)),\"Codice Errato\",VLOOKUP(A1496,Articoli!$1:$48422,2,FALSE)))","v":""},null,0,"        ","        ;",0,"      ","      ",""]
[null,{"$f":"IF(A1497=\"\",\"\",IF(ISERROR(VLOOKUP(A1497,Articoli!$1:$48422,2,FALSE)),\"Codice Errato\",VLOOKUP(A1497,Articoli!$1:$48422,2,FALSE)))","v":""},null,0,"        ","        ;",0,"      ","      ",""]
[null,{"$f":"IF(A1498=\"\",\"\",IF(ISERROR(VLOOKUP(A1498,Articoli!$1:$48422,2,FALSE)),\"Codice Errato\",VLOOKUP(A1498,Articoli!$1:$48422,2,FALSE)))","v":""},null,0,"        ","        ;",0,"      ","      ",""]
[null,{"$f":"IF(A1499=\"\",\"\",IF(ISERROR(VLOOKUP(A1499,Articoli!$1:$48422,2,FALSE)),\"Codice Errato\",VLOOKUP(A1499,Articoli!$1:$48422,2,FALSE)))","v":""},null,0,"        ","        ;",0,"      ","      ",""]
[null,{"$f":"IF(A1500=\"\",\"\",IF(ISERROR(VLOOKUP(A1500,Articoli!$1:$48422,2,FALSE)),\"Codice Errato\",VLOOKUP(A1500,Articoli!$1:$48422,2,FALSE)))","v":""},null,0,"        ","        ;",0,"      ","      ",""]
[null,{"$f":"IF(A1501=\"\",\"\",IF(ISERROR(VLOOKUP(A1501,Articoli!$1:$48422,2,FALSE)),\"Codice Errato\",VLOOKUP(A1501,Articoli!$1:$48422,2,FALSE)))","v":""},null,0,"        ","        ;",0,"      ","      ",""]
[null,{"$f":"IF(A1502=\"\",\"\",IF(ISERROR(VLOOKUP(A1502,Articoli!$1:$48422,2,FALSE)),\"Codice Errato\",VLOOKUP(A1502,Articoli!$1:$48422,2,FALSE)))","v":""},null,0,"        ","        ;",0,"      ","      ",""]
[null,{"$f":"IF(A1503=\"\",\"\",IF(ISERROR(VLOOKUP(A1503,Articoli!$1:$48422,2,FALSE)),\"Codice Errato\",VLOOKUP(A1503,Articoli!$1:$48422,2,FALSE)))","v":""},null,0,"        ","        ;",0,"      ","      ",""]
[null,{"$f":"IF(A1504=\"\",\"\",IF(ISERROR(VLOOKUP(A1504,Articoli!$1:$48422,2,FALSE)),\"Codice Errato\",VLOOKUP(A1504,Articoli!$1:$48422,2,FALSE)))","v":""},null,0,"        ","        ;",0,"      ","      ",{"$f":"IF(C1504=\"\",\"\",CONCATENATE(F1504,I1504))","v":""}]
[null,{"$f":"IF(A1505=\"\",\"\",IF(ISERROR(VLOOKUP(A1505,Articoli!$1:$48422,2,FALSE)),\"Codice Errato\",VLOOKUP(A1505,Articoli!$1:$48422,2,FALSE)))","v":""},null,0,"        ","        ;",0,"      ","      ",""]
[null,{"$f":"IF(A1506=\"\",\"\",IF(ISERROR(VLOOKUP(A1506,Articoli!$1:$48422,2,FALSE)),\"Codice Errato\",VLOOKUP(A1506,Articoli!$1:$48422,2,FALSE)))","v":""},null,0,"        ","        ;",0,"      ","      ",""]
[null,{"$f":"IF(A1507=\"\",\"\",IF(ISERROR(VLOOKUP(A1507,Articoli!$1:$48422,2,FALSE)),\"Codice Errato\",VLOOKUP(A1507,Articoli!$1:$48422,2,FALSE)))","v":""},null,0,"        ","        ;",0,"      ","      ",""]
[null,{"$f":"IF(A1508=\"\",\"\",IF(ISERROR(VLOOKUP(A1508,Articoli!$1:$48422,2,FALSE)),\"Codice Errato\",VLOOKUP(A1508,Articoli!$1:$48422,2,FALSE)))","v":""},null,0,"        ","        ;",0,"      ","      ",""]
[null,{"$f":"IF(A1509=\"\",\"\",IF(ISERROR(VLOOKUP(A1509,Articoli!$1:$48422,2,FALSE)),\"Codice Errato\",VLOOKUP(A1509,Articoli!$1:$48422,2,FALSE)))","v":""},null,0,"        ","        ;",0,"      ","      ",""]
[null,{"$f":"IF(A1510=\"\",\"\",IF(ISERROR(VLOOKUP(A1510,Articoli!$1:$48422,2,FALSE)),\"Codice Errato\",VLOOKUP(A1510,Articoli!$1:$48422,2,FALSE)))","v":""},null,0,"        ","        ;",0,"      ","      ",""]
[null,{"$f":"IF(A1511=\"\",\"\",IF(ISERROR(VLOOKUP(A1511,Articoli!$1:$48422,2,FALSE)),\"Codice Errato\",VLOOKUP(A1511,Articoli!$1:$48422,2,FALSE)))","v":""},null,0,"        ","        ;",0,"      ","      ",""]
[null,{"$f":"IF(A1512=\"\",\"\",IF(ISERROR(VLOOKUP(A1512,Articoli!$1:$48422,2,FALSE)),\"Codice Errato\",VLOOKUP(A1512,Articoli!$1:$48422,2,FALSE)))","v":""},null,0,"        ","        ;",0,"      ","      ",""]
[null,{"$f":"IF(A1513=\"\",\"\",IF(ISERROR(VLOOKUP(A1513,Articoli!$1:$48422,2,FALSE)),\"Codice Errato\",VLOOKUP(A1513,Articoli!$1:$48422,2,FALSE)))","v":""},null,0,"        ","        ;",0,"      ","      ",""]
[null,{"$f":"IF(A1514=\"\",\"\",IF(ISERROR(VLOOKUP(A1514,Articoli!$1:$48422,2,FALSE)),\"Codice Errato\",VLOOKUP(A1514,Articoli!$1:$48422,2,FALSE)))","v":""},null,0,"        ","        ;",0,"      ","      ",""]
[null,{"$f":"IF(A1515=\"\",\"\",IF(ISERROR(VLOOKUP(A1515,Articoli!$1:$48422,2,FALSE)),\"Codice Errato\",VLOOKUP(A1515,Articoli!$1:$48422,2,FALSE)))","v":""},null,0,"        ","        ;",0,"      ","      ",""]
[null,{"$f":"IF(A1516=\"\",\"\",IF(ISERROR(VLOOKUP(A1516,Articoli!$1:$48422,2,FALSE)),\"Codice Errato\",VLOOKUP(A1516,Articoli!$1:$48422,2,FALSE)))","v":""},null,0,"        ","        ;",0,"      ","      ",""]
[null,{"$f":"IF(A1517=\"\",\"\",IF(ISERROR(VLOOKUP(A1517,Articoli!$1:$48422,2,FALSE)),\"Codice Errato\",VLOOKUP(A1517,Articoli!$1:$48422,2,FALSE)))","v":""},null,0,"        ","        ;",0,"      ","      ",""]
[null,{"$f":"IF(A1518=\"\",\"\",IF(ISERROR(VLOOKUP(A1518,Articoli!$1:$48422,2,FALSE)),\"Codice Errato\",VLOOKUP(A1518,Articoli!$1:$48422,2,FALSE)))","v":""},null,0,"        ","        ;",0,"      ","      ",""]
[null,{"$f":"IF(A1519=\"\",\"\",IF(ISERROR(VLOOKUP(A1519,Articoli!$1:$48422,2,FALSE)),\"Codice Errato\",VLOOKUP(A1519,Articoli!$1:$48422,2,FALSE)))","v":""},null,0,"        ","        ;",0,"      ","      ",""]
[null,{"$f":"IF(A1520=\"\",\"\",IF(ISERROR(VLOOKUP(A1520,Articoli!$1:$48422,2,FALSE)),\"Codice Errato\",VLOOKUP(A1520,Articoli!$1:$48422,2,FALSE)))","v":""},null,0,"        ","        ;",0,"      ","      ",""]
[null,{"$f":"IF(A1521=\"\",\"\",IF(ISERROR(VLOOKUP(A1521,Articoli!$1:$48422,2,FALSE)),\"Codice Errato\",VLOOKUP(A1521,Articoli!$1:$48422,2,FALSE)))","v":""},null,0,"        ","        ;",0,"      ","      ",""]
[null,{"$f":"IF(A1522=\"\",\"\",IF(ISERROR(VLOOKUP(A1522,Articoli!$1:$48422,2,FALSE)),\"Codice Errato\",VLOOKUP(A1522,Articoli!$1:$48422,2,FALSE)))","v":""},null,{"$f":"LEN(A1522)","v":0},{"$f":"REPT(\" \",8-D1522)","v":"        "},{"$f":"CONCATENATE(A1522,E1522,\";\",)","v":"        ;"},{"$f":"LEN(C1522)","v":0},{"$f":"REPT(\" \",6-G1522)","v":"      "},{"$f":"CONCATENATE(H1522,C1522,)","v":"      "},""]
[null,{"$f":"IF(A1523=\"\",\"\",IF(ISERROR(VLOOKUP(A1523,Articoli!$1:$48422,2,FALSE)),\"Codice Errato\",VLOOKUP(A1523,Articoli!$1:$48422,2,FALSE)))","v":""},null,0,"        ","        ;",0,"      ","      ",""]
[null,{"$f":"IF(A1524=\"\",\"\",IF(ISERROR(VLOOKUP(A1524,Articoli!$1:$48422,2,FALSE)),\"Codice Errato\",VLOOKUP(A1524,Articoli!$1:$48422,2,FALSE)))","v":""},null,0,"        ","        ;",0,"      ","      ",""]
[null,{"$f":"IF(A1525=\"\",\"\",IF(ISERROR(VLOOKUP(A1525,Articoli!$1:$48422,2,FALSE)),\"Codice Errato\",VLOOKUP(A1525,Articoli!$1:$48422,2,FALSE)))","v":""},null,0,"        ","        ;",0,"      ","      ",""]
[null,{"$f":"IF(A1526=\"\",\"\",IF(ISERROR(VLOOKUP(A1526,Articoli!$1:$48422,2,FALSE)),\"Codice Errato\",VLOOKUP(A1526,Articoli!$1:$48422,2,FALSE)))","v":""},null,0,"        ","        ;",0,"      ","      ",""]
[null,{"$f":"IF(A1527=\"\",\"\",IF(ISERROR(VLOOKUP(A1527,Articoli!$1:$48422,2,FALSE)),\"Codice Errato\",VLOOKUP(A1527,Articoli!$1:$48422,2,FALSE)))","v":""},null,0,"        ","        ;",0,"      ","      ",""]
[null,{"$f":"IF(A1528=\"\",\"\",IF(ISERROR(VLOOKUP(A1528,Articoli!$1:$48422,2,FALSE)),\"Codice Errato\",VLOOKUP(A1528,Articoli!$1:$48422,2,FALSE)))","v":""},null,0,"        ","        ;",0,"      ","      ",""]
[null,{"$f":"IF(A1529=\"\",\"\",IF(ISERROR(VLOOKUP(A1529,Articoli!$1:$48422,2,FALSE)),\"Codice Errato\",VLOOKUP(A1529,Articoli!$1:$48422,2,FALSE)))","v":""},null,0,"        ","        ;",0,"      ","      ",""]
[null,{"$f":"IF(A1530=\"\",\"\",IF(ISERROR(VLOOKUP(A1530,Articoli!$1:$48422,2,FALSE)),\"Codice Errato\",VLOOKUP(A1530,Articoli!$1:$48422,2,FALSE)))","v":""},null,0,"        ","        ;",0,"      ","      ",""]
[null,{"$f":"IF(A1531=\"\",\"\",IF(ISERROR(VLOOKUP(A1531,Articoli!$1:$48422,2,FALSE)),\"Codice Errato\",VLOOKUP(A1531,Articoli!$1:$48422,2,FALSE)))","v":""},null,0,"        ","        ;",0,"      ","      ",""]
[null,{"$f":"IF(A1532=\"\",\"\",IF(ISERROR(VLOOKUP(A1532,Articoli!$1:$48422,2,FALSE)),\"Codice Errato\",VLOOKUP(A1532,Articoli!$1:$48422,2,FALSE)))","v":""},null,0,"        ","        ;",0,"      ","      ",""]
[null,{"$f":"IF(A1533=\"\",\"\",IF(ISERROR(VLOOKUP(A1533,Articoli!$1:$48422,2,FALSE)),\"Codice Errato\",VLOOKUP(A1533,Articoli!$1:$48422,2,FALSE)))","v":""},null,0,"        ","        ;",0,"      ","      ",""]
[null,{"$f":"IF(A1534=\"\",\"\",IF(ISERROR(VLOOKUP(A1534,Articoli!$1:$48422,2,FALSE)),\"Codice Errato\",VLOOKUP(A1534,Articoli!$1:$48422,2,FALSE)))","v":""},null,0,"        ","        ;",0,"      ","      ",""]
[null,{"$f":"IF(A1535=\"\",\"\",IF(ISERROR(VLOOKUP(A1535,Articoli!$1:$48422,2,FALSE)),\"Codice Errato\",VLOOKUP(A1535,Articoli!$1:$48422,2,FALSE)))","v":""},null,0,"        ","        ;",0,"      ","      ",""]
[null,{"$f":"IF(A1536=\"\",\"\",IF(ISERROR(VLOOKUP(A1536,Articoli!$1:$48422,2,FALSE)),\"Codice Errato\",VLOOKUP(A1536,Articoli!$1:$48422,2,FALSE)))","v":""},null,0,"        ","        ;",0,"      ","      ",""]
[null,{"$f":"IF(A1537=\"\",\"\",IF(ISERROR(VLOOKUP(A1537,Articoli!$1:$48422,2,FALSE)),\"Codice Errato\",VLOOKUP(A1537,Articoli!$1:$48422,2,FALSE)))","v":""},null,0,"        ","        ;",0,"      ","      ",""]
[null,{"$f":"IF(A1538=\"\",\"\",IF(ISERROR(VLOOKUP(A1538,Articoli!$1:$48422,2,FALSE)),\"Codice Errato\",VLOOKUP(A1538,Articoli!$1:$48422,2,FALSE)))","v":""},null,0,"        ","        ;",0,"      ","      ",""]
[null,{"$f":"IF(A1539=\"\",\"\",IF(ISERROR(VLOOKUP(A1539,Articoli!$1:$48422,2,FALSE)),\"Codice Errato\",VLOOKUP(A1539,Articoli!$1:$48422,2,FALSE)))","v":""},null,0,"        ","        ;",0,"      ","      ",""]
[null,{"$f":"IF(A1540=\"\",\"\",IF(ISERROR(VLOOKUP(A1540,Articoli!$1:$48422,2,FALSE)),\"Codice Errato\",VLOOKUP(A1540,Articoli!$1:$48422,2,FALSE)))","v":""},null,0,"        ","        ;",0,"      ","      ",""]
[null,{"$f":"IF(A1541=\"\",\"\",IF(ISERROR(VLOOKUP(A1541,Articoli!$1:$48422,2,FALSE)),\"Codice Errato\",VLOOKUP(A1541,Articoli!$1:$48422,2,FALSE)))","v":""},null,0,"        ","        ;",0,"      ","      ",""]
[null,{"$f":"IF(A1542=\"\",\"\",IF(ISERROR(VLOOKUP(A1542,Articoli!$1:$48422,2,FALSE)),\"Codice Errato\",VLOOKUP(A1542,Articoli!$1:$48422,2,FALSE)))","v":""},null,0,"        ","        ;",0,"      ","      ",""]
[null,{"$f":"IF(A1543=\"\",\"\",IF(ISERROR(VLOOKUP(A1543,Articoli!$1:$48422,2,FALSE)),\"Codice Errato\",VLOOKUP(A1543,Articoli!$1:$48422,2,FALSE)))","v":""},null,0,"        ","        ;",0,"      ","      ",""]
[null,{"$f":"IF(A1544=\"\",\"\",IF(ISERROR(VLOOKUP(A1544,Articoli!$1:$48422,2,FALSE)),\"Codice Errato\",VLOOKUP(A1544,Articoli!$1:$48422,2,FALSE)))","v":""},null,0,"        ","        ;",0,"      ","      ",""]
[null,{"$f":"IF(A1545=\"\",\"\",IF(ISERROR(VLOOKUP(A1545,Articoli!$1:$48422,2,FALSE)),\"Codice Errato\",VLOOKUP(A1545,Articoli!$1:$48422,2,FALSE)))","v":""},null,0,"        ","        ;",0,"      ","      ",""]
[null,{"$f":"IF(A1546=\"\",\"\",IF(ISERROR(VLOOKUP(A1546,Articoli!$1:$48422,2,FALSE)),\"Codice Errato\",VLOOKUP(A1546,Articoli!$1:$48422,2,FALSE)))","v":""},null,0,"        ","        ;",0,"      ","      ",""]
[null,{"$f":"IF(A1547=\"\",\"\",IF(ISERROR(VLOOKUP(A1547,Articoli!$1:$48422,2,FALSE)),\"Codice Errato\",VLOOKUP(A1547,Articoli!$1:$48422,2,FALSE)))","v":""},null,0,"        ","        ;",0,"      ","      ",""]
[null,{"$f":"IF(A1548=\"\",\"\",IF(ISERROR(VLOOKUP(A1548,Articoli!$1:$48422,2,FALSE)),\"Codice Errato\",VLOOKUP(A1548,Articoli!$1:$48422,2,FALSE)))","v":""},null,0,"        ","        ;",0,"      ","      ",""]
[null,{"$f":"IF(A1549=\"\",\"\",IF(ISERROR(VLOOKUP(A1549,Articoli!$1:$48422,2,FALSE)),\"Codice Errato\",VLOOKUP(A1549,Articoli!$1:$48422,2,FALSE)))","v":""},null,0,"        ","        ;",0,"      ","      ",""]
[null,{"$f":"IF(A1550=\"\",\"\",IF(ISERROR(VLOOKUP(A1550,Articoli!$1:$48422,2,FALSE)),\"Codice Errato\",VLOOKUP(A1550,Articoli!$1:$48422,2,FALSE)))","v":""},null,0,"        ","        ;",0,"      ","      ",""]
[null,{"$f":"IF(A1551=\"\",\"\",IF(ISERROR(VLOOKUP(A1551,Articoli!$1:$48422,2,FALSE)),\"Codice Errato\",VLOOKUP(A1551,Articoli!$1:$48422,2,FALSE)))","v":""},null,0,"        ","        ;",0,"      ","      ",""]
[null,{"$f":"IF(A1552=\"\",\"\",IF(ISERROR(VLOOKUP(A1552,Articoli!$1:$48422,2,FALSE)),\"Codice Errato\",VLOOKUP(A1552,Articoli!$1:$48422,2,FALSE)))","v":""},null,0,"        ","        ;",0,"      ","      ",""]
[null,{"$f":"IF(A1553=\"\",\"\",IF(ISERROR(VLOOKUP(A1553,Articoli!$1:$48422,2,FALSE)),\"Codice Errato\",VLOOKUP(A1553,Articoli!$1:$48422,2,FALSE)))","v":""},null,0,"        ","        ;",0,"      ","      ",""]
[null,{"$f":"IF(A1554=\"\",\"\",IF(ISERROR(VLOOKUP(A1554,Articoli!$1:$48422,2,FALSE)),\"Codice Errato\",VLOOKUP(A1554,Articoli!$1:$48422,2,FALSE)))","v":""},null,0,"        ","        ;",0,"      ","      ",""]
[null,{"$f":"IF(A1555=\"\",\"\",IF(ISERROR(VLOOKUP(A1555,Articoli!$1:$48422,2,FALSE)),\"Codice Errato\",VLOOKUP(A1555,Articoli!$1:$48422,2,FALSE)))","v":""},null,0,"        ","        ;",0,"      ","      ",""]
[null,{"$f":"IF(A1556=\"\",\"\",IF(ISERROR(VLOOKUP(A1556,Articoli!$1:$48422,2,FALSE)),\"Codice Errato\",VLOOKUP(A1556,Articoli!$1:$48422,2,FALSE)))","v":""},null,0,"        ","        ;",0,"      ","      ",""]
[null,{"$f":"IF(A1557=\"\",\"\",IF(ISERROR(VLOOKUP(A1557,Articoli!$1:$48422,2,FALSE)),\"Codice Errato\",VLOOKUP(A1557,Articoli!$1:$48422,2,FALSE)))","v":""},null,0,"        ","        ;",0,"      ","      ",""]
[null,{"$f":"IF(A1558=\"\",\"\",IF(ISERROR(VLOOKUP(A1558,Articoli!$1:$48422,2,FALSE)),\"Codice Errato\",VLOOKUP(A1558,Articoli!$1:$48422,2,FALSE)))","v":""},null,0,"        ","        ;",0,"      ","      ",""]
[null,{"$f":"IF(A1559=\"\",\"\",IF(ISERROR(VLOOKUP(A1559,Articoli!$1:$48422,2,FALSE)),\"Codice Errato\",VLOOKUP(A1559,Articoli!$1:$48422,2,FALSE)))","v":""},null,0,"        ","        ;",0,"      ","      ",""]
[null,{"$f":"IF(A1560=\"\",\"\",IF(ISERROR(VLOOKUP(A1560,Articoli!$1:$48422,2,FALSE)),\"Codice Errato\",VLOOKUP(A1560,Articoli!$1:$48422,2,FALSE)))","v":""},null,0,"        ","        ;",0,"      ","      ",""]
[null,{"$f":"IF(A1561=\"\",\"\",IF(ISERROR(VLOOKUP(A1561,Articoli!$1:$48422,2,FALSE)),\"Codice Errato\",VLOOKUP(A1561,Articoli!$1:$48422,2,FALSE)))","v":""},null,0,"        ","        ;",0,"      ","      ",""]
[null,{"$f":"IF(A1562=\"\",\"\",IF(ISERROR(VLOOKUP(A1562,Articoli!$1:$48422,2,FALSE)),\"Codice Errato\",VLOOKUP(A1562,Articoli!$1:$48422,2,FALSE)))","v":""},null,0,"        ","        ;",0,"      ","      ",""]
[null,{"$f":"IF(A1563=\"\",\"\",IF(ISERROR(VLOOKUP(A1563,Articoli!$1:$48422,2,FALSE)),\"Codice Errato\",VLOOKUP(A1563,Articoli!$1:$48422,2,FALSE)))","v":""},null,0,"        ","        ;",0,"      ","      ",""]
[null,{"$f":"IF(A1564=\"\",\"\",IF(ISERROR(VLOOKUP(A1564,Articoli!$1:$48422,2,FALSE)),\"Codice Errato\",VLOOKUP(A1564,Articoli!$1:$48422,2,FALSE)))","v":""},null,0,"        ","        ;",0,"      ","      ",""]
[null,{"$f":"IF(A1565=\"\",\"\",IF(ISERROR(VLOOKUP(A1565,Articoli!$1:$48422,2,FALSE)),\"Codice Errato\",VLOOKUP(A1565,Articoli!$1:$48422,2,FALSE)))","v":""},null,0,"        ","        ;",0,"      ","      ",""]
[null,{"$f":"IF(A1566=\"\",\"\",IF(ISERROR(VLOOKUP(A1566,Articoli!$1:$48422,2,FALSE)),\"Codice Errato\",VLOOKUP(A1566,Articoli!$1:$48422,2,FALSE)))","v":""},null,0,"        ","        ;",0,"      ","      ",""]
[null,{"$f":"IF(A1567=\"\",\"\",IF(ISERROR(VLOOKUP(A1567,Articoli!$1:$48422,2,FALSE)),\"Codice Errato\",VLOOKUP(A1567,Articoli!$1:$48422,2,FALSE)))","v":""},null,0,"        ","        ;",0,"      ","      ",""]
[null,{"$f":"IF(A1568=\"\",\"\",IF(ISERROR(VLOOKUP(A1568,Articoli!$1:$48422,2,FALSE)),\"Codice Errato\",VLOOKUP(A1568,Articoli!$1:$48422,2,FALSE)))","v":""},null,0,"        ","        ;",0,"      ","      ",{"$f":"IF(C1568=\"\",\"\",CONCATENATE(F1568,I1568))","v":""}]
[null,{"$f":"IF(A1569=\"\",\"\",IF(ISERROR(VLOOKUP(A1569,Articoli!$1:$48422,2,FALSE)),\"Codice Errato\",VLOOKUP(A1569,Articoli!$1:$48422,2,FALSE)))","v":""},null,0,"        ","        ;",0,"      ","      ",""]
[null,{"$f":"IF(A1570=\"\",\"\",IF(ISERROR(VLOOKUP(A1570,Articoli!$1:$48422,2,FALSE)),\"Codice Errato\",VLOOKUP(A1570,Articoli!$1:$48422,2,FALSE)))","v":""},null,0,"        ","        ;",0,"      ","      ",""]
[null,{"$f":"IF(A1571=\"\",\"\",IF(ISERROR(VLOOKUP(A1571,Articoli!$1:$48422,2,FALSE)),\"Codice Errato\",VLOOKUP(A1571,Articoli!$1:$48422,2,FALSE)))","v":""},null,0,"        ","        ;",0,"      ","      ",""]
[null,{"$f":"IF(A1572=\"\",\"\",IF(ISERROR(VLOOKUP(A1572,Articoli!$1:$48422,2,FALSE)),\"Codice Errato\",VLOOKUP(A1572,Articoli!$1:$48422,2,FALSE)))","v":""},null,0,"        ","        ;",0,"      ","      ",""]
[null,{"$f":"IF(A1573=\"\",\"\",IF(ISERROR(VLOOKUP(A1573,Articoli!$1:$48422,2,FALSE)),\"Codice Errato\",VLOOKUP(A1573,Articoli!$1:$48422,2,FALSE)))","v":""},null,0,"        ","        ;",0,"      ","      ",""]
[null,{"$f":"IF(A1574=\"\",\"\",IF(ISERROR(VLOOKUP(A1574,Articoli!$1:$48422,2,FALSE)),\"Codice Errato\",VLOOKUP(A1574,Articoli!$1:$48422,2,FALSE)))","v":""},null,0,"        ","        ;",0,"      ","      ",""]
[null,{"$f":"IF(A1575=\"\",\"\",IF(ISERROR(VLOOKUP(A1575,Articoli!$1:$48422,2,FALSE)),\"Codice Errato\",VLOOKUP(A1575,Articoli!$1:$48422,2,FALSE)))","v":""},null,0,"        ","        ;",0,"      ","      ",""]
[null,{"$f":"IF(A1576=\"\",\"\",IF(ISERROR(VLOOKUP(A1576,Articoli!$1:$48422,2,FALSE)),\"Codice Errato\",VLOOKUP(A1576,Articoli!$1:$48422,2,FALSE)))","v":""},null,0,"        ","        ;",0,"      ","      ",""]
[null,{"$f":"IF(A1577=\"\",\"\",IF(ISERROR(VLOOKUP(A1577,Articoli!$1:$48422,2,FALSE)),\"Codice Errato\",VLOOKUP(A1577,Articoli!$1:$48422,2,FALSE)))","v":""},null,0,"        ","        ;",0,"      ","      ",""]
[null,{"$f":"IF(A1578=\"\",\"\",IF(ISERROR(VLOOKUP(A1578,Articoli!$1:$48422,2,FALSE)),\"Codice Errato\",VLOOKUP(A1578,Articoli!$1:$48422,2,FALSE)))","v":""},null,0,"        ","        ;",0,"      ","      ",""]
[null,{"$f":"IF(A1579=\"\",\"\",IF(ISERROR(VLOOKUP(A1579,Articoli!$1:$48422,2,FALSE)),\"Codice Errato\",VLOOKUP(A1579,Articoli!$1:$48422,2,FALSE)))","v":""},null,0,"        ","        ;",0,"      ","      ",""]
[null,{"$f":"IF(A1580=\"\",\"\",IF(ISERROR(VLOOKUP(A1580,Articoli!$1:$48422,2,FALSE)),\"Codice Errato\",VLOOKUP(A1580,Articoli!$1:$48422,2,FALSE)))","v":""},null,0,"        ","        ;",0,"      ","      ",""]
[null,{"$f":"IF(A1581=\"\",\"\",IF(ISERROR(VLOOKUP(A1581,Articoli!$1:$48422,2,FALSE)),\"Codice Errato\",VLOOKUP(A1581,Articoli!$1:$48422,2,FALSE)))","v":""},null,0,"        ","        ;",0,"      ","      ",""]
[null,{"$f":"IF(A1582=\"\",\"\",IF(ISERROR(VLOOKUP(A1582,Articoli!$1:$48422,2,FALSE)),\"Codice Errato\",VLOOKUP(A1582,Articoli!$1:$48422,2,FALSE)))","v":""},null,0,"        ","        ;",0,"      ","      ",""]
[null,{"$f":"IF(A1583=\"\",\"\",IF(ISERROR(VLOOKUP(A1583,Articoli!$1:$48422,2,FALSE)),\"Codice Errato\",VLOOKUP(A1583,Articoli!$1:$48422,2,FALSE)))","v":""},null,0,"        ","        ;",0,"      ","      ",""]
[null,{"$f":"IF(A1584=\"\",\"\",IF(ISERROR(VLOOKUP(A1584,Articoli!$1:$48422,2,FALSE)),\"Codice Errato\",VLOOKUP(A1584,Articoli!$1:$48422,2,FALSE)))","v":""},null,0,"        ","        ;",0,"      ","      ",""]
[null,{"$f":"IF(A1585=\"\",\"\",IF(ISERROR(VLOOKUP(A1585,Articoli!$1:$48422,2,FALSE)),\"Codice Errato\",VLOOKUP(A1585,Articoli!$1:$48422,2,FALSE)))","v":""},null,0,"        ","        ;",0,"      ","      ",""]
[null,{"$f":"IF(A1586=\"\",\"\",IF(ISERROR(VLOOKUP(A1586,Articoli!$1:$48422,2,FALSE)),\"Codice Errato\",VLOOKUP(A1586,Articoli!$1:$48422,2,FALSE)))","v":""},null,{"$f":"LEN(A1586)","v":0},{"$f":"REPT(\" \",8-D1586)","v":"        "},{"$f":"CONCATENATE(A1586,E1586,\";\",)","v":"        ;"},{"$f":"LEN(C1586)","v":0},{"$f":"REPT(\" \",6-G1586)","v":"      "},{"$f":"CONCATENATE(H1586,C1586,)","v":"      "},""]
[null,{"$f":"IF(A1587=\"\",\"\",IF(ISERROR(VLOOKUP(A1587,Articoli!$1:$48422,2,FALSE)),\"Codice Errato\",VLOOKUP(A1587,Articoli!$1:$48422,2,FALSE)))","v":""},null,0,"        ","        ;",0,"      ","      ",""]
[null,{"$f":"IF(A1588=\"\",\"\",IF(ISERROR(VLOOKUP(A1588,Articoli!$1:$48422,2,FALSE)),\"Codice Errato\",VLOOKUP(A1588,Articoli!$1:$48422,2,FALSE)))","v":""},null,0,"        ","        ;",0,"      ","      ",""]
[null,{"$f":"IF(A1589=\"\",\"\",IF(ISERROR(VLOOKUP(A1589,Articoli!$1:$48422,2,FALSE)),\"Codice Errato\",VLOOKUP(A1589,Articoli!$1:$48422,2,FALSE)))","v":""},null,0,"        ","        ;",0,"      ","      ",""]
[null,{"$f":"IF(A1590=\"\",\"\",IF(ISERROR(VLOOKUP(A1590,Articoli!$1:$48422,2,FALSE)),\"Codice Errato\",VLOOKUP(A1590,Articoli!$1:$48422,2,FALSE)))","v":""},null,0,"        ","        ;",0,"      ","      ",""]
[null,{"$f":"IF(A1591=\"\",\"\",IF(ISERROR(VLOOKUP(A1591,Articoli!$1:$48422,2,FALSE)),\"Codice Errato\",VLOOKUP(A1591,Articoli!$1:$48422,2,FALSE)))","v":""},null,0,"        ","        ;",0,"      ","      ",""]
[null,{"$f":"IF(A1592=\"\",\"\",IF(ISERROR(VLOOKUP(A1592,Articoli!$1:$48422,2,FALSE)),\"Codice Errato\",VLOOKUP(A1592,Articoli!$1:$48422,2,FALSE)))","v":""},null,0,"        ","        ;",0,"      ","      ",""]
[null,{"$f":"IF(A1593=\"\",\"\",IF(ISERROR(VLOOKUP(A1593,Articoli!$1:$48422,2,FALSE)),\"Codice Errato\",VLOOKUP(A1593,Articoli!$1:$48422,2,FALSE)))","v":""},null,0,"        ","        ;",0,"      ","      ",""]
[null,{"$f":"IF(A1594=\"\",\"\",IF(ISERROR(VLOOKUP(A1594,Articoli!$1:$48422,2,FALSE)),\"Codice Errato\",VLOOKUP(A1594,Articoli!$1:$48422,2,FALSE)))","v":""},null,0,"        ","        ;",0,"      ","      ",""]
[null,{"$f":"IF(A1595=\"\",\"\",IF(ISERROR(VLOOKUP(A1595,Articoli!$1:$48422,2,FALSE)),\"Codice Errato\",VLOOKUP(A1595,Articoli!$1:$48422,2,FALSE)))","v":""},null,0,"        ","        ;",0,"      ","      ",""]
[null,{"$f":"IF(A1596=\"\",\"\",IF(ISERROR(VLOOKUP(A1596,Articoli!$1:$48422,2,FALSE)),\"Codice Errato\",VLOOKUP(A1596,Articoli!$1:$48422,2,FALSE)))","v":""},null,0,"        ","        ;",0,"      ","      ",""]
[null,{"$f":"IF(A1597=\"\",\"\",IF(ISERROR(VLOOKUP(A1597,Articoli!$1:$48422,2,FALSE)),\"Codice Errato\",VLOOKUP(A1597,Articoli!$1:$48422,2,FALSE)))","v":""},null,0,"        ","        ;",0,"      ","      ",""]
[null,{"$f":"IF(A1598=\"\",\"\",IF(ISERROR(VLOOKUP(A1598,Articoli!$1:$48422,2,FALSE)),\"Codice Errato\",VLOOKUP(A1598,Articoli!$1:$48422,2,FALSE)))","v":""},null,0,"        ","        ;",0,"      ","      ",""]
[null,{"$f":"IF(A1599=\"\",\"\",IF(ISERROR(VLOOKUP(A1599,Articoli!$1:$48422,2,FALSE)),\"Codice Errato\",VLOOKUP(A1599,Articoli!$1:$48422,2,FALSE)))","v":""},null,0,"        ","        ;",0,"      ","      ",""]
[null,{"$f":"IF(A1600=\"\",\"\",IF(ISERROR(VLOOKUP(A1600,Articoli!$1:$48422,2,FALSE)),\"Codice Errato\",VLOOKUP(A1600,Articoli!$1:$48422,2,FALSE)))","v":""},null,0,"        ","        ;",0,"      ","      ",""]
[null,{"$f":"IF(A1601=\"\",\"\",IF(ISERROR(VLOOKUP(A1601,Articoli!$1:$48422,2,FALSE)),\"Codice Errato\",VLOOKUP(A1601,Articoli!$1:$48422,2,FALSE)))","v":""},null,0,"        ","        ;",0,"      ","      ",""]
[null,{"$f":"IF(A1602=\"\",\"\",IF(ISERROR(VLOOKUP(A1602,Articoli!$1:$48422,2,FALSE)),\"Codice Errato\",VLOOKUP(A1602,Articoli!$1:$48422,2,FALSE)))","v":""},null,0,"        ","        ;",0,"      ","      ",""]
[null,{"$f":"IF(A1603=\"\",\"\",IF(ISERROR(VLOOKUP(A1603,Articoli!$1:$48422,2,FALSE)),\"Codice Errato\",VLOOKUP(A1603,Articoli!$1:$48422,2,FALSE)))","v":""},null,0,"        ","        ;",0,"      ","      ",""]
[null,{"$f":"IF(A1604=\"\",\"\",IF(ISERROR(VLOOKUP(A1604,Articoli!$1:$48422,2,FALSE)),\"Codice Errato\",VLOOKUP(A1604,Articoli!$1:$48422,2,FALSE)))","v":""},null,0,"        ","        ;",0,"      ","      ",""]
[null,{"$f":"IF(A1605=\"\",\"\",IF(ISERROR(VLOOKUP(A1605,Articoli!$1:$48422,2,FALSE)),\"Codice Errato\",VLOOKUP(A1605,Articoli!$1:$48422,2,FALSE)))","v":""},null,0,"        ","        ;",0,"      ","      ",""]
[null,{"$f":"IF(A1606=\"\",\"\",IF(ISERROR(VLOOKUP(A1606,Articoli!$1:$48422,2,FALSE)),\"Codice Errato\",VLOOKUP(A1606,Articoli!$1:$48422,2,FALSE)))","v":""},null,0,"        ","        ;",0,"      ","      ",""]
[null,{"$f":"IF(A1607=\"\",\"\",IF(ISERROR(VLOOKUP(A1607,Articoli!$1:$48422,2,FALSE)),\"Codice Errato\",VLOOKUP(A1607,Articoli!$1:$48422,2,FALSE)))","v":""},null,0,"        ","        ;",0,"      ","      ",""]
[null,{"$f":"IF(A1608=\"\",\"\",IF(ISERROR(VLOOKUP(A1608,Articoli!$1:$48422,2,FALSE)),\"Codice Errato\",VLOOKUP(A1608,Articoli!$1:$48422,2,FALSE)))","v":""},null,0,"        ","        ;",0,"      ","      ",""]
[null,{"$f":"IF(A1609=\"\",\"\",IF(ISERROR(VLOOKUP(A1609,Articoli!$1:$48422,2,FALSE)),\"Codice Errato\",VLOOKUP(A1609,Articoli!$1:$48422,2,FALSE)))","v":""},null,0,"        ","        ;",0,"      ","      ",""]
[null,{"$f":"IF(A1610=\"\",\"\",IF(ISERROR(VLOOKUP(A1610,Articoli!$1:$48422,2,FALSE)),\"Codice Errato\",VLOOKUP(A1610,Articoli!$1:$48422,2,FALSE)))","v":""},null,0,"        ","        ;",0,"      ","      ",""]
[null,{"$f":"IF(A1611=\"\",\"\",IF(ISERROR(VLOOKUP(A1611,Articoli!$1:$48422,2,FALSE)),\"Codice Errato\",VLOOKUP(A1611,Articoli!$1:$48422,2,FALSE)))","v":""},null,0,"        ","        ;",0,"      ","      ",""]
[null,{"$f":"IF(A1612=\"\",\"\",IF(ISERROR(VLOOKUP(A1612,Articoli!$1:$48422,2,FALSE)),\"Codice Errato\",VLOOKUP(A1612,Articoli!$1:$48422,2,FALSE)))","v":""},null,0,"        ","        ;",0,"      ","      ",""]
[null,{"$f":"IF(A1613=\"\",\"\",IF(ISERROR(VLOOKUP(A1613,Articoli!$1:$48422,2,FALSE)),\"Codice Errato\",VLOOKUP(A1613,Articoli!$1:$48422,2,FALSE)))","v":""},null,0,"        ","        ;",0,"      ","      ",""]
[null,{"$f":"IF(A1614=\"\",\"\",IF(ISERROR(VLOOKUP(A1614,Articoli!$1:$48422,2,FALSE)),\"Codice Errato\",VLOOKUP(A1614,Articoli!$1:$48422,2,FALSE)))","v":""},null,0,"        ","        ;",0,"      ","      ",""]
[null,{"$f":"IF(A1615=\"\",\"\",IF(ISERROR(VLOOKUP(A1615,Articoli!$1:$48422,2,FALSE)),\"Codice Errato\",VLOOKUP(A1615,Articoli!$1:$48422,2,FALSE)))","v":""},null,0,"        ","        ;",0,"      ","      ",""]
[null,{"$f":"IF(A1616=\"\",\"\",IF(ISERROR(VLOOKUP(A1616,Articoli!$1:$48422,2,FALSE)),\"Codice Errato\",VLOOKUP(A1616,Articoli!$1:$48422,2,FALSE)))","v":""},null,0,"        ","        ;",0,"      ","      ",""]
[null,{"$f":"IF(A1617=\"\",\"\",IF(ISERROR(VLOOKUP(A1617,Articoli!$1:$48422,2,FALSE)),\"Codice Errato\",VLOOKUP(A1617,Articoli!$1:$48422,2,FALSE)))","v":""},null,0,"        ","        ;",0,"      ","      ",""]
[null,{"$f":"IF(A1618=\"\",\"\",IF(ISERROR(VLOOKUP(A1618,Articoli!$1:$48422,2,FALSE)),\"Codice Errato\",VLOOKUP(A1618,Articoli!$1:$48422,2,FALSE)))","v":""},null,0,"        ","        ;",0,"      ","      ",""]
[null,{"$f":"IF(A1619=\"\",\"\",IF(ISERROR(VLOOKUP(A1619,Articoli!$1:$48422,2,FALSE)),\"Codice Errato\",VLOOKUP(A1619,Articoli!$1:$48422,2,FALSE)))","v":""},null,0,"        ","        ;",0,"      ","      ",""]
[null,{"$f":"IF(A1620=\"\",\"\",IF(ISERROR(VLOOKUP(A1620,Articoli!$1:$48422,2,FALSE)),\"Codice Errato\",VLOOKUP(A1620,Articoli!$1:$48422,2,FALSE)))","v":""},null,0,"        ","        ;",0,"      ","      ",""]
[null,{"$f":"IF(A1621=\"\",\"\",IF(ISERROR(VLOOKUP(A1621,Articoli!$1:$48422,2,FALSE)),\"Codice Errato\",VLOOKUP(A1621,Articoli!$1:$48422,2,FALSE)))","v":""},null,0,"        ","        ;",0,"      ","      ",""]
[null,{"$f":"IF(A1622=\"\",\"\",IF(ISERROR(VLOOKUP(A1622,Articoli!$1:$48422,2,FALSE)),\"Codice Errato\",VLOOKUP(A1622,Articoli!$1:$48422,2,FALSE)))","v":""},null,0,"        ","        ;",0,"      ","      ",""]
[null,{"$f":"IF(A1623=\"\",\"\",IF(ISERROR(VLOOKUP(A1623,Articoli!$1:$48422,2,FALSE)),\"Codice Errato\",VLOOKUP(A1623,Articoli!$1:$48422,2,FALSE)))","v":""},null,0,"        ","        ;",0,"      ","      ",""]
[null,{"$f":"IF(A1624=\"\",\"\",IF(ISERROR(VLOOKUP(A1624,Articoli!$1:$48422,2,FALSE)),\"Codice Errato\",VLOOKUP(A1624,Articoli!$1:$48422,2,FALSE)))","v":""},null,0,"        ","        ;",0,"      ","      ",""]
[null,{"$f":"IF(A1625=\"\",\"\",IF(ISERROR(VLOOKUP(A1625,Articoli!$1:$48422,2,FALSE)),\"Codice Errato\",VLOOKUP(A1625,Articoli!$1:$48422,2,FALSE)))","v":""},null,0,"        ","        ;",0,"      ","      ",""]
[null,{"$f":"IF(A1626=\"\",\"\",IF(ISERROR(VLOOKUP(A1626,Articoli!$1:$48422,2,FALSE)),\"Codice Errato\",VLOOKUP(A1626,Articoli!$1:$48422,2,FALSE)))","v":""},null,0,"        ","        ;",0,"      ","      ",""]
[null,{"$f":"IF(A1627=\"\",\"\",IF(ISERROR(VLOOKUP(A1627,Articoli!$1:$48422,2,FALSE)),\"Codice Errato\",VLOOKUP(A1627,Articoli!$1:$48422,2,FALSE)))","v":""},null,0,"        ","        ;",0,"      ","      ",""]
[null,{"$f":"IF(A1628=\"\",\"\",IF(ISERROR(VLOOKUP(A1628,Articoli!$1:$48422,2,FALSE)),\"Codice Errato\",VLOOKUP(A1628,Articoli!$1:$48422,2,FALSE)))","v":""},null,0,"        ","        ;",0,"      ","      ",""]
[null,{"$f":"IF(A1629=\"\",\"\",IF(ISERROR(VLOOKUP(A1629,Articoli!$1:$48422,2,FALSE)),\"Codice Errato\",VLOOKUP(A1629,Articoli!$1:$48422,2,FALSE)))","v":""},null,0,"        ","        ;",0,"      ","      ",""]
[null,{"$f":"IF(A1630=\"\",\"\",IF(ISERROR(VLOOKUP(A1630,Articoli!$1:$48422,2,FALSE)),\"Codice Errato\",VLOOKUP(A1630,Articoli!$1:$48422,2,FALSE)))","v":""},null,0,"        ","        ;",0,"      ","      ",""]
[null,{"$f":"IF(A1631=\"\",\"\",IF(ISERROR(VLOOKUP(A1631,Articoli!$1:$48422,2,FALSE)),\"Codice Errato\",VLOOKUP(A1631,Articoli!$1:$48422,2,FALSE)))","v":""},null,0,"        ","        ;",0,"      ","      ",""]
[null,{"$f":"IF(A1632=\"\",\"\",IF(ISERROR(VLOOKUP(A1632,Articoli!$1:$48422,2,FALSE)),\"Codice Errato\",VLOOKUP(A1632,Articoli!$1:$48422,2,FALSE)))","v":""},null,0,"        ","        ;",0,"      ","      ",{"$f":"IF(C1632=\"\",\"\",CONCATENATE(F1632,I1632))","v":""}]
[null,{"$f":"IF(A1633=\"\",\"\",IF(ISERROR(VLOOKUP(A1633,Articoli!$1:$48422,2,FALSE)),\"Codice Errato\",VLOOKUP(A1633,Articoli!$1:$48422,2,FALSE)))","v":""},null,0,"        ","        ;",0,"      ","      ",""]
[null,{"$f":"IF(A1634=\"\",\"\",IF(ISERROR(VLOOKUP(A1634,Articoli!$1:$48422,2,FALSE)),\"Codice Errato\",VLOOKUP(A1634,Articoli!$1:$48422,2,FALSE)))","v":""},null,0,"        ","        ;",0,"      ","      ",""]
[null,{"$f":"IF(A1635=\"\",\"\",IF(ISERROR(VLOOKUP(A1635,Articoli!$1:$48422,2,FALSE)),\"Codice Errato\",VLOOKUP(A1635,Articoli!$1:$48422,2,FALSE)))","v":""},null,0,"        ","        ;",0,"      ","      ",""]
[null,{"$f":"IF(A1636=\"\",\"\",IF(ISERROR(VLOOKUP(A1636,Articoli!$1:$48422,2,FALSE)),\"Codice Errato\",VLOOKUP(A1636,Articoli!$1:$48422,2,FALSE)))","v":""},null,0,"        ","        ;",0,"      ","      ",""]
[null,{"$f":"IF(A1637=\"\",\"\",IF(ISERROR(VLOOKUP(A1637,Articoli!$1:$48422,2,FALSE)),\"Codice Errato\",VLOOKUP(A1637,Articoli!$1:$48422,2,FALSE)))","v":""},null,0,"        ","        ;",0,"      ","      ",""]
[null,{"$f":"IF(A1638=\"\",\"\",IF(ISERROR(VLOOKUP(A1638,Articoli!$1:$48422,2,FALSE)),\"Codice Errato\",VLOOKUP(A1638,Articoli!$1:$48422,2,FALSE)))","v":""},null,0,"        ","        ;",0,"      ","      ",""]
[null,{"$f":"IF(A1639=\"\",\"\",IF(ISERROR(VLOOKUP(A1639,Articoli!$1:$48422,2,FALSE)),\"Codice Errato\",VLOOKUP(A1639,Articoli!$1:$48422,2,FALSE)))","v":""},null,0,"        ","        ;",0,"      ","      ",""]
[null,{"$f":"IF(A1640=\"\",\"\",IF(ISERROR(VLOOKUP(A1640,Articoli!$1:$48422,2,FALSE)),\"Codice Errato\",VLOOKUP(A1640,Articoli!$1:$48422,2,FALSE)))","v":""},null,0,"        ","        ;",0,"      ","      ",""]
[null,{"$f":"IF(A1641=\"\",\"\",IF(ISERROR(VLOOKUP(A1641,Articoli!$1:$48422,2,FALSE)),\"Codice Errato\",VLOOKUP(A1641,Articoli!$1:$48422,2,FALSE)))","v":""},null,0,"        ","        ;",0,"      ","      ",""]
[null,{"$f":"IF(A1642=\"\",\"\",IF(ISERROR(VLOOKUP(A1642,Articoli!$1:$48422,2,FALSE)),\"Codice Errato\",VLOOKUP(A1642,Articoli!$1:$48422,2,FALSE)))","v":""},null,0,"        ","        ;",0,"      ","      ",""]
[null,{"$f":"IF(A1643=\"\",\"\",IF(ISERROR(VLOOKUP(A1643,Articoli!$1:$48422,2,FALSE)),\"Codice Errato\",VLOOKUP(A1643,Articoli!$1:$48422,2,FALSE)))","v":""},null,0,"        ","        ;",0,"      ","      ",""]
[null,{"$f":"IF(A1644=\"\",\"\",IF(ISERROR(VLOOKUP(A1644,Articoli!$1:$48422,2,FALSE)),\"Codice Errato\",VLOOKUP(A1644,Articoli!$1:$48422,2,FALSE)))","v":""},null,0,"        ","        ;",0,"      ","      ",""]
[null,{"$f":"IF(A1645=\"\",\"\",IF(ISERROR(VLOOKUP(A1645,Articoli!$1:$48422,2,FALSE)),\"Codice Errato\",VLOOKUP(A1645,Articoli!$1:$48422,2,FALSE)))","v":""},null,0,"        ","        ;",0,"      ","      ",""]
[null,{"$f":"IF(A1646=\"\",\"\",IF(ISERROR(VLOOKUP(A1646,Articoli!$1:$48422,2,FALSE)),\"Codice Errato\",VLOOKUP(A1646,Articoli!$1:$48422,2,FALSE)))","v":""},null,0,"        ","        ;",0,"      ","      ",""]
[null,{"$f":"IF(A1647=\"\",\"\",IF(ISERROR(VLOOKUP(A1647,Articoli!$1:$48422,2,FALSE)),\"Codice Errato\",VLOOKUP(A1647,Articoli!$1:$48422,2,FALSE)))","v":""},null,0,"        ","        ;",0,"      ","      ",""]
[null,{"$f":"IF(A1648=\"\",\"\",IF(ISERROR(VLOOKUP(A1648,Articoli!$1:$48422,2,FALSE)),\"Codice Errato\",VLOOKUP(A1648,Articoli!$1:$48422,2,FALSE)))","v":""},null,0,"        ","        ;",0,"      ","      ",""]
[null,{"$f":"IF(A1649=\"\",\"\",IF(ISERROR(VLOOKUP(A1649,Articoli!$1:$48422,2,FALSE)),\"Codice Errato\",VLOOKUP(A1649,Articoli!$1:$48422,2,FALSE)))","v":""},null,0,"        ","        ;",0,"      ","      ",""]
[null,{"$f":"IF(A1650=\"\",\"\",IF(ISERROR(VLOOKUP(A1650,Articoli!$1:$48422,2,FALSE)),\"Codice Errato\",VLOOKUP(A1650,Articoli!$1:$48422,2,FALSE)))","v":""},null,{"$f":"LEN(A1650)","v":0},{"$f":"REPT(\" \",8-D1650)","v":"        "},{"$f":"CONCATENATE(A1650,E1650,\";\",)","v":"        ;"},{"$f":"LEN(C1650)","v":0},{"$f":"REPT(\" \",6-G1650)","v":"      "},{"$f":"CONCATENATE(H1650,C1650,)","v":"      "},""]
[null,{"$f":"IF(A1651=\"\",\"\",IF(ISERROR(VLOOKUP(A1651,Articoli!$1:$48422,2,FALSE)),\"Codice Errato\",VLOOKUP(A1651,Articoli!$1:$48422,2,FALSE)))","v":""},null,0,"        ","        ;",0,"      ","      ",""]
[null,{"$f":"IF(A1652=\"\",\"\",IF(ISERROR(VLOOKUP(A1652,Articoli!$1:$48422,2,FALSE)),\"Codice Errato\",VLOOKUP(A1652,Articoli!$1:$48422,2,FALSE)))","v":""},null,0,"        ","        ;",0,"      ","      ",""]
[null,{"$f":"IF(A1653=\"\",\"\",IF(ISERROR(VLOOKUP(A1653,Articoli!$1:$48422,2,FALSE)),\"Codice Errato\",VLOOKUP(A1653,Articoli!$1:$48422,2,FALSE)))","v":""},null,0,"        ","        ;",0,"      ","      ",""]
[null,{"$f":"IF(A1654=\"\",\"\",IF(ISERROR(VLOOKUP(A1654,Articoli!$1:$48422,2,FALSE)),\"Codice Errato\",VLOOKUP(A1654,Articoli!$1:$48422,2,FALSE)))","v":""},null,0,"        ","        ;",0,"      ","      ",""]
[null,{"$f":"IF(A1655=\"\",\"\",IF(ISERROR(VLOOKUP(A1655,Articoli!$1:$48422,2,FALSE)),\"Codice Errato\",VLOOKUP(A1655,Articoli!$1:$48422,2,FALSE)))","v":""},null,0,"        ","        ;",0,"      ","      ",""]
[null,{"$f":"IF(A1656=\"\",\"\",IF(ISERROR(VLOOKUP(A1656,Articoli!$1:$48422,2,FALSE)),\"Codice Errato\",VLOOKUP(A1656,Articoli!$1:$48422,2,FALSE)))","v":""},null,0,"        ","        ;",0,"      ","      ",""]
[null,{"$f":"IF(A1657=\"\",\"\",IF(ISERROR(VLOOKUP(A1657,Articoli!$1:$48422,2,FALSE)),\"Codice Errato\",VLOOKUP(A1657,Articoli!$1:$48422,2,FALSE)))","v":""},null,0,"        ","        ;",0,"      ","      ",""]
[null,{"$f":"IF(A1658=\"\",\"\",IF(ISERROR(VLOOKUP(A1658,Articoli!$1:$48422,2,FALSE)),\"Codice Errato\",VLOOKUP(A1658,Articoli!$1:$48422,2,FALSE)))","v":""},null,0,"        ","        ;",0,"      ","      ",""]
[null,{"$f":"IF(A1659=\"\",\"\",IF(ISERROR(VLOOKUP(A1659,Articoli!$1:$48422,2,FALSE)),\"Codice Errato\",VLOOKUP(A1659,Articoli!$1:$48422,2,FALSE)))","v":""},null,0,"        ","        ;",0,"      ","      ",""]
[null,{"$f":"IF(A1660=\"\",\"\",IF(ISERROR(VLOOKUP(A1660,Articoli!$1:$48422,2,FALSE)),\"Codice Errato\",VLOOKUP(A1660,Articoli!$1:$48422,2,FALSE)))","v":""},null,0,"        ","        ;",0,"      ","      ",""]
[null,{"$f":"IF(A1661=\"\",\"\",IF(ISERROR(VLOOKUP(A1661,Articoli!$1:$48422,2,FALSE)),\"Codice Errato\",VLOOKUP(A1661,Articoli!$1:$48422,2,FALSE)))","v":""},null,0,"        ","        ;",0,"      ","      ",""]
[null,{"$f":"IF(A1662=\"\",\"\",IF(ISERROR(VLOOKUP(A1662,Articoli!$1:$48422,2,FALSE)),\"Codice Errato\",VLOOKUP(A1662,Articoli!$1:$48422,2,FALSE)))","v":""},null,0,"        ","        ;",0,"      ","      ",""]
[null,{"$f":"IF(A1663=\"\",\"\",IF(ISERROR(VLOOKUP(A1663,Articoli!$1:$48422,2,FALSE)),\"Codice Errato\",VLOOKUP(A1663,Articoli!$1:$48422,2,FALSE)))","v":""},null,0,"        ","        ;",0,"      ","      ",""]
[null,{"$f":"IF(A1664=\"\",\"\",IF(ISERROR(VLOOKUP(A1664,Articoli!$1:$48422,2,FALSE)),\"Codice Errato\",VLOOKUP(A1664,Articoli!$1:$48422,2,FALSE)))","v":""},null,0,"        ","        ;",0,"      ","      ",""]
[null,{"$f":"IF(A1665=\"\",\"\",IF(ISERROR(VLOOKUP(A1665,Articoli!$1:$48422,2,FALSE)),\"Codice Errato\",VLOOKUP(A1665,Articoli!$1:$48422,2,FALSE)))","v":""},null,0,"        ","        ;",0,"      ","      ",""]
[null,{"$f":"IF(A1666=\"\",\"\",IF(ISERROR(VLOOKUP(A1666,Articoli!$1:$48422,2,FALSE)),\"Codice Errato\",VLOOKUP(A1666,Articoli!$1:$48422,2,FALSE)))","v":""},null,0,"        ","        ;",0,"      ","      ",""]
[null,{"$f":"IF(A1667=\"\",\"\",IF(ISERROR(VLOOKUP(A1667,Articoli!$1:$48422,2,FALSE)),\"Codice Errato\",VLOOKUP(A1667,Articoli!$1:$48422,2,FALSE)))","v":""},null,0,"        ","        ;",0,"      ","      ",""]
[null,{"$f":"IF(A1668=\"\",\"\",IF(ISERROR(VLOOKUP(A1668,Articoli!$1:$48422,2,FALSE)),\"Codice Errato\",VLOOKUP(A1668,Articoli!$1:$48422,2,FALSE)))","v":""},null,0,"        ","        ;",0,"      ","      ",""]
[null,{"$f":"IF(A1669=\"\",\"\",IF(ISERROR(VLOOKUP(A1669,Articoli!$1:$48422,2,FALSE)),\"Codice Errato\",VLOOKUP(A1669,Articoli!$1:$48422,2,FALSE)))","v":""},null,0,"        ","        ;",0,"      ","      ",""]
[null,{"$f":"IF(A1670=\"\",\"\",IF(ISERROR(VLOOKUP(A1670,Articoli!$1:$48422,2,FALSE)),\"Codice Errato\",VLOOKUP(A1670,Articoli!$1:$48422,2,FALSE)))","v":""},null,0,"        ","        ;",0,"      ","      ",""]
[null,{"$f":"IF(A1671=\"\",\"\",IF(ISERROR(VLOOKUP(A1671,Articoli!$1:$48422,2,FALSE)),\"Codice Errato\",VLOOKUP(A1671,Articoli!$1:$48422,2,FALSE)))","v":""},null,0,"        ","        ;",0,"      ","      ",""]
[null,{"$f":"IF(A1672=\"\",\"\",IF(ISERROR(VLOOKUP(A1672,Articoli!$1:$48422,2,FALSE)),\"Codice Errato\",VLOOKUP(A1672,Articoli!$1:$48422,2,FALSE)))","v":""},null,0,"        ","        ;",0,"      ","      ",""]
[null,{"$f":"IF(A1673=\"\",\"\",IF(ISERROR(VLOOKUP(A1673,Articoli!$1:$48422,2,FALSE)),\"Codice Errato\",VLOOKUP(A1673,Articoli!$1:$48422,2,FALSE)))","v":""},null,0,"        ","        ;",0,"      ","      ",""]
[null,{"$f":"IF(A1674=\"\",\"\",IF(ISERROR(VLOOKUP(A1674,Articoli!$1:$48422,2,FALSE)),\"Codice Errato\",VLOOKUP(A1674,Articoli!$1:$48422,2,FALSE)))","v":""},null,0,"        ","        ;",0,"      ","      ",""]
[null,{"$f":"IF(A1675=\"\",\"\",IF(ISERROR(VLOOKUP(A1675,Articoli!$1:$48422,2,FALSE)),\"Codice Errato\",VLOOKUP(A1675,Articoli!$1:$48422,2,FALSE)))","v":""},null,0,"        ","        ;",0,"      ","      ",""]
[null,{"$f":"IF(A1676=\"\",\"\",IF(ISERROR(VLOOKUP(A1676,Articoli!$1:$48422,2,FALSE)),\"Codice Errato\",VLOOKUP(A1676,Articoli!$1:$48422,2,FALSE)))","v":""},null,0,"        ","        ;",0,"      ","      ",""]
[null,{"$f":"IF(A1677=\"\",\"\",IF(ISERROR(VLOOKUP(A1677,Articoli!$1:$48422,2,FALSE)),\"Codice Errato\",VLOOKUP(A1677,Articoli!$1:$48422,2,FALSE)))","v":""},null,0,"        ","        ;",0,"      ","      ",""]
[null,{"$f":"IF(A1678=\"\",\"\",IF(ISERROR(VLOOKUP(A1678,Articoli!$1:$48422,2,FALSE)),\"Codice Errato\",VLOOKUP(A1678,Articoli!$1:$48422,2,FALSE)))","v":""},null,0,"        ","        ;",0,"      ","      ",""]
[null,{"$f":"IF(A1679=\"\",\"\",IF(ISERROR(VLOOKUP(A1679,Articoli!$1:$48422,2,FALSE)),\"Codice Errato\",VLOOKUP(A1679,Articoli!$1:$48422,2,FALSE)))","v":""},null,0,"        ","        ;",0,"      ","      ",""]
[null,{"$f":"IF(A1680=\"\",\"\",IF(ISERROR(VLOOKUP(A1680,Articoli!$1:$48422,2,FALSE)),\"Codice Errato\",VLOOKUP(A1680,Articoli!$1:$48422,2,FALSE)))","v":""},null,0,"        ","        ;",0,"      ","      ",""]
[null,{"$f":"IF(A1681=\"\",\"\",IF(ISERROR(VLOOKUP(A1681,Articoli!$1:$48422,2,FALSE)),\"Codice Errato\",VLOOKUP(A1681,Articoli!$1:$48422,2,FALSE)))","v":""},null,0,"        ","        ;",0,"      ","      ",""]
[null,{"$f":"IF(A1682=\"\",\"\",IF(ISERROR(VLOOKUP(A1682,Articoli!$1:$48422,2,FALSE)),\"Codice Errato\",VLOOKUP(A1682,Articoli!$1:$48422,2,FALSE)))","v":""},null,0,"        ","        ;",0,"      ","      ",""]
[null,{"$f":"IF(A1683=\"\",\"\",IF(ISERROR(VLOOKUP(A1683,Articoli!$1:$48422,2,FALSE)),\"Codice Errato\",VLOOKUP(A1683,Articoli!$1:$48422,2,FALSE)))","v":""},null,0,"        ","        ;",0,"      ","      ",""]
[null,{"$f":"IF(A1684=\"\",\"\",IF(ISERROR(VLOOKUP(A1684,Articoli!$1:$48422,2,FALSE)),\"Codice Errato\",VLOOKUP(A1684,Articoli!$1:$48422,2,FALSE)))","v":""},null,0,"        ","        ;",0,"      ","      ",""]
[null,{"$f":"IF(A1685=\"\",\"\",IF(ISERROR(VLOOKUP(A1685,Articoli!$1:$48422,2,FALSE)),\"Codice Errato\",VLOOKUP(A1685,Articoli!$1:$48422,2,FALSE)))","v":""},null,0,"        ","        ;",0,"      ","      ",""]
[null,{"$f":"IF(A1686=\"\",\"\",IF(ISERROR(VLOOKUP(A1686,Articoli!$1:$48422,2,FALSE)),\"Codice Errato\",VLOOKUP(A1686,Articoli!$1:$48422,2,FALSE)))","v":""},null,0,"        ","        ;",0,"      ","      ",""]
[null,{"$f":"IF(A1687=\"\",\"\",IF(ISERROR(VLOOKUP(A1687,Articoli!$1:$48422,2,FALSE)),\"Codice Errato\",VLOOKUP(A1687,Articoli!$1:$48422,2,FALSE)))","v":""},null,0,"        ","        ;",0,"      ","      ",""]
[null,{"$f":"IF(A1688=\"\",\"\",IF(ISERROR(VLOOKUP(A1688,Articoli!$1:$48422,2,FALSE)),\"Codice Errato\",VLOOKUP(A1688,Articoli!$1:$48422,2,FALSE)))","v":""},null,0,"        ","        ;",0,"      ","      ",""]
[null,{"$f":"IF(A1689=\"\",\"\",IF(ISERROR(VLOOKUP(A1689,Articoli!$1:$48422,2,FALSE)),\"Codice Errato\",VLOOKUP(A1689,Articoli!$1:$48422,2,FALSE)))","v":""},null,0,"        ","        ;",0,"      ","      ",""]
[null,{"$f":"IF(A1690=\"\",\"\",IF(ISERROR(VLOOKUP(A1690,Articoli!$1:$48422,2,FALSE)),\"Codice Errato\",VLOOKUP(A1690,Articoli!$1:$48422,2,FALSE)))","v":""},null,0,"        ","        ;",0,"      ","      ",""]
[null,{"$f":"IF(A1691=\"\",\"\",IF(ISERROR(VLOOKUP(A1691,Articoli!$1:$48422,2,FALSE)),\"Codice Errato\",VLOOKUP(A1691,Articoli!$1:$48422,2,FALSE)))","v":""},null,0,"        ","        ;",0,"      ","      ",""]
[null,{"$f":"IF(A1692=\"\",\"\",IF(ISERROR(VLOOKUP(A1692,Articoli!$1:$48422,2,FALSE)),\"Codice Errato\",VLOOKUP(A1692,Articoli!$1:$48422,2,FALSE)))","v":""},null,0,"        ","        ;",0,"      ","      ",""]
[null,{"$f":"IF(A1693=\"\",\"\",IF(ISERROR(VLOOKUP(A1693,Articoli!$1:$48422,2,FALSE)),\"Codice Errato\",VLOOKUP(A1693,Articoli!$1:$48422,2,FALSE)))","v":""},null,0,"        ","        ;",0,"      ","      ",""]
[null,{"$f":"IF(A1694=\"\",\"\",IF(ISERROR(VLOOKUP(A1694,Articoli!$1:$48422,2,FALSE)),\"Codice Errato\",VLOOKUP(A1694,Articoli!$1:$48422,2,FALSE)))","v":""},null,0,"        ","        ;",0,"      ","      ",""]
[null,{"$f":"IF(A1695=\"\",\"\",IF(ISERROR(VLOOKUP(A1695,Articoli!$1:$48422,2,FALSE)),\"Codice Errato\",VLOOKUP(A1695,Articoli!$1:$48422,2,FALSE)))","v":""},null,0,"        ","        ;",0,"      ","      ",""]
[null,{"$f":"IF(A1696=\"\",\"\",IF(ISERROR(VLOOKUP(A1696,Articoli!$1:$48422,2,FALSE)),\"Codice Errato\",VLOOKUP(A1696,Articoli!$1:$48422,2,FALSE)))","v":""},null,0,"        ","        ;",0,"      ","      ",{"$f":"IF(C1696=\"\",\"\",CONCATENATE(F1696,I1696))","v":""}]
[null,{"$f":"IF(A1697=\"\",\"\",IF(ISERROR(VLOOKUP(A1697,Articoli!$1:$48422,2,FALSE)),\"Codice Errato\",VLOOKUP(A1697,Articoli!$1:$48422,2,FALSE)))","v":""},null,0,"        ","        ;",0,"      ","      ",""]
[null,{"$f":"IF(A1698=\"\",\"\",IF(ISERROR(VLOOKUP(A1698,Articoli!$1:$48422,2,FALSE)),\"Codice Errato\",VLOOKUP(A1698,Articoli!$1:$48422,2,FALSE)))","v":""},null,0,"        ","        ;",0,"      ","      ",""]
[null,{"$f":"IF(A1699=\"\",\"\",IF(ISERROR(VLOOKUP(A1699,Articoli!$1:$48422,2,FALSE)),\"Codice Errato\",VLOOKUP(A1699,Articoli!$1:$48422,2,FALSE)))","v":""},null,0,"        ","        ;",0,"      ","      ",""]
[null,{"$f":"IF(A1700=\"\",\"\",IF(ISERROR(VLOOKUP(A1700,Articoli!$1:$48422,2,FALSE)),\"Codice Errato\",VLOOKUP(A1700,Articoli!$1:$48422,2,FALSE)))","v":""},null,0,"        ","        ;",0,"      ","      ",""]
[null,{"$f":"IF(A1701=\"\",\"\",IF(ISERROR(VLOOKUP(A1701,Articoli!$1:$48422,2,FALSE)),\"Codice Errato\",VLOOKUP(A1701,Articoli!$1:$48422,2,FALSE)))","v":""},null,0,"        ","        ;",0,"      ","      ",""]
[null,{"$f":"IF(A1702=\"\",\"\",IF(ISERROR(VLOOKUP(A1702,Articoli!$1:$48422,2,FALSE)),\"Codice Errato\",VLOOKUP(A1702,Articoli!$1:$48422,2,FALSE)))","v":""},null,0,"        ","        ;",0,"      ","      ",""]
[null,{"$f":"IF(A1703=\"\",\"\",IF(ISERROR(VLOOKUP(A1703,Articoli!$1:$48422,2,FALSE)),\"Codice Errato\",VLOOKUP(A1703,Articoli!$1:$48422,2,FALSE)))","v":""},null,0,"        ","        ;",0,"      ","      ",""]
[null,{"$f":"IF(A1704=\"\",\"\",IF(ISERROR(VLOOKUP(A1704,Articoli!$1:$48422,2,FALSE)),\"Codice Errato\",VLOOKUP(A1704,Articoli!$1:$48422,2,FALSE)))","v":""},null,0,"        ","        ;",0,"      ","      ",""]
[null,{"$f":"IF(A1705=\"\",\"\",IF(ISERROR(VLOOKUP(A1705,Articoli!$1:$48422,2,FALSE)),\"Codice Errato\",VLOOKUP(A1705,Articoli!$1:$48422,2,FALSE)))","v":""},null,0,"        ","        ;",0,"      ","      ",""]
[null,{"$f":"IF(A1706=\"\",\"\",IF(ISERROR(VLOOKUP(A1706,Articoli!$1:$48422,2,FALSE)),\"Codice Errato\",VLOOKUP(A1706,Articoli!$1:$48422,2,FALSE)))","v":""},null,0,"        ","        ;",0,"      ","      ",""]
[null,{"$f":"IF(A1707=\"\",\"\",IF(ISERROR(VLOOKUP(A1707,Articoli!$1:$48422,2,FALSE)),\"Codice Errato\",VLOOKUP(A1707,Articoli!$1:$48422,2,FALSE)))","v":""},null,0,"        ","        ;",0,"      ","      ",""]
[null,{"$f":"IF(A1708=\"\",\"\",IF(ISERROR(VLOOKUP(A1708,Articoli!$1:$48422,2,FALSE)),\"Codice Errato\",VLOOKUP(A1708,Articoli!$1:$48422,2,FALSE)))","v":""},null,0,"        ","        ;",0,"      ","      ",""]
[null,{"$f":"IF(A1709=\"\",\"\",IF(ISERROR(VLOOKUP(A1709,Articoli!$1:$48422,2,FALSE)),\"Codice Errato\",VLOOKUP(A1709,Articoli!$1:$48422,2,FALSE)))","v":""},null,0,"        ","        ;",0,"      ","      ",""]
[null,{"$f":"IF(A1710=\"\",\"\",IF(ISERROR(VLOOKUP(A1710,Articoli!$1:$48422,2,FALSE)),\"Codice Errato\",VLOOKUP(A1710,Articoli!$1:$48422,2,FALSE)))","v":""},null,0,"        ","        ;",0,"      ","      ",""]
[null,{"$f":"IF(A1711=\"\",\"\",IF(ISERROR(VLOOKUP(A1711,Articoli!$1:$48422,2,FALSE)),\"Codice Errato\",VLOOKUP(A1711,Articoli!$1:$48422,2,FALSE)))","v":""},null,0,"        ","        ;",0,"      ","      ",""]
[null,{"$f":"IF(A1712=\"\",\"\",IF(ISERROR(VLOOKUP(A1712,Articoli!$1:$48422,2,FALSE)),\"Codice Errato\",VLOOKUP(A1712,Articoli!$1:$48422,2,FALSE)))","v":""},null,0,"        ","        ;",0,"      ","      ",""]
[null,{"$f":"IF(A1713=\"\",\"\",IF(ISERROR(VLOOKUP(A1713,Articoli!$1:$48422,2,FALSE)),\"Codice Errato\",VLOOKUP(A1713,Articoli!$1:$48422,2,FALSE)))","v":""},null,0,"        ","        ;",0,"      ","      ",""]
[null,{"$f":"IF(A1714=\"\",\"\",IF(ISERROR(VLOOKUP(A1714,Articoli!$1:$48422,2,FALSE)),\"Codice Errato\",VLOOKUP(A1714,Articoli!$1:$48422,2,FALSE)))","v":""},null,{"$f":"LEN(A1714)","v":0},{"$f":"REPT(\" \",8-D1714)","v":"        "},{"$f":"CONCATENATE(A1714,E1714,\";\",)","v":"        ;"},{"$f":"LEN(C1714)","v":0},{"$f":"REPT(\" \",6-G1714)","v":"      "},{"$f":"CONCATENATE(H1714,C1714,)","v":"      "},""]
[null,{"$f":"IF(A1715=\"\",\"\",IF(ISERROR(VLOOKUP(A1715,Articoli!$1:$48422,2,FALSE)),\"Codice Errato\",VLOOKUP(A1715,Articoli!$1:$48422,2,FALSE)))","v":""},null,0,"        ","        ;",0,"      ","      ",""]
[null,{"$f":"IF(A1716=\"\",\"\",IF(ISERROR(VLOOKUP(A1716,Articoli!$1:$48422,2,FALSE)),\"Codice Errato\",VLOOKUP(A1716,Articoli!$1:$48422,2,FALSE)))","v":""},null,0,"        ","        ;",0,"      ","      ",""]
[null,{"$f":"IF(A1717=\"\",\"\",IF(ISERROR(VLOOKUP(A1717,Articoli!$1:$48422,2,FALSE)),\"Codice Errato\",VLOOKUP(A1717,Articoli!$1:$48422,2,FALSE)))","v":""},null,0,"        ","        ;",0,"      ","      ",""]
[null,{"$f":"IF(A1718=\"\",\"\",IF(ISERROR(VLOOKUP(A1718,Articoli!$1:$48422,2,FALSE)),\"Codice Errato\",VLOOKUP(A1718,Articoli!$1:$48422,2,FALSE)))","v":""},null,0,"        ","        ;",0,"      ","      ",""]
[null,{"$f":"IF(A1719=\"\",\"\",IF(ISERROR(VLOOKUP(A1719,Articoli!$1:$48422,2,FALSE)),\"Codice Errato\",VLOOKUP(A1719,Articoli!$1:$48422,2,FALSE)))","v":""},null,0,"        ","        ;",0,"      ","      ",""]
[null,{"$f":"IF(A1720=\"\",\"\",IF(ISERROR(VLOOKUP(A1720,Articoli!$1:$48422,2,FALSE)),\"Codice Errato\",VLOOKUP(A1720,Articoli!$1:$48422,2,FALSE)))","v":""},null,0,"        ","        ;",0,"      ","      ",""]
[null,{"$f":"IF(A1721=\"\",\"\",IF(ISERROR(VLOOKUP(A1721,Articoli!$1:$48422,2,FALSE)),\"Codice Errato\",VLOOKUP(A1721,Articoli!$1:$48422,2,FALSE)))","v":""},null,0,"        ","        ;",0,"      ","      ",""]
[null,{"$f":"IF(A1722=\"\",\"\",IF(ISERROR(VLOOKUP(A1722,Articoli!$1:$48422,2,FALSE)),\"Codice Errato\",VLOOKUP(A1722,Articoli!$1:$48422,2,FALSE)))","v":""},null,0,"        ","        ;",0,"      ","      ",""]
[null,{"$f":"IF(A1723=\"\",\"\",IF(ISERROR(VLOOKUP(A1723,Articoli!$1:$48422,2,FALSE)),\"Codice Errato\",VLOOKUP(A1723,Articoli!$1:$48422,2,FALSE)))","v":""},null,0,"        ","        ;",0,"      ","      ",""]
[null,{"$f":"IF(A1724=\"\",\"\",IF(ISERROR(VLOOKUP(A1724,Articoli!$1:$48422,2,FALSE)),\"Codice Errato\",VLOOKUP(A1724,Articoli!$1:$48422,2,FALSE)))","v":""},null,0,"        ","        ;",0,"      ","      ",""]
[null,{"$f":"IF(A1725=\"\",\"\",IF(ISERROR(VLOOKUP(A1725,Articoli!$1:$48422,2,FALSE)),\"Codice Errato\",VLOOKUP(A1725,Articoli!$1:$48422,2,FALSE)))","v":""},null,0,"        ","        ;",0,"      ","      ",""]
[null,{"$f":"IF(A1726=\"\",\"\",IF(ISERROR(VLOOKUP(A1726,Articoli!$1:$48422,2,FALSE)),\"Codice Errato\",VLOOKUP(A1726,Articoli!$1:$48422,2,FALSE)))","v":""},null,0,"        ","        ;",0,"      ","      ",""]
[null,{"$f":"IF(A1727=\"\",\"\",IF(ISERROR(VLOOKUP(A1727,Articoli!$1:$48422,2,FALSE)),\"Codice Errato\",VLOOKUP(A1727,Articoli!$1:$48422,2,FALSE)))","v":""},null,0,"        ","        ;",0,"      ","      ",""]
[null,{"$f":"IF(A1728=\"\",\"\",IF(ISERROR(VLOOKUP(A1728,Articoli!$1:$48422,2,FALSE)),\"Codice Errato\",VLOOKUP(A1728,Articoli!$1:$48422,2,FALSE)))","v":""},null,0,"        ","        ;",0,"      ","      ",""]
[null,{"$f":"IF(A1729=\"\",\"\",IF(ISERROR(VLOOKUP(A1729,Articoli!$1:$48422,2,FALSE)),\"Codice Errato\",VLOOKUP(A1729,Articoli!$1:$48422,2,FALSE)))","v":""},null,0,"        ","        ;",0,"      ","      ",""]
[null,{"$f":"IF(A1730=\"\",\"\",IF(ISERROR(VLOOKUP(A1730,Articoli!$1:$48422,2,FALSE)),\"Codice Errato\",VLOOKUP(A1730,Articoli!$1:$48422,2,FALSE)))","v":""},null,0,"        ","        ;",0,"      ","      ",""]
[null,{"$f":"IF(A1731=\"\",\"\",IF(ISERROR(VLOOKUP(A1731,Articoli!$1:$48422,2,FALSE)),\"Codice Errato\",VLOOKUP(A1731,Articoli!$1:$48422,2,FALSE)))","v":""},null,0,"        ","        ;",0,"      ","      ",""]
[null,{"$f":"IF(A1732=\"\",\"\",IF(ISERROR(VLOOKUP(A1732,Articoli!$1:$48422,2,FALSE)),\"Codice Errato\",VLOOKUP(A1732,Articoli!$1:$48422,2,FALSE)))","v":""},null,0,"        ","        ;",0,"      ","      ",""]
[null,{"$f":"IF(A1733=\"\",\"\",IF(ISERROR(VLOOKUP(A1733,Articoli!$1:$48422,2,FALSE)),\"Codice Errato\",VLOOKUP(A1733,Articoli!$1:$48422,2,FALSE)))","v":""},null,0,"        ","        ;",0,"      ","      ",""]
[null,{"$f":"IF(A1734=\"\",\"\",IF(ISERROR(VLOOKUP(A1734,Articoli!$1:$48422,2,FALSE)),\"Codice Errato\",VLOOKUP(A1734,Articoli!$1:$48422,2,FALSE)))","v":""},null,0,"        ","        ;",0,"      ","      ",""]
[null,{"$f":"IF(A1735=\"\",\"\",IF(ISERROR(VLOOKUP(A1735,Articoli!$1:$48422,2,FALSE)),\"Codice Errato\",VLOOKUP(A1735,Articoli!$1:$48422,2,FALSE)))","v":""},null,0,"        ","        ;",0,"      ","      ",""]
[null,{"$f":"IF(A1736=\"\",\"\",IF(ISERROR(VLOOKUP(A1736,Articoli!$1:$48422,2,FALSE)),\"Codice Errato\",VLOOKUP(A1736,Articoli!$1:$48422,2,FALSE)))","v":""},null,0,"        ","        ;",0,"      ","      ",""]
[null,{"$f":"IF(A1737=\"\",\"\",IF(ISERROR(VLOOKUP(A1737,Articoli!$1:$48422,2,FALSE)),\"Codice Errato\",VLOOKUP(A1737,Articoli!$1:$48422,2,FALSE)))","v":""},null,0,"        ","        ;",0,"      ","      ",""]
[null,{"$f":"IF(A1738=\"\",\"\",IF(ISERROR(VLOOKUP(A1738,Articoli!$1:$48422,2,FALSE)),\"Codice Errato\",VLOOKUP(A1738,Articoli!$1:$48422,2,FALSE)))","v":""},null,0,"        ","        ;",0,"      ","      ",""]
[null,{"$f":"IF(A1739=\"\",\"\",IF(ISERROR(VLOOKUP(A1739,Articoli!$1:$48422,2,FALSE)),\"Codice Errato\",VLOOKUP(A1739,Articoli!$1:$48422,2,FALSE)))","v":""},null,0,"        ","        ;",0,"      ","      ",""]
[null,{"$f":"IF(A1740=\"\",\"\",IF(ISERROR(VLOOKUP(A1740,Articoli!$1:$48422,2,FALSE)),\"Codice Errato\",VLOOKUP(A1740,Articoli!$1:$48422,2,FALSE)))","v":""},null,0,"        ","        ;",0,"      ","      ",""]
[null,{"$f":"IF(A1741=\"\",\"\",IF(ISERROR(VLOOKUP(A1741,Articoli!$1:$48422,2,FALSE)),\"Codice Errato\",VLOOKUP(A1741,Articoli!$1:$48422,2,FALSE)))","v":""},null,0,"        ","        ;",0,"      ","      ",""]
[null,{"$f":"IF(A1742=\"\",\"\",IF(ISERROR(VLOOKUP(A1742,Articoli!$1:$48422,2,FALSE)),\"Codice Errato\",VLOOKUP(A1742,Articoli!$1:$48422,2,FALSE)))","v":""},null,0,"        ","        ;",0,"      ","      ",""]
[null,{"$f":"IF(A1743=\"\",\"\",IF(ISERROR(VLOOKUP(A1743,Articoli!$1:$48422,2,FALSE)),\"Codice Errato\",VLOOKUP(A1743,Articoli!$1:$48422,2,FALSE)))","v":""},null,0,"        ","        ;",0,"      ","      ",""]
[null,{"$f":"IF(A1744=\"\",\"\",IF(ISERROR(VLOOKUP(A1744,Articoli!$1:$48422,2,FALSE)),\"Codice Errato\",VLOOKUP(A1744,Articoli!$1:$48422,2,FALSE)))","v":""},null,0,"        ","        ;",0,"      ","      ",""]
[null,{"$f":"IF(A1745=\"\",\"\",IF(ISERROR(VLOOKUP(A1745,Articoli!$1:$48422,2,FALSE)),\"Codice Errato\",VLOOKUP(A1745,Articoli!$1:$48422,2,FALSE)))","v":""},null,0,"        ","        ;",0,"      ","      ",""]
[null,{"$f":"IF(A1746=\"\",\"\",IF(ISERROR(VLOOKUP(A1746,Articoli!$1:$48422,2,FALSE)),\"Codice Errato\",VLOOKUP(A1746,Articoli!$1:$48422,2,FALSE)))","v":""},null,0,"        ","        ;",0,"      ","      ",""]
[null,{"$f":"IF(A1747=\"\",\"\",IF(ISERROR(VLOOKUP(A1747,Articoli!$1:$48422,2,FALSE)),\"Codice Errato\",VLOOKUP(A1747,Articoli!$1:$48422,2,FALSE)))","v":""},null,0,"        ","        ;",0,"      ","      ",""]
[null,{"$f":"IF(A1748=\"\",\"\",IF(ISERROR(VLOOKUP(A1748,Articoli!$1:$48422,2,FALSE)),\"Codice Errato\",VLOOKUP(A1748,Articoli!$1:$48422,2,FALSE)))","v":""},null,0,"        ","        ;",0,"      ","      ",""]
[null,{"$f":"IF(A1749=\"\",\"\",IF(ISERROR(VLOOKUP(A1749,Articoli!$1:$48422,2,FALSE)),\"Codice Errato\",VLOOKUP(A1749,Articoli!$1:$48422,2,FALSE)))","v":""},null,0,"        ","        ;",0,"      ","      ",""]
[null,{"$f":"IF(A1750=\"\",\"\",IF(ISERROR(VLOOKUP(A1750,Articoli!$1:$48422,2,FALSE)),\"Codice Errato\",VLOOKUP(A1750,Articoli!$1:$48422,2,FALSE)))","v":""},null,0,"        ","        ;",0,"      ","      ",""]
[null,{"$f":"IF(A1751=\"\",\"\",IF(ISERROR(VLOOKUP(A1751,Articoli!$1:$48422,2,FALSE)),\"Codice Errato\",VLOOKUP(A1751,Articoli!$1:$48422,2,FALSE)))","v":""},null,0,"        ","        ;",0,"      ","      ",""]
[null,{"$f":"IF(A1752=\"\",\"\",IF(ISERROR(VLOOKUP(A1752,Articoli!$1:$48422,2,FALSE)),\"Codice Errato\",VLOOKUP(A1752,Articoli!$1:$48422,2,FALSE)))","v":""},null,0,"        ","        ;",0,"      ","      ",""]
[null,{"$f":"IF(A1753=\"\",\"\",IF(ISERROR(VLOOKUP(A1753,Articoli!$1:$48422,2,FALSE)),\"Codice Errato\",VLOOKUP(A1753,Articoli!$1:$48422,2,FALSE)))","v":""},null,0,"        ","        ;",0,"      ","      ",""]
[null,{"$f":"IF(A1754=\"\",\"\",IF(ISERROR(VLOOKUP(A1754,Articoli!$1:$48422,2,FALSE)),\"Codice Errato\",VLOOKUP(A1754,Articoli!$1:$48422,2,FALSE)))","v":""},null,0,"        ","        ;",0,"      ","      ",""]
[null,{"$f":"IF(A1755=\"\",\"\",IF(ISERROR(VLOOKUP(A1755,Articoli!$1:$48422,2,FALSE)),\"Codice Errato\",VLOOKUP(A1755,Articoli!$1:$48422,2,FALSE)))","v":""},null,0,"        ","        ;",0,"      ","      ",""]
[null,{"$f":"IF(A1756=\"\",\"\",IF(ISERROR(VLOOKUP(A1756,Articoli!$1:$48422,2,FALSE)),\"Codice Errato\",VLOOKUP(A1756,Articoli!$1:$48422,2,FALSE)))","v":""},null,0,"        ","        ;",0,"      ","      ",""]
[null,{"$f":"IF(A1757=\"\",\"\",IF(ISERROR(VLOOKUP(A1757,Articoli!$1:$48422,2,FALSE)),\"Codice Errato\",VLOOKUP(A1757,Articoli!$1:$48422,2,FALSE)))","v":""},null,0,"        ","        ;",0,"      ","      ",""]
[null,{"$f":"IF(A1758=\"\",\"\",IF(ISERROR(VLOOKUP(A1758,Articoli!$1:$48422,2,FALSE)),\"Codice Errato\",VLOOKUP(A1758,Articoli!$1:$48422,2,FALSE)))","v":""},null,0,"        ","        ;",0,"      ","      ",""]
[null,{"$f":"IF(A1759=\"\",\"\",IF(ISERROR(VLOOKUP(A1759,Articoli!$1:$48422,2,FALSE)),\"Codice Errato\",VLOOKUP(A1759,Articoli!$1:$48422,2,FALSE)))","v":""},null,0,"        ","        ;",0,"      ","      ",""]
[null,{"$f":"IF(A1760=\"\",\"\",IF(ISERROR(VLOOKUP(A1760,Articoli!$1:$48422,2,FALSE)),\"Codice Errato\",VLOOKUP(A1760,Articoli!$1:$48422,2,FALSE)))","v":""},null,0,"        ","        ;",0,"      ","      ",{"$f":"IF(C1760=\"\",\"\",CONCATENATE(F1760,I1760))","v":""}]
[null,{"$f":"IF(A1761=\"\",\"\",IF(ISERROR(VLOOKUP(A1761,Articoli!$1:$48422,2,FALSE)),\"Codice Errato\",VLOOKUP(A1761,Articoli!$1:$48422,2,FALSE)))","v":""},null,0,"        ","        ;",0,"      ","      ",""]
[null,{"$f":"IF(A1762=\"\",\"\",IF(ISERROR(VLOOKUP(A1762,Articoli!$1:$48422,2,FALSE)),\"Codice Errato\",VLOOKUP(A1762,Articoli!$1:$48422,2,FALSE)))","v":""},null,0,"        ","        ;",0,"      ","      ",""]
[null,{"$f":"IF(A1763=\"\",\"\",IF(ISERROR(VLOOKUP(A1763,Articoli!$1:$48422,2,FALSE)),\"Codice Errato\",VLOOKUP(A1763,Articoli!$1:$48422,2,FALSE)))","v":""},null,0,"        ","        ;",0,"      ","      ",""]
[null,{"$f":"IF(A1764=\"\",\"\",IF(ISERROR(VLOOKUP(A1764,Articoli!$1:$48422,2,FALSE)),\"Codice Errato\",VLOOKUP(A1764,Articoli!$1:$48422,2,FALSE)))","v":""},null,0,"        ","        ;",0,"      ","      ",""]
[null,{"$f":"IF(A1765=\"\",\"\",IF(ISERROR(VLOOKUP(A1765,Articoli!$1:$48422,2,FALSE)),\"Codice Errato\",VLOOKUP(A1765,Articoli!$1:$48422,2,FALSE)))","v":""},null,0,"        ","        ;",0,"      ","      ",""]
[null,{"$f":"IF(A1766=\"\",\"\",IF(ISERROR(VLOOKUP(A1766,Articoli!$1:$48422,2,FALSE)),\"Codice Errato\",VLOOKUP(A1766,Articoli!$1:$48422,2,FALSE)))","v":""},null,0,"        ","        ;",0,"      ","      ",""]
[null,{"$f":"IF(A1767=\"\",\"\",IF(ISERROR(VLOOKUP(A1767,Articoli!$1:$48422,2,FALSE)),\"Codice Errato\",VLOOKUP(A1767,Articoli!$1:$48422,2,FALSE)))","v":""},null,0,"        ","        ;",0,"      ","      ",""]
[null,{"$f":"IF(A1768=\"\",\"\",IF(ISERROR(VLOOKUP(A1768,Articoli!$1:$48422,2,FALSE)),\"Codice Errato\",VLOOKUP(A1768,Articoli!$1:$48422,2,FALSE)))","v":""},null,0,"        ","        ;",0,"      ","      ",""]
[null,{"$f":"IF(A1769=\"\",\"\",IF(ISERROR(VLOOKUP(A1769,Articoli!$1:$48422,2,FALSE)),\"Codice Errato\",VLOOKUP(A1769,Articoli!$1:$48422,2,FALSE)))","v":""},null,0,"        ","        ;",0,"      ","      ",""]
[null,{"$f":"IF(A1770=\"\",\"\",IF(ISERROR(VLOOKUP(A1770,Articoli!$1:$48422,2,FALSE)),\"Codice Errato\",VLOOKUP(A1770,Articoli!$1:$48422,2,FALSE)))","v":""},null,0,"        ","        ;",0,"      ","      ",""]
[null,{"$f":"IF(A1771=\"\",\"\",IF(ISERROR(VLOOKUP(A1771,Articoli!$1:$48422,2,FALSE)),\"Codice Errato\",VLOOKUP(A1771,Articoli!$1:$48422,2,FALSE)))","v":""},null,0,"        ","        ;",0,"      ","      ",""]
[null,{"$f":"IF(A1772=\"\",\"\",IF(ISERROR(VLOOKUP(A1772,Articoli!$1:$48422,2,FALSE)),\"Codice Errato\",VLOOKUP(A1772,Articoli!$1:$48422,2,FALSE)))","v":""},null,0,"        ","        ;",0,"      ","      ",""]
[null,{"$f":"IF(A1773=\"\",\"\",IF(ISERROR(VLOOKUP(A1773,Articoli!$1:$48422,2,FALSE)),\"Codice Errato\",VLOOKUP(A1773,Articoli!$1:$48422,2,FALSE)))","v":""},null,0,"        ","        ;",0,"      ","      ",""]
[null,{"$f":"IF(A1774=\"\",\"\",IF(ISERROR(VLOOKUP(A1774,Articoli!$1:$48422,2,FALSE)),\"Codice Errato\",VLOOKUP(A1774,Articoli!$1:$48422,2,FALSE)))","v":""},null,0,"        ","        ;",0,"      ","      ",""]
[null,{"$f":"IF(A1775=\"\",\"\",IF(ISERROR(VLOOKUP(A1775,Articoli!$1:$48422,2,FALSE)),\"Codice Errato\",VLOOKUP(A1775,Articoli!$1:$48422,2,FALSE)))","v":""},null,0,"        ","        ;",0,"      ","      ",""]
[null,{"$f":"IF(A1776=\"\",\"\",IF(ISERROR(VLOOKUP(A1776,Articoli!$1:$48422,2,FALSE)),\"Codice Errato\",VLOOKUP(A1776,Articoli!$1:$48422,2,FALSE)))","v":""},null,0,"        ","        ;",0,"      ","      ",""]
[null,{"$f":"IF(A1777=\"\",\"\",IF(ISERROR(VLOOKUP(A1777,Articoli!$1:$48422,2,FALSE)),\"Codice Errato\",VLOOKUP(A1777,Articoli!$1:$48422,2,FALSE)))","v":""},null,0,"        ","        ;",0,"      ","      ",""]
[null,{"$f":"IF(A1778=\"\",\"\",IF(ISERROR(VLOOKUP(A1778,Articoli!$1:$48422,2,FALSE)),\"Codice Errato\",VLOOKUP(A1778,Articoli!$1:$48422,2,FALSE)))","v":""},null,{"$f":"LEN(A1778)","v":0},{"$f":"REPT(\" \",8-D1778)","v":"        "},{"$f":"CONCATENATE(A1778,E1778,\";\",)","v":"        ;"},{"$f":"LEN(C1778)","v":0},{"$f":"REPT(\" \",6-G1778)","v":"      "},{"$f":"CONCATENATE(H1778,C1778,)","v":"      "},""]
[null,{"$f":"IF(A1779=\"\",\"\",IF(ISERROR(VLOOKUP(A1779,Articoli!$1:$48422,2,FALSE)),\"Codice Errato\",VLOOKUP(A1779,Articoli!$1:$48422,2,FALSE)))","v":""},null,0,"        ","        ;",0,"      ","      ",""]
[null,{"$f":"IF(A1780=\"\",\"\",IF(ISERROR(VLOOKUP(A1780,Articoli!$1:$48422,2,FALSE)),\"Codice Errato\",VLOOKUP(A1780,Articoli!$1:$48422,2,FALSE)))","v":""},null,0,"        ","        ;",0,"      ","      ",""]
[null,{"$f":"IF(A1781=\"\",\"\",IF(ISERROR(VLOOKUP(A1781,Articoli!$1:$48422,2,FALSE)),\"Codice Errato\",VLOOKUP(A1781,Articoli!$1:$48422,2,FALSE)))","v":""},null,0,"        ","        ;",0,"      ","      ",""]
[null,{"$f":"IF(A1782=\"\",\"\",IF(ISERROR(VLOOKUP(A1782,Articoli!$1:$48422,2,FALSE)),\"Codice Errato\",VLOOKUP(A1782,Articoli!$1:$48422,2,FALSE)))","v":""},null,0,"        ","        ;",0,"      ","      ",""]
[null,{"$f":"IF(A1783=\"\",\"\",IF(ISERROR(VLOOKUP(A1783,Articoli!$1:$48422,2,FALSE)),\"Codice Errato\",VLOOKUP(A1783,Articoli!$1:$48422,2,FALSE)))","v":""},null,0,"        ","        ;",0,"      ","      ",""]
[null,{"$f":"IF(A1784=\"\",\"\",IF(ISERROR(VLOOKUP(A1784,Articoli!$1:$48422,2,FALSE)),\"Codice Errato\",VLOOKUP(A1784,Articoli!$1:$48422,2,FALSE)))","v":""},null,0,"        ","        ;",0,"      ","      ",""]
[null,{"$f":"IF(A1785=\"\",\"\",IF(ISERROR(VLOOKUP(A1785,Articoli!$1:$48422,2,FALSE)),\"Codice Errato\",VLOOKUP(A1785,Articoli!$1:$48422,2,FALSE)))","v":""},null,0,"        ","        ;",0,"      ","      ",""]
[null,{"$f":"IF(A1786=\"\",\"\",IF(ISERROR(VLOOKUP(A1786,Articoli!$1:$48422,2,FALSE)),\"Codice Errato\",VLOOKUP(A1786,Articoli!$1:$48422,2,FALSE)))","v":""},null,0,"        ","        ;",0,"      ","      ",""]
[null,{"$f":"IF(A1787=\"\",\"\",IF(ISERROR(VLOOKUP(A1787,Articoli!$1:$48422,2,FALSE)),\"Codice Errato\",VLOOKUP(A1787,Articoli!$1:$48422,2,FALSE)))","v":""},null,0,"        ","        ;",0,"      ","      ",""]
[null,{"$f":"IF(A1788=\"\",\"\",IF(ISERROR(VLOOKUP(A1788,Articoli!$1:$48422,2,FALSE)),\"Codice Errato\",VLOOKUP(A1788,Articoli!$1:$48422,2,FALSE)))","v":""},null,0,"        ","        ;",0,"      ","      ",""]
[null,{"$f":"IF(A1789=\"\",\"\",IF(ISERROR(VLOOKUP(A1789,Articoli!$1:$48422,2,FALSE)),\"Codice Errato\",VLOOKUP(A1789,Articoli!$1:$48422,2,FALSE)))","v":""},null,0,"        ","        ;",0,"      ","      ",""]
[null,{"$f":"IF(A1790=\"\",\"\",IF(ISERROR(VLOOKUP(A1790,Articoli!$1:$48422,2,FALSE)),\"Codice Errato\",VLOOKUP(A1790,Articoli!$1:$48422,2,FALSE)))","v":""},null,0,"        ","        ;",0,"      ","      ",""]
[null,{"$f":"IF(A1791=\"\",\"\",IF(ISERROR(VLOOKUP(A1791,Articoli!$1:$48422,2,FALSE)),\"Codice Errato\",VLOOKUP(A1791,Articoli!$1:$48422,2,FALSE)))","v":""},null,0,"        ","        ;",0,"      ","      ",""]
[null,{"$f":"IF(A1792=\"\",\"\",IF(ISERROR(VLOOKUP(A1792,Articoli!$1:$48422,2,FALSE)),\"Codice Errato\",VLOOKUP(A1792,Articoli!$1:$48422,2,FALSE)))","v":""},null,0,"        ","        ;",0,"      ","      ",""]
[null,{"$f":"IF(A1793=\"\",\"\",IF(ISERROR(VLOOKUP(A1793,Articoli!$1:$48422,2,FALSE)),\"Codice Errato\",VLOOKUP(A1793,Articoli!$1:$48422,2,FALSE)))","v":""},null,0,"        ","        ;",0,"      ","      ",""]
[null,{"$f":"IF(A1794=\"\",\"\",IF(ISERROR(VLOOKUP(A1794,Articoli!$1:$48422,2,FALSE)),\"Codice Errato\",VLOOKUP(A1794,Articoli!$1:$48422,2,FALSE)))","v":""},null,0,"        ","        ;",0,"      ","      ",""]
[null,{"$f":"IF(A1795=\"\",\"\",IF(ISERROR(VLOOKUP(A1795,Articoli!$1:$48422,2,FALSE)),\"Codice Errato\",VLOOKUP(A1795,Articoli!$1:$48422,2,FALSE)))","v":""},null,0,"        ","        ;",0,"      ","      ",""]
[null,{"$f":"IF(A1796=\"\",\"\",IF(ISERROR(VLOOKUP(A1796,Articoli!$1:$48422,2,FALSE)),\"Codice Errato\",VLOOKUP(A1796,Articoli!$1:$48422,2,FALSE)))","v":""},null,0,"        ","        ;",0,"      ","      ",""]
[null,{"$f":"IF(A1797=\"\",\"\",IF(ISERROR(VLOOKUP(A1797,Articoli!$1:$48422,2,FALSE)),\"Codice Errato\",VLOOKUP(A1797,Articoli!$1:$48422,2,FALSE)))","v":""},null,0,"        ","        ;",0,"      ","      ",""]
[null,{"$f":"IF(A1798=\"\",\"\",IF(ISERROR(VLOOKUP(A1798,Articoli!$1:$48422,2,FALSE)),\"Codice Errato\",VLOOKUP(A1798,Articoli!$1:$48422,2,FALSE)))","v":""},null,0,"        ","        ;",0,"      ","      ",""]
[null,{"$f":"IF(A1799=\"\",\"\",IF(ISERROR(VLOOKUP(A1799,Articoli!$1:$48422,2,FALSE)),\"Codice Errato\",VLOOKUP(A1799,Articoli!$1:$48422,2,FALSE)))","v":""},null,0,"        ","        ;",0,"      ","      ",""]
[null,{"$f":"IF(A1800=\"\",\"\",IF(ISERROR(VLOOKUP(A1800,Articoli!$1:$48422,2,FALSE)),\"Codice Errato\",VLOOKUP(A1800,Articoli!$1:$48422,2,FALSE)))","v":""},null,0,"        ","        ;",0,"      ","      ",""]
[null,{"$f":"IF(A1801=\"\",\"\",IF(ISERROR(VLOOKUP(A1801,Articoli!$1:$48422,2,FALSE)),\"Codice Errato\",VLOOKUP(A1801,Articoli!$1:$48422,2,FALSE)))","v":""},null,0,"        ","        ;",0,"      ","      ",""]
[null,{"$f":"IF(A1802=\"\",\"\",IF(ISERROR(VLOOKUP(A1802,Articoli!$1:$48422,2,FALSE)),\"Codice Errato\",VLOOKUP(A1802,Articoli!$1:$48422,2,FALSE)))","v":""},null,0,"        ","        ;",0,"      ","      ",""]
[null,{"$f":"IF(A1803=\"\",\"\",IF(ISERROR(VLOOKUP(A1803,Articoli!$1:$48422,2,FALSE)),\"Codice Errato\",VLOOKUP(A1803,Articoli!$1:$48422,2,FALSE)))","v":""},null,0,"        ","        ;",0,"      ","      ",""]
[null,{"$f":"IF(A1804=\"\",\"\",IF(ISERROR(VLOOKUP(A1804,Articoli!$1:$48422,2,FALSE)),\"Codice Errato\",VLOOKUP(A1804,Articoli!$1:$48422,2,FALSE)))","v":""},null,0,"        ","        ;",0,"      ","      ",""]
[null,{"$f":"IF(A1805=\"\",\"\",IF(ISERROR(VLOOKUP(A1805,Articoli!$1:$48422,2,FALSE)),\"Codice Errato\",VLOOKUP(A1805,Articoli!$1:$48422,2,FALSE)))","v":""},null,0,"        ","        ;",0,"      ","      ",""]
[null,{"$f":"IF(A1806=\"\",\"\",IF(ISERROR(VLOOKUP(A1806,Articoli!$1:$48422,2,FALSE)),\"Codice Errato\",VLOOKUP(A1806,Articoli!$1:$48422,2,FALSE)))","v":""},null,0,"        ","        ;",0,"      ","      ",""]
[null,{"$f":"IF(A1807=\"\",\"\",IF(ISERROR(VLOOKUP(A1807,Articoli!$1:$48422,2,FALSE)),\"Codice Errato\",VLOOKUP(A1807,Articoli!$1:$48422,2,FALSE)))","v":""},null,0,"        ","        ;",0,"      ","      ",""]
[null,{"$f":"IF(A1808=\"\",\"\",IF(ISERROR(VLOOKUP(A1808,Articoli!$1:$48422,2,FALSE)),\"Codice Errato\",VLOOKUP(A1808,Articoli!$1:$48422,2,FALSE)))","v":""},null,0,"        ","        ;",0,"      ","      ",""]
[null,{"$f":"IF(A1809=\"\",\"\",IF(ISERROR(VLOOKUP(A1809,Articoli!$1:$48422,2,FALSE)),\"Codice Errato\",VLOOKUP(A1809,Articoli!$1:$48422,2,FALSE)))","v":""},null,0,"        ","        ;",0,"      ","      ",""]
[null,{"$f":"IF(A1810=\"\",\"\",IF(ISERROR(VLOOKUP(A1810,Articoli!$1:$48422,2,FALSE)),\"Codice Errato\",VLOOKUP(A1810,Articoli!$1:$48422,2,FALSE)))","v":""},null,0,"        ","        ;",0,"      ","      ",""]
[null,{"$f":"IF(A1811=\"\",\"\",IF(ISERROR(VLOOKUP(A1811,Articoli!$1:$48422,2,FALSE)),\"Codice Errato\",VLOOKUP(A1811,Articoli!$1:$48422,2,FALSE)))","v":""},null,0,"        ","        ;",0,"      ","      ",""]
[null,{"$f":"IF(A1812=\"\",\"\",IF(ISERROR(VLOOKUP(A1812,Articoli!$1:$48422,2,FALSE)),\"Codice Errato\",VLOOKUP(A1812,Articoli!$1:$48422,2,FALSE)))","v":""},null,0,"        ","        ;",0,"      ","      ",""]
[null,{"$f":"IF(A1813=\"\",\"\",IF(ISERROR(VLOOKUP(A1813,Articoli!$1:$48422,2,FALSE)),\"Codice Errato\",VLOOKUP(A1813,Articoli!$1:$48422,2,FALSE)))","v":""},null,0,"        ","        ;",0,"      ","      ",""]
[null,{"$f":"IF(A1814=\"\",\"\",IF(ISERROR(VLOOKUP(A1814,Articoli!$1:$48422,2,FALSE)),\"Codice Errato\",VLOOKUP(A1814,Articoli!$1:$48422,2,FALSE)))","v":""},null,0,"        ","        ;",0,"      ","      ",""]
[null,{"$f":"IF(A1815=\"\",\"\",IF(ISERROR(VLOOKUP(A1815,Articoli!$1:$48422,2,FALSE)),\"Codice Errato\",VLOOKUP(A1815,Articoli!$1:$48422,2,FALSE)))","v":""},null,0,"        ","        ;",0,"      ","      ",""]
[null,{"$f":"IF(A1816=\"\",\"\",IF(ISERROR(VLOOKUP(A1816,Articoli!$1:$48422,2,FALSE)),\"Codice Errato\",VLOOKUP(A1816,Articoli!$1:$48422,2,FALSE)))","v":""},null,0,"        ","        ;",0,"      ","      ",""]
[null,{"$f":"IF(A1817=\"\",\"\",IF(ISERROR(VLOOKUP(A1817,Articoli!$1:$48422,2,FALSE)),\"Codice Errato\",VLOOKUP(A1817,Articoli!$1:$48422,2,FALSE)))","v":""},null,0,"        ","        ;",0,"      ","      ",""]
[null,{"$f":"IF(A1818=\"\",\"\",IF(ISERROR(VLOOKUP(A1818,Articoli!$1:$48422,2,FALSE)),\"Codice Errato\",VLOOKUP(A1818,Articoli!$1:$48422,2,FALSE)))","v":""},null,0,"        ","        ;",0,"      ","      ",""]
[null,{"$f":"IF(A1819=\"\",\"\",IF(ISERROR(VLOOKUP(A1819,Articoli!$1:$48422,2,FALSE)),\"Codice Errato\",VLOOKUP(A1819,Articoli!$1:$48422,2,FALSE)))","v":""},null,0,"        ","        ;",0,"      ","      ",""]
[null,{"$f":"IF(A1820=\"\",\"\",IF(ISERROR(VLOOKUP(A1820,Articoli!$1:$48422,2,FALSE)),\"Codice Errato\",VLOOKUP(A1820,Articoli!$1:$48422,2,FALSE)))","v":""},null,0,"        ","        ;",0,"      ","      ",""]
[null,{"$f":"IF(A1821=\"\",\"\",IF(ISERROR(VLOOKUP(A1821,Articoli!$1:$48422,2,FALSE)),\"Codice Errato\",VLOOKUP(A1821,Articoli!$1:$48422,2,FALSE)))","v":""},null,0,"        ","        ;",0,"      ","      ",""]
[null,{"$f":"IF(A1822=\"\",\"\",IF(ISERROR(VLOOKUP(A1822,Articoli!$1:$48422,2,FALSE)),\"Codice Errato\",VLOOKUP(A1822,Articoli!$1:$48422,2,FALSE)))","v":""},null,0,"        ","        ;",0,"      ","      ",""]
[null,{"$f":"IF(A1823=\"\",\"\",IF(ISERROR(VLOOKUP(A1823,Articoli!$1:$48422,2,FALSE)),\"Codice Errato\",VLOOKUP(A1823,Articoli!$1:$48422,2,FALSE)))","v":""},null,0,"        ","        ;",0,"      ","      ",""]
[null,{"$f":"IF(A1824=\"\",\"\",IF(ISERROR(VLOOKUP(A1824,Articoli!$1:$48422,2,FALSE)),\"Codice Errato\",VLOOKUP(A1824,Articoli!$1:$48422,2,FALSE)))","v":""},null,0,"        ","        ;",0,"      ","      ",{"$f":"IF(C1824=\"\",\"\",CONCATENATE(F1824,I1824))","v":""}]
[null,{"$f":"IF(A1825=\"\",\"\",IF(ISERROR(VLOOKUP(A1825,Articoli!$1:$48422,2,FALSE)),\"Codice Errato\",VLOOKUP(A1825,Articoli!$1:$48422,2,FALSE)))","v":""},null,0,"        ","        ;",0,"      ","      ",""]
[null,{"$f":"IF(A1826=\"\",\"\",IF(ISERROR(VLOOKUP(A1826,Articoli!$1:$48422,2,FALSE)),\"Codice Errato\",VLOOKUP(A1826,Articoli!$1:$48422,2,FALSE)))","v":""},null,0,"        ","        ;",0,"      ","      ",""]
[null,{"$f":"IF(A1827=\"\",\"\",IF(ISERROR(VLOOKUP(A1827,Articoli!$1:$48422,2,FALSE)),\"Codice Errato\",VLOOKUP(A1827,Articoli!$1:$48422,2,FALSE)))","v":""},null,0,"        ","        ;",0,"      ","      ",""]
[null,{"$f":"IF(A1828=\"\",\"\",IF(ISERROR(VLOOKUP(A1828,Articoli!$1:$48422,2,FALSE)),\"Codice Errato\",VLOOKUP(A1828,Articoli!$1:$48422,2,FALSE)))","v":""},null,0,"        ","        ;",0,"      ","      ",""]
[null,{"$f":"IF(A1829=\"\",\"\",IF(ISERROR(VLOOKUP(A1829,Articoli!$1:$48422,2,FALSE)),\"Codice Errato\",VLOOKUP(A1829,Articoli!$1:$48422,2,FALSE)))","v":""},null,0,"        ","        ;",0,"      ","      ",""]
[null,{"$f":"IF(A1830=\"\",\"\",IF(ISERROR(VLOOKUP(A1830,Articoli!$1:$48422,2,FALSE)),\"Codice Errato\",VLOOKUP(A1830,Articoli!$1:$48422,2,FALSE)))","v":""},null,0,"        ","        ;",0,"      ","      ",""]
[null,{"$f":"IF(A1831=\"\",\"\",IF(ISERROR(VLOOKUP(A1831,Articoli!$1:$48422,2,FALSE)),\"Codice Errato\",VLOOKUP(A1831,Articoli!$1:$48422,2,FALSE)))","v":""},null,0,"        ","        ;",0,"      ","      ",""]
[null,{"$f":"IF(A1832=\"\",\"\",IF(ISERROR(VLOOKUP(A1832,Articoli!$1:$48422,2,FALSE)),\"Codice Errato\",VLOOKUP(A1832,Articoli!$1:$48422,2,FALSE)))","v":""},null,0,"        ","        ;",0,"      ","      ",""]
[null,{"$f":"IF(A1833=\"\",\"\",IF(ISERROR(VLOOKUP(A1833,Articoli!$1:$48422,2,FALSE)),\"Codice Errato\",VLOOKUP(A1833,Articoli!$1:$48422,2,FALSE)))","v":""},null,0,"        ","        ;",0,"      ","      ",""]
[null,{"$f":"IF(A1834=\"\",\"\",IF(ISERROR(VLOOKUP(A1834,Articoli!$1:$48422,2,FALSE)),\"Codice Errato\",VLOOKUP(A1834,Articoli!$1:$48422,2,FALSE)))","v":""},null,0,"        ","        ;",0,"      ","      ",""]
[null,{"$f":"IF(A1835=\"\",\"\",IF(ISERROR(VLOOKUP(A1835,Articoli!$1:$48422,2,FALSE)),\"Codice Errato\",VLOOKUP(A1835,Articoli!$1:$48422,2,FALSE)))","v":""},null,0,"        ","        ;",0,"      ","      ",""]
[null,{"$f":"IF(A1836=\"\",\"\",IF(ISERROR(VLOOKUP(A1836,Articoli!$1:$48422,2,FALSE)),\"Codice Errato\",VLOOKUP(A1836,Articoli!$1:$48422,2,FALSE)))","v":""},null,0,"        ","        ;",0,"      ","      ",""]
[null,{"$f":"IF(A1837=\"\",\"\",IF(ISERROR(VLOOKUP(A1837,Articoli!$1:$48422,2,FALSE)),\"Codice Errato\",VLOOKUP(A1837,Articoli!$1:$48422,2,FALSE)))","v":""},null,0,"        ","        ;",0,"      ","      ",""]
[null,{"$f":"IF(A1838=\"\",\"\",IF(ISERROR(VLOOKUP(A1838,Articoli!$1:$48422,2,FALSE)),\"Codice Errato\",VLOOKUP(A1838,Articoli!$1:$48422,2,FALSE)))","v":""},null,0,"        ","        ;",0,"      ","      ",""]
[null,{"$f":"IF(A1839=\"\",\"\",IF(ISERROR(VLOOKUP(A1839,Articoli!$1:$48422,2,FALSE)),\"Codice Errato\",VLOOKUP(A1839,Articoli!$1:$48422,2,FALSE)))","v":""},null,0,"        ","        ;",0,"      ","      ",""]
[null,{"$f":"IF(A1840=\"\",\"\",IF(ISERROR(VLOOKUP(A1840,Articoli!$1:$48422,2,FALSE)),\"Codice Errato\",VLOOKUP(A1840,Articoli!$1:$48422,2,FALSE)))","v":""},null,0,"        ","        ;",0,"      ","      ",""]
[null,{"$f":"IF(A1841=\"\",\"\",IF(ISERROR(VLOOKUP(A1841,Articoli!$1:$48422,2,FALSE)),\"Codice Errato\",VLOOKUP(A1841,Articoli!$1:$48422,2,FALSE)))","v":""},null,0,"        ","        ;",0,"      ","      ",""]
[null,{"$f":"IF(A1842=\"\",\"\",IF(ISERROR(VLOOKUP(A1842,Articoli!$1:$48422,2,FALSE)),\"Codice Errato\",VLOOKUP(A1842,Articoli!$1:$48422,2,FALSE)))","v":""},null,{"$f":"LEN(A1842)","v":0},{"$f":"REPT(\" \",8-D1842)","v":"        "},{"$f":"CONCATENATE(A1842,E1842,\";\",)","v":"        ;"},{"$f":"LEN(C1842)","v":0},{"$f":"REPT(\" \",6-G1842)","v":"      "},{"$f":"CONCATENATE(H1842,C1842,)","v":"      "},""]
[null,{"$f":"IF(A1843=\"\",\"\",IF(ISERROR(VLOOKUP(A1843,Articoli!$1:$48422,2,FALSE)),\"Codice Errato\",VLOOKUP(A1843,Articoli!$1:$48422,2,FALSE)))","v":""},null,0,"        ","        ;",0,"      ","      ",""]
[null,{"$f":"IF(A1844=\"\",\"\",IF(ISERROR(VLOOKUP(A1844,Articoli!$1:$48422,2,FALSE)),\"Codice Errato\",VLOOKUP(A1844,Articoli!$1:$48422,2,FALSE)))","v":""},null,0,"        ","        ;",0,"      ","      ",""]
[null,{"$f":"IF(A1845=\"\",\"\",IF(ISERROR(VLOOKUP(A1845,Articoli!$1:$48422,2,FALSE)),\"Codice Errato\",VLOOKUP(A1845,Articoli!$1:$48422,2,FALSE)))","v":""},null,0,"        ","        ;",0,"      ","      ",""]
[null,{"$f":"IF(A1846=\"\",\"\",IF(ISERROR(VLOOKUP(A1846,Articoli!$1:$48422,2,FALSE)),\"Codice Errato\",VLOOKUP(A1846,Articoli!$1:$48422,2,FALSE)))","v":""},null,0,"        ","        ;",0,"      ","      ",""]
[null,{"$f":"IF(A1847=\"\",\"\",IF(ISERROR(VLOOKUP(A1847,Articoli!$1:$48422,2,FALSE)),\"Codice Errato\",VLOOKUP(A1847,Articoli!$1:$48422,2,FALSE)))","v":""},null,0,"        ","        ;",0,"      ","      ",""]
[null,{"$f":"IF(A1848=\"\",\"\",IF(ISERROR(VLOOKUP(A1848,Articoli!$1:$48422,2,FALSE)),\"Codice Errato\",VLOOKUP(A1848,Articoli!$1:$48422,2,FALSE)))","v":""},null,0,"        ","        ;",0,"      ","      ",""]
[null,{"$f":"IF(A1849=\"\",\"\",IF(ISERROR(VLOOKUP(A1849,Articoli!$1:$48422,2,FALSE)),\"Codice Errato\",VLOOKUP(A1849,Articoli!$1:$48422,2,FALSE)))","v":""},null,0,"        ","        ;",0,"      ","      ",""]
[null,{"$f":"IF(A1850=\"\",\"\",IF(ISERROR(VLOOKUP(A1850,Articoli!$1:$48422,2,FALSE)),\"Codice Errato\",VLOOKUP(A1850,Articoli!$1:$48422,2,FALSE)))","v":""},null,0,"        ","        ;",0,"      ","      ",""]
[null,{"$f":"IF(A1851=\"\",\"\",IF(ISERROR(VLOOKUP(A1851,Articoli!$1:$48422,2,FALSE)),\"Codice Errato\",VLOOKUP(A1851,Articoli!$1:$48422,2,FALSE)))","v":""},null,0,"        ","        ;",0,"      ","      ",""]
[null,{"$f":"IF(A1852=\"\",\"\",IF(ISERROR(VLOOKUP(A1852,Articoli!$1:$48422,2,FALSE)),\"Codice Errato\",VLOOKUP(A1852,Articoli!$1:$48422,2,FALSE)))","v":""},null,0,"        ","        ;",0,"      ","      ",""]
[null,{"$f":"IF(A1853=\"\",\"\",IF(ISERROR(VLOOKUP(A1853,Articoli!$1:$48422,2,FALSE)),\"Codice Errato\",VLOOKUP(A1853,Articoli!$1:$48422,2,FALSE)))","v":""},null,0,"        ","        ;",0,"      ","      ",""]
[null,{"$f":"IF(A1854=\"\",\"\",IF(ISERROR(VLOOKUP(A1854,Articoli!$1:$48422,2,FALSE)),\"Codice Errato\",VLOOKUP(A1854,Articoli!$1:$48422,2,FALSE)))","v":""},null,0,"        ","        ;",0,"      ","      ",""]
[null,{"$f":"IF(A1855=\"\",\"\",IF(ISERROR(VLOOKUP(A1855,Articoli!$1:$48422,2,FALSE)),\"Codice Errato\",VLOOKUP(A1855,Articoli!$1:$48422,2,FALSE)))","v":""},null,0,"        ","        ;",0,"      ","      ",""]
[null,{"$f":"IF(A1856=\"\",\"\",IF(ISERROR(VLOOKUP(A1856,Articoli!$1:$48422,2,FALSE)),\"Codice Errato\",VLOOKUP(A1856,Articoli!$1:$48422,2,FALSE)))","v":""},null,0,"        ","        ;",0,"      ","      ",""]
[null,{"$f":"IF(A1857=\"\",\"\",IF(ISERROR(VLOOKUP(A1857,Articoli!$1:$48422,2,FALSE)),\"Codice Errato\",VLOOKUP(A1857,Articoli!$1:$48422,2,FALSE)))","v":""},null,0,"        ","        ;",0,"      ","      ",""]
[null,{"$f":"IF(A1858=\"\",\"\",IF(ISERROR(VLOOKUP(A1858,Articoli!$1:$48422,2,FALSE)),\"Codice Errato\",VLOOKUP(A1858,Articoli!$1:$48422,2,FALSE)))","v":""},null,0,"        ","        ;",0,"      ","      ",""]
[null,{"$f":"IF(A1859=\"\",\"\",IF(ISERROR(VLOOKUP(A1859,Articoli!$1:$48422,2,FALSE)),\"Codice Errato\",VLOOKUP(A1859,Articoli!$1:$48422,2,FALSE)))","v":""},null,0,"        ","        ;",0,"      ","      ",""]
[null,{"$f":"IF(A1860=\"\",\"\",IF(ISERROR(VLOOKUP(A1860,Articoli!$1:$48422,2,FALSE)),\"Codice Errato\",VLOOKUP(A1860,Articoli!$1:$48422,2,FALSE)))","v":""},null,0,"        ","        ;",0,"      ","      ",""]
[null,{"$f":"IF(A1861=\"\",\"\",IF(ISERROR(VLOOKUP(A1861,Articoli!$1:$48422,2,FALSE)),\"Codice Errato\",VLOOKUP(A1861,Articoli!$1:$48422,2,FALSE)))","v":""},null,0,"        ","        ;",0,"      ","      ",""]
[null,{"$f":"IF(A1862=\"\",\"\",IF(ISERROR(VLOOKUP(A1862,Articoli!$1:$48422,2,FALSE)),\"Codice Errato\",VLOOKUP(A1862,Articoli!$1:$48422,2,FALSE)))","v":""},null,0,"        ","        ;",0,"      ","      ",""]
[null,{"$f":"IF(A1863=\"\",\"\",IF(ISERROR(VLOOKUP(A1863,Articoli!$1:$48422,2,FALSE)),\"Codice Errato\",VLOOKUP(A1863,Articoli!$1:$48422,2,FALSE)))","v":""},null,0,"        ","        ;",0,"      ","      ",""]
[null,{"$f":"IF(A1864=\"\",\"\",IF(ISERROR(VLOOKUP(A1864,Articoli!$1:$48422,2,FALSE)),\"Codice Errato\",VLOOKUP(A1864,Articoli!$1:$48422,2,FALSE)))","v":""},null,0,"        ","        ;",0,"      ","      ",""]
[null,{"$f":"IF(A1865=\"\",\"\",IF(ISERROR(VLOOKUP(A1865,Articoli!$1:$48422,2,FALSE)),\"Codice Errato\",VLOOKUP(A1865,Articoli!$1:$48422,2,FALSE)))","v":""},null,0,"        ","        ;",0,"      ","      ",""]
[null,{"$f":"IF(A1866=\"\",\"\",IF(ISERROR(VLOOKUP(A1866,Articoli!$1:$48422,2,FALSE)),\"Codice Errato\",VLOOKUP(A1866,Articoli!$1:$48422,2,FALSE)))","v":""},null,0,"        ","        ;",0,"      ","      ",""]
[null,{"$f":"IF(A1867=\"\",\"\",IF(ISERROR(VLOOKUP(A1867,Articoli!$1:$48422,2,FALSE)),\"Codice Errato\",VLOOKUP(A1867,Articoli!$1:$48422,2,FALSE)))","v":""},null,0,"        ","        ;",0,"      ","      ",""]
[null,{"$f":"IF(A1868=\"\",\"\",IF(ISERROR(VLOOKUP(A1868,Articoli!$1:$48422,2,FALSE)),\"Codice Errato\",VLOOKUP(A1868,Articoli!$1:$48422,2,FALSE)))","v":""},null,0,"        ","        ;",0,"      ","      ",""]
[null,{"$f":"IF(A1869=\"\",\"\",IF(ISERROR(VLOOKUP(A1869,Articoli!$1:$48422,2,FALSE)),\"Codice Errato\",VLOOKUP(A1869,Articoli!$1:$48422,2,FALSE)))","v":""},null,0,"        ","        ;",0,"      ","      ",""]
[null,{"$f":"IF(A1870=\"\",\"\",IF(ISERROR(VLOOKUP(A1870,Articoli!$1:$48422,2,FALSE)),\"Codice Errato\",VLOOKUP(A1870,Articoli!$1:$48422,2,FALSE)))","v":""},null,0,"        ","        ;",0,"      ","      ",""]
[null,{"$f":"IF(A1871=\"\",\"\",IF(ISERROR(VLOOKUP(A1871,Articoli!$1:$48422,2,FALSE)),\"Codice Errato\",VLOOKUP(A1871,Articoli!$1:$48422,2,FALSE)))","v":""},null,0,"        ","        ;",0,"      ","      ",""]
[null,{"$f":"IF(A1872=\"\",\"\",IF(ISERROR(VLOOKUP(A1872,Articoli!$1:$48422,2,FALSE)),\"Codice Errato\",VLOOKUP(A1872,Articoli!$1:$48422,2,FALSE)))","v":""},null,0,"        ","        ;",0,"      ","      ",""]
[null,{"$f":"IF(A1873=\"\",\"\",IF(ISERROR(VLOOKUP(A1873,Articoli!$1:$48422,2,FALSE)),\"Codice Errato\",VLOOKUP(A1873,Articoli!$1:$48422,2,FALSE)))","v":""},null,0,"        ","        ;",0,"      ","      ",""]
[null,{"$f":"IF(A1874=\"\",\"\",IF(ISERROR(VLOOKUP(A1874,Articoli!$1:$48422,2,FALSE)),\"Codice Errato\",VLOOKUP(A1874,Articoli!$1:$48422,2,FALSE)))","v":""},null,0,"        ","        ;",0,"      ","      ",""]
[null,{"$f":"IF(A1875=\"\",\"\",IF(ISERROR(VLOOKUP(A1875,Articoli!$1:$48422,2,FALSE)),\"Codice Errato\",VLOOKUP(A1875,Articoli!$1:$48422,2,FALSE)))","v":""},null,0,"        ","        ;",0,"      ","      ",""]
[null,{"$f":"IF(A1876=\"\",\"\",IF(ISERROR(VLOOKUP(A1876,Articoli!$1:$48422,2,FALSE)),\"Codice Errato\",VLOOKUP(A1876,Articoli!$1:$48422,2,FALSE)))","v":""},null,0,"        ","        ;",0,"      ","      ",""]
[null,{"$f":"IF(A1877=\"\",\"\",IF(ISERROR(VLOOKUP(A1877,Articoli!$1:$48422,2,FALSE)),\"Codice Errato\",VLOOKUP(A1877,Articoli!$1:$48422,2,FALSE)))","v":""},null,0,"        ","        ;",0,"      ","      ",""]
[null,{"$f":"IF(A1878=\"\",\"\",IF(ISERROR(VLOOKUP(A1878,Articoli!$1:$48422,2,FALSE)),\"Codice Errato\",VLOOKUP(A1878,Articoli!$1:$48422,2,FALSE)))","v":""},null,0,"        ","        ;",0,"      ","      ",""]
[null,{"$f":"IF(A1879=\"\",\"\",IF(ISERROR(VLOOKUP(A1879,Articoli!$1:$48422,2,FALSE)),\"Codice Errato\",VLOOKUP(A1879,Articoli!$1:$48422,2,FALSE)))","v":""},null,0,"        ","        ;",0,"      ","      ",""]
[null,{"$f":"IF(A1880=\"\",\"\",IF(ISERROR(VLOOKUP(A1880,Articoli!$1:$48422,2,FALSE)),\"Codice Errato\",VLOOKUP(A1880,Articoli!$1:$48422,2,FALSE)))","v":""},null,0,"        ","        ;",0,"      ","      ",""]
[null,{"$f":"IF(A1881=\"\",\"\",IF(ISERROR(VLOOKUP(A1881,Articoli!$1:$48422,2,FALSE)),\"Codice Errato\",VLOOKUP(A1881,Articoli!$1:$48422,2,FALSE)))","v":""},null,0,"        ","        ;",0,"      ","      ",""]
[null,{"$f":"IF(A1882=\"\",\"\",IF(ISERROR(VLOOKUP(A1882,Articoli!$1:$48422,2,FALSE)),\"Codice Errato\",VLOOKUP(A1882,Articoli!$1:$48422,2,FALSE)))","v":""},null,0,"        ","        ;",0,"      ","      ",""]
[null,{"$f":"IF(A1883=\"\",\"\",IF(ISERROR(VLOOKUP(A1883,Articoli!$1:$48422,2,FALSE)),\"Codice Errato\",VLOOKUP(A1883,Articoli!$1:$48422,2,FALSE)))","v":""},null,0,"        ","        ;",0,"      ","      ",""]
[null,{"$f":"IF(A1884=\"\",\"\",IF(ISERROR(VLOOKUP(A1884,Articoli!$1:$48422,2,FALSE)),\"Codice Errato\",VLOOKUP(A1884,Articoli!$1:$48422,2,FALSE)))","v":""},null,0,"        ","        ;",0,"      ","      ",""]
[null,{"$f":"IF(A1885=\"\",\"\",IF(ISERROR(VLOOKUP(A1885,Articoli!$1:$48422,2,FALSE)),\"Codice Errato\",VLOOKUP(A1885,Articoli!$1:$48422,2,FALSE)))","v":""},null,0,"        ","        ;",0,"      ","      ",""]
[null,{"$f":"IF(A1886=\"\",\"\",IF(ISERROR(VLOOKUP(A1886,Articoli!$1:$48422,2,FALSE)),\"Codice Errato\",VLOOKUP(A1886,Articoli!$1:$48422,2,FALSE)))","v":""},null,0,"        ","        ;",0,"      ","      ",""]
[null,{"$f":"IF(A1887=\"\",\"\",IF(ISERROR(VLOOKUP(A1887,Articoli!$1:$48422,2,FALSE)),\"Codice Errato\",VLOOKUP(A1887,Articoli!$1:$48422,2,FALSE)))","v":""},null,0,"        ","        ;",0,"      ","      ",""]
[null,{"$f":"IF(A1888=\"\",\"\",IF(ISERROR(VLOOKUP(A1888,Articoli!$1:$48422,2,FALSE)),\"Codice Errato\",VLOOKUP(A1888,Articoli!$1:$48422,2,FALSE)))","v":""},null,0,"        ","        ;",0,"      ","      ",{"$f":"IF(C1888=\"\",\"\",CONCATENATE(F1888,I1888))","v":""}]
[null,{"$f":"IF(A1889=\"\",\"\",IF(ISERROR(VLOOKUP(A1889,Articoli!$1:$48422,2,FALSE)),\"Codice Errato\",VLOOKUP(A1889,Articoli!$1:$48422,2,FALSE)))","v":""},null,0,"        ","        ;",0,"      ","      ",""]
[null,{"$f":"IF(A1890=\"\",\"\",IF(ISERROR(VLOOKUP(A1890,Articoli!$1:$48422,2,FALSE)),\"Codice Errato\",VLOOKUP(A1890,Articoli!$1:$48422,2,FALSE)))","v":""},null,0,"        ","        ;",0,"      ","      ",""]
[null,{"$f":"IF(A1891=\"\",\"\",IF(ISERROR(VLOOKUP(A1891,Articoli!$1:$48422,2,FALSE)),\"Codice Errato\",VLOOKUP(A1891,Articoli!$1:$48422,2,FALSE)))","v":""},null,0,"        ","        ;",0,"      ","      ",""]
[null,{"$f":"IF(A1892=\"\",\"\",IF(ISERROR(VLOOKUP(A1892,Articoli!$1:$48422,2,FALSE)),\"Codice Errato\",VLOOKUP(A1892,Articoli!$1:$48422,2,FALSE)))","v":""},null,0,"        ","        ;",0,"      ","      ",""]
[null,{"$f":"IF(A1893=\"\",\"\",IF(ISERROR(VLOOKUP(A1893,Articoli!$1:$48422,2,FALSE)),\"Codice Errato\",VLOOKUP(A1893,Articoli!$1:$48422,2,FALSE)))","v":""},null,0,"        ","        ;",0,"      ","      ",""]
[null,{"$f":"IF(A1894=\"\",\"\",IF(ISERROR(VLOOKUP(A1894,Articoli!$1:$48422,2,FALSE)),\"Codice Errato\",VLOOKUP(A1894,Articoli!$1:$48422,2,FALSE)))","v":""},null,0,"        ","        ;",0,"      ","      ",""]
[null,{"$f":"IF(A1895=\"\",\"\",IF(ISERROR(VLOOKUP(A1895,Articoli!$1:$48422,2,FALSE)),\"Codice Errato\",VLOOKUP(A1895,Articoli!$1:$48422,2,FALSE)))","v":""},null,0,"        ","        ;",0,"      ","      ",""]
[null,{"$f":"IF(A1896=\"\",\"\",IF(ISERROR(VLOOKUP(A1896,Articoli!$1:$48422,2,FALSE)),\"Codice Errato\",VLOOKUP(A1896,Articoli!$1:$48422,2,FALSE)))","v":""},null,0,"        ","        ;",0,"      ","      ",""]
[null,{"$f":"IF(A1897=\"\",\"\",IF(ISERROR(VLOOKUP(A1897,Articoli!$1:$48422,2,FALSE)),\"Codice Errato\",VLOOKUP(A1897,Articoli!$1:$48422,2,FALSE)))","v":""},null,0,"        ","        ;",0,"      ","      ",""]
[null,{"$f":"IF(A1898=\"\",\"\",IF(ISERROR(VLOOKUP(A1898,Articoli!$1:$48422,2,FALSE)),\"Codice Errato\",VLOOKUP(A1898,Articoli!$1:$48422,2,FALSE)))","v":""},null,0,"        ","        ;",0,"      ","      ",""]
[null,{"$f":"IF(A1899=\"\",\"\",IF(ISERROR(VLOOKUP(A1899,Articoli!$1:$48422,2,FALSE)),\"Codice Errato\",VLOOKUP(A1899,Articoli!$1:$48422,2,FALSE)))","v":""},null,0,"        ","        ;",0,"      ","      ",""]
[null,{"$f":"IF(A1900=\"\",\"\",IF(ISERROR(VLOOKUP(A1900,Articoli!$1:$48422,2,FALSE)),\"Codice Errato\",VLOOKUP(A1900,Articoli!$1:$48422,2,FALSE)))","v":""},null,0,"        ","        ;",0,"      ","      ",""]
[null,{"$f":"IF(A1901=\"\",\"\",IF(ISERROR(VLOOKUP(A1901,Articoli!$1:$48422,2,FALSE)),\"Codice Errato\",VLOOKUP(A1901,Articoli!$1:$48422,2,FALSE)))","v":""},null,0,"        ","        ;",0,"      ","      ",""]
[null,{"$f":"IF(A1902=\"\",\"\",IF(ISERROR(VLOOKUP(A1902,Articoli!$1:$48422,2,FALSE)),\"Codice Errato\",VLOOKUP(A1902,Articoli!$1:$48422,2,FALSE)))","v":""},null,0,"        ","        ;",0,"      ","      ",""]
[null,{"$f":"IF(A1903=\"\",\"\",IF(ISERROR(VLOOKUP(A1903,Articoli!$1:$48422,2,FALSE)),\"Codice Errato\",VLOOKUP(A1903,Articoli!$1:$48422,2,FALSE)))","v":""},null,0,"        ","        ;",0,"      ","      ",""]
[null,{"$f":"IF(A1904=\"\",\"\",IF(ISERROR(VLOOKUP(A1904,Articoli!$1:$48422,2,FALSE)),\"Codice Errato\",VLOOKUP(A1904,Articoli!$1:$48422,2,FALSE)))","v":""},null,0,"        ","        ;",0,"      ","      ",""]
[null,{"$f":"IF(A1905=\"\",\"\",IF(ISERROR(VLOOKUP(A1905,Articoli!$1:$48422,2,FALSE)),\"Codice Errato\",VLOOKUP(A1905,Articoli!$1:$48422,2,FALSE)))","v":""},null,0,"        ","        ;",0,"      ","      ",""]
[null,{"$f":"IF(A1906=\"\",\"\",IF(ISERROR(VLOOKUP(A1906,Articoli!$1:$48422,2,FALSE)),\"Codice Errato\",VLOOKUP(A1906,Articoli!$1:$48422,2,FALSE)))","v":""},null,{"$f":"LEN(A1906)","v":0},{"$f":"REPT(\" \",8-D1906)","v":"        "},{"$f":"CONCATENATE(A1906,E1906,\";\",)","v":"        ;"},{"$f":"LEN(C1906)","v":0},{"$f":"REPT(\" \",6-G1906)","v":"      "},{"$f":"CONCATENATE(H1906,C1906,)","v":"      "},""]
[null,{"$f":"IF(A1907=\"\",\"\",IF(ISERROR(VLOOKUP(A1907,Articoli!$1:$48422,2,FALSE)),\"Codice Errato\",VLOOKUP(A1907,Articoli!$1:$48422,2,FALSE)))","v":""},null,0,"        ","        ;",0,"      ","      ",""]
[null,{"$f":"IF(A1908=\"\",\"\",IF(ISERROR(VLOOKUP(A1908,Articoli!$1:$48422,2,FALSE)),\"Codice Errato\",VLOOKUP(A1908,Articoli!$1:$48422,2,FALSE)))","v":""},null,0,"        ","        ;",0,"      ","      ",""]
[null,{"$f":"IF(A1909=\"\",\"\",IF(ISERROR(VLOOKUP(A1909,Articoli!$1:$48422,2,FALSE)),\"Codice Errato\",VLOOKUP(A1909,Articoli!$1:$48422,2,FALSE)))","v":""},null,0,"        ","        ;",0,"      ","      ",""]
[null,{"$f":"IF(A1910=\"\",\"\",IF(ISERROR(VLOOKUP(A1910,Articoli!$1:$48422,2,FALSE)),\"Codice Errato\",VLOOKUP(A1910,Articoli!$1:$48422,2,FALSE)))","v":""},null,0,"        ","        ;",0,"      ","      ",""]
[null,{"$f":"IF(A1911=\"\",\"\",IF(ISERROR(VLOOKUP(A1911,Articoli!$1:$48422,2,FALSE)),\"Codice Errato\",VLOOKUP(A1911,Articoli!$1:$48422,2,FALSE)))","v":""},null,0,"        ","        ;",0,"      ","      ",""]
[null,{"$f":"IF(A1912=\"\",\"\",IF(ISERROR(VLOOKUP(A1912,Articoli!$1:$48422,2,FALSE)),\"Codice Errato\",VLOOKUP(A1912,Articoli!$1:$48422,2,FALSE)))","v":""},null,0,"        ","        ;",0,"      ","      ",""]
[null,{"$f":"IF(A1913=\"\",\"\",IF(ISERROR(VLOOKUP(A1913,Articoli!$1:$48422,2,FALSE)),\"Codice Errato\",VLOOKUP(A1913,Articoli!$1:$48422,2,FALSE)))","v":""},null,0,"        ","        ;",0,"      ","      ",""]
[null,{"$f":"IF(A1914=\"\",\"\",IF(ISERROR(VLOOKUP(A1914,Articoli!$1:$48422,2,FALSE)),\"Codice Errato\",VLOOKUP(A1914,Articoli!$1:$48422,2,FALSE)))","v":""},null,0,"        ","        ;",0,"      ","      ",""]
[null,{"$f":"IF(A1915=\"\",\"\",IF(ISERROR(VLOOKUP(A1915,Articoli!$1:$48422,2,FALSE)),\"Codice Errato\",VLOOKUP(A1915,Articoli!$1:$48422,2,FALSE)))","v":""},null,0,"        ","        ;",0,"      ","      ",""]
[null,{"$f":"IF(A1916=\"\",\"\",IF(ISERROR(VLOOKUP(A1916,Articoli!$1:$48422,2,FALSE)),\"Codice Errato\",VLOOKUP(A1916,Articoli!$1:$48422,2,FALSE)))","v":""},null,0,"        ","        ;",0,"      ","      ",""]
[null,{"$f":"IF(A1917=\"\",\"\",IF(ISERROR(VLOOKUP(A1917,Articoli!$1:$48422,2,FALSE)),\"Codice Errato\",VLOOKUP(A1917,Articoli!$1:$48422,2,FALSE)))","v":""},null,0,"        ","        ;",0,"      ","      ",""]
[null,{"$f":"IF(A1918=\"\",\"\",IF(ISERROR(VLOOKUP(A1918,Articoli!$1:$48422,2,FALSE)),\"Codice Errato\",VLOOKUP(A1918,Articoli!$1:$48422,2,FALSE)))","v":""},null,0,"        ","        ;",0,"      ","      ",""]
[null,{"$f":"IF(A1919=\"\",\"\",IF(ISERROR(VLOOKUP(A1919,Articoli!$1:$48422,2,FALSE)),\"Codice Errato\",VLOOKUP(A1919,Articoli!$1:$48422,2,FALSE)))","v":""},null,0,"        ","        ;",0,"      ","      ",""]
[null,{"$f":"IF(A1920=\"\",\"\",IF(ISERROR(VLOOKUP(A1920,Articoli!$1:$48422,2,FALSE)),\"Codice Errato\",VLOOKUP(A1920,Articoli!$1:$48422,2,FALSE)))","v":""},null,0,"        ","        ;",0,"      ","      ",""]
[null,{"$f":"IF(A1921=\"\",\"\",IF(ISERROR(VLOOKUP(A1921,Articoli!$1:$48422,2,FALSE)),\"Codice Errato\",VLOOKUP(A1921,Articoli!$1:$48422,2,FALSE)))","v":""},null,0,"        ","        ;",0,"      ","      ",""]
[null,{"$f":"IF(A1922=\"\",\"\",IF(ISERROR(VLOOKUP(A1922,Articoli!$1:$48422,2,FALSE)),\"Codice Errato\",VLOOKUP(A1922,Articoli!$1:$48422,2,FALSE)))","v":""},null,0,"        ","        ;",0,"      ","      ",""]
[null,{"$f":"IF(A1923=\"\",\"\",IF(ISERROR(VLOOKUP(A1923,Articoli!$1:$48422,2,FALSE)),\"Codice Errato\",VLOOKUP(A1923,Articoli!$1:$48422,2,FALSE)))","v":""},null,0,"        ","        ;",0,"      ","      ",""]
[null,{"$f":"IF(A1924=\"\",\"\",IF(ISERROR(VLOOKUP(A1924,Articoli!$1:$48422,2,FALSE)),\"Codice Errato\",VLOOKUP(A1924,Articoli!$1:$48422,2,FALSE)))","v":""},null,0,"        ","        ;",0,"      ","      ",""]
[null,{"$f":"IF(A1925=\"\",\"\",IF(ISERROR(VLOOKUP(A1925,Articoli!$1:$48422,2,FALSE)),\"Codice Errato\",VLOOKUP(A1925,Articoli!$1:$48422,2,FALSE)))","v":""},null,0,"        ","        ;",0,"      ","      ",""]
[null,{"$f":"IF(A1926=\"\",\"\",IF(ISERROR(VLOOKUP(A1926,Articoli!$1:$48422,2,FALSE)),\"Codice Errato\",VLOOKUP(A1926,Articoli!$1:$48422,2,FALSE)))","v":""},null,0,"        ","        ;",0,"      ","      ",""]
[null,{"$f":"IF(A1927=\"\",\"\",IF(ISERROR(VLOOKUP(A1927,Articoli!$1:$48422,2,FALSE)),\"Codice Errato\",VLOOKUP(A1927,Articoli!$1:$48422,2,FALSE)))","v":""},null,0,"        ","        ;",0,"      ","      ",""]
[null,{"$f":"IF(A1928=\"\",\"\",IF(ISERROR(VLOOKUP(A1928,Articoli!$1:$48422,2,FALSE)),\"Codice Errato\",VLOOKUP(A1928,Articoli!$1:$48422,2,FALSE)))","v":""},null,0,"        ","        ;",0,"      ","      ",""]
[null,{"$f":"IF(A1929=\"\",\"\",IF(ISERROR(VLOOKUP(A1929,Articoli!$1:$48422,2,FALSE)),\"Codice Errato\",VLOOKUP(A1929,Articoli!$1:$48422,2,FALSE)))","v":""},null,0,"        ","        ;",0,"      ","      ",""]
[null,{"$f":"IF(A1930=\"\",\"\",IF(ISERROR(VLOOKUP(A1930,Articoli!$1:$48422,2,FALSE)),\"Codice Errato\",VLOOKUP(A1930,Articoli!$1:$48422,2,FALSE)))","v":""},null,0,"        ","        ;",0,"      ","      ",""]
[null,{"$f":"IF(A1931=\"\",\"\",IF(ISERROR(VLOOKUP(A1931,Articoli!$1:$48422,2,FALSE)),\"Codice Errato\",VLOOKUP(A1931,Articoli!$1:$48422,2,FALSE)))","v":""},null,0,"        ","        ;",0,"      ","      ",""]
[null,{"$f":"IF(A1932=\"\",\"\",IF(ISERROR(VLOOKUP(A1932,Articoli!$1:$48422,2,FALSE)),\"Codice Errato\",VLOOKUP(A1932,Articoli!$1:$48422,2,FALSE)))","v":""},null,0,"        ","        ;",0,"      ","      ",""]
[null,{"$f":"IF(A1933=\"\",\"\",IF(ISERROR(VLOOKUP(A1933,Articoli!$1:$48422,2,FALSE)),\"Codice Errato\",VLOOKUP(A1933,Articoli!$1:$48422,2,FALSE)))","v":""},null,0,"        ","        ;",0,"      ","      ",""]
[null,{"$f":"IF(A1934=\"\",\"\",IF(ISERROR(VLOOKUP(A1934,Articoli!$1:$48422,2,FALSE)),\"Codice Errato\",VLOOKUP(A1934,Articoli!$1:$48422,2,FALSE)))","v":""},null,0,"        ","        ;",0,"      ","      ",""]
[null,{"$f":"IF(A1935=\"\",\"\",IF(ISERROR(VLOOKUP(A1935,Articoli!$1:$48422,2,FALSE)),\"Codice Errato\",VLOOKUP(A1935,Articoli!$1:$48422,2,FALSE)))","v":""},null,0,"        ","        ;",0,"      ","      ",""]
[null,{"$f":"IF(A1936=\"\",\"\",IF(ISERROR(VLOOKUP(A1936,Articoli!$1:$48422,2,FALSE)),\"Codice Errato\",VLOOKUP(A1936,Articoli!$1:$48422,2,FALSE)))","v":""},null,0,"        ","        ;",0,"      ","      ",""]
[null,{"$f":"IF(A1937=\"\",\"\",IF(ISERROR(VLOOKUP(A1937,Articoli!$1:$48422,2,FALSE)),\"Codice Errato\",VLOOKUP(A1937,Articoli!$1:$48422,2,FALSE)))","v":""},null,0,"        ","        ;",0,"      ","      ",""]
[null,{"$f":"IF(A1938=\"\",\"\",IF(ISERROR(VLOOKUP(A1938,Articoli!$1:$48422,2,FALSE)),\"Codice Errato\",VLOOKUP(A1938,Articoli!$1:$48422,2,FALSE)))","v":""},null,0,"        ","        ;",0,"      ","      ",""]
[null,{"$f":"IF(A1939=\"\",\"\",IF(ISERROR(VLOOKUP(A1939,Articoli!$1:$48422,2,FALSE)),\"Codice Errato\",VLOOKUP(A1939,Articoli!$1:$48422,2,FALSE)))","v":""},null,0,"        ","        ;",0,"      ","      ",""]
[null,{"$f":"IF(A1940=\"\",\"\",IF(ISERROR(VLOOKUP(A1940,Articoli!$1:$48422,2,FALSE)),\"Codice Errato\",VLOOKUP(A1940,Articoli!$1:$48422,2,FALSE)))","v":""},null,0,"        ","        ;",0,"      ","      ",""]
[null,{"$f":"IF(A1941=\"\",\"\",IF(ISERROR(VLOOKUP(A1941,Articoli!$1:$48422,2,FALSE)),\"Codice Errato\",VLOOKUP(A1941,Articoli!$1:$48422,2,FALSE)))","v":""},null,0,"        ","        ;",0,"      ","      ",""]
[null,{"$f":"IF(A1942=\"\",\"\",IF(ISERROR(VLOOKUP(A1942,Articoli!$1:$48422,2,FALSE)),\"Codice Errato\",VLOOKUP(A1942,Articoli!$1:$48422,2,FALSE)))","v":""},null,0,"        ","        ;",0,"      ","      ",""]
[null,{"$f":"IF(A1943=\"\",\"\",IF(ISERROR(VLOOKUP(A1943,Articoli!$1:$48422,2,FALSE)),\"Codice Errato\",VLOOKUP(A1943,Articoli!$1:$48422,2,FALSE)))","v":""},null,0,"        ","        ;",0,"      ","      ",""]
[null,{"$f":"IF(A1944=\"\",\"\",IF(ISERROR(VLOOKUP(A1944,Articoli!$1:$48422,2,FALSE)),\"Codice Errato\",VLOOKUP(A1944,Articoli!$1:$48422,2,FALSE)))","v":""},null,0,"        ","        ;",0,"      ","      ",""]
[null,{"$f":"IF(A1945=\"\",\"\",IF(ISERROR(VLOOKUP(A1945,Articoli!$1:$48422,2,FALSE)),\"Codice Errato\",VLOOKUP(A1945,Articoli!$1:$48422,2,FALSE)))","v":""},null,0,"        ","        ;",0,"      ","      ",""]
[null,{"$f":"IF(A1946=\"\",\"\",IF(ISERROR(VLOOKUP(A1946,Articoli!$1:$48422,2,FALSE)),\"Codice Errato\",VLOOKUP(A1946,Articoli!$1:$48422,2,FALSE)))","v":""},null,0,"        ","        ;",0,"      ","      ",""]
[null,{"$f":"IF(A1947=\"\",\"\",IF(ISERROR(VLOOKUP(A1947,Articoli!$1:$48422,2,FALSE)),\"Codice Errato\",VLOOKUP(A1947,Articoli!$1:$48422,2,FALSE)))","v":""},null,0,"        ","        ;",0,"      ","      ",""]
[null,{"$f":"IF(A1948=\"\",\"\",IF(ISERROR(VLOOKUP(A1948,Articoli!$1:$48422,2,FALSE)),\"Codice Errato\",VLOOKUP(A1948,Articoli!$1:$48422,2,FALSE)))","v":""},null,0,"        ","        ;",0,"      ","      ",""]
[null,{"$f":"IF(A1949=\"\",\"\",IF(ISERROR(VLOOKUP(A1949,Articoli!$1:$48422,2,FALSE)),\"Codice Errato\",VLOOKUP(A1949,Articoli!$1:$48422,2,FALSE)))","v":""},null,0,"        ","        ;",0,"      ","      ",""]
[null,{"$f":"IF(A1950=\"\",\"\",IF(ISERROR(VLOOKUP(A1950,Articoli!$1:$48422,2,FALSE)),\"Codice Errato\",VLOOKUP(A1950,Articoli!$1:$48422,2,FALSE)))","v":""},null,0,"        ","        ;",0,"      ","      ",""]
[null,{"$f":"IF(A1951=\"\",\"\",IF(ISERROR(VLOOKUP(A1951,Articoli!$1:$48422,2,FALSE)),\"Codice Errato\",VLOOKUP(A1951,Articoli!$1:$48422,2,FALSE)))","v":""},null,0,"        ","        ;",0,"      ","      ",""]
[null,{"$f":"IF(A1952=\"\",\"\",IF(ISERROR(VLOOKUP(A1952,Articoli!$1:$48422,2,FALSE)),\"Codice Errato\",VLOOKUP(A1952,Articoli!$1:$48422,2,FALSE)))","v":""},null,0,"        ","        ;",0,"      ","      ",{"$f":"IF(C1952=\"\",\"\",CONCATENATE(F1952,I1952))","v":""}]
[null,{"$f":"IF(A1953=\"\",\"\",IF(ISERROR(VLOOKUP(A1953,Articoli!$1:$48422,2,FALSE)),\"Codice Errato\",VLOOKUP(A1953,Articoli!$1:$48422,2,FALSE)))","v":""},null,0,"        ","        ;",0,"      ","      ",""]
[null,{"$f":"IF(A1954=\"\",\"\",IF(ISERROR(VLOOKUP(A1954,Articoli!$1:$48422,2,FALSE)),\"Codice Errato\",VLOOKUP(A1954,Articoli!$1:$48422,2,FALSE)))","v":""},null,0,"        ","        ;",0,"      ","      ",""]
[null,{"$f":"IF(A1955=\"\",\"\",IF(ISERROR(VLOOKUP(A1955,Articoli!$1:$48422,2,FALSE)),\"Codice Errato\",VLOOKUP(A1955,Articoli!$1:$48422,2,FALSE)))","v":""},null,0,"        ","        ;",0,"      ","      ",""]
[null,{"$f":"IF(A1956=\"\",\"\",IF(ISERROR(VLOOKUP(A1956,Articoli!$1:$48422,2,FALSE)),\"Codice Errato\",VLOOKUP(A1956,Articoli!$1:$48422,2,FALSE)))","v":""},null,0,"        ","        ;",0,"      ","      ",""]
[null,{"$f":"IF(A1957=\"\",\"\",IF(ISERROR(VLOOKUP(A1957,Articoli!$1:$48422,2,FALSE)),\"Codice Errato\",VLOOKUP(A1957,Articoli!$1:$48422,2,FALSE)))","v":""},null,0,"        ","        ;",0,"      ","      ",""]
[null,{"$f":"IF(A1958=\"\",\"\",IF(ISERROR(VLOOKUP(A1958,Articoli!$1:$48422,2,FALSE)),\"Codice Errato\",VLOOKUP(A1958,Articoli!$1:$48422,2,FALSE)))","v":""},null,0,"        ","        ;",0,"      ","      ",""]
[null,{"$f":"IF(A1959=\"\",\"\",IF(ISERROR(VLOOKUP(A1959,Articoli!$1:$48422,2,FALSE)),\"Codice Errato\",VLOOKUP(A1959,Articoli!$1:$48422,2,FALSE)))","v":""},null,0,"        ","        ;",0,"      ","      ",""]
[null,{"$f":"IF(A1960=\"\",\"\",IF(ISERROR(VLOOKUP(A1960,Articoli!$1:$48422,2,FALSE)),\"Codice Errato\",VLOOKUP(A1960,Articoli!$1:$48422,2,FALSE)))","v":""},null,0,"        ","        ;",0,"      ","      ",""]
[null,{"$f":"IF(A1961=\"\",\"\",IF(ISERROR(VLOOKUP(A1961,Articoli!$1:$48422,2,FALSE)),\"Codice Errato\",VLOOKUP(A1961,Articoli!$1:$48422,2,FALSE)))","v":""},null,0,"        ","        ;",0,"      ","      ",""]
[null,{"$f":"IF(A1962=\"\",\"\",IF(ISERROR(VLOOKUP(A1962,Articoli!$1:$48422,2,FALSE)),\"Codice Errato\",VLOOKUP(A1962,Articoli!$1:$48422,2,FALSE)))","v":""},null,0,"        ","        ;",0,"      ","      ",""]
[null,{"$f":"IF(A1963=\"\",\"\",IF(ISERROR(VLOOKUP(A1963,Articoli!$1:$48422,2,FALSE)),\"Codice Errato\",VLOOKUP(A1963,Articoli!$1:$48422,2,FALSE)))","v":""},null,0,"        ","        ;",0,"      ","      ",""]
[null,{"$f":"IF(A1964=\"\",\"\",IF(ISERROR(VLOOKUP(A1964,Articoli!$1:$48422,2,FALSE)),\"Codice Errato\",VLOOKUP(A1964,Articoli!$1:$48422,2,FALSE)))","v":""},null,0,"        ","        ;",0,"      ","      ",""]
[null,{"$f":"IF(A1965=\"\",\"\",IF(ISERROR(VLOOKUP(A1965,Articoli!$1:$48422,2,FALSE)),\"Codice Errato\",VLOOKUP(A1965,Articoli!$1:$48422,2,FALSE)))","v":""},null,0,"        ","        ;",0,"      ","      ",""]
[null,{"$f":"IF(A1966=\"\",\"\",IF(ISERROR(VLOOKUP(A1966,Articoli!$1:$48422,2,FALSE)),\"Codice Errato\",VLOOKUP(A1966,Articoli!$1:$48422,2,FALSE)))","v":""},null,0,"        ","        ;",0,"      ","      ",""]
[null,{"$f":"IF(A1967=\"\",\"\",IF(ISERROR(VLOOKUP(A1967,Articoli!$1:$48422,2,FALSE)),\"Codice Errato\",VLOOKUP(A1967,Articoli!$1:$48422,2,FALSE)))","v":""},null,0,"        ","        ;",0,"      ","      ",""]
[null,{"$f":"IF(A1968=\"\",\"\",IF(ISERROR(VLOOKUP(A1968,Articoli!$1:$48422,2,FALSE)),\"Codice Errato\",VLOOKUP(A1968,Articoli!$1:$48422,2,FALSE)))","v":""},null,0,"        ","        ;",0,"      ","      ",""]
[null,{"$f":"IF(A1969=\"\",\"\",IF(ISERROR(VLOOKUP(A1969,Articoli!$1:$48422,2,FALSE)),\"Codice Errato\",VLOOKUP(A1969,Articoli!$1:$48422,2,FALSE)))","v":""},null,0,"        ","        ;",0,"      ","      ",""]
[null,{"$f":"IF(A1970=\"\",\"\",IF(ISERROR(VLOOKUP(A1970,Articoli!$1:$48422,2,FALSE)),\"Codice Errato\",VLOOKUP(A1970,Articoli!$1:$48422,2,FALSE)))","v":""},null,{"$f":"LEN(A1970)","v":0},{"$f":"REPT(\" \",8-D1970)","v":"        "},{"$f":"CONCATENATE(A1970,E1970,\";\",)","v":"        ;"},{"$f":"LEN(C1970)","v":0},{"$f":"REPT(\" \",6-G1970)","v":"      "},{"$f":"CONCATENATE(H1970,C1970,)","v":"      "},""]
[null,{"$f":"IF(A1971=\"\",\"\",IF(ISERROR(VLOOKUP(A1971,Articoli!$1:$48422,2,FALSE)),\"Codice Errato\",VLOOKUP(A1971,Articoli!$1:$48422,2,FALSE)))","v":""},null,0,"        ","        ;",0,"      ","      ",""]
[null,{"$f":"IF(A1972=\"\",\"\",IF(ISERROR(VLOOKUP(A1972,Articoli!$1:$48422,2,FALSE)),\"Codice Errato\",VLOOKUP(A1972,Articoli!$1:$48422,2,FALSE)))","v":""},null,0,"        ","        ;",0,"      ","      ",""]
[null,{"$f":"IF(A1973=\"\",\"\",IF(ISERROR(VLOOKUP(A1973,Articoli!$1:$48422,2,FALSE)),\"Codice Errato\",VLOOKUP(A1973,Articoli!$1:$48422,2,FALSE)))","v":""},null,0,"        ","        ;",0,"      ","      ",""]
[null,{"$f":"IF(A1974=\"\",\"\",IF(ISERROR(VLOOKUP(A1974,Articoli!$1:$48422,2,FALSE)),\"Codice Errato\",VLOOKUP(A1974,Articoli!$1:$48422,2,FALSE)))","v":""},null,0,"        ","        ;",0,"      ","      ",""]
[null,{"$f":"IF(A1975=\"\",\"\",IF(ISERROR(VLOOKUP(A1975,Articoli!$1:$48422,2,FALSE)),\"Codice Errato\",VLOOKUP(A1975,Articoli!$1:$48422,2,FALSE)))","v":""},null,0,"        ","        ;",0,"      ","      ",""]
[null,{"$f":"IF(A1976=\"\",\"\",IF(ISERROR(VLOOKUP(A1976,Articoli!$1:$48422,2,FALSE)),\"Codice Errato\",VLOOKUP(A1976,Articoli!$1:$48422,2,FALSE)))","v":""},null,0,"        ","        ;",0,"      ","      ",""]
[null,{"$f":"IF(A1977=\"\",\"\",IF(ISERROR(VLOOKUP(A1977,Articoli!$1:$48422,2,FALSE)),\"Codice Errato\",VLOOKUP(A1977,Articoli!$1:$48422,2,FALSE)))","v":""},null,0,"        ","        ;",0,"      ","      ",""]
[null,{"$f":"IF(A1978=\"\",\"\",IF(ISERROR(VLOOKUP(A1978,Articoli!$1:$48422,2,FALSE)),\"Codice Errato\",VLOOKUP(A1978,Articoli!$1:$48422,2,FALSE)))","v":""},null,0,"        ","        ;",0,"      ","      ",""]
[null,{"$f":"IF(A1979=\"\",\"\",IF(ISERROR(VLOOKUP(A1979,Articoli!$1:$48422,2,FALSE)),\"Codice Errato\",VLOOKUP(A1979,Articoli!$1:$48422,2,FALSE)))","v":""},null,0,"        ","        ;",0,"      ","      ",""]
[null,{"$f":"IF(A1980=\"\",\"\",IF(ISERROR(VLOOKUP(A1980,Articoli!$1:$48422,2,FALSE)),\"Codice Errato\",VLOOKUP(A1980,Articoli!$1:$48422,2,FALSE)))","v":""},null,0,"        ","        ;",0,"      ","      ",""]
[null,{"$f":"IF(A1981=\"\",\"\",IF(ISERROR(VLOOKUP(A1981,Articoli!$1:$48422,2,FALSE)),\"Codice Errato\",VLOOKUP(A1981,Articoli!$1:$48422,2,FALSE)))","v":""},null,0,"        ","        ;",0,"      ","      ",""]
[null,{"$f":"IF(A1982=\"\",\"\",IF(ISERROR(VLOOKUP(A1982,Articoli!$1:$48422,2,FALSE)),\"Codice Errato\",VLOOKUP(A1982,Articoli!$1:$48422,2,FALSE)))","v":""},null,0,"        ","        ;",0,"      ","      ",""]
[null,{"$f":"IF(A1983=\"\",\"\",IF(ISERROR(VLOOKUP(A1983,Articoli!$1:$48422,2,FALSE)),\"Codice Errato\",VLOOKUP(A1983,Articoli!$1:$48422,2,FALSE)))","v":""},null,0,"        ","        ;",0,"      ","      ",""]
[null,{"$f":"IF(A1984=\"\",\"\",IF(ISERROR(VLOOKUP(A1984,Articoli!$1:$48422,2,FALSE)),\"Codice Errato\",VLOOKUP(A1984,Articoli!$1:$48422,2,FALSE)))","v":""},null,0,"        ","        ;",0,"      ","      ",""]
[null,{"$f":"IF(A1985=\"\",\"\",IF(ISERROR(VLOOKUP(A1985,Articoli!$1:$48422,2,FALSE)),\"Codice Errato\",VLOOKUP(A1985,Articoli!$1:$48422,2,FALSE)))","v":""},null,0,"        ","        ;",0,"      ","      ",""]
[null,{"$f":"IF(A1986=\"\",\"\",IF(ISERROR(VLOOKUP(A1986,Articoli!$1:$48422,2,FALSE)),\"Codice Errato\",VLOOKUP(A1986,Articoli!$1:$48422,2,FALSE)))","v":""},null,0,"        ","        ;",0,"      ","      ",""]
[null,{"$f":"IF(A1987=\"\",\"\",IF(ISERROR(VLOOKUP(A1987,Articoli!$1:$48422,2,FALSE)),\"Codice Errato\",VLOOKUP(A1987,Articoli!$1:$48422,2,FALSE)))","v":""},null,0,"        ","        ;",0,"      ","      ",""]
[null,{"$f":"IF(A1988=\"\",\"\",IF(ISERROR(VLOOKUP(A1988,Articoli!$1:$48422,2,FALSE)),\"Codice Errato\",VLOOKUP(A1988,Articoli!$1:$48422,2,FALSE)))","v":""},null,0,"        ","        ;",0,"      ","      ",""]
[null,{"$f":"IF(A1989=\"\",\"\",IF(ISERROR(VLOOKUP(A1989,Articoli!$1:$48422,2,FALSE)),\"Codice Errato\",VLOOKUP(A1989,Articoli!$1:$48422,2,FALSE)))","v":""},null,0,"        ","        ;",0,"      ","      ",""]
[null,{"$f":"IF(A1990=\"\",\"\",IF(ISERROR(VLOOKUP(A1990,Articoli!$1:$48422,2,FALSE)),\"Codice Errato\",VLOOKUP(A1990,Articoli!$1:$48422,2,FALSE)))","v":""},null,0,"        ","        ;",0,"      ","      ",""]
[null,{"$f":"IF(A1991=\"\",\"\",IF(ISERROR(VLOOKUP(A1991,Articoli!$1:$48422,2,FALSE)),\"Codice Errato\",VLOOKUP(A1991,Articoli!$1:$48422,2,FALSE)))","v":""},null,0,"        ","        ;",0,"      ","      ",""]
[null,{"$f":"IF(A1992=\"\",\"\",IF(ISERROR(VLOOKUP(A1992,Articoli!$1:$48422,2,FALSE)),\"Codice Errato\",VLOOKUP(A1992,Articoli!$1:$48422,2,FALSE)))","v":""},null,0,"        ","        ;",0,"      ","      ",""]
[null,{"$f":"IF(A1993=\"\",\"\",IF(ISERROR(VLOOKUP(A1993,Articoli!$1:$48422,2,FALSE)),\"Codice Errato\",VLOOKUP(A1993,Articoli!$1:$48422,2,FALSE)))","v":""},null,0,"        ","        ;",0,"      ","      ",""]
[null,{"$f":"IF(A1994=\"\",\"\",IF(ISERROR(VLOOKUP(A1994,Articoli!$1:$48422,2,FALSE)),\"Codice Errato\",VLOOKUP(A1994,Articoli!$1:$48422,2,FALSE)))","v":""},null,0,"        ","        ;",0,"      ","      ",""]
[null,{"$f":"IF(A1995=\"\",\"\",IF(ISERROR(VLOOKUP(A1995,Articoli!$1:$48422,2,FALSE)),\"Codice Errato\",VLOOKUP(A1995,Articoli!$1:$48422,2,FALSE)))","v":""},null,0,"        ","        ;",0,"      ","      ",""]
[null,{"$f":"IF(A1996=\"\",\"\",IF(ISERROR(VLOOKUP(A1996,Articoli!$1:$48422,2,FALSE)),\"Codice Errato\",VLOOKUP(A1996,Articoli!$1:$48422,2,FALSE)))","v":""},null,0,"        ","        ;",0,"      ","      ",""]
[null,{"$f":"IF(A1997=\"\",\"\",IF(ISERROR(VLOOKUP(A1997,Articoli!$1:$48422,2,FALSE)),\"Codice Errato\",VLOOKUP(A1997,Articoli!$1:$48422,2,FALSE)))","v":""},null,0,"        ","        ;",0,"      ","      ",""]
[null,{"$f":"IF(A1998=\"\",\"\",IF(ISERROR(VLOOKUP(A1998,Articoli!$1:$48422,2,FALSE)),\"Codice Errato\",VLOOKUP(A1998,Articoli!$1:$48422,2,FALSE)))","v":""},null,0,"        ","        ;",0,"      ","      ",""]
[null,{"$f":"IF(A1999=\"\",\"\",IF(ISERROR(VLOOKUP(A1999,Articoli!$1:$48422,2,FALSE)),\"Codice Errato\",VLOOKUP(A1999,Articoli!$1:$48422,2,FALSE)))","v":""},null,0,"        ","        ;",0,"      ","      ",""]
[null,{"$f":"IF(A2000=\"\",\"\",IF(ISERROR(VLOOKUP(A2000,Articoli!$1:$48422,2,FALSE)),\"Codice Errato\",VLOOKUP(A2000,Articoli!$1:$48422,2,FALSE)))","v":""},null,0,"        ","        ;",0,"      ","      ",""]
[null,{"$f":"IF(A2001=\"\",\"\",IF(ISERROR(VLOOKUP(A2001,Articoli!$1:$48422,2,FALSE)),\"Codice Errato\",VLOOKUP(A2001,Articoli!$1:$48422,2,FALSE)))","v":""},null,0,"        ","        ;",0,"      ","      ",""]
[null,{"$f":"IF(A2002=\"\",\"\",IF(ISERROR(VLOOKUP(A2002,Articoli!$1:$48422,2,FALSE)),\"Codice Errato\",VLOOKUP(A2002,Articoli!$1:$48422,2,FALSE)))","v":""},null,0,"        ","        ;",0,"      ","      ",""]
[null,{"$f":"IF(A2003=\"\",\"\",IF(ISERROR(VLOOKUP(A2003,Articoli!$1:$48422,2,FALSE)),\"Codice Errato\",VLOOKUP(A2003,Articoli!$1:$48422,2,FALSE)))","v":""},null,0,"        ","        ;",0,"      ","      ",""]
[null,{"$f":"IF(A2004=\"\",\"\",IF(ISERROR(VLOOKUP(A2004,Articoli!$1:$48422,2,FALSE)),\"Codice Errato\",VLOOKUP(A2004,Articoli!$1:$48422,2,FALSE)))","v":""},null,0,"        ","        ;",0,"      ","      ",""]
[null,{"$f":"IF(A2005=\"\",\"\",IF(ISERROR(VLOOKUP(A2005,Articoli!$1:$48422,2,FALSE)),\"Codice Errato\",VLOOKUP(A2005,Articoli!$1:$48422,2,FALSE)))","v":""},null,0,"        ","        ;",0,"      ","      ",""]
[null,{"$f":"IF(A2006=\"\",\"\",IF(ISERROR(VLOOKUP(A2006,Articoli!$1:$48422,2,FALSE)),\"Codice Errato\",VLOOKUP(A2006,Articoli!$1:$48422,2,FALSE)))","v":""},null,0,"        ","        ;",0,"      ","      ",""]
[null,{"$f":"IF(A2007=\"\",\"\",IF(ISERROR(VLOOKUP(A2007,Articoli!$1:$48422,2,FALSE)),\"Codice Errato\",VLOOKUP(A2007,Articoli!$1:$48422,2,FALSE)))","v":""},null,0,"        ","        ;",0,"      ","      ",""]
[null,{"$f":"IF(A2008=\"\",\"\",IF(ISERROR(VLOOKUP(A2008,Articoli!$1:$48422,2,FALSE)),\"Codice Errato\",VLOOKUP(A2008,Articoli!$1:$48422,2,FALSE)))","v":""},null,0,"        ","        ;",0,"      ","      ",""]
[null,{"$f":"IF(A2009=\"\",\"\",IF(ISERROR(VLOOKUP(A2009,Articoli!$1:$48422,2,FALSE)),\"Codice Errato\",VLOOKUP(A2009,Articoli!$1:$48422,2,FALSE)))","v":""},null,0,"        ","        ;",0,"      ","      ",""]
[null,{"$f":"IF(A2010=\"\",\"\",IF(ISERROR(VLOOKUP(A2010,Articoli!$1:$48422,2,FALSE)),\"Codice Errato\",VLOOKUP(A2010,Articoli!$1:$48422,2,FALSE)))","v":""},null,0,"        ","        ;",0,"      ","      ",""]
[null,{"$f":"IF(A2011=\"\",\"\",IF(ISERROR(VLOOKUP(A2011,Articoli!$1:$48422,2,FALSE)),\"Codice Errato\",VLOOKUP(A2011,Articoli!$1:$48422,2,FALSE)))","v":""},null,0,"        ","        ;",0,"      ","      ",""]
[null,{"$f":"IF(A2012=\"\",\"\",IF(ISERROR(VLOOKUP(A2012,Articoli!$1:$48422,2,FALSE)),\"Codice Errato\",VLOOKUP(A2012,Articoli!$1:$48422,2,FALSE)))","v":""},null,0,"        ","        ;",0,"      ","      ",""]
[null,{"$f":"IF(A2013=\"\",\"\",IF(ISERROR(VLOOKUP(A2013,Articoli!$1:$48422,2,FALSE)),\"Codice Errato\",VLOOKUP(A2013,Articoli!$1:$48422,2,FALSE)))","v":""},null,0,"        ","        ;",0,"      ","      ",""]
[null,{"$f":"IF(A2014=\"\",\"\",IF(ISERROR(VLOOKUP(A2014,Articoli!$1:$48422,2,FALSE)),\"Codice Errato\",VLOOKUP(A2014,Articoli!$1:$48422,2,FALSE)))","v":""},null,0,"        ","        ;",0,"      ","      ",""]
[null,{"$f":"IF(A2015=\"\",\"\",IF(ISERROR(VLOOKUP(A2015,Articoli!$1:$48422,2,FALSE)),\"Codice Errato\",VLOOKUP(A2015,Articoli!$1:$48422,2,FALSE)))","v":""},null,0,"        ","        ;",0,"      ","      ",""]
[null,{"$f":"IF(A2016=\"\",\"\",IF(ISERROR(VLOOKUP(A2016,Articoli!$1:$48422,2,FALSE)),\"Codice Errato\",VLOOKUP(A2016,Articoli!$1:$48422,2,FALSE)))","v":""},null,0,"        ","        ;",0,"      ","      ",{"$f":"IF(C2016=\"\",\"\",CONCATENATE(F2016,I2016))","v":""}]
[null,{"$f":"IF(A2017=\"\",\"\",IF(ISERROR(VLOOKUP(A2017,Articoli!$1:$48422,2,FALSE)),\"Codice Errato\",VLOOKUP(A2017,Articoli!$1:$48422,2,FALSE)))","v":""},null,0,"        ","        ;",0,"      ","      ",""]
[null,{"$f":"IF(A2018=\"\",\"\",IF(ISERROR(VLOOKUP(A2018,Articoli!$1:$48422,2,FALSE)),\"Codice Errato\",VLOOKUP(A2018,Articoli!$1:$48422,2,FALSE)))","v":""},null,0,"        ","        ;",0,"      ","      ",""]
[null,{"$f":"IF(A2019=\"\",\"\",IF(ISERROR(VLOOKUP(A2019,Articoli!$1:$48422,2,FALSE)),\"Codice Errato\",VLOOKUP(A2019,Articoli!$1:$48422,2,FALSE)))","v":""},null,0,"        ","        ;",0,"      ","      ",""]
[null,{"$f":"IF(A2020=\"\",\"\",IF(ISERROR(VLOOKUP(A2020,Articoli!$1:$48422,2,FALSE)),\"Codice Errato\",VLOOKUP(A2020,Articoli!$1:$48422,2,FALSE)))","v":""},null,0,"        ","        ;",0,"      ","      ",""]
[null,{"$f":"IF(A2021=\"\",\"\",IF(ISERROR(VLOOKUP(A2021,Articoli!$1:$48422,2,FALSE)),\"Codice Errato\",VLOOKUP(A2021,Articoli!$1:$48422,2,FALSE)))","v":""},null,0,"        ","        ;",0,"      ","      ",""]
[null,{"$f":"IF(A2022=\"\",\"\",IF(ISERROR(VLOOKUP(A2022,Articoli!$1:$48422,2,FALSE)),\"Codice Errato\",VLOOKUP(A2022,Articoli!$1:$48422,2,FALSE)))","v":""},null,0,"        ","        ;",0,"      ","      ",""]
[null,{"$f":"IF(A2023=\"\",\"\",IF(ISERROR(VLOOKUP(A2023,Articoli!$1:$48422,2,FALSE)),\"Codice Errato\",VLOOKUP(A2023,Articoli!$1:$48422,2,FALSE)))","v":""},null,0,"        ","        ;",0,"      ","      ",""]
[null,{"$f":"IF(A2024=\"\",\"\",IF(ISERROR(VLOOKUP(A2024,Articoli!$1:$48422,2,FALSE)),\"Codice Errato\",VLOOKUP(A2024,Articoli!$1:$48422,2,FALSE)))","v":""},null,0,"        ","        ;",0,"      ","      ",""]
[null,{"$f":"IF(A2025=\"\",\"\",IF(ISERROR(VLOOKUP(A2025,Articoli!$1:$48422,2,FALSE)),\"Codice Errato\",VLOOKUP(A2025,Articoli!$1:$48422,2,FALSE)))","v":""},null,0,"        ","        ;",0,"      ","      ",""]
[null,{"$f":"IF(A2026=\"\",\"\",IF(ISERROR(VLOOKUP(A2026,Articoli!$1:$48422,2,FALSE)),\"Codice Errato\",VLOOKUP(A2026,Articoli!$1:$48422,2,FALSE)))","v":""},null,0,"        ","        ;",0,"      ","      ",""]
[null,{"$f":"IF(A2027=\"\",\"\",IF(ISERROR(VLOOKUP(A2027,Articoli!$1:$48422,2,FALSE)),\"Codice Errato\",VLOOKUP(A2027,Articoli!$1:$48422,2,FALSE)))","v":""},null,0,"        ","        ;",0,"      ","      ",""]
[null,{"$f":"IF(A2028=\"\",\"\",IF(ISERROR(VLOOKUP(A2028,Articoli!$1:$48422,2,FALSE)),\"Codice Errato\",VLOOKUP(A2028,Articoli!$1:$48422,2,FALSE)))","v":""},null,0,"        ","        ;",0,"      ","      ",""]
[null,{"$f":"IF(A2029=\"\",\"\",IF(ISERROR(VLOOKUP(A2029,Articoli!$1:$48422,2,FALSE)),\"Codice Errato\",VLOOKUP(A2029,Articoli!$1:$48422,2,FALSE)))","v":""},null,0,"        ","        ;",0,"      ","      ",""]
[null,{"$f":"IF(A2030=\"\",\"\",IF(ISERROR(VLOOKUP(A2030,Articoli!$1:$48422,2,FALSE)),\"Codice Errato\",VLOOKUP(A2030,Articoli!$1:$48422,2,FALSE)))","v":""},null,0,"        ","        ;",0,"      ","      ",""]
[null,{"$f":"IF(A2031=\"\",\"\",IF(ISERROR(VLOOKUP(A2031,Articoli!$1:$48422,2,FALSE)),\"Codice Errato\",VLOOKUP(A2031,Articoli!$1:$48422,2,FALSE)))","v":""},null,0,"        ","        ;",0,"      ","      ",""]
[null,{"$f":"IF(A2032=\"\",\"\",IF(ISERROR(VLOOKUP(A2032,Articoli!$1:$48422,2,FALSE)),\"Codice Errato\",VLOOKUP(A2032,Articoli!$1:$48422,2,FALSE)))","v":""},null,0,"        ","        ;",0,"      ","      ",""]
[null,{"$f":"IF(A2033=\"\",\"\",IF(ISERROR(VLOOKUP(A2033,Articoli!$1:$48422,2,FALSE)),\"Codice Errato\",VLOOKUP(A2033,Articoli!$1:$48422,2,FALSE)))","v":""},null,0,"        ","        ;",0,"      ","      ",""]
[null,{"$f":"IF(A2034=\"\",\"\",IF(ISERROR(VLOOKUP(A2034,Articoli!$1:$48422,2,FALSE)),\"Codice Errato\",VLOOKUP(A2034,Articoli!$1:$48422,2,FALSE)))","v":""},null,{"$f":"LEN(A2034)","v":0},{"$f":"REPT(\" \",8-D2034)","v":"        "},{"$f":"CONCATENATE(A2034,E2034,\";\",)","v":"        ;"},{"$f":"LEN(C2034)","v":0},{"$f":"REPT(\" \",6-G2034)","v":"      "},{"$f":"CONCATENATE(H2034,C2034,)","v":"      "},""]
[null,{"$f":"IF(A2035=\"\",\"\",IF(ISERROR(VLOOKUP(A2035,Articoli!$1:$48422,2,FALSE)),\"Codice Errato\",VLOOKUP(A2035,Articoli!$1:$48422,2,FALSE)))","v":""},null,0,"        ","        ;",0,"      ","      ",""]
[null,{"$f":"IF(A2036=\"\",\"\",IF(ISERROR(VLOOKUP(A2036,Articoli!$1:$48422,2,FALSE)),\"Codice Errato\",VLOOKUP(A2036,Articoli!$1:$48422,2,FALSE)))","v":""},null,0,"        ","        ;",0,"      ","      ",""]
[null,{"$f":"IF(A2037=\"\",\"\",IF(ISERROR(VLOOKUP(A2037,Articoli!$1:$48422,2,FALSE)),\"Codice Errato\",VLOOKUP(A2037,Articoli!$1:$48422,2,FALSE)))","v":""},null,0,"        ","        ;",0,"      ","      ",""]
[null,{"$f":"IF(A2038=\"\",\"\",IF(ISERROR(VLOOKUP(A2038,Articoli!$1:$48422,2,FALSE)),\"Codice Errato\",VLOOKUP(A2038,Articoli!$1:$48422,2,FALSE)))","v":""},null,0,"        ","        ;",0,"      ","      ",""]
[null,{"$f":"IF(A2039=\"\",\"\",IF(ISERROR(VLOOKUP(A2039,Articoli!$1:$48422,2,FALSE)),\"Codice Errato\",VLOOKUP(A2039,Articoli!$1:$48422,2,FALSE)))","v":""},null,0,"        ","        ;",0,"      ","      ",""]
[null,{"$f":"IF(A2040=\"\",\"\",IF(ISERROR(VLOOKUP(A2040,Articoli!$1:$48422,2,FALSE)),\"Codice Errato\",VLOOKUP(A2040,Articoli!$1:$48422,2,FALSE)))","v":""},null,0,"        ","        ;",0,"      ","      ",""]
[null,{"$f":"IF(A2041=\"\",\"\",IF(ISERROR(VLOOKUP(A2041,Articoli!$1:$48422,2,FALSE)),\"Codice Errato\",VLOOKUP(A2041,Articoli!$1:$48422,2,FALSE)))","v":""},null,0,"        ","        ;",0,"      ","      ",""]
[null,{"$f":"IF(A2042=\"\",\"\",IF(ISERROR(VLOOKUP(A2042,Articoli!$1:$48422,2,FALSE)),\"Codice Errato\",VLOOKUP(A2042,Articoli!$1:$48422,2,FALSE)))","v":""},null,0,"        ","        ;",0,"      ","      ",""]
[null,{"$f":"IF(A2043=\"\",\"\",IF(ISERROR(VLOOKUP(A2043,Articoli!$1:$48422,2,FALSE)),\"Codice Errato\",VLOOKUP(A2043,Articoli!$1:$48422,2,FALSE)))","v":""},null,0,"        ","        ;",0,"      ","      ",""]
[null,{"$f":"IF(A2044=\"\",\"\",IF(ISERROR(VLOOKUP(A2044,Articoli!$1:$48422,2,FALSE)),\"Codice Errato\",VLOOKUP(A2044,Articoli!$1:$48422,2,FALSE)))","v":""},null,0,"        ","        ;",0,"      ","      ",""]
[null,{"$f":"IF(A2045=\"\",\"\",IF(ISERROR(VLOOKUP(A2045,Articoli!$1:$48422,2,FALSE)),\"Codice Errato\",VLOOKUP(A2045,Articoli!$1:$48422,2,FALSE)))","v":""},null,0,"        ","        ;",0,"      ","      ",""]
[null,{"$f":"IF(A2046=\"\",\"\",IF(ISERROR(VLOOKUP(A2046,Articoli!$1:$48422,2,FALSE)),\"Codice Errato\",VLOOKUP(A2046,Articoli!$1:$48422,2,FALSE)))","v":""},null,0,"        ","        ;",0,"      ","      ",""]
[null,{"$f":"IF(A2047=\"\",\"\",IF(ISERROR(VLOOKUP(A2047,Articoli!$1:$48422,2,FALSE)),\"Codice Errato\",VLOOKUP(A2047,Articoli!$1:$48422,2,FALSE)))","v":""},null,0,"        ","        ;",0,"      ","      ",""]
[null,{"$f":"IF(A2048=\"\",\"\",IF(ISERROR(VLOOKUP(A2048,Articoli!$1:$48422,2,FALSE)),\"Codice Errato\",VLOOKUP(A2048,Articoli!$1:$48422,2,FALSE)))","v":""},null,0,"        ","        ;",0,"      ","      ",""]
[null,{"$f":"IF(A2049=\"\",\"\",IF(ISERROR(VLOOKUP(A2049,Articoli!$1:$48422,2,FALSE)),\"Codice Errato\",VLOOKUP(A2049,Articoli!$1:$48422,2,FALSE)))","v":""},null,0,"        ","        ;",0,"      ","      ",""]
[null,{"$f":"IF(A2050=\"\",\"\",IF(ISERROR(VLOOKUP(A2050,Articoli!$1:$48422,2,FALSE)),\"Codice Errato\",VLOOKUP(A2050,Articoli!$1:$48422,2,FALSE)))","v":""},null,0,"        ","        ;",0,"      ","      ",""]
[null,{"$f":"IF(A2051=\"\",\"\",IF(ISERROR(VLOOKUP(A2051,Articoli!$1:$48422,2,FALSE)),\"Codice Errato\",VLOOKUP(A2051,Articoli!$1:$48422,2,FALSE)))","v":""},null,0,"        ","        ;",0,"      ","      ",""]
[null,{"$f":"IF(A2052=\"\",\"\",IF(ISERROR(VLOOKUP(A2052,Articoli!$1:$48422,2,FALSE)),\"Codice Errato\",VLOOKUP(A2052,Articoli!$1:$48422,2,FALSE)))","v":""},null,0,"        ","        ;",0,"      ","      ",""]
[null,{"$f":"IF(A2053=\"\",\"\",IF(ISERROR(VLOOKUP(A2053,Articoli!$1:$48422,2,FALSE)),\"Codice Errato\",VLOOKUP(A2053,Articoli!$1:$48422,2,FALSE)))","v":""},null,0,"        ","        ;",0,"      ","      ",""]
[null,{"$f":"IF(A2054=\"\",\"\",IF(ISERROR(VLOOKUP(A2054,Articoli!$1:$48422,2,FALSE)),\"Codice Errato\",VLOOKUP(A2054,Articoli!$1:$48422,2,FALSE)))","v":""},null,0,"        ","        ;",0,"      ","      ",""]
[null,{"$f":"IF(A2055=\"\",\"\",IF(ISERROR(VLOOKUP(A2055,Articoli!$1:$48422,2,FALSE)),\"Codice Errato\",VLOOKUP(A2055,Articoli!$1:$48422,2,FALSE)))","v":""},null,0,"        ","        ;",0,"      ","      ",""]
[null,{"$f":"IF(A2056=\"\",\"\",IF(ISERROR(VLOOKUP(A2056,Articoli!$1:$48422,2,FALSE)),\"Codice Errato\",VLOOKUP(A2056,Articoli!$1:$48422,2,FALSE)))","v":""},null,0,"        ","        ;",0,"      ","      ",""]
[null,{"$f":"IF(A2057=\"\",\"\",IF(ISERROR(VLOOKUP(A2057,Articoli!$1:$48422,2,FALSE)),\"Codice Errato\",VLOOKUP(A2057,Articoli!$1:$48422,2,FALSE)))","v":""},null,0,"        ","        ;",0,"      ","      ",""]
[null,{"$f":"IF(A2058=\"\",\"\",IF(ISERROR(VLOOKUP(A2058,Articoli!$1:$48422,2,FALSE)),\"Codice Errato\",VLOOKUP(A2058,Articoli!$1:$48422,2,FALSE)))","v":""},null,0,"        ","        ;",0,"      ","      ",""]
[null,{"$f":"IF(A2059=\"\",\"\",IF(ISERROR(VLOOKUP(A2059,Articoli!$1:$48422,2,FALSE)),\"Codice Errato\",VLOOKUP(A2059,Articoli!$1:$48422,2,FALSE)))","v":""},null,0,"        ","        ;",0,"      ","      ",""]
[null,{"$f":"IF(A2060=\"\",\"\",IF(ISERROR(VLOOKUP(A2060,Articoli!$1:$48422,2,FALSE)),\"Codice Errato\",VLOOKUP(A2060,Articoli!$1:$48422,2,FALSE)))","v":""},null,0,"        ","        ;",0,"      ","      ",""]
[null,{"$f":"IF(A2061=\"\",\"\",IF(ISERROR(VLOOKUP(A2061,Articoli!$1:$48422,2,FALSE)),\"Codice Errato\",VLOOKUP(A2061,Articoli!$1:$48422,2,FALSE)))","v":""},null,0,"        ","        ;",0,"      ","      ",""]
[null,{"$f":"IF(A2062=\"\",\"\",IF(ISERROR(VLOOKUP(A2062,Articoli!$1:$48422,2,FALSE)),\"Codice Errato\",VLOOKUP(A2062,Articoli!$1:$48422,2,FALSE)))","v":""},null,0,"        ","        ;",0,"      ","      ",""]
[null,{"$f":"IF(A2063=\"\",\"\",IF(ISERROR(VLOOKUP(A2063,Articoli!$1:$48422,2,FALSE)),\"Codice Errato\",VLOOKUP(A2063,Articoli!$1:$48422,2,FALSE)))","v":""},null,0,"        ","        ;",0,"      ","      ",""]
[null,{"$f":"IF(A2064=\"\",\"\",IF(ISERROR(VLOOKUP(A2064,Articoli!$1:$48422,2,FALSE)),\"Codice Errato\",VLOOKUP(A2064,Articoli!$1:$48422,2,FALSE)))","v":""},null,0,"        ","        ;",0,"      ","      ",""]
[null,{"$f":"IF(A2065=\"\",\"\",IF(ISERROR(VLOOKUP(A2065,Articoli!$1:$48422,2,FALSE)),\"Codice Errato\",VLOOKUP(A2065,Articoli!$1:$48422,2,FALSE)))","v":""},null,0,"        ","        ;",0,"      ","      ",""]
[null,{"$f":"IF(A2066=\"\",\"\",IF(ISERROR(VLOOKUP(A2066,Articoli!$1:$48422,2,FALSE)),\"Codice Errato\",VLOOKUP(A2066,Articoli!$1:$48422,2,FALSE)))","v":""},null,0,"        ","        ;",0,"      ","      ",""]
[null,{"$f":"IF(A2067=\"\",\"\",IF(ISERROR(VLOOKUP(A2067,Articoli!$1:$48422,2,FALSE)),\"Codice Errato\",VLOOKUP(A2067,Articoli!$1:$48422,2,FALSE)))","v":""},null,0,"        ","        ;",0,"      ","      ",""]
[null,{"$f":"IF(A2068=\"\",\"\",IF(ISERROR(VLOOKUP(A2068,Articoli!$1:$48422,2,FALSE)),\"Codice Errato\",VLOOKUP(A2068,Articoli!$1:$48422,2,FALSE)))","v":""},null,0,"        ","        ;",0,"      ","      ",""]
[null,{"$f":"IF(A2069=\"\",\"\",IF(ISERROR(VLOOKUP(A2069,Articoli!$1:$48422,2,FALSE)),\"Codice Errato\",VLOOKUP(A2069,Articoli!$1:$48422,2,FALSE)))","v":""},null,0,"        ","        ;",0,"      ","      ",""]
[null,{"$f":"IF(A2070=\"\",\"\",IF(ISERROR(VLOOKUP(A2070,Articoli!$1:$48422,2,FALSE)),\"Codice Errato\",VLOOKUP(A2070,Articoli!$1:$48422,2,FALSE)))","v":""},null,0,"        ","        ;",0,"      ","      ",""]
[null,{"$f":"IF(A2071=\"\",\"\",IF(ISERROR(VLOOKUP(A2071,Articoli!$1:$48422,2,FALSE)),\"Codice Errato\",VLOOKUP(A2071,Articoli!$1:$48422,2,FALSE)))","v":""},null,0,"        ","        ;",0,"      ","      ",""]
[null,{"$f":"IF(A2072=\"\",\"\",IF(ISERROR(VLOOKUP(A2072,Articoli!$1:$48422,2,FALSE)),\"Codice Errato\",VLOOKUP(A2072,Articoli!$1:$48422,2,FALSE)))","v":""},null,0,"        ","        ;",0,"      ","      ",""]
[null,{"$f":"IF(A2073=\"\",\"\",IF(ISERROR(VLOOKUP(A2073,Articoli!$1:$48422,2,FALSE)),\"Codice Errato\",VLOOKUP(A2073,Articoli!$1:$48422,2,FALSE)))","v":""},null,0,"        ","        ;",0,"      ","      ",""]
[null,{"$f":"IF(A2074=\"\",\"\",IF(ISERROR(VLOOKUP(A2074,Articoli!$1:$48422,2,FALSE)),\"Codice Errato\",VLOOKUP(A2074,Articoli!$1:$48422,2,FALSE)))","v":""},null,0,"        ","        ;",0,"      ","      ",""]
[null,{"$f":"IF(A2075=\"\",\"\",IF(ISERROR(VLOOKUP(A2075,Articoli!$1:$48422,2,FALSE)),\"Codice Errato\",VLOOKUP(A2075,Articoli!$1:$48422,2,FALSE)))","v":""},null,0,"        ","        ;",0,"      ","      ",""]
[null,{"$f":"IF(A2076=\"\",\"\",IF(ISERROR(VLOOKUP(A2076,Articoli!$1:$48422,2,FALSE)),\"Codice Errato\",VLOOKUP(A2076,Articoli!$1:$48422,2,FALSE)))","v":""},null,0,"        ","        ;",0,"      ","      ",""]
[null,{"$f":"IF(A2077=\"\",\"\",IF(ISERROR(VLOOKUP(A2077,Articoli!$1:$48422,2,FALSE)),\"Codice Errato\",VLOOKUP(A2077,Articoli!$1:$48422,2,FALSE)))","v":""},null,0,"        ","        ;",0,"      ","      ",""]
[null,{"$f":"IF(A2078=\"\",\"\",IF(ISERROR(VLOOKUP(A2078,Articoli!$1:$48422,2,FALSE)),\"Codice Errato\",VLOOKUP(A2078,Articoli!$1:$48422,2,FALSE)))","v":""},null,0,"        ","        ;",0,"      ","      ",""]
[null,{"$f":"IF(A2079=\"\",\"\",IF(ISERROR(VLOOKUP(A2079,Articoli!$1:$48422,2,FALSE)),\"Codice Errato\",VLOOKUP(A2079,Articoli!$1:$48422,2,FALSE)))","v":""},null,0,"        ","        ;",0,"      ","      ",""]
[null,{"$f":"IF(A2080=\"\",\"\",IF(ISERROR(VLOOKUP(A2080,Articoli!$1:$48422,2,FALSE)),\"Codice Errato\",VLOOKUP(A2080,Articoli!$1:$48422,2,FALSE)))","v":""},null,0,"        ","        ;",0,"      ","      ",{"$f":"IF(C2080=\"\",\"\",CONCATENATE(F2080,I2080))","v":""}]
[null,{"$f":"IF(A2081=\"\",\"\",IF(ISERROR(VLOOKUP(A2081,Articoli!$1:$48422,2,FALSE)),\"Codice Errato\",VLOOKUP(A2081,Articoli!$1:$48422,2,FALSE)))","v":""},null,0,"        ","        ;",0,"      ","      ",""]
[null,{"$f":"IF(A2082=\"\",\"\",IF(ISERROR(VLOOKUP(A2082,Articoli!$1:$48422,2,FALSE)),\"Codice Errato\",VLOOKUP(A2082,Articoli!$1:$48422,2,FALSE)))","v":""},null,0,"        ","        ;",0,"      ","      ",""]
[null,{"$f":"IF(A2083=\"\",\"\",IF(ISERROR(VLOOKUP(A2083,Articoli!$1:$48422,2,FALSE)),\"Codice Errato\",VLOOKUP(A2083,Articoli!$1:$48422,2,FALSE)))","v":""},null,0,"        ","        ;",0,"      ","      ",""]
[null,{"$f":"IF(A2084=\"\",\"\",IF(ISERROR(VLOOKUP(A2084,Articoli!$1:$48422,2,FALSE)),\"Codice Errato\",VLOOKUP(A2084,Articoli!$1:$48422,2,FALSE)))","v":""},null,0,"        ","        ;",0,"      ","      ",""]
[null,{"$f":"IF(A2085=\"\",\"\",IF(ISERROR(VLOOKUP(A2085,Articoli!$1:$48422,2,FALSE)),\"Codice Errato\",VLOOKUP(A2085,Articoli!$1:$48422,2,FALSE)))","v":""},null,0,"        ","        ;",0,"      ","      ",""]
[null,{"$f":"IF(A2086=\"\",\"\",IF(ISERROR(VLOOKUP(A2086,Articoli!$1:$48422,2,FALSE)),\"Codice Errato\",VLOOKUP(A2086,Articoli!$1:$48422,2,FALSE)))","v":""},null,0,"        ","        ;",0,"      ","      ",""]
[null,{"$f":"IF(A2087=\"\",\"\",IF(ISERROR(VLOOKUP(A2087,Articoli!$1:$48422,2,FALSE)),\"Codice Errato\",VLOOKUP(A2087,Articoli!$1:$48422,2,FALSE)))","v":""},null,0,"        ","        ;",0,"      ","      ",""]
[null,{"$f":"IF(A2088=\"\",\"\",IF(ISERROR(VLOOKUP(A2088,Articoli!$1:$48422,2,FALSE)),\"Codice Errato\",VLOOKUP(A2088,Articoli!$1:$48422,2,FALSE)))","v":""},null,0,"        ","        ;",0,"      ","      ",""]
[null,{"$f":"IF(A2089=\"\",\"\",IF(ISERROR(VLOOKUP(A2089,Articoli!$1:$48422,2,FALSE)),\"Codice Errato\",VLOOKUP(A2089,Articoli!$1:$48422,2,FALSE)))","v":""},null,0,"        ","        ;",0,"      ","      ",""]
[null,{"$f":"IF(A2090=\"\",\"\",IF(ISERROR(VLOOKUP(A2090,Articoli!$1:$48422,2,FALSE)),\"Codice Errato\",VLOOKUP(A2090,Articoli!$1:$48422,2,FALSE)))","v":""},null,0,"        ","        ;",0,"      ","      ",""]
[null,{"$f":"IF(A2091=\"\",\"\",IF(ISERROR(VLOOKUP(A2091,Articoli!$1:$48422,2,FALSE)),\"Codice Errato\",VLOOKUP(A2091,Articoli!$1:$48422,2,FALSE)))","v":""},null,0,"        ","        ;",0,"      ","      ",""]
[null,{"$f":"IF(A2092=\"\",\"\",IF(ISERROR(VLOOKUP(A2092,Articoli!$1:$48422,2,FALSE)),\"Codice Errato\",VLOOKUP(A2092,Articoli!$1:$48422,2,FALSE)))","v":""},null,0,"        ","        ;",0,"      ","      ",""]
[null,{"$f":"IF(A2093=\"\",\"\",IF(ISERROR(VLOOKUP(A2093,Articoli!$1:$48422,2,FALSE)),\"Codice Errato\",VLOOKUP(A2093,Articoli!$1:$48422,2,FALSE)))","v":""},null,0,"        ","        ;",0,"      ","      ",""]
[null,{"$f":"IF(A2094=\"\",\"\",IF(ISERROR(VLOOKUP(A2094,Articoli!$1:$48422,2,FALSE)),\"Codice Errato\",VLOOKUP(A2094,Articoli!$1:$48422,2,FALSE)))","v":""},null,0,"        ","        ;",0,"      ","      ",""]
[null,{"$f":"IF(A2095=\"\",\"\",IF(ISERROR(VLOOKUP(A2095,Articoli!$1:$48422,2,FALSE)),\"Codice Errato\",VLOOKUP(A2095,Articoli!$1:$48422,2,FALSE)))","v":""},null,0,"        ","        ;",0,"      ","      ",""]
[null,{"$f":"IF(A2096=\"\",\"\",IF(ISERROR(VLOOKUP(A2096,Articoli!$1:$48422,2,FALSE)),\"Codice Errato\",VLOOKUP(A2096,Articoli!$1:$48422,2,FALSE)))","v":""},null,0,"        ","        ;",0,"      ","      ",""]
[null,{"$f":"IF(A2097=\"\",\"\",IF(ISERROR(VLOOKUP(A2097,Articoli!$1:$48422,2,FALSE)),\"Codice Errato\",VLOOKUP(A2097,Articoli!$1:$48422,2,FALSE)))","v":""},null,0,"        ","        ;",0,"      ","      ",""]
[null,{"$f":"IF(A2098=\"\",\"\",IF(ISERROR(VLOOKUP(A2098,Articoli!$1:$48422,2,FALSE)),\"Codice Errato\",VLOOKUP(A2098,Articoli!$1:$48422,2,FALSE)))","v":""},null,{"$f":"LEN(A2098)","v":0},{"$f":"REPT(\" \",8-D2098)","v":"        "},{"$f":"CONCATENATE(A2098,E2098,\";\",)","v":"        ;"},{"$f":"LEN(C2098)","v":0},{"$f":"REPT(\" \",6-G2098)","v":"      "},{"$f":"CONCATENATE(H2098,C2098,)","v":"      "},""]
[null,{"$f":"IF(A2099=\"\",\"\",IF(ISERROR(VLOOKUP(A2099,Articoli!$1:$48422,2,FALSE)),\"Codice Errato\",VLOOKUP(A2099,Articoli!$1:$48422,2,FALSE)))","v":""},null,0,"        ","        ;",0,"      ","      ",""]
[null,{"$f":"IF(A2100=\"\",\"\",IF(ISERROR(VLOOKUP(A2100,Articoli!$1:$48422,2,FALSE)),\"Codice Errato\",VLOOKUP(A2100,Articoli!$1:$48422,2,FALSE)))","v":""},null,0,"        ","        ;",0,"      ","      ",""]
[null,{"$f":"IF(A2101=\"\",\"\",IF(ISERROR(VLOOKUP(A2101,Articoli!$1:$48422,2,FALSE)),\"Codice Errato\",VLOOKUP(A2101,Articoli!$1:$48422,2,FALSE)))","v":""},null,0,"        ","        ;",0,"      ","      ",""]
[null,{"$f":"IF(A2102=\"\",\"\",IF(ISERROR(VLOOKUP(A2102,Articoli!$1:$48422,2,FALSE)),\"Codice Errato\",VLOOKUP(A2102,Articoli!$1:$48422,2,FALSE)))","v":""},null,0,"        ","        ;",0,"      ","      ",""]
[null,{"$f":"IF(A2103=\"\",\"\",IF(ISERROR(VLOOKUP(A2103,Articoli!$1:$48422,2,FALSE)),\"Codice Errato\",VLOOKUP(A2103,Articoli!$1:$48422,2,FALSE)))","v":""},null,0,"        ","        ;",0,"      ","      ",""]
[null,{"$f":"IF(A2104=\"\",\"\",IF(ISERROR(VLOOKUP(A2104,Articoli!$1:$48422,2,FALSE)),\"Codice Errato\",VLOOKUP(A2104,Articoli!$1:$48422,2,FALSE)))","v":""},null,0,"        ","        ;",0,"      ","      ",""]
[null,{"$f":"IF(A2105=\"\",\"\",IF(ISERROR(VLOOKUP(A2105,Articoli!$1:$48422,2,FALSE)),\"Codice Errato\",VLOOKUP(A2105,Articoli!$1:$48422,2,FALSE)))","v":""},null,0,"        ","        ;",0,"      ","      ",""]
[null,{"$f":"IF(A2106=\"\",\"\",IF(ISERROR(VLOOKUP(A2106,Articoli!$1:$48422,2,FALSE)),\"Codice Errato\",VLOOKUP(A2106,Articoli!$1:$48422,2,FALSE)))","v":""},null,0,"        ","        ;",0,"      ","      ",""]
[null,{"$f":"IF(A2107=\"\",\"\",IF(ISERROR(VLOOKUP(A2107,Articoli!$1:$48422,2,FALSE)),\"Codice Errato\",VLOOKUP(A2107,Articoli!$1:$48422,2,FALSE)))","v":""},null,0,"        ","        ;",0,"      ","      ",""]
[null,{"$f":"IF(A2108=\"\",\"\",IF(ISERROR(VLOOKUP(A2108,Articoli!$1:$48422,2,FALSE)),\"Codice Errato\",VLOOKUP(A2108,Articoli!$1:$48422,2,FALSE)))","v":""},null,0,"        ","        ;",0,"      ","      ",""]
[null,{"$f":"IF(A2109=\"\",\"\",IF(ISERROR(VLOOKUP(A2109,Articoli!$1:$48422,2,FALSE)),\"Codice Errato\",VLOOKUP(A2109,Articoli!$1:$48422,2,FALSE)))","v":""},null,0,"        ","        ;",0,"      ","      ",""]
[null,{"$f":"IF(A2110=\"\",\"\",IF(ISERROR(VLOOKUP(A2110,Articoli!$1:$48422,2,FALSE)),\"Codice Errato\",VLOOKUP(A2110,Articoli!$1:$48422,2,FALSE)))","v":""},null,0,"        ","        ;",0,"      ","      ",""]
[null,{"$f":"IF(A2111=\"\",\"\",IF(ISERROR(VLOOKUP(A2111,Articoli!$1:$48422,2,FALSE)),\"Codice Errato\",VLOOKUP(A2111,Articoli!$1:$48422,2,FALSE)))","v":""},null,0,"        ","        ;",0,"      ","      ",""]
[null,{"$f":"IF(A2112=\"\",\"\",IF(ISERROR(VLOOKUP(A2112,Articoli!$1:$48422,2,FALSE)),\"Codice Errato\",VLOOKUP(A2112,Articoli!$1:$48422,2,FALSE)))","v":""},null,0,"        ","        ;",0,"      ","      ",""]
[null,{"$f":"IF(A2113=\"\",\"\",IF(ISERROR(VLOOKUP(A2113,Articoli!$1:$48422,2,FALSE)),\"Codice Errato\",VLOOKUP(A2113,Articoli!$1:$48422,2,FALSE)))","v":""},null,0,"        ","        ;",0,"      ","      ",""]
[null,{"$f":"IF(A2114=\"\",\"\",IF(ISERROR(VLOOKUP(A2114,Articoli!$1:$48422,2,FALSE)),\"Codice Errato\",VLOOKUP(A2114,Articoli!$1:$48422,2,FALSE)))","v":""},null,0,"        ","        ;",0,"      ","      ",""]
[null,{"$f":"IF(A2115=\"\",\"\",IF(ISERROR(VLOOKUP(A2115,Articoli!$1:$48422,2,FALSE)),\"Codice Errato\",VLOOKUP(A2115,Articoli!$1:$48422,2,FALSE)))","v":""},null,0,"        ","        ;",0,"      ","      ",""]
[null,{"$f":"IF(A2116=\"\",\"\",IF(ISERROR(VLOOKUP(A2116,Articoli!$1:$48422,2,FALSE)),\"Codice Errato\",VLOOKUP(A2116,Articoli!$1:$48422,2,FALSE)))","v":""},null,0,"        ","        ;",0,"      ","      ",""]
[null,{"$f":"IF(A2117=\"\",\"\",IF(ISERROR(VLOOKUP(A2117,Articoli!$1:$48422,2,FALSE)),\"Codice Errato\",VLOOKUP(A2117,Articoli!$1:$48422,2,FALSE)))","v":""},null,0,"        ","        ;",0,"      ","      ",""]
[null,{"$f":"IF(A2118=\"\",\"\",IF(ISERROR(VLOOKUP(A2118,Articoli!$1:$48422,2,FALSE)),\"Codice Errato\",VLOOKUP(A2118,Articoli!$1:$48422,2,FALSE)))","v":""},null,0,"        ","        ;",0,"      ","      ",""]
[null,{"$f":"IF(A2119=\"\",\"\",IF(ISERROR(VLOOKUP(A2119,Articoli!$1:$48422,2,FALSE)),\"Codice Errato\",VLOOKUP(A2119,Articoli!$1:$48422,2,FALSE)))","v":""},null,0,"        ","        ;",0,"      ","      ",""]
[null,{"$f":"IF(A2120=\"\",\"\",IF(ISERROR(VLOOKUP(A2120,Articoli!$1:$48422,2,FALSE)),\"Codice Errato\",VLOOKUP(A2120,Articoli!$1:$48422,2,FALSE)))","v":""},null,0,"        ","        ;",0,"      ","      ",""]
[null,{"$f":"IF(A2121=\"\",\"\",IF(ISERROR(VLOOKUP(A2121,Articoli!$1:$48422,2,FALSE)),\"Codice Errato\",VLOOKUP(A2121,Articoli!$1:$48422,2,FALSE)))","v":""},null,0,"        ","        ;",0,"      ","      ",""]
[null,{"$f":"IF(A2122=\"\",\"\",IF(ISERROR(VLOOKUP(A2122,Articoli!$1:$48422,2,FALSE)),\"Codice Errato\",VLOOKUP(A2122,Articoli!$1:$48422,2,FALSE)))","v":""},null,0,"        ","        ;",0,"      ","      ",""]
[null,{"$f":"IF(A2123=\"\",\"\",IF(ISERROR(VLOOKUP(A2123,Articoli!$1:$48422,2,FALSE)),\"Codice Errato\",VLOOKUP(A2123,Articoli!$1:$48422,2,FALSE)))","v":""},null,0,"        ","        ;",0,"      ","      ",""]
[null,{"$f":"IF(A2124=\"\",\"\",IF(ISERROR(VLOOKUP(A2124,Articoli!$1:$48422,2,FALSE)),\"Codice Errato\",VLOOKUP(A2124,Articoli!$1:$48422,2,FALSE)))","v":""},null,0,"        ","        ;",0,"      ","      ",""]
[null,{"$f":"IF(A2125=\"\",\"\",IF(ISERROR(VLOOKUP(A2125,Articoli!$1:$48422,2,FALSE)),\"Codice Errato\",VLOOKUP(A2125,Articoli!$1:$48422,2,FALSE)))","v":""},null,0,"        ","        ;",0,"      ","      ",""]
[null,{"$f":"IF(A2126=\"\",\"\",IF(ISERROR(VLOOKUP(A2126,Articoli!$1:$48422,2,FALSE)),\"Codice Errato\",VLOOKUP(A2126,Articoli!$1:$48422,2,FALSE)))","v":""},null,0,"        ","        ;",0,"      ","      ",""]
[null,{"$f":"IF(A2127=\"\",\"\",IF(ISERROR(VLOOKUP(A2127,Articoli!$1:$48422,2,FALSE)),\"Codice Errato\",VLOOKUP(A2127,Articoli!$1:$48422,2,FALSE)))","v":""},null,0,"        ","        ;",0,"      ","      ",""]
[null,{"$f":"IF(A2128=\"\",\"\",IF(ISERROR(VLOOKUP(A2128,Articoli!$1:$48422,2,FALSE)),\"Codice Errato\",VLOOKUP(A2128,Articoli!$1:$48422,2,FALSE)))","v":""},null,0,"        ","        ;",0,"      ","      ",""]
[null,{"$f":"IF(A2129=\"\",\"\",IF(ISERROR(VLOOKUP(A2129,Articoli!$1:$48422,2,FALSE)),\"Codice Errato\",VLOOKUP(A2129,Articoli!$1:$48422,2,FALSE)))","v":""},null,0,"        ","        ;",0,"      ","      ",""]
[null,{"$f":"IF(A2130=\"\",\"\",IF(ISERROR(VLOOKUP(A2130,Articoli!$1:$48422,2,FALSE)),\"Codice Errato\",VLOOKUP(A2130,Articoli!$1:$48422,2,FALSE)))","v":""},null,0,"        ","        ;",0,"      ","      ",""]
[null,{"$f":"IF(A2131=\"\",\"\",IF(ISERROR(VLOOKUP(A2131,Articoli!$1:$48422,2,FALSE)),\"Codice Errato\",VLOOKUP(A2131,Articoli!$1:$48422,2,FALSE)))","v":""},null,0,"        ","        ;",0,"      ","      ",""]
[null,{"$f":"IF(A2132=\"\",\"\",IF(ISERROR(VLOOKUP(A2132,Articoli!$1:$48422,2,FALSE)),\"Codice Errato\",VLOOKUP(A2132,Articoli!$1:$48422,2,FALSE)))","v":""},null,0,"        ","        ;",0,"      ","      ",""]
[null,{"$f":"IF(A2133=\"\",\"\",IF(ISERROR(VLOOKUP(A2133,Articoli!$1:$48422,2,FALSE)),\"Codice Errato\",VLOOKUP(A2133,Articoli!$1:$48422,2,FALSE)))","v":""},null,0,"        ","        ;",0,"      ","      ",""]
[null,{"$f":"IF(A2134=\"\",\"\",IF(ISERROR(VLOOKUP(A2134,Articoli!$1:$48422,2,FALSE)),\"Codice Errato\",VLOOKUP(A2134,Articoli!$1:$48422,2,FALSE)))","v":""},null,0,"        ","        ;",0,"      ","      ",""]
[null,{"$f":"IF(A2135=\"\",\"\",IF(ISERROR(VLOOKUP(A2135,Articoli!$1:$48422,2,FALSE)),\"Codice Errato\",VLOOKUP(A2135,Articoli!$1:$48422,2,FALSE)))","v":""},null,0,"        ","        ;",0,"      ","      ",""]
[null,{"$f":"IF(A2136=\"\",\"\",IF(ISERROR(VLOOKUP(A2136,Articoli!$1:$48422,2,FALSE)),\"Codice Errato\",VLOOKUP(A2136,Articoli!$1:$48422,2,FALSE)))","v":""},null,0,"        ","        ;",0,"      ","      ",""]
[null,{"$f":"IF(A2137=\"\",\"\",IF(ISERROR(VLOOKUP(A2137,Articoli!$1:$48422,2,FALSE)),\"Codice Errato\",VLOOKUP(A2137,Articoli!$1:$48422,2,FALSE)))","v":""},null,0,"        ","        ;",0,"      ","      ",""]
[null,{"$f":"IF(A2138=\"\",\"\",IF(ISERROR(VLOOKUP(A2138,Articoli!$1:$48422,2,FALSE)),\"Codice Errato\",VLOOKUP(A2138,Articoli!$1:$48422,2,FALSE)))","v":""},null,0,"        ","        ;",0,"      ","      ",""]
[null,{"$f":"IF(A2139=\"\",\"\",IF(ISERROR(VLOOKUP(A2139,Articoli!$1:$48422,2,FALSE)),\"Codice Errato\",VLOOKUP(A2139,Articoli!$1:$48422,2,FALSE)))","v":""},null,0,"        ","        ;",0,"      ","      ",""]
[null,{"$f":"IF(A2140=\"\",\"\",IF(ISERROR(VLOOKUP(A2140,Articoli!$1:$48422,2,FALSE)),\"Codice Errato\",VLOOKUP(A2140,Articoli!$1:$48422,2,FALSE)))","v":""},null,0,"        ","        ;",0,"      ","      ",""]
[null,{"$f":"IF(A2141=\"\",\"\",IF(ISERROR(VLOOKUP(A2141,Articoli!$1:$48422,2,FALSE)),\"Codice Errato\",VLOOKUP(A2141,Articoli!$1:$48422,2,FALSE)))","v":""},null,0,"        ","        ;",0,"      ","      ",""]
[null,{"$f":"IF(A2142=\"\",\"\",IF(ISERROR(VLOOKUP(A2142,Articoli!$1:$48422,2,FALSE)),\"Codice Errato\",VLOOKUP(A2142,Articoli!$1:$48422,2,FALSE)))","v":""},null,0,"        ","        ;",0,"      ","      ",""]
[null,{"$f":"IF(A2143=\"\",\"\",IF(ISERROR(VLOOKUP(A2143,Articoli!$1:$48422,2,FALSE)),\"Codice Errato\",VLOOKUP(A2143,Articoli!$1:$48422,2,FALSE)))","v":""},null,0,"        ","        ;",0,"      ","      ",""]
[null,{"$f":"IF(A2144=\"\",\"\",IF(ISERROR(VLOOKUP(A2144,Articoli!$1:$48422,2,FALSE)),\"Codice Errato\",VLOOKUP(A2144,Articoli!$1:$48422,2,FALSE)))","v":""},null,0,"        ","        ;",0,"      ","      ",{"$f":"IF(C2144=\"\",\"\",CONCATENATE(F2144,I2144))","v":""}]
[null,{"$f":"IF(A2145=\"\",\"\",IF(ISERROR(VLOOKUP(A2145,Articoli!$1:$48422,2,FALSE)),\"Codice Errato\",VLOOKUP(A2145,Articoli!$1:$48422,2,FALSE)))","v":""},null,0,"        ","        ;",0,"      ","      ",""]
[null,{"$f":"IF(A2146=\"\",\"\",IF(ISERROR(VLOOKUP(A2146,Articoli!$1:$48422,2,FALSE)),\"Codice Errato\",VLOOKUP(A2146,Articoli!$1:$48422,2,FALSE)))","v":""},null,0,"        ","        ;",0,"      ","      ",""]
[null,{"$f":"IF(A2147=\"\",\"\",IF(ISERROR(VLOOKUP(A2147,Articoli!$1:$48422,2,FALSE)),\"Codice Errato\",VLOOKUP(A2147,Articoli!$1:$48422,2,FALSE)))","v":""},null,0,"        ","        ;",0,"      ","      ",""]
[null,{"$f":"IF(A2148=\"\",\"\",IF(ISERROR(VLOOKUP(A2148,Articoli!$1:$48422,2,FALSE)),\"Codice Errato\",VLOOKUP(A2148,Articoli!$1:$48422,2,FALSE)))","v":""},null,0,"        ","        ;",0,"      ","      ",""]
[null,{"$f":"IF(A2149=\"\",\"\",IF(ISERROR(VLOOKUP(A2149,Articoli!$1:$48422,2,FALSE)),\"Codice Errato\",VLOOKUP(A2149,Articoli!$1:$48422,2,FALSE)))","v":""},null,0,"        ","        ;",0,"      ","      ",""]
[null,{"$f":"IF(A2150=\"\",\"\",IF(ISERROR(VLOOKUP(A2150,Articoli!$1:$48422,2,FALSE)),\"Codice Errato\",VLOOKUP(A2150,Articoli!$1:$48422,2,FALSE)))","v":""},null,0,"        ","        ;",0,"      ","      ",""]
[null,{"$f":"IF(A2151=\"\",\"\",IF(ISERROR(VLOOKUP(A2151,Articoli!$1:$48422,2,FALSE)),\"Codice Errato\",VLOOKUP(A2151,Articoli!$1:$48422,2,FALSE)))","v":""},null,0,"        ","        ;",0,"      ","      ",""]
[null,{"$f":"IF(A2152=\"\",\"\",IF(ISERROR(VLOOKUP(A2152,Articoli!$1:$48422,2,FALSE)),\"Codice Errato\",VLOOKUP(A2152,Articoli!$1:$48422,2,FALSE)))","v":""},null,0,"        ","        ;",0,"      ","      ",""]
[null,{"$f":"IF(A2153=\"\",\"\",IF(ISERROR(VLOOKUP(A2153,Articoli!$1:$48422,2,FALSE)),\"Codice Errato\",VLOOKUP(A2153,Articoli!$1:$48422,2,FALSE)))","v":""},null,0,"        ","        ;",0,"      ","      ",""]
[null,{"$f":"IF(A2154=\"\",\"\",IF(ISERROR(VLOOKUP(A2154,Articoli!$1:$48422,2,FALSE)),\"Codice Errato\",VLOOKUP(A2154,Articoli!$1:$48422,2,FALSE)))","v":""},null,0,"        ","        ;",0,"      ","      ",""]
[null,{"$f":"IF(A2155=\"\",\"\",IF(ISERROR(VLOOKUP(A2155,Articoli!$1:$48422,2,FALSE)),\"Codice Errato\",VLOOKUP(A2155,Articoli!$1:$48422,2,FALSE)))","v":""},null,0,"        ","        ;",0,"      ","      ",""]
[null,{"$f":"IF(A2156=\"\",\"\",IF(ISERROR(VLOOKUP(A2156,Articoli!$1:$48422,2,FALSE)),\"Codice Errato\",VLOOKUP(A2156,Articoli!$1:$48422,2,FALSE)))","v":""},null,0,"        ","        ;",0,"      ","      ",""]
[null,{"$f":"IF(A2157=\"\",\"\",IF(ISERROR(VLOOKUP(A2157,Articoli!$1:$48422,2,FALSE)),\"Codice Errato\",VLOOKUP(A2157,Articoli!$1:$48422,2,FALSE)))","v":""},null,0,"        ","        ;",0,"      ","      ",""]
[null,{"$f":"IF(A2158=\"\",\"\",IF(ISERROR(VLOOKUP(A2158,Articoli!$1:$48422,2,FALSE)),\"Codice Errato\",VLOOKUP(A2158,Articoli!$1:$48422,2,FALSE)))","v":""},null,0,"        ","        ;",0,"      ","      ",""]
[null,{"$f":"IF(A2159=\"\",\"\",IF(ISERROR(VLOOKUP(A2159,Articoli!$1:$48422,2,FALSE)),\"Codice Errato\",VLOOKUP(A2159,Articoli!$1:$48422,2,FALSE)))","v":""},null,0,"        ","        ;",0,"      ","      ",""]
[null,{"$f":"IF(A2160=\"\",\"\",IF(ISERROR(VLOOKUP(A2160,Articoli!$1:$48422,2,FALSE)),\"Codice Errato\",VLOOKUP(A2160,Articoli!$1:$48422,2,FALSE)))","v":""},null,0,"        ","        ;",0,"      ","      ",""]
[null,{"$f":"IF(A2161=\"\",\"\",IF(ISERROR(VLOOKUP(A2161,Articoli!$1:$48422,2,FALSE)),\"Codice Errato\",VLOOKUP(A2161,Articoli!$1:$48422,2,FALSE)))","v":""},null,0,"        ","        ;",0,"      ","      ",""]
[null,{"$f":"IF(A2162=\"\",\"\",IF(ISERROR(VLOOKUP(A2162,Articoli!$1:$48422,2,FALSE)),\"Codice Errato\",VLOOKUP(A2162,Articoli!$1:$48422,2,FALSE)))","v":""},null,{"$f":"LEN(A2162)","v":0},{"$f":"REPT(\" \",8-D2162)","v":"        "},{"$f":"CONCATENATE(A2162,E2162,\";\",)","v":"        ;"},{"$f":"LEN(C2162)","v":0},{"$f":"REPT(\" \",6-G2162)","v":"      "},{"$f":"CONCATENATE(H2162,C2162,)","v":"      "},""]
[null,{"$f":"IF(A2163=\"\",\"\",IF(ISERROR(VLOOKUP(A2163,Articoli!$1:$48422,2,FALSE)),\"Codice Errato\",VLOOKUP(A2163,Articoli!$1:$48422,2,FALSE)))","v":""},null,0,"        ","        ;",0,"      ","      ",""]
[null,{"$f":"IF(A2164=\"\",\"\",IF(ISERROR(VLOOKUP(A2164,Articoli!$1:$48422,2,FALSE)),\"Codice Errato\",VLOOKUP(A2164,Articoli!$1:$48422,2,FALSE)))","v":""},null,0,"        ","        ;",0,"      ","      ",""]
[null,{"$f":"IF(A2165=\"\",\"\",IF(ISERROR(VLOOKUP(A2165,Articoli!$1:$48422,2,FALSE)),\"Codice Errato\",VLOOKUP(A2165,Articoli!$1:$48422,2,FALSE)))","v":""},null,0,"        ","        ;",0,"      ","      ",""]
[null,{"$f":"IF(A2166=\"\",\"\",IF(ISERROR(VLOOKUP(A2166,Articoli!$1:$48422,2,FALSE)),\"Codice Errato\",VLOOKUP(A2166,Articoli!$1:$48422,2,FALSE)))","v":""},null,0,"        ","        ;",0,"      ","      ",""]
[null,{"$f":"IF(A2167=\"\",\"\",IF(ISERROR(VLOOKUP(A2167,Articoli!$1:$48422,2,FALSE)),\"Codice Errato\",VLOOKUP(A2167,Articoli!$1:$48422,2,FALSE)))","v":""},null,0,"        ","        ;",0,"      ","      ",""]
[null,{"$f":"IF(A2168=\"\",\"\",IF(ISERROR(VLOOKUP(A2168,Articoli!$1:$48422,2,FALSE)),\"Codice Errato\",VLOOKUP(A2168,Articoli!$1:$48422,2,FALSE)))","v":""},null,0,"        ","        ;",0,"      ","      ",""]
[null,{"$f":"IF(A2169=\"\",\"\",IF(ISERROR(VLOOKUP(A2169,Articoli!$1:$48422,2,FALSE)),\"Codice Errato\",VLOOKUP(A2169,Articoli!$1:$48422,2,FALSE)))","v":""},null,0,"        ","        ;",0,"      ","      ",""]
[null,{"$f":"IF(A2170=\"\",\"\",IF(ISERROR(VLOOKUP(A2170,Articoli!$1:$48422,2,FALSE)),\"Codice Errato\",VLOOKUP(A2170,Articoli!$1:$48422,2,FALSE)))","v":""},null,0,"        ","        ;",0,"      ","      ",""]
[null,{"$f":"IF(A2171=\"\",\"\",IF(ISERROR(VLOOKUP(A2171,Articoli!$1:$48422,2,FALSE)),\"Codice Errato\",VLOOKUP(A2171,Articoli!$1:$48422,2,FALSE)))","v":""},null,0,"        ","        ;",0,"      ","      ",""]
[null,{"$f":"IF(A2172=\"\",\"\",IF(ISERROR(VLOOKUP(A2172,Articoli!$1:$48422,2,FALSE)),\"Codice Errato\",VLOOKUP(A2172,Articoli!$1:$48422,2,FALSE)))","v":""},null,0,"        ","        ;",0,"      ","      ",""]
[null,{"$f":"IF(A2173=\"\",\"\",IF(ISERROR(VLOOKUP(A2173,Articoli!$1:$48422,2,FALSE)),\"Codice Errato\",VLOOKUP(A2173,Articoli!$1:$48422,2,FALSE)))","v":""},null,0,"        ","        ;",0,"      ","      ",""]
[null,{"$f":"IF(A2174=\"\",\"\",IF(ISERROR(VLOOKUP(A2174,Articoli!$1:$48422,2,FALSE)),\"Codice Errato\",VLOOKUP(A2174,Articoli!$1:$48422,2,FALSE)))","v":""},null,0,"        ","        ;",0,"      ","      ",""]
[null,{"$f":"IF(A2175=\"\",\"\",IF(ISERROR(VLOOKUP(A2175,Articoli!$1:$48422,2,FALSE)),\"Codice Errato\",VLOOKUP(A2175,Articoli!$1:$48422,2,FALSE)))","v":""},null,0,"        ","        ;",0,"      ","      ",""]
[null,{"$f":"IF(A2176=\"\",\"\",IF(ISERROR(VLOOKUP(A2176,Articoli!$1:$48422,2,FALSE)),\"Codice Errato\",VLOOKUP(A2176,Articoli!$1:$48422,2,FALSE)))","v":""},null,0,"        ","        ;",0,"      ","      ",""]
[null,{"$f":"IF(A2177=\"\",\"\",IF(ISERROR(VLOOKUP(A2177,Articoli!$1:$48422,2,FALSE)),\"Codice Errato\",VLOOKUP(A2177,Articoli!$1:$48422,2,FALSE)))","v":""},null,0,"        ","        ;",0,"      ","      ",""]
[null,{"$f":"IF(A2178=\"\",\"\",IF(ISERROR(VLOOKUP(A2178,Articoli!$1:$48422,2,FALSE)),\"Codice Errato\",VLOOKUP(A2178,Articoli!$1:$48422,2,FALSE)))","v":""},null,0,"        ","        ;",0,"      ","      ",""]
[null,{"$f":"IF(A2179=\"\",\"\",IF(ISERROR(VLOOKUP(A2179,Articoli!$1:$48422,2,FALSE)),\"Codice Errato\",VLOOKUP(A2179,Articoli!$1:$48422,2,FALSE)))","v":""},null,0,"        ","        ;",0,"      ","      ",""]
[null,{"$f":"IF(A2180=\"\",\"\",IF(ISERROR(VLOOKUP(A2180,Articoli!$1:$48422,2,FALSE)),\"Codice Errato\",VLOOKUP(A2180,Articoli!$1:$48422,2,FALSE)))","v":""},null,0,"        ","        ;",0,"      ","      ",""]
[null,{"$f":"IF(A2181=\"\",\"\",IF(ISERROR(VLOOKUP(A2181,Articoli!$1:$48422,2,FALSE)),\"Codice Errato\",VLOOKUP(A2181,Articoli!$1:$48422,2,FALSE)))","v":""},null,0,"        ","        ;",0,"      ","      ",""]
[null,{"$f":"IF(A2182=\"\",\"\",IF(ISERROR(VLOOKUP(A2182,Articoli!$1:$48422,2,FALSE)),\"Codice Errato\",VLOOKUP(A2182,Articoli!$1:$48422,2,FALSE)))","v":""},null,0,"        ","        ;",0,"      ","      ",""]
[null,{"$f":"IF(A2183=\"\",\"\",IF(ISERROR(VLOOKUP(A2183,Articoli!$1:$48422,2,FALSE)),\"Codice Errato\",VLOOKUP(A2183,Articoli!$1:$48422,2,FALSE)))","v":""},null,0,"        ","        ;",0,"      ","      ",""]
[null,{"$f":"IF(A2184=\"\",\"\",IF(ISERROR(VLOOKUP(A2184,Articoli!$1:$48422,2,FALSE)),\"Codice Errato\",VLOOKUP(A2184,Articoli!$1:$48422,2,FALSE)))","v":""},null,0,"        ","        ;",0,"      ","      ",""]
[null,{"$f":"IF(A2185=\"\",\"\",IF(ISERROR(VLOOKUP(A2185,Articoli!$1:$48422,2,FALSE)),\"Codice Errato\",VLOOKUP(A2185,Articoli!$1:$48422,2,FALSE)))","v":""},null,0,"        ","        ;",0,"      ","      ",""]
[null,{"$f":"IF(A2186=\"\",\"\",IF(ISERROR(VLOOKUP(A2186,Articoli!$1:$48422,2,FALSE)),\"Codice Errato\",VLOOKUP(A2186,Articoli!$1:$48422,2,FALSE)))","v":""},null,0,"        ","        ;",0,"      ","      ",""]
[null,{"$f":"IF(A2187=\"\",\"\",IF(ISERROR(VLOOKUP(A2187,Articoli!$1:$48422,2,FALSE)),\"Codice Errato\",VLOOKUP(A2187,Articoli!$1:$48422,2,FALSE)))","v":""},null,0,"        ","        ;",0,"      ","      ",""]
[null,{"$f":"IF(A2188=\"\",\"\",IF(ISERROR(VLOOKUP(A2188,Articoli!$1:$48422,2,FALSE)),\"Codice Errato\",VLOOKUP(A2188,Articoli!$1:$48422,2,FALSE)))","v":""},null,0,"        ","        ;",0,"      ","      ",""]
[null,{"$f":"IF(A2189=\"\",\"\",IF(ISERROR(VLOOKUP(A2189,Articoli!$1:$48422,2,FALSE)),\"Codice Errato\",VLOOKUP(A2189,Articoli!$1:$48422,2,FALSE)))","v":""},null,0,"        ","        ;",0,"      ","      ",""]
[null,{"$f":"IF(A2190=\"\",\"\",IF(ISERROR(VLOOKUP(A2190,Articoli!$1:$48422,2,FALSE)),\"Codice Errato\",VLOOKUP(A2190,Articoli!$1:$48422,2,FALSE)))","v":""},null,0,"        ","        ;",0,"      ","      ",""]
[null,{"$f":"IF(A2191=\"\",\"\",IF(ISERROR(VLOOKUP(A2191,Articoli!$1:$48422,2,FALSE)),\"Codice Errato\",VLOOKUP(A2191,Articoli!$1:$48422,2,FALSE)))","v":""},null,0,"        ","        ;",0,"      ","      ",""]
[null,{"$f":"IF(A2192=\"\",\"\",IF(ISERROR(VLOOKUP(A2192,Articoli!$1:$48422,2,FALSE)),\"Codice Errato\",VLOOKUP(A2192,Articoli!$1:$48422,2,FALSE)))","v":""},null,0,"        ","        ;",0,"      ","      ",""]
[null,{"$f":"IF(A2193=\"\",\"\",IF(ISERROR(VLOOKUP(A2193,Articoli!$1:$48422,2,FALSE)),\"Codice Errato\",VLOOKUP(A2193,Articoli!$1:$48422,2,FALSE)))","v":""},null,0,"        ","        ;",0,"      ","      ",""]
[null,{"$f":"IF(A2194=\"\",\"\",IF(ISERROR(VLOOKUP(A2194,Articoli!$1:$48422,2,FALSE)),\"Codice Errato\",VLOOKUP(A2194,Articoli!$1:$48422,2,FALSE)))","v":""},null,0,"        ","        ;",0,"      ","      ",""]
[null,{"$f":"IF(A2195=\"\",\"\",IF(ISERROR(VLOOKUP(A2195,Articoli!$1:$48422,2,FALSE)),\"Codice Errato\",VLOOKUP(A2195,Articoli!$1:$48422,2,FALSE)))","v":""},null,0,"        ","        ;",0,"      ","      ",""]
[null,{"$f":"IF(A2196=\"\",\"\",IF(ISERROR(VLOOKUP(A2196,Articoli!$1:$48422,2,FALSE)),\"Codice Errato\",VLOOKUP(A2196,Articoli!$1:$48422,2,FALSE)))","v":""},null,0,"        ","        ;",0,"      ","      ",""]
[null,{"$f":"IF(A2197=\"\",\"\",IF(ISERROR(VLOOKUP(A2197,Articoli!$1:$48422,2,FALSE)),\"Codice Errato\",VLOOKUP(A2197,Articoli!$1:$48422,2,FALSE)))","v":""},null,0,"        ","        ;",0,"      ","      ",""]
[null,{"$f":"IF(A2198=\"\",\"\",IF(ISERROR(VLOOKUP(A2198,Articoli!$1:$48422,2,FALSE)),\"Codice Errato\",VLOOKUP(A2198,Articoli!$1:$48422,2,FALSE)))","v":""},null,0,"        ","        ;",0,"      ","      ",""]
[null,{"$f":"IF(A2199=\"\",\"\",IF(ISERROR(VLOOKUP(A2199,Articoli!$1:$48422,2,FALSE)),\"Codice Errato\",VLOOKUP(A2199,Articoli!$1:$48422,2,FALSE)))","v":""},null,0,"        ","        ;",0,"      ","      ",""]
[null,{"$f":"IF(A2200=\"\",\"\",IF(ISERROR(VLOOKUP(A2200,Articoli!$1:$48422,2,FALSE)),\"Codice Errato\",VLOOKUP(A2200,Articoli!$1:$48422,2,FALSE)))","v":""},null,0,"        ","        ;",0,"      ","      ",""]
[null,{"$f":"IF(A2201=\"\",\"\",IF(ISERROR(VLOOKUP(A2201,Articoli!$1:$48422,2,FALSE)),\"Codice Errato\",VLOOKUP(A2201,Articoli!$1:$48422,2,FALSE)))","v":""},null,0,"        ","        ;",0,"      ","      ",""]
[null,{"$f":"IF(A2202=\"\",\"\",IF(ISERROR(VLOOKUP(A2202,Articoli!$1:$48422,2,FALSE)),\"Codice Errato\",VLOOKUP(A2202,Articoli!$1:$48422,2,FALSE)))","v":""},null,0,"        ","        ;",0,"      ","      ",""]
[null,{"$f":"IF(A2203=\"\",\"\",IF(ISERROR(VLOOKUP(A2203,Articoli!$1:$48422,2,FALSE)),\"Codice Errato\",VLOOKUP(A2203,Articoli!$1:$48422,2,FALSE)))","v":""},null,0,"        ","        ;",0,"      ","      ",""]
[null,{"$f":"IF(A2204=\"\",\"\",IF(ISERROR(VLOOKUP(A2204,Articoli!$1:$48422,2,FALSE)),\"Codice Errato\",VLOOKUP(A2204,Articoli!$1:$48422,2,FALSE)))","v":""},null,0,"        ","        ;",0,"      ","      ",""]
[null,{"$f":"IF(A2205=\"\",\"\",IF(ISERROR(VLOOKUP(A2205,Articoli!$1:$48422,2,FALSE)),\"Codice Errato\",VLOOKUP(A2205,Articoli!$1:$48422,2,FALSE)))","v":""},null,0,"        ","        ;",0,"      ","      ",""]
[null,{"$f":"IF(A2206=\"\",\"\",IF(ISERROR(VLOOKUP(A2206,Articoli!$1:$48422,2,FALSE)),\"Codice Errato\",VLOOKUP(A2206,Articoli!$1:$48422,2,FALSE)))","v":""},null,0,"        ","        ;",0,"      ","      ",""]
[null,{"$f":"IF(A2207=\"\",\"\",IF(ISERROR(VLOOKUP(A2207,Articoli!$1:$48422,2,FALSE)),\"Codice Errato\",VLOOKUP(A2207,Articoli!$1:$48422,2,FALSE)))","v":""},null,0,"        ","        ;",0,"      ","      ",""]
[null,{"$f":"IF(A2208=\"\",\"\",IF(ISERROR(VLOOKUP(A2208,Articoli!$1:$48422,2,FALSE)),\"Codice Errato\",VLOOKUP(A2208,Articoli!$1:$48422,2,FALSE)))","v":""},null,0,"        ","        ;",0,"      ","      ",{"$f":"IF(C2208=\"\",\"\",CONCATENATE(F2208,I2208))","v":""}]
[null,{"$f":"IF(A2209=\"\",\"\",IF(ISERROR(VLOOKUP(A2209,Articoli!$1:$48422,2,FALSE)),\"Codice Errato\",VLOOKUP(A2209,Articoli!$1:$48422,2,FALSE)))","v":""},null,0,"        ","        ;",0,"      ","      ",""]
[null,{"$f":"IF(A2210=\"\",\"\",IF(ISERROR(VLOOKUP(A2210,Articoli!$1:$48422,2,FALSE)),\"Codice Errato\",VLOOKUP(A2210,Articoli!$1:$48422,2,FALSE)))","v":""},null,0,"        ","        ;",0,"      ","      ",""]
[null,{"$f":"IF(A2211=\"\",\"\",IF(ISERROR(VLOOKUP(A2211,Articoli!$1:$48422,2,FALSE)),\"Codice Errato\",VLOOKUP(A2211,Articoli!$1:$48422,2,FALSE)))","v":""},null,0,"        ","        ;",0,"      ","      ",""]
[null,{"$f":"IF(A2212=\"\",\"\",IF(ISERROR(VLOOKUP(A2212,Articoli!$1:$48422,2,FALSE)),\"Codice Errato\",VLOOKUP(A2212,Articoli!$1:$48422,2,FALSE)))","v":""},null,0,"        ","        ;",0,"      ","      ",""]
[null,{"$f":"IF(A2213=\"\",\"\",IF(ISERROR(VLOOKUP(A2213,Articoli!$1:$48422,2,FALSE)),\"Codice Errato\",VLOOKUP(A2213,Articoli!$1:$48422,2,FALSE)))","v":""},null,0,"        ","        ;",0,"      ","      ",""]
[null,{"$f":"IF(A2214=\"\",\"\",IF(ISERROR(VLOOKUP(A2214,Articoli!$1:$48422,2,FALSE)),\"Codice Errato\",VLOOKUP(A2214,Articoli!$1:$48422,2,FALSE)))","v":""},null,0,"        ","        ;",0,"      ","      ",""]
[null,{"$f":"IF(A2215=\"\",\"\",IF(ISERROR(VLOOKUP(A2215,Articoli!$1:$48422,2,FALSE)),\"Codice Errato\",VLOOKUP(A2215,Articoli!$1:$48422,2,FALSE)))","v":""},null,0,"        ","        ;",0,"      ","      ",""]
[null,{"$f":"IF(A2216=\"\",\"\",IF(ISERROR(VLOOKUP(A2216,Articoli!$1:$48422,2,FALSE)),\"Codice Errato\",VLOOKUP(A2216,Articoli!$1:$48422,2,FALSE)))","v":""},null,0,"        ","        ;",0,"      ","      ",""]
[null,{"$f":"IF(A2217=\"\",\"\",IF(ISERROR(VLOOKUP(A2217,Articoli!$1:$48422,2,FALSE)),\"Codice Errato\",VLOOKUP(A2217,Articoli!$1:$48422,2,FALSE)))","v":""},null,0,"        ","        ;",0,"      ","      ",""]
[null,{"$f":"IF(A2218=\"\",\"\",IF(ISERROR(VLOOKUP(A2218,Articoli!$1:$48422,2,FALSE)),\"Codice Errato\",VLOOKUP(A2218,Articoli!$1:$48422,2,FALSE)))","v":""},null,0,"        ","        ;",0,"      ","      ",""]
[null,{"$f":"IF(A2219=\"\",\"\",IF(ISERROR(VLOOKUP(A2219,Articoli!$1:$48422,2,FALSE)),\"Codice Errato\",VLOOKUP(A2219,Articoli!$1:$48422,2,FALSE)))","v":""},null,0,"        ","        ;",0,"      ","      ",""]
[null,{"$f":"IF(A2220=\"\",\"\",IF(ISERROR(VLOOKUP(A2220,Articoli!$1:$48422,2,FALSE)),\"Codice Errato\",VLOOKUP(A2220,Articoli!$1:$48422,2,FALSE)))","v":""},null,0,"        ","        ;",0,"      ","      ",""]
[null,{"$f":"IF(A2221=\"\",\"\",IF(ISERROR(VLOOKUP(A2221,Articoli!$1:$48422,2,FALSE)),\"Codice Errato\",VLOOKUP(A2221,Articoli!$1:$48422,2,FALSE)))","v":""},null,0,"        ","        ;",0,"      ","      ",""]
[null,{"$f":"IF(A2222=\"\",\"\",IF(ISERROR(VLOOKUP(A2222,Articoli!$1:$48422,2,FALSE)),\"Codice Errato\",VLOOKUP(A2222,Articoli!$1:$48422,2,FALSE)))","v":""},null,0,"        ","        ;",0,"      ","      ",""]
[null,{"$f":"IF(A2223=\"\",\"\",IF(ISERROR(VLOOKUP(A2223,Articoli!$1:$48422,2,FALSE)),\"Codice Errato\",VLOOKUP(A2223,Articoli!$1:$48422,2,FALSE)))","v":""},null,0,"        ","        ;",0,"      ","      ",""]
[null,{"$f":"IF(A2224=\"\",\"\",IF(ISERROR(VLOOKUP(A2224,Articoli!$1:$48422,2,FALSE)),\"Codice Errato\",VLOOKUP(A2224,Articoli!$1:$48422,2,FALSE)))","v":""},null,0,"        ","        ;",0,"      ","      ",""]
[null,{"$f":"IF(A2225=\"\",\"\",IF(ISERROR(VLOOKUP(A2225,Articoli!$1:$48422,2,FALSE)),\"Codice Errato\",VLOOKUP(A2225,Articoli!$1:$48422,2,FALSE)))","v":""},null,0,"        ","        ;",0,"      ","      ",""]
[null,{"$f":"IF(A2226=\"\",\"\",IF(ISERROR(VLOOKUP(A2226,Articoli!$1:$48422,2,FALSE)),\"Codice Errato\",VLOOKUP(A2226,Articoli!$1:$48422,2,FALSE)))","v":""},null,{"$f":"LEN(A2226)","v":0},{"$f":"REPT(\" \",8-D2226)","v":"        "},{"$f":"CONCATENATE(A2226,E2226,\";\",)","v":"        ;"},{"$f":"LEN(C2226)","v":0},{"$f":"REPT(\" \",6-G2226)","v":"      "},{"$f":"CONCATENATE(H2226,C2226,)","v":"      "},""]
[null,{"$f":"IF(A2227=\"\",\"\",IF(ISERROR(VLOOKUP(A2227,Articoli!$1:$48422,2,FALSE)),\"Codice Errato\",VLOOKUP(A2227,Articoli!$1:$48422,2,FALSE)))","v":""},null,0,"        ","        ;",0,"      ","      ",""]
[null,{"$f":"IF(A2228=\"\",\"\",IF(ISERROR(VLOOKUP(A2228,Articoli!$1:$48422,2,FALSE)),\"Codice Errato\",VLOOKUP(A2228,Articoli!$1:$48422,2,FALSE)))","v":""},null,0,"        ","        ;",0,"      ","      ",""]
[null,{"$f":"IF(A2229=\"\",\"\",IF(ISERROR(VLOOKUP(A2229,Articoli!$1:$48422,2,FALSE)),\"Codice Errato\",VLOOKUP(A2229,Articoli!$1:$48422,2,FALSE)))","v":""},null,0,"        ","        ;",0,"      ","      ",""]
[null,{"$f":"IF(A2230=\"\",\"\",IF(ISERROR(VLOOKUP(A2230,Articoli!$1:$48422,2,FALSE)),\"Codice Errato\",VLOOKUP(A2230,Articoli!$1:$48422,2,FALSE)))","v":""},null,0,"        ","        ;",0,"      ","      ",""]
[null,{"$f":"IF(A2231=\"\",\"\",IF(ISERROR(VLOOKUP(A2231,Articoli!$1:$48422,2,FALSE)),\"Codice Errato\",VLOOKUP(A2231,Articoli!$1:$48422,2,FALSE)))","v":""},null,0,"        ","        ;",0,"      ","      ",""]
[null,{"$f":"IF(A2232=\"\",\"\",IF(ISERROR(VLOOKUP(A2232,Articoli!$1:$48422,2,FALSE)),\"Codice Errato\",VLOOKUP(A2232,Articoli!$1:$48422,2,FALSE)))","v":""},null,0,"        ","        ;",0,"      ","      ",""]
[null,{"$f":"IF(A2233=\"\",\"\",IF(ISERROR(VLOOKUP(A2233,Articoli!$1:$48422,2,FALSE)),\"Codice Errato\",VLOOKUP(A2233,Articoli!$1:$48422,2,FALSE)))","v":""},null,0,"        ","        ;",0,"      ","      ",""]
[null,{"$f":"IF(A2234=\"\",\"\",IF(ISERROR(VLOOKUP(A2234,Articoli!$1:$48422,2,FALSE)),\"Codice Errato\",VLOOKUP(A2234,Articoli!$1:$48422,2,FALSE)))","v":""},null,0,"        ","        ;",0,"      ","      ",""]
[null,{"$f":"IF(A2235=\"\",\"\",IF(ISERROR(VLOOKUP(A2235,Articoli!$1:$48422,2,FALSE)),\"Codice Errato\",VLOOKUP(A2235,Articoli!$1:$48422,2,FALSE)))","v":""},null,0,"        ","        ;",0,"      ","      ",""]
[null,{"$f":"IF(A2236=\"\",\"\",IF(ISERROR(VLOOKUP(A2236,Articoli!$1:$48422,2,FALSE)),\"Codice Errato\",VLOOKUP(A2236,Articoli!$1:$48422,2,FALSE)))","v":""},null,0,"        ","        ;",0,"      ","      ",""]
[null,{"$f":"IF(A2237=\"\",\"\",IF(ISERROR(VLOOKUP(A2237,Articoli!$1:$48422,2,FALSE)),\"Codice Errato\",VLOOKUP(A2237,Articoli!$1:$48422,2,FALSE)))","v":""},null,0,"        ","        ;",0,"      ","      ",""]
[null,{"$f":"IF(A2238=\"\",\"\",IF(ISERROR(VLOOKUP(A2238,Articoli!$1:$48422,2,FALSE)),\"Codice Errato\",VLOOKUP(A2238,Articoli!$1:$48422,2,FALSE)))","v":""},null,0,"        ","        ;",0,"      ","      ",""]
[null,{"$f":"IF(A2239=\"\",\"\",IF(ISERROR(VLOOKUP(A2239,Articoli!$1:$48422,2,FALSE)),\"Codice Errato\",VLOOKUP(A2239,Articoli!$1:$48422,2,FALSE)))","v":""},null,0,"        ","        ;",0,"      ","      ",""]
[null,{"$f":"IF(A2240=\"\",\"\",IF(ISERROR(VLOOKUP(A2240,Articoli!$1:$48422,2,FALSE)),\"Codice Errato\",VLOOKUP(A2240,Articoli!$1:$48422,2,FALSE)))","v":""},null,0,"        ","        ;",0,"      ","      ",""]
[null,{"$f":"IF(A2241=\"\",\"\",IF(ISERROR(VLOOKUP(A2241,Articoli!$1:$48422,2,FALSE)),\"Codice Errato\",VLOOKUP(A2241,Articoli!$1:$48422,2,FALSE)))","v":""},null,0,"        ","        ;",0,"      ","      ",""]
[null,{"$f":"IF(A2242=\"\",\"\",IF(ISERROR(VLOOKUP(A2242,Articoli!$1:$48422,2,FALSE)),\"Codice Errato\",VLOOKUP(A2242,Articoli!$1:$48422,2,FALSE)))","v":""},null,0,"        ","        ;",0,"      ","      ",""]
[null,{"$f":"IF(A2243=\"\",\"\",IF(ISERROR(VLOOKUP(A2243,Articoli!$1:$48422,2,FALSE)),\"Codice Errato\",VLOOKUP(A2243,Articoli!$1:$48422,2,FALSE)))","v":""},null,0,"        ","        ;",0,"      ","      ",""]
[null,{"$f":"IF(A2244=\"\",\"\",IF(ISERROR(VLOOKUP(A2244,Articoli!$1:$48422,2,FALSE)),\"Codice Errato\",VLOOKUP(A2244,Articoli!$1:$48422,2,FALSE)))","v":""},null,0,"        ","        ;",0,"      ","      ",""]
[null,{"$f":"IF(A2245=\"\",\"\",IF(ISERROR(VLOOKUP(A2245,Articoli!$1:$48422,2,FALSE)),\"Codice Errato\",VLOOKUP(A2245,Articoli!$1:$48422,2,FALSE)))","v":""},null,0,"        ","        ;",0,"      ","      ",""]
[null,{"$f":"IF(A2246=\"\",\"\",IF(ISERROR(VLOOKUP(A2246,Articoli!$1:$48422,2,FALSE)),\"Codice Errato\",VLOOKUP(A2246,Articoli!$1:$48422,2,FALSE)))","v":""},null,0,"        ","        ;",0,"      ","      ",""]
[null,{"$f":"IF(A2247=\"\",\"\",IF(ISERROR(VLOOKUP(A2247,Articoli!$1:$48422,2,FALSE)),\"Codice Errato\",VLOOKUP(A2247,Articoli!$1:$48422,2,FALSE)))","v":""},null,0,"        ","        ;",0,"      ","      ",""]
[null,{"$f":"IF(A2248=\"\",\"\",IF(ISERROR(VLOOKUP(A2248,Articoli!$1:$48422,2,FALSE)),\"Codice Errato\",VLOOKUP(A2248,Articoli!$1:$48422,2,FALSE)))","v":""},null,0,"        ","        ;",0,"      ","      ",""]
[null,{"$f":"IF(A2249=\"\",\"\",IF(ISERROR(VLOOKUP(A2249,Articoli!$1:$48422,2,FALSE)),\"Codice Errato\",VLOOKUP(A2249,Articoli!$1:$48422,2,FALSE)))","v":""},null,0,"        ","        ;",0,"      ","      ",""]
[null,{"$f":"IF(A2250=\"\",\"\",IF(ISERROR(VLOOKUP(A2250,Articoli!$1:$48422,2,FALSE)),\"Codice Errato\",VLOOKUP(A2250,Articoli!$1:$48422,2,FALSE)))","v":""},null,0,"        ","        ;",0,"      ","      ",""]
[null,{"$f":"IF(A2251=\"\",\"\",IF(ISERROR(VLOOKUP(A2251,Articoli!$1:$48422,2,FALSE)),\"Codice Errato\",VLOOKUP(A2251,Articoli!$1:$48422,2,FALSE)))","v":""},null,0,"        ","        ;",0,"      ","      ",""]
[null,{"$f":"IF(A2252=\"\",\"\",IF(ISERROR(VLOOKUP(A2252,Articoli!$1:$48422,2,FALSE)),\"Codice Errato\",VLOOKUP(A2252,Articoli!$1:$48422,2,FALSE)))","v":""},null,0,"        ","        ;",0,"      ","      ",""]
[null,{"$f":"IF(A2253=\"\",\"\",IF(ISERROR(VLOOKUP(A2253,Articoli!$1:$48422,2,FALSE)),\"Codice Errato\",VLOOKUP(A2253,Articoli!$1:$48422,2,FALSE)))","v":""},null,0,"        ","        ;",0,"      ","      ",""]
[null,{"$f":"IF(A2254=\"\",\"\",IF(ISERROR(VLOOKUP(A2254,Articoli!$1:$48422,2,FALSE)),\"Codice Errato\",VLOOKUP(A2254,Articoli!$1:$48422,2,FALSE)))","v":""},null,0,"        ","        ;",0,"      ","      ",""]
[null,{"$f":"IF(A2255=\"\",\"\",IF(ISERROR(VLOOKUP(A2255,Articoli!$1:$48422,2,FALSE)),\"Codice Errato\",VLOOKUP(A2255,Articoli!$1:$48422,2,FALSE)))","v":""},null,0,"        ","        ;",0,"      ","      ",""]
[null,{"$f":"IF(A2256=\"\",\"\",IF(ISERROR(VLOOKUP(A2256,Articoli!$1:$48422,2,FALSE)),\"Codice Errato\",VLOOKUP(A2256,Articoli!$1:$48422,2,FALSE)))","v":""},null,0,"        ","        ;",0,"      ","      ",""]
[null,{"$f":"IF(A2257=\"\",\"\",IF(ISERROR(VLOOKUP(A2257,Articoli!$1:$48422,2,FALSE)),\"Codice Errato\",VLOOKUP(A2257,Articoli!$1:$48422,2,FALSE)))","v":""},null,0,"        ","        ;",0,"      ","      ",""]
[null,{"$f":"IF(A2258=\"\",\"\",IF(ISERROR(VLOOKUP(A2258,Articoli!$1:$48422,2,FALSE)),\"Codice Errato\",VLOOKUP(A2258,Articoli!$1:$48422,2,FALSE)))","v":""},null,0,"        ","        ;",0,"      ","      ",""]
[null,{"$f":"IF(A2259=\"\",\"\",IF(ISERROR(VLOOKUP(A2259,Articoli!$1:$48422,2,FALSE)),\"Codice Errato\",VLOOKUP(A2259,Articoli!$1:$48422,2,FALSE)))","v":""},null,0,"        ","        ;",0,"      ","      ",""]
[null,{"$f":"IF(A2260=\"\",\"\",IF(ISERROR(VLOOKUP(A2260,Articoli!$1:$48422,2,FALSE)),\"Codice Errato\",VLOOKUP(A2260,Articoli!$1:$48422,2,FALSE)))","v":""},null,0,"        ","        ;",0,"      ","      ",""]
[null,{"$f":"IF(A2261=\"\",\"\",IF(ISERROR(VLOOKUP(A2261,Articoli!$1:$48422,2,FALSE)),\"Codice Errato\",VLOOKUP(A2261,Articoli!$1:$48422,2,FALSE)))","v":""},null,0,"        ","        ;",0,"      ","      ",""]
[null,{"$f":"IF(A2262=\"\",\"\",IF(ISERROR(VLOOKUP(A2262,Articoli!$1:$48422,2,FALSE)),\"Codice Errato\",VLOOKUP(A2262,Articoli!$1:$48422,2,FALSE)))","v":""},null,0,"        ","        ;",0,"      ","      ",""]
[null,{"$f":"IF(A2263=\"\",\"\",IF(ISERROR(VLOOKUP(A2263,Articoli!$1:$48422,2,FALSE)),\"Codice Errato\",VLOOKUP(A2263,Articoli!$1:$48422,2,FALSE)))","v":""},null,0,"        ","        ;",0,"      ","      ",""]
[null,{"$f":"IF(A2264=\"\",\"\",IF(ISERROR(VLOOKUP(A2264,Articoli!$1:$48422,2,FALSE)),\"Codice Errato\",VLOOKUP(A2264,Articoli!$1:$48422,2,FALSE)))","v":""},null,0,"        ","        ;",0,"      ","      ",""]
[null,{"$f":"IF(A2265=\"\",\"\",IF(ISERROR(VLOOKUP(A2265,Articoli!$1:$48422,2,FALSE)),\"Codice Errato\",VLOOKUP(A2265,Articoli!$1:$48422,2,FALSE)))","v":""},null,0,"        ","        ;",0,"      ","      ",""]
[null,{"$f":"IF(A2266=\"\",\"\",IF(ISERROR(VLOOKUP(A2266,Articoli!$1:$48422,2,FALSE)),\"Codice Errato\",VLOOKUP(A2266,Articoli!$1:$48422,2,FALSE)))","v":""},null,0,"        ","        ;",0,"      ","      ",""]
[null,{"$f":"IF(A2267=\"\",\"\",IF(ISERROR(VLOOKUP(A2267,Articoli!$1:$48422,2,FALSE)),\"Codice Errato\",VLOOKUP(A2267,Articoli!$1:$48422,2,FALSE)))","v":""},null,0,"        ","        ;",0,"      ","      ",""]
[null,{"$f":"IF(A2268=\"\",\"\",IF(ISERROR(VLOOKUP(A2268,Articoli!$1:$48422,2,FALSE)),\"Codice Errato\",VLOOKUP(A2268,Articoli!$1:$48422,2,FALSE)))","v":""},null,0,"        ","        ;",0,"      ","      ",""]
[null,{"$f":"IF(A2269=\"\",\"\",IF(ISERROR(VLOOKUP(A2269,Articoli!$1:$48422,2,FALSE)),\"Codice Errato\",VLOOKUP(A2269,Articoli!$1:$48422,2,FALSE)))","v":""},null,0,"        ","        ;",0,"      ","      ",""]
[null,{"$f":"IF(A2270=\"\",\"\",IF(ISERROR(VLOOKUP(A2270,Articoli!$1:$48422,2,FALSE)),\"Codice Errato\",VLOOKUP(A2270,Articoli!$1:$48422,2,FALSE)))","v":""},null,0,"        ","        ;",0,"      ","      ",""]
[null,{"$f":"IF(A2271=\"\",\"\",IF(ISERROR(VLOOKUP(A2271,Articoli!$1:$48422,2,FALSE)),\"Codice Errato\",VLOOKUP(A2271,Articoli!$1:$48422,2,FALSE)))","v":""},null,0,"        ","        ;",0,"      ","      ",""]
[null,{"$f":"IF(A2272=\"\",\"\",IF(ISERROR(VLOOKUP(A2272,Articoli!$1:$48422,2,FALSE)),\"Codice Errato\",VLOOKUP(A2272,Articoli!$1:$48422,2,FALSE)))","v":""},null,0,"        ","        ;",0,"      ","      ",{"$f":"IF(C2272=\"\",\"\",CONCATENATE(F2272,I2272))","v":""}]
[null,{"$f":"IF(A2273=\"\",\"\",IF(ISERROR(VLOOKUP(A2273,Articoli!$1:$48422,2,FALSE)),\"Codice Errato\",VLOOKUP(A2273,Articoli!$1:$48422,2,FALSE)))","v":""},null,0,"        ","        ;",0,"      ","      ",""]
[null,{"$f":"IF(A2274=\"\",\"\",IF(ISERROR(VLOOKUP(A2274,Articoli!$1:$48422,2,FALSE)),\"Codice Errato\",VLOOKUP(A2274,Articoli!$1:$48422,2,FALSE)))","v":""},null,0,"        ","        ;",0,"      ","      ",""]
[null,{"$f":"IF(A2275=\"\",\"\",IF(ISERROR(VLOOKUP(A2275,Articoli!$1:$48422,2,FALSE)),\"Codice Errato\",VLOOKUP(A2275,Articoli!$1:$48422,2,FALSE)))","v":""},null,0,"        ","        ;",0,"      ","      ",""]
[null,{"$f":"IF(A2276=\"\",\"\",IF(ISERROR(VLOOKUP(A2276,Articoli!$1:$48422,2,FALSE)),\"Codice Errato\",VLOOKUP(A2276,Articoli!$1:$48422,2,FALSE)))","v":""},null,0,"        ","        ;",0,"      ","      ",""]
[null,{"$f":"IF(A2277=\"\",\"\",IF(ISERROR(VLOOKUP(A2277,Articoli!$1:$48422,2,FALSE)),\"Codice Errato\",VLOOKUP(A2277,Articoli!$1:$48422,2,FALSE)))","v":""},null,0,"        ","        ;",0,"      ","      ",""]
[null,{"$f":"IF(A2278=\"\",\"\",IF(ISERROR(VLOOKUP(A2278,Articoli!$1:$48422,2,FALSE)),\"Codice Errato\",VLOOKUP(A2278,Articoli!$1:$48422,2,FALSE)))","v":""},null,0,"        ","        ;",0,"      ","      ",""]
[null,{"$f":"IF(A2279=\"\",\"\",IF(ISERROR(VLOOKUP(A2279,Articoli!$1:$48422,2,FALSE)),\"Codice Errato\",VLOOKUP(A2279,Articoli!$1:$48422,2,FALSE)))","v":""},null,0,"        ","        ;",0,"      ","      ",""]
[null,{"$f":"IF(A2280=\"\",\"\",IF(ISERROR(VLOOKUP(A2280,Articoli!$1:$48422,2,FALSE)),\"Codice Errato\",VLOOKUP(A2280,Articoli!$1:$48422,2,FALSE)))","v":""},null,0,"        ","        ;",0,"      ","      ",""]
[null,{"$f":"IF(A2281=\"\",\"\",IF(ISERROR(VLOOKUP(A2281,Articoli!$1:$48422,2,FALSE)),\"Codice Errato\",VLOOKUP(A2281,Articoli!$1:$48422,2,FALSE)))","v":""},null,0,"        ","        ;",0,"      ","      ",""]
[null,{"$f":"IF(A2282=\"\",\"\",IF(ISERROR(VLOOKUP(A2282,Articoli!$1:$48422,2,FALSE)),\"Codice Errato\",VLOOKUP(A2282,Articoli!$1:$48422,2,FALSE)))","v":""},null,0,"        ","        ;",0,"      ","      ",""]
[null,{"$f":"IF(A2283=\"\",\"\",IF(ISERROR(VLOOKUP(A2283,Articoli!$1:$48422,2,FALSE)),\"Codice Errato\",VLOOKUP(A2283,Articoli!$1:$48422,2,FALSE)))","v":""},null,0,"        ","        ;",0,"      ","      ",""]
[null,{"$f":"IF(A2284=\"\",\"\",IF(ISERROR(VLOOKUP(A2284,Articoli!$1:$48422,2,FALSE)),\"Codice Errato\",VLOOKUP(A2284,Articoli!$1:$48422,2,FALSE)))","v":""},null,0,"        ","        ;",0,"      ","      ",""]
[null,{"$f":"IF(A2285=\"\",\"\",IF(ISERROR(VLOOKUP(A2285,Articoli!$1:$48422,2,FALSE)),\"Codice Errato\",VLOOKUP(A2285,Articoli!$1:$48422,2,FALSE)))","v":""},null,0,"        ","        ;",0,"      ","      ",""]
[null,{"$f":"IF(A2286=\"\",\"\",IF(ISERROR(VLOOKUP(A2286,Articoli!$1:$48422,2,FALSE)),\"Codice Errato\",VLOOKUP(A2286,Articoli!$1:$48422,2,FALSE)))","v":""},null,0,"        ","        ;",0,"      ","      ",""]
[null,{"$f":"IF(A2287=\"\",\"\",IF(ISERROR(VLOOKUP(A2287,Articoli!$1:$48422,2,FALSE)),\"Codice Errato\",VLOOKUP(A2287,Articoli!$1:$48422,2,FALSE)))","v":""},null,0,"        ","        ;",0,"      ","      ",""]
[null,{"$f":"IF(A2288=\"\",\"\",IF(ISERROR(VLOOKUP(A2288,Articoli!$1:$48422,2,FALSE)),\"Codice Errato\",VLOOKUP(A2288,Articoli!$1:$48422,2,FALSE)))","v":""},null,0,"        ","        ;",0,"      ","      ",""]
[null,{"$f":"IF(A2289=\"\",\"\",IF(ISERROR(VLOOKUP(A2289,Articoli!$1:$48422,2,FALSE)),\"Codice Errato\",VLOOKUP(A2289,Articoli!$1:$48422,2,FALSE)))","v":""},null,0,"        ","        ;",0,"      ","      ",""]
[null,{"$f":"IF(A2290=\"\",\"\",IF(ISERROR(VLOOKUP(A2290,Articoli!$1:$48422,2,FALSE)),\"Codice Errato\",VLOOKUP(A2290,Articoli!$1:$48422,2,FALSE)))","v":""},null,{"$f":"LEN(A2290)","v":0},{"$f":"REPT(\" \",8-D2290)","v":"        "},{"$f":"CONCATENATE(A2290,E2290,\";\",)","v":"        ;"},{"$f":"LEN(C2290)","v":0},{"$f":"REPT(\" \",6-G2290)","v":"      "},{"$f":"CONCATENATE(H2290,C2290,)","v":"      "},""]
[null,{"$f":"IF(A2291=\"\",\"\",IF(ISERROR(VLOOKUP(A2291,Articoli!$1:$48422,2,FALSE)),\"Codice Errato\",VLOOKUP(A2291,Articoli!$1:$48422,2,FALSE)))","v":""},null,0,"        ","        ;",0,"      ","      ",""]
[null,{"$f":"IF(A2292=\"\",\"\",IF(ISERROR(VLOOKUP(A2292,Articoli!$1:$48422,2,FALSE)),\"Codice Errato\",VLOOKUP(A2292,Articoli!$1:$48422,2,FALSE)))","v":""},null,0,"        ","        ;",0,"      ","      ",""]
[null,{"$f":"IF(A2293=\"\",\"\",IF(ISERROR(VLOOKUP(A2293,Articoli!$1:$48422,2,FALSE)),\"Codice Errato\",VLOOKUP(A2293,Articoli!$1:$48422,2,FALSE)))","v":""},null,0,"        ","        ;",0,"      ","      ",""]
[null,{"$f":"IF(A2294=\"\",\"\",IF(ISERROR(VLOOKUP(A2294,Articoli!$1:$48422,2,FALSE)),\"Codice Errato\",VLOOKUP(A2294,Articoli!$1:$48422,2,FALSE)))","v":""},null,0,"        ","        ;",0,"      ","      ",""]
[null,{"$f":"IF(A2295=\"\",\"\",IF(ISERROR(VLOOKUP(A2295,Articoli!$1:$48422,2,FALSE)),\"Codice Errato\",VLOOKUP(A2295,Articoli!$1:$48422,2,FALSE)))","v":""},null,0,"        ","        ;",0,"      ","      ",""]
[null,{"$f":"IF(A2296=\"\",\"\",IF(ISERROR(VLOOKUP(A2296,Articoli!$1:$48422,2,FALSE)),\"Codice Errato\",VLOOKUP(A2296,Articoli!$1:$48422,2,FALSE)))","v":""},null,0,"        ","        ;",0,"      ","      ",""]
[null,{"$f":"IF(A2297=\"\",\"\",IF(ISERROR(VLOOKUP(A2297,Articoli!$1:$48422,2,FALSE)),\"Codice Errato\",VLOOKUP(A2297,Articoli!$1:$48422,2,FALSE)))","v":""},null,0,"        ","        ;",0,"      ","      ",""]
[null,{"$f":"IF(A2298=\"\",\"\",IF(ISERROR(VLOOKUP(A2298,Articoli!$1:$48422,2,FALSE)),\"Codice Errato\",VLOOKUP(A2298,Articoli!$1:$48422,2,FALSE)))","v":""},null,0,"        ","        ;",0,"      ","      ",""]
[null,{"$f":"IF(A2299=\"\",\"\",IF(ISERROR(VLOOKUP(A2299,Articoli!$1:$48422,2,FALSE)),\"Codice Errato\",VLOOKUP(A2299,Articoli!$1:$48422,2,FALSE)))","v":""},null,0,"        ","        ;",0,"      ","      ",""]
[null,{"$f":"IF(A2300=\"\",\"\",IF(ISERROR(VLOOKUP(A2300,Articoli!$1:$48422,2,FALSE)),\"Codice Errato\",VLOOKUP(A2300,Articoli!$1:$48422,2,FALSE)))","v":""},null,0,"        ","        ;",0,"      ","      ",""]
[null,{"$f":"IF(A2301=\"\",\"\",IF(ISERROR(VLOOKUP(A2301,Articoli!$1:$48422,2,FALSE)),\"Codice Errato\",VLOOKUP(A2301,Articoli!$1:$48422,2,FALSE)))","v":""},null,0,"        ","        ;",0,"      ","      ",""]
[null,{"$f":"IF(A2302=\"\",\"\",IF(ISERROR(VLOOKUP(A2302,Articoli!$1:$48422,2,FALSE)),\"Codice Errato\",VLOOKUP(A2302,Articoli!$1:$48422,2,FALSE)))","v":""},null,0,"        ","        ;",0,"      ","      ",""]
[null,{"$f":"IF(A2303=\"\",\"\",IF(ISERROR(VLOOKUP(A2303,Articoli!$1:$48422,2,FALSE)),\"Codice Errato\",VLOOKUP(A2303,Articoli!$1:$48422,2,FALSE)))","v":""},null,0,"        ","        ;",0,"      ","      ",""]
[null,{"$f":"IF(A2304=\"\",\"\",IF(ISERROR(VLOOKUP(A2304,Articoli!$1:$48422,2,FALSE)),\"Codice Errato\",VLOOKUP(A2304,Articoli!$1:$48422,2,FALSE)))","v":""},null,0,"        ","        ;",0,"      ","      ",""]
[null,{"$f":"IF(A2305=\"\",\"\",IF(ISERROR(VLOOKUP(A2305,Articoli!$1:$48422,2,FALSE)),\"Codice Errato\",VLOOKUP(A2305,Articoli!$1:$48422,2,FALSE)))","v":""},null,0,"        ","        ;",0,"      ","      ",""]
[null,{"$f":"IF(A2306=\"\",\"\",IF(ISERROR(VLOOKUP(A2306,Articoli!$1:$48422,2,FALSE)),\"Codice Errato\",VLOOKUP(A2306,Articoli!$1:$48422,2,FALSE)))","v":""},null,0,"        ","        ;",0,"      ","      ",""]
[null,{"$f":"IF(A2307=\"\",\"\",IF(ISERROR(VLOOKUP(A2307,Articoli!$1:$48422,2,FALSE)),\"Codice Errato\",VLOOKUP(A2307,Articoli!$1:$48422,2,FALSE)))","v":""},null,0,"        ","        ;",0,"      ","      ",""]
[null,{"$f":"IF(A2308=\"\",\"\",IF(ISERROR(VLOOKUP(A2308,Articoli!$1:$48422,2,FALSE)),\"Codice Errato\",VLOOKUP(A2308,Articoli!$1:$48422,2,FALSE)))","v":""},null,0,"        ","        ;",0,"      ","      ",""]
[null,{"$f":"IF(A2309=\"\",\"\",IF(ISERROR(VLOOKUP(A2309,Articoli!$1:$48422,2,FALSE)),\"Codice Errato\",VLOOKUP(A2309,Articoli!$1:$48422,2,FALSE)))","v":""},null,0,"        ","        ;",0,"      ","      ",""]
[null,{"$f":"IF(A2310=\"\",\"\",IF(ISERROR(VLOOKUP(A2310,Articoli!$1:$48422,2,FALSE)),\"Codice Errato\",VLOOKUP(A2310,Articoli!$1:$48422,2,FALSE)))","v":""},null,0,"        ","        ;",0,"      ","      ",""]
[null,{"$f":"IF(A2311=\"\",\"\",IF(ISERROR(VLOOKUP(A2311,Articoli!$1:$48422,2,FALSE)),\"Codice Errato\",VLOOKUP(A2311,Articoli!$1:$48422,2,FALSE)))","v":""},null,0,"        ","        ;",0,"      ","      ",""]
[null,{"$f":"IF(A2312=\"\",\"\",IF(ISERROR(VLOOKUP(A2312,Articoli!$1:$48422,2,FALSE)),\"Codice Errato\",VLOOKUP(A2312,Articoli!$1:$48422,2,FALSE)))","v":""},null,0,"        ","        ;",0,"      ","      ",""]
[null,{"$f":"IF(A2313=\"\",\"\",IF(ISERROR(VLOOKUP(A2313,Articoli!$1:$48422,2,FALSE)),\"Codice Errato\",VLOOKUP(A2313,Articoli!$1:$48422,2,FALSE)))","v":""},null,0,"        ","        ;",0,"      ","      ",""]
[null,{"$f":"IF(A2314=\"\",\"\",IF(ISERROR(VLOOKUP(A2314,Articoli!$1:$48422,2,FALSE)),\"Codice Errato\",VLOOKUP(A2314,Articoli!$1:$48422,2,FALSE)))","v":""},null,0,"        ","        ;",0,"      ","      ",""]
[null,{"$f":"IF(A2315=\"\",\"\",IF(ISERROR(VLOOKUP(A2315,Articoli!$1:$48422,2,FALSE)),\"Codice Errato\",VLOOKUP(A2315,Articoli!$1:$48422,2,FALSE)))","v":""},null,0,"        ","        ;",0,"      ","      ",""]
[null,{"$f":"IF(A2316=\"\",\"\",IF(ISERROR(VLOOKUP(A2316,Articoli!$1:$48422,2,FALSE)),\"Codice Errato\",VLOOKUP(A2316,Articoli!$1:$48422,2,FALSE)))","v":""},null,0,"        ","        ;",0,"      ","      ",""]
[null,{"$f":"IF(A2317=\"\",\"\",IF(ISERROR(VLOOKUP(A2317,Articoli!$1:$48422,2,FALSE)),\"Codice Errato\",VLOOKUP(A2317,Articoli!$1:$48422,2,FALSE)))","v":""},null,0,"        ","        ;",0,"      ","      ",""]
[null,{"$f":"IF(A2318=\"\",\"\",IF(ISERROR(VLOOKUP(A2318,Articoli!$1:$48422,2,FALSE)),\"Codice Errato\",VLOOKUP(A2318,Articoli!$1:$48422,2,FALSE)))","v":""},null,0,"        ","        ;",0,"      ","      ",""]
[null,{"$f":"IF(A2319=\"\",\"\",IF(ISERROR(VLOOKUP(A2319,Articoli!$1:$48422,2,FALSE)),\"Codice Errato\",VLOOKUP(A2319,Articoli!$1:$48422,2,FALSE)))","v":""},null,0,"        ","        ;",0,"      ","      ",""]
[null,{"$f":"IF(A2320=\"\",\"\",IF(ISERROR(VLOOKUP(A2320,Articoli!$1:$48422,2,FALSE)),\"Codice Errato\",VLOOKUP(A2320,Articoli!$1:$48422,2,FALSE)))","v":""},null,0,"        ","        ;",0,"      ","      ",""]
[null,{"$f":"IF(A2321=\"\",\"\",IF(ISERROR(VLOOKUP(A2321,Articoli!$1:$48422,2,FALSE)),\"Codice Errato\",VLOOKUP(A2321,Articoli!$1:$48422,2,FALSE)))","v":""},null,0,"        ","        ;",0,"      ","      ",""]
[null,{"$f":"IF(A2322=\"\",\"\",IF(ISERROR(VLOOKUP(A2322,Articoli!$1:$48422,2,FALSE)),\"Codice Errato\",VLOOKUP(A2322,Articoli!$1:$48422,2,FALSE)))","v":""},null,0,"        ","        ;",0,"      ","      ",""]
[null,{"$f":"IF(A2323=\"\",\"\",IF(ISERROR(VLOOKUP(A2323,Articoli!$1:$48422,2,FALSE)),\"Codice Errato\",VLOOKUP(A2323,Articoli!$1:$48422,2,FALSE)))","v":""},null,0,"        ","        ;",0,"      ","      ",""]
[null,{"$f":"IF(A2324=\"\",\"\",IF(ISERROR(VLOOKUP(A2324,Articoli!$1:$48422,2,FALSE)),\"Codice Errato\",VLOOKUP(A2324,Articoli!$1:$48422,2,FALSE)))","v":""},null,0,"        ","        ;",0,"      ","      ",""]
[null,{"$f":"IF(A2325=\"\",\"\",IF(ISERROR(VLOOKUP(A2325,Articoli!$1:$48422,2,FALSE)),\"Codice Errato\",VLOOKUP(A2325,Articoli!$1:$48422,2,FALSE)))","v":""},null,0,"        ","        ;",0,"      ","      ",""]
[null,{"$f":"IF(A2326=\"\",\"\",IF(ISERROR(VLOOKUP(A2326,Articoli!$1:$48422,2,FALSE)),\"Codice Errato\",VLOOKUP(A2326,Articoli!$1:$48422,2,FALSE)))","v":""},null,0,"        ","        ;",0,"      ","      ",""]
[null,{"$f":"IF(A2327=\"\",\"\",IF(ISERROR(VLOOKUP(A2327,Articoli!$1:$48422,2,FALSE)),\"Codice Errato\",VLOOKUP(A2327,Articoli!$1:$48422,2,FALSE)))","v":""},null,0,"        ","        ;",0,"      ","      ",""]
[null,{"$f":"IF(A2328=\"\",\"\",IF(ISERROR(VLOOKUP(A2328,Articoli!$1:$48422,2,FALSE)),\"Codice Errato\",VLOOKUP(A2328,Articoli!$1:$48422,2,FALSE)))","v":""},null,0,"        ","        ;",0,"      ","      ",""]
[null,{"$f":"IF(A2329=\"\",\"\",IF(ISERROR(VLOOKUP(A2329,Articoli!$1:$48422,2,FALSE)),\"Codice Errato\",VLOOKUP(A2329,Articoli!$1:$48422,2,FALSE)))","v":""},null,0,"        ","        ;",0,"      ","      ",""]
[null,{"$f":"IF(A2330=\"\",\"\",IF(ISERROR(VLOOKUP(A2330,Articoli!$1:$48422,2,FALSE)),\"Codice Errato\",VLOOKUP(A2330,Articoli!$1:$48422,2,FALSE)))","v":""},null,0,"        ","        ;",0,"      ","      ",""]
[null,{"$f":"IF(A2331=\"\",\"\",IF(ISERROR(VLOOKUP(A2331,Articoli!$1:$48422,2,FALSE)),\"Codice Errato\",VLOOKUP(A2331,Articoli!$1:$48422,2,FALSE)))","v":""},null,0,"        ","        ;",0,"      ","      ",""]
[null,{"$f":"IF(A2332=\"\",\"\",IF(ISERROR(VLOOKUP(A2332,Articoli!$1:$48422,2,FALSE)),\"Codice Errato\",VLOOKUP(A2332,Articoli!$1:$48422,2,FALSE)))","v":""},null,0,"        ","        ;",0,"      ","      ",""]
[null,{"$f":"IF(A2333=\"\",\"\",IF(ISERROR(VLOOKUP(A2333,Articoli!$1:$48422,2,FALSE)),\"Codice Errato\",VLOOKUP(A2333,Articoli!$1:$48422,2,FALSE)))","v":""},null,0,"        ","        ;",0,"      ","      ",""]
[null,{"$f":"IF(A2334=\"\",\"\",IF(ISERROR(VLOOKUP(A2334,Articoli!$1:$48422,2,FALSE)),\"Codice Errato\",VLOOKUP(A2334,Articoli!$1:$48422,2,FALSE)))","v":""},null,0,"        ","        ;",0,"      ","      ",""]
[null,{"$f":"IF(A2335=\"\",\"\",IF(ISERROR(VLOOKUP(A2335,Articoli!$1:$48422,2,FALSE)),\"Codice Errato\",VLOOKUP(A2335,Articoli!$1:$48422,2,FALSE)))","v":""},null,0,"        ","        ;",0,"      ","      ",""]
[null,{"$f":"IF(A2336=\"\",\"\",IF(ISERROR(VLOOKUP(A2336,Articoli!$1:$48422,2,FALSE)),\"Codice Errato\",VLOOKUP(A2336,Articoli!$1:$48422,2,FALSE)))","v":""},null,0,"        ","        ;",0,"      ","      ",{"$f":"IF(C2336=\"\",\"\",CONCATENATE(F2336,I2336))","v":""}]
[null,{"$f":"IF(A2337=\"\",\"\",IF(ISERROR(VLOOKUP(A2337,Articoli!$1:$48422,2,FALSE)),\"Codice Errato\",VLOOKUP(A2337,Articoli!$1:$48422,2,FALSE)))","v":""},null,0,"        ","        ;",0,"      ","      ",""]
[null,{"$f":"IF(A2338=\"\",\"\",IF(ISERROR(VLOOKUP(A2338,Articoli!$1:$48422,2,FALSE)),\"Codice Errato\",VLOOKUP(A2338,Articoli!$1:$48422,2,FALSE)))","v":""},null,0,"        ","        ;",0,"      ","      ",""]
[null,{"$f":"IF(A2339=\"\",\"\",IF(ISERROR(VLOOKUP(A2339,Articoli!$1:$48422,2,FALSE)),\"Codice Errato\",VLOOKUP(A2339,Articoli!$1:$48422,2,FALSE)))","v":""},null,0,"        ","        ;",0,"      ","      ",""]
[null,{"$f":"IF(A2340=\"\",\"\",IF(ISERROR(VLOOKUP(A2340,Articoli!$1:$48422,2,FALSE)),\"Codice Errato\",VLOOKUP(A2340,Articoli!$1:$48422,2,FALSE)))","v":""},null,0,"        ","        ;",0,"      ","      ",""]
[null,{"$f":"IF(A2341=\"\",\"\",IF(ISERROR(VLOOKUP(A2341,Articoli!$1:$48422,2,FALSE)),\"Codice Errato\",VLOOKUP(A2341,Articoli!$1:$48422,2,FALSE)))","v":""},null,0,"        ","        ;",0,"      ","      ",""]
[null,{"$f":"IF(A2342=\"\",\"\",IF(ISERROR(VLOOKUP(A2342,Articoli!$1:$48422,2,FALSE)),\"Codice Errato\",VLOOKUP(A2342,Articoli!$1:$48422,2,FALSE)))","v":""},null,0,"        ","        ;",0,"      ","      ",""]
[null,{"$f":"IF(A2343=\"\",\"\",IF(ISERROR(VLOOKUP(A2343,Articoli!$1:$48422,2,FALSE)),\"Codice Errato\",VLOOKUP(A2343,Articoli!$1:$48422,2,FALSE)))","v":""},null,0,"        ","        ;",0,"      ","      ",""]
[null,{"$f":"IF(A2344=\"\",\"\",IF(ISERROR(VLOOKUP(A2344,Articoli!$1:$48422,2,FALSE)),\"Codice Errato\",VLOOKUP(A2344,Articoli!$1:$48422,2,FALSE)))","v":""},null,0,"        ","        ;",0,"      ","      ",""]
[null,{"$f":"IF(A2345=\"\",\"\",IF(ISERROR(VLOOKUP(A2345,Articoli!$1:$48422,2,FALSE)),\"Codice Errato\",VLOOKUP(A2345,Articoli!$1:$48422,2,FALSE)))","v":""},null,0,"        ","        ;",0,"      ","      ",""]
[null,{"$f":"IF(A2346=\"\",\"\",IF(ISERROR(VLOOKUP(A2346,Articoli!$1:$48422,2,FALSE)),\"Codice Errato\",VLOOKUP(A2346,Articoli!$1:$48422,2,FALSE)))","v":""},null,0,"        ","        ;",0,"      ","      ",""]
[null,{"$f":"IF(A2347=\"\",\"\",IF(ISERROR(VLOOKUP(A2347,Articoli!$1:$48422,2,FALSE)),\"Codice Errato\",VLOOKUP(A2347,Articoli!$1:$48422,2,FALSE)))","v":""},null,0,"        ","        ;",0,"      ","      ",""]
[null,{"$f":"IF(A2348=\"\",\"\",IF(ISERROR(VLOOKUP(A2348,Articoli!$1:$48422,2,FALSE)),\"Codice Errato\",VLOOKUP(A2348,Articoli!$1:$48422,2,FALSE)))","v":""},null,0,"        ","        ;",0,"      ","      ",""]
[null,{"$f":"IF(A2349=\"\",\"\",IF(ISERROR(VLOOKUP(A2349,Articoli!$1:$48422,2,FALSE)),\"Codice Errato\",VLOOKUP(A2349,Articoli!$1:$48422,2,FALSE)))","v":""},null,0,"        ","        ;",0,"      ","      ",""]
[null,{"$f":"IF(A2350=\"\",\"\",IF(ISERROR(VLOOKUP(A2350,Articoli!$1:$48422,2,FALSE)),\"Codice Errato\",VLOOKUP(A2350,Articoli!$1:$48422,2,FALSE)))","v":""},null,0,"        ","        ;",0,"      ","      ",""]
[null,{"$f":"IF(A2351=\"\",\"\",IF(ISERROR(VLOOKUP(A2351,Articoli!$1:$48422,2,FALSE)),\"Codice Errato\",VLOOKUP(A2351,Articoli!$1:$48422,2,FALSE)))","v":""},null,0,"        ","        ;",0,"      ","      ",""]
[null,{"$f":"IF(A2352=\"\",\"\",IF(ISERROR(VLOOKUP(A2352,Articoli!$1:$48422,2,FALSE)),\"Codice Errato\",VLOOKUP(A2352,Articoli!$1:$48422,2,FALSE)))","v":""},null,0,"        ","        ;",0,"      ","      ",""]
[null,{"$f":"IF(A2353=\"\",\"\",IF(ISERROR(VLOOKUP(A2353,Articoli!$1:$48422,2,FALSE)),\"Codice Errato\",VLOOKUP(A2353,Articoli!$1:$48422,2,FALSE)))","v":""},null,0,"        ","        ;",0,"      ","      ",""]
[null,{"$f":"IF(A2354=\"\",\"\",IF(ISERROR(VLOOKUP(A2354,Articoli!$1:$48422,2,FALSE)),\"Codice Errato\",VLOOKUP(A2354,Articoli!$1:$48422,2,FALSE)))","v":""},null,{"$f":"LEN(A2354)","v":0},{"$f":"REPT(\" \",8-D2354)","v":"        "},{"$f":"CONCATENATE(A2354,E2354,\";\",)","v":"        ;"},{"$f":"LEN(C2354)","v":0},{"$f":"REPT(\" \",6-G2354)","v":"      "},{"$f":"CONCATENATE(H2354,C2354,)","v":"      "},""]
[null,{"$f":"IF(A2355=\"\",\"\",IF(ISERROR(VLOOKUP(A2355,Articoli!$1:$48422,2,FALSE)),\"Codice Errato\",VLOOKUP(A2355,Articoli!$1:$48422,2,FALSE)))","v":""},null,0,"        ","        ;",0,"      ","      ",""]
[null,{"$f":"IF(A2356=\"\",\"\",IF(ISERROR(VLOOKUP(A2356,Articoli!$1:$48422,2,FALSE)),\"Codice Errato\",VLOOKUP(A2356,Articoli!$1:$48422,2,FALSE)))","v":""},null,0,"        ","        ;",0,"      ","      ",""]
[null,{"$f":"IF(A2357=\"\",\"\",IF(ISERROR(VLOOKUP(A2357,Articoli!$1:$48422,2,FALSE)),\"Codice Errato\",VLOOKUP(A2357,Articoli!$1:$48422,2,FALSE)))","v":""},null,0,"        ","        ;",0,"      ","      ",""]
[null,{"$f":"IF(A2358=\"\",\"\",IF(ISERROR(VLOOKUP(A2358,Articoli!$1:$48422,2,FALSE)),\"Codice Errato\",VLOOKUP(A2358,Articoli!$1:$48422,2,FALSE)))","v":""},null,0,"        ","        ;",0,"      ","      ",""]
[null,{"$f":"IF(A2359=\"\",\"\",IF(ISERROR(VLOOKUP(A2359,Articoli!$1:$48422,2,FALSE)),\"Codice Errato\",VLOOKUP(A2359,Articoli!$1:$48422,2,FALSE)))","v":""},null,0,"        ","        ;",0,"      ","      ",""]
[null,{"$f":"IF(A2360=\"\",\"\",IF(ISERROR(VLOOKUP(A2360,Articoli!$1:$48422,2,FALSE)),\"Codice Errato\",VLOOKUP(A2360,Articoli!$1:$48422,2,FALSE)))","v":""},null,0,"        ","        ;",0,"      ","      ",""]
[null,{"$f":"IF(A2361=\"\",\"\",IF(ISERROR(VLOOKUP(A2361,Articoli!$1:$48422,2,FALSE)),\"Codice Errato\",VLOOKUP(A2361,Articoli!$1:$48422,2,FALSE)))","v":""},null,0,"        ","        ;",0,"      ","      ",""]
[null,{"$f":"IF(A2362=\"\",\"\",IF(ISERROR(VLOOKUP(A2362,Articoli!$1:$48422,2,FALSE)),\"Codice Errato\",VLOOKUP(A2362,Articoli!$1:$48422,2,FALSE)))","v":""},null,0,"        ","        ;",0,"      ","      ",""]
[null,{"$f":"IF(A2363=\"\",\"\",IF(ISERROR(VLOOKUP(A2363,Articoli!$1:$48422,2,FALSE)),\"Codice Errato\",VLOOKUP(A2363,Articoli!$1:$48422,2,FALSE)))","v":""},null,0,"        ","        ;",0,"      ","      ",""]
[null,{"$f":"IF(A2364=\"\",\"\",IF(ISERROR(VLOOKUP(A2364,Articoli!$1:$48422,2,FALSE)),\"Codice Errato\",VLOOKUP(A2364,Articoli!$1:$48422,2,FALSE)))","v":""},null,0,"        ","        ;",0,"      ","      ",""]
[null,{"$f":"IF(A2365=\"\",\"\",IF(ISERROR(VLOOKUP(A2365,Articoli!$1:$48422,2,FALSE)),\"Codice Errato\",VLOOKUP(A2365,Articoli!$1:$48422,2,FALSE)))","v":""},null,0,"        ","        ;",0,"      ","      ",""]
[null,{"$f":"IF(A2366=\"\",\"\",IF(ISERROR(VLOOKUP(A2366,Articoli!$1:$48422,2,FALSE)),\"Codice Errato\",VLOOKUP(A2366,Articoli!$1:$48422,2,FALSE)))","v":""},null,0,"        ","        ;",0,"      ","      ",""]
[null,{"$f":"IF(A2367=\"\",\"\",IF(ISERROR(VLOOKUP(A2367,Articoli!$1:$48422,2,FALSE)),\"Codice Errato\",VLOOKUP(A2367,Articoli!$1:$48422,2,FALSE)))","v":""},null,0,"        ","        ;",0,"      ","      ",""]
[null,{"$f":"IF(A2368=\"\",\"\",IF(ISERROR(VLOOKUP(A2368,Articoli!$1:$48422,2,FALSE)),\"Codice Errato\",VLOOKUP(A2368,Articoli!$1:$48422,2,FALSE)))","v":""},null,0,"        ","        ;",0,"      ","      ",""]
[null,{"$f":"IF(A2369=\"\",\"\",IF(ISERROR(VLOOKUP(A2369,Articoli!$1:$48422,2,FALSE)),\"Codice Errato\",VLOOKUP(A2369,Articoli!$1:$48422,2,FALSE)))","v":""},null,0,"        ","        ;",0,"      ","      ",""]
[null,{"$f":"IF(A2370=\"\",\"\",IF(ISERROR(VLOOKUP(A2370,Articoli!$1:$48422,2,FALSE)),\"Codice Errato\",VLOOKUP(A2370,Articoli!$1:$48422,2,FALSE)))","v":""},null,0,"        ","        ;",0,"      ","      ",""]
[null,{"$f":"IF(A2371=\"\",\"\",IF(ISERROR(VLOOKUP(A2371,Articoli!$1:$48422,2,FALSE)),\"Codice Errato\",VLOOKUP(A2371,Articoli!$1:$48422,2,FALSE)))","v":""},null,0,"        ","        ;",0,"      ","      ",""]
[null,{"$f":"IF(A2372=\"\",\"\",IF(ISERROR(VLOOKUP(A2372,Articoli!$1:$48422,2,FALSE)),\"Codice Errato\",VLOOKUP(A2372,Articoli!$1:$48422,2,FALSE)))","v":""},null,0,"        ","        ;",0,"      ","      ",""]
[null,{"$f":"IF(A2373=\"\",\"\",IF(ISERROR(VLOOKUP(A2373,Articoli!$1:$48422,2,FALSE)),\"Codice Errato\",VLOOKUP(A2373,Articoli!$1:$48422,2,FALSE)))","v":""},null,0,"        ","        ;",0,"      ","      ",""]
[null,{"$f":"IF(A2374=\"\",\"\",IF(ISERROR(VLOOKUP(A2374,Articoli!$1:$48422,2,FALSE)),\"Codice Errato\",VLOOKUP(A2374,Articoli!$1:$48422,2,FALSE)))","v":""},null,0,"        ","        ;",0,"      ","      ",""]
[null,{"$f":"IF(A2375=\"\",\"\",IF(ISERROR(VLOOKUP(A2375,Articoli!$1:$48422,2,FALSE)),\"Codice Errato\",VLOOKUP(A2375,Articoli!$1:$48422,2,FALSE)))","v":""},null,0,"        ","        ;",0,"      ","      ",""]
[null,{"$f":"IF(A2376=\"\",\"\",IF(ISERROR(VLOOKUP(A2376,Articoli!$1:$48422,2,FALSE)),\"Codice Errato\",VLOOKUP(A2376,Articoli!$1:$48422,2,FALSE)))","v":""},null,0,"        ","        ;",0,"      ","      ",""]
[null,{"$f":"IF(A2377=\"\",\"\",IF(ISERROR(VLOOKUP(A2377,Articoli!$1:$48422,2,FALSE)),\"Codice Errato\",VLOOKUP(A2377,Articoli!$1:$48422,2,FALSE)))","v":""},null,0,"        ","        ;",0,"      ","      ",""]
[null,{"$f":"IF(A2378=\"\",\"\",IF(ISERROR(VLOOKUP(A2378,Articoli!$1:$48422,2,FALSE)),\"Codice Errato\",VLOOKUP(A2378,Articoli!$1:$48422,2,FALSE)))","v":""},null,0,"        ","        ;",0,"      ","      ",""]
[null,{"$f":"IF(A2379=\"\",\"\",IF(ISERROR(VLOOKUP(A2379,Articoli!$1:$48422,2,FALSE)),\"Codice Errato\",VLOOKUP(A2379,Articoli!$1:$48422,2,FALSE)))","v":""},null,0,"        ","        ;",0,"      ","      ",""]
[null,{"$f":"IF(A2380=\"\",\"\",IF(ISERROR(VLOOKUP(A2380,Articoli!$1:$48422,2,FALSE)),\"Codice Errato\",VLOOKUP(A2380,Articoli!$1:$48422,2,FALSE)))","v":""},null,0,"        ","        ;",0,"      ","      ",""]
[null,{"$f":"IF(A2381=\"\",\"\",IF(ISERROR(VLOOKUP(A2381,Articoli!$1:$48422,2,FALSE)),\"Codice Errato\",VLOOKUP(A2381,Articoli!$1:$48422,2,FALSE)))","v":""},null,0,"        ","        ;",0,"      ","      ",""]
[null,{"$f":"IF(A2382=\"\",\"\",IF(ISERROR(VLOOKUP(A2382,Articoli!$1:$48422,2,FALSE)),\"Codice Errato\",VLOOKUP(A2382,Articoli!$1:$48422,2,FALSE)))","v":""},null,0,"        ","        ;",0,"      ","      ",""]
[null,{"$f":"IF(A2383=\"\",\"\",IF(ISERROR(VLOOKUP(A2383,Articoli!$1:$48422,2,FALSE)),\"Codice Errato\",VLOOKUP(A2383,Articoli!$1:$48422,2,FALSE)))","v":""},null,0,"        ","        ;",0,"      ","      ",""]
[null,{"$f":"IF(A2384=\"\",\"\",IF(ISERROR(VLOOKUP(A2384,Articoli!$1:$48422,2,FALSE)),\"Codice Errato\",VLOOKUP(A2384,Articoli!$1:$48422,2,FALSE)))","v":""},null,0,"        ","        ;",0,"      ","      ",""]
[null,{"$f":"IF(A2385=\"\",\"\",IF(ISERROR(VLOOKUP(A2385,Articoli!$1:$48422,2,FALSE)),\"Codice Errato\",VLOOKUP(A2385,Articoli!$1:$48422,2,FALSE)))","v":""},null,0,"        ","        ;",0,"      ","      ",""]
[null,{"$f":"IF(A2386=\"\",\"\",IF(ISERROR(VLOOKUP(A2386,Articoli!$1:$48422,2,FALSE)),\"Codice Errato\",VLOOKUP(A2386,Articoli!$1:$48422,2,FALSE)))","v":""},null,0,"        ","        ;",0,"      ","      ",""]
[null,{"$f":"IF(A2387=\"\",\"\",IF(ISERROR(VLOOKUP(A2387,Articoli!$1:$48422,2,FALSE)),\"Codice Errato\",VLOOKUP(A2387,Articoli!$1:$48422,2,FALSE)))","v":""},null,0,"        ","        ;",0,"      ","      ",""]
[null,{"$f":"IF(A2388=\"\",\"\",IF(ISERROR(VLOOKUP(A2388,Articoli!$1:$48422,2,FALSE)),\"Codice Errato\",VLOOKUP(A2388,Articoli!$1:$48422,2,FALSE)))","v":""},null,0,"        ","        ;",0,"      ","      ",""]
[null,{"$f":"IF(A2389=\"\",\"\",IF(ISERROR(VLOOKUP(A2389,Articoli!$1:$48422,2,FALSE)),\"Codice Errato\",VLOOKUP(A2389,Articoli!$1:$48422,2,FALSE)))","v":""},null,0,"        ","        ;",0,"      ","      ",""]
[null,{"$f":"IF(A2390=\"\",\"\",IF(ISERROR(VLOOKUP(A2390,Articoli!$1:$48422,2,FALSE)),\"Codice Errato\",VLOOKUP(A2390,Articoli!$1:$48422,2,FALSE)))","v":""},null,0,"        ","        ;",0,"      ","      ",""]
[null,{"$f":"IF(A2391=\"\",\"\",IF(ISERROR(VLOOKUP(A2391,Articoli!$1:$48422,2,FALSE)),\"Codice Errato\",VLOOKUP(A2391,Articoli!$1:$48422,2,FALSE)))","v":""},null,0,"        ","        ;",0,"      ","      ",""]
[null,{"$f":"IF(A2392=\"\",\"\",IF(ISERROR(VLOOKUP(A2392,Articoli!$1:$48422,2,FALSE)),\"Codice Errato\",VLOOKUP(A2392,Articoli!$1:$48422,2,FALSE)))","v":""},null,0,"        ","        ;",0,"      ","      ",""]
[null,{"$f":"IF(A2393=\"\",\"\",IF(ISERROR(VLOOKUP(A2393,Articoli!$1:$48422,2,FALSE)),\"Codice Errato\",VLOOKUP(A2393,Articoli!$1:$48422,2,FALSE)))","v":""},null,0,"        ","        ;",0,"      ","      ",""]
[null,{"$f":"IF(A2394=\"\",\"\",IF(ISERROR(VLOOKUP(A2394,Articoli!$1:$48422,2,FALSE)),\"Codice Errato\",VLOOKUP(A2394,Articoli!$1:$48422,2,FALSE)))","v":""},null,0,"        ","        ;",0,"      ","      ",""]
[null,{"$f":"IF(A2395=\"\",\"\",IF(ISERROR(VLOOKUP(A2395,Articoli!$1:$48422,2,FALSE)),\"Codice Errato\",VLOOKUP(A2395,Articoli!$1:$48422,2,FALSE)))","v":""},null,0,"        ","        ;",0,"      ","      ",""]
[null,{"$f":"IF(A2396=\"\",\"\",IF(ISERROR(VLOOKUP(A2396,Articoli!$1:$48422,2,FALSE)),\"Codice Errato\",VLOOKUP(A2396,Articoli!$1:$48422,2,FALSE)))","v":""},null,0,"        ","        ;",0,"      ","      ",""]
[null,{"$f":"IF(A2397=\"\",\"\",IF(ISERROR(VLOOKUP(A2397,Articoli!$1:$48422,2,FALSE)),\"Codice Errato\",VLOOKUP(A2397,Articoli!$1:$48422,2,FALSE)))","v":""},null,0,"        ","        ;",0,"      ","      ",""]
[null,{"$f":"IF(A2398=\"\",\"\",IF(ISERROR(VLOOKUP(A2398,Articoli!$1:$48422,2,FALSE)),\"Codice Errato\",VLOOKUP(A2398,Articoli!$1:$48422,2,FALSE)))","v":""},null,0,"        ","        ;",0,"      ","      ",""]
[null,{"$f":"IF(A2399=\"\",\"\",IF(ISERROR(VLOOKUP(A2399,Articoli!$1:$48422,2,FALSE)),\"Codice Errato\",VLOOKUP(A2399,Articoli!$1:$48422,2,FALSE)))","v":""},null,0,"        ","        ;",0,"      ","      ",""]
[null,{"$f":"IF(A2400=\"\",\"\",IF(ISERROR(VLOOKUP(A2400,Articoli!$1:$48422,2,FALSE)),\"Codice Errato\",VLOOKUP(A2400,Articoli!$1:$48422,2,FALSE)))","v":""},null,0,"        ","        ;",0,"      ","      ",{"$f":"IF(C2400=\"\",\"\",CONCATENATE(F2400,I2400))","v":""}]
[null,{"$f":"IF(A2401=\"\",\"\",IF(ISERROR(VLOOKUP(A2401,Articoli!$1:$48422,2,FALSE)),\"Codice Errato\",VLOOKUP(A2401,Articoli!$1:$48422,2,FALSE)))","v":""},null,0,"        ","        ;",0,"      ","      ",""]
[null,{"$f":"IF(A2402=\"\",\"\",IF(ISERROR(VLOOKUP(A2402,Articoli!$1:$48422,2,FALSE)),\"Codice Errato\",VLOOKUP(A2402,Articoli!$1:$48422,2,FALSE)))","v":""},null,0,"        ","        ;",0,"      ","      ",""]
[null,{"$f":"IF(A2403=\"\",\"\",IF(ISERROR(VLOOKUP(A2403,Articoli!$1:$48422,2,FALSE)),\"Codice Errato\",VLOOKUP(A2403,Articoli!$1:$48422,2,FALSE)))","v":""},null,0,"        ","        ;",0,"      ","      ",""]
[null,{"$f":"IF(A2404=\"\",\"\",IF(ISERROR(VLOOKUP(A2404,Articoli!$1:$48422,2,FALSE)),\"Codice Errato\",VLOOKUP(A2404,Articoli!$1:$48422,2,FALSE)))","v":""},null,0,"        ","        ;",0,"      ","      ",""]
[null,{"$f":"IF(A2405=\"\",\"\",IF(ISERROR(VLOOKUP(A2405,Articoli!$1:$48422,2,FALSE)),\"Codice Errato\",VLOOKUP(A2405,Articoli!$1:$48422,2,FALSE)))","v":""},null,0,"        ","        ;",0,"      ","      ",""]
[null,{"$f":"IF(A2406=\"\",\"\",IF(ISERROR(VLOOKUP(A2406,Articoli!$1:$48422,2,FALSE)),\"Codice Errato\",VLOOKUP(A2406,Articoli!$1:$48422,2,FALSE)))","v":""},null,0,"        ","        ;",0,"      ","      ",""]
[null,{"$f":"IF(A2407=\"\",\"\",IF(ISERROR(VLOOKUP(A2407,Articoli!$1:$48422,2,FALSE)),\"Codice Errato\",VLOOKUP(A2407,Articoli!$1:$48422,2,FALSE)))","v":""},null,0,"        ","        ;",0,"      ","      ",""]
[null,{"$f":"IF(A2408=\"\",\"\",IF(ISERROR(VLOOKUP(A2408,Articoli!$1:$48422,2,FALSE)),\"Codice Errato\",VLOOKUP(A2408,Articoli!$1:$48422,2,FALSE)))","v":""},null,0,"        ","        ;",0,"      ","      ",""]
[null,{"$f":"IF(A2409=\"\",\"\",IF(ISERROR(VLOOKUP(A2409,Articoli!$1:$48422,2,FALSE)),\"Codice Errato\",VLOOKUP(A2409,Articoli!$1:$48422,2,FALSE)))","v":""},null,0,"        ","        ;",0,"      ","      ",""]
[null,{"$f":"IF(A2410=\"\",\"\",IF(ISERROR(VLOOKUP(A2410,Articoli!$1:$48422,2,FALSE)),\"Codice Errato\",VLOOKUP(A2410,Articoli!$1:$48422,2,FALSE)))","v":""},null,0,"        ","        ;",0,"      ","      ",""]
[null,{"$f":"IF(A2411=\"\",\"\",IF(ISERROR(VLOOKUP(A2411,Articoli!$1:$48422,2,FALSE)),\"Codice Errato\",VLOOKUP(A2411,Articoli!$1:$48422,2,FALSE)))","v":""},null,0,"        ","        ;",0,"      ","      ",""]
[null,{"$f":"IF(A2412=\"\",\"\",IF(ISERROR(VLOOKUP(A2412,Articoli!$1:$48422,2,FALSE)),\"Codice Errato\",VLOOKUP(A2412,Articoli!$1:$48422,2,FALSE)))","v":""},null,0,"        ","        ;",0,"      ","      ",""]
[null,{"$f":"IF(A2413=\"\",\"\",IF(ISERROR(VLOOKUP(A2413,Articoli!$1:$48422,2,FALSE)),\"Codice Errato\",VLOOKUP(A2413,Articoli!$1:$48422,2,FALSE)))","v":""},null,0,"        ","        ;",0,"      ","      ",""]
[null,{"$f":"IF(A2414=\"\",\"\",IF(ISERROR(VLOOKUP(A2414,Articoli!$1:$48422,2,FALSE)),\"Codice Errato\",VLOOKUP(A2414,Articoli!$1:$48422,2,FALSE)))","v":""},null,0,"        ","        ;",0,"      ","      ",""]
[null,{"$f":"IF(A2415=\"\",\"\",IF(ISERROR(VLOOKUP(A2415,Articoli!$1:$48422,2,FALSE)),\"Codice Errato\",VLOOKUP(A2415,Articoli!$1:$48422,2,FALSE)))","v":""},null,0,"        ","        ;",0,"      ","      ",""]
[null,{"$f":"IF(A2416=\"\",\"\",IF(ISERROR(VLOOKUP(A2416,Articoli!$1:$48422,2,FALSE)),\"Codice Errato\",VLOOKUP(A2416,Articoli!$1:$48422,2,FALSE)))","v":""},null,0,"        ","        ;",0,"      ","      ",""]
[null,{"$f":"IF(A2417=\"\",\"\",IF(ISERROR(VLOOKUP(A2417,Articoli!$1:$48422,2,FALSE)),\"Codice Errato\",VLOOKUP(A2417,Articoli!$1:$48422,2,FALSE)))","v":""},null,0,"        ","        ;",0,"      ","      ",""]
[null,{"$f":"IF(A2418=\"\",\"\",IF(ISERROR(VLOOKUP(A2418,Articoli!$1:$48422,2,FALSE)),\"Codice Errato\",VLOOKUP(A2418,Articoli!$1:$48422,2,FALSE)))","v":""},null,{"$f":"LEN(A2418)","v":0},{"$f":"REPT(\" \",8-D2418)","v":"        "},{"$f":"CONCATENATE(A2418,E2418,\";\",)","v":"        ;"},{"$f":"LEN(C2418)","v":0},{"$f":"REPT(\" \",6-G2418)","v":"      "},{"$f":"CONCATENATE(H2418,C2418,)","v":"      "},""]
[null,{"$f":"IF(A2419=\"\",\"\",IF(ISERROR(VLOOKUP(A2419,Articoli!$1:$48422,2,FALSE)),\"Codice Errato\",VLOOKUP(A2419,Articoli!$1:$48422,2,FALSE)))","v":""},null,0,"        ","        ;",0,"      ","      ",""]
[null,{"$f":"IF(A2420=\"\",\"\",IF(ISERROR(VLOOKUP(A2420,Articoli!$1:$48422,2,FALSE)),\"Codice Errato\",VLOOKUP(A2420,Articoli!$1:$48422,2,FALSE)))","v":""},null,0,"        ","        ;",0,"      ","      ",""]
[null,{"$f":"IF(A2421=\"\",\"\",IF(ISERROR(VLOOKUP(A2421,Articoli!$1:$48422,2,FALSE)),\"Codice Errato\",VLOOKUP(A2421,Articoli!$1:$48422,2,FALSE)))","v":""},null,0,"        ","        ;",0,"      ","      ",""]
[null,{"$f":"IF(A2422=\"\",\"\",IF(ISERROR(VLOOKUP(A2422,Articoli!$1:$48422,2,FALSE)),\"Codice Errato\",VLOOKUP(A2422,Articoli!$1:$48422,2,FALSE)))","v":""},null,0,"        ","        ;",0,"      ","      ",""]
[null,{"$f":"IF(A2423=\"\",\"\",IF(ISERROR(VLOOKUP(A2423,Articoli!$1:$48422,2,FALSE)),\"Codice Errato\",VLOOKUP(A2423,Articoli!$1:$48422,2,FALSE)))","v":""},null,0,"        ","        ;",0,"      ","      ",""]
[null,{"$f":"IF(A2424=\"\",\"\",IF(ISERROR(VLOOKUP(A2424,Articoli!$1:$48422,2,FALSE)),\"Codice Errato\",VLOOKUP(A2424,Articoli!$1:$48422,2,FALSE)))","v":""},null,0,"        ","        ;",0,"      ","      ",""]
[null,{"$f":"IF(A2425=\"\",\"\",IF(ISERROR(VLOOKUP(A2425,Articoli!$1:$48422,2,FALSE)),\"Codice Errato\",VLOOKUP(A2425,Articoli!$1:$48422,2,FALSE)))","v":""},null,0,"        ","        ;",0,"      ","      ",""]
[null,{"$f":"IF(A2426=\"\",\"\",IF(ISERROR(VLOOKUP(A2426,Articoli!$1:$48422,2,FALSE)),\"Codice Errato\",VLOOKUP(A2426,Articoli!$1:$48422,2,FALSE)))","v":""},null,0,"        ","        ;",0,"      ","      ",""]
[null,{"$f":"IF(A2427=\"\",\"\",IF(ISERROR(VLOOKUP(A2427,Articoli!$1:$48422,2,FALSE)),\"Codice Errato\",VLOOKUP(A2427,Articoli!$1:$48422,2,FALSE)))","v":""},null,0,"        ","        ;",0,"      ","      ",""]
[null,{"$f":"IF(A2428=\"\",\"\",IF(ISERROR(VLOOKUP(A2428,Articoli!$1:$48422,2,FALSE)),\"Codice Errato\",VLOOKUP(A2428,Articoli!$1:$48422,2,FALSE)))","v":""},null,0,"        ","        ;",0,"      ","      ",""]
[null,{"$f":"IF(A2429=\"\",\"\",IF(ISERROR(VLOOKUP(A2429,Articoli!$1:$48422,2,FALSE)),\"Codice Errato\",VLOOKUP(A2429,Articoli!$1:$48422,2,FALSE)))","v":""},null,0,"        ","        ;",0,"      ","      ",""]
[null,{"$f":"IF(A2430=\"\",\"\",IF(ISERROR(VLOOKUP(A2430,Articoli!$1:$48422,2,FALSE)),\"Codice Errato\",VLOOKUP(A2430,Articoli!$1:$48422,2,FALSE)))","v":""},null,0,"        ","        ;",0,"      ","      ",""]
[null,{"$f":"IF(A2431=\"\",\"\",IF(ISERROR(VLOOKUP(A2431,Articoli!$1:$48422,2,FALSE)),\"Codice Errato\",VLOOKUP(A2431,Articoli!$1:$48422,2,FALSE)))","v":""},null,0,"        ","        ;",0,"      ","      ",""]
[null,{"$f":"IF(A2432=\"\",\"\",IF(ISERROR(VLOOKUP(A2432,Articoli!$1:$48422,2,FALSE)),\"Codice Errato\",VLOOKUP(A2432,Articoli!$1:$48422,2,FALSE)))","v":""},null,0,"        ","        ;",0,"      ","      ",""]
[null,{"$f":"IF(A2433=\"\",\"\",IF(ISERROR(VLOOKUP(A2433,Articoli!$1:$48422,2,FALSE)),\"Codice Errato\",VLOOKUP(A2433,Articoli!$1:$48422,2,FALSE)))","v":""},null,0,"        ","        ;",0,"      ","      ",""]
[null,{"$f":"IF(A2434=\"\",\"\",IF(ISERROR(VLOOKUP(A2434,Articoli!$1:$48422,2,FALSE)),\"Codice Errato\",VLOOKUP(A2434,Articoli!$1:$48422,2,FALSE)))","v":""},null,0,"        ","        ;",0,"      ","      ",""]
[null,{"$f":"IF(A2435=\"\",\"\",IF(ISERROR(VLOOKUP(A2435,Articoli!$1:$48422,2,FALSE)),\"Codice Errato\",VLOOKUP(A2435,Articoli!$1:$48422,2,FALSE)))","v":""},null,0,"        ","        ;",0,"      ","      ",""]
[null,{"$f":"IF(A2436=\"\",\"\",IF(ISERROR(VLOOKUP(A2436,Articoli!$1:$48422,2,FALSE)),\"Codice Errato\",VLOOKUP(A2436,Articoli!$1:$48422,2,FALSE)))","v":""},null,0,"        ","        ;",0,"      ","      ",""]
[null,{"$f":"IF(A2437=\"\",\"\",IF(ISERROR(VLOOKUP(A2437,Articoli!$1:$48422,2,FALSE)),\"Codice Errato\",VLOOKUP(A2437,Articoli!$1:$48422,2,FALSE)))","v":""},null,0,"        ","        ;",0,"      ","      ",""]
[null,{"$f":"IF(A2438=\"\",\"\",IF(ISERROR(VLOOKUP(A2438,Articoli!$1:$48422,2,FALSE)),\"Codice Errato\",VLOOKUP(A2438,Articoli!$1:$48422,2,FALSE)))","v":""},null,0,"        ","        ;",0,"      ","      ",""]
[null,{"$f":"IF(A2439=\"\",\"\",IF(ISERROR(VLOOKUP(A2439,Articoli!$1:$48422,2,FALSE)),\"Codice Errato\",VLOOKUP(A2439,Articoli!$1:$48422,2,FALSE)))","v":""},null,0,"        ","        ;",0,"      ","      ",""]
[null,{"$f":"IF(A2440=\"\",\"\",IF(ISERROR(VLOOKUP(A2440,Articoli!$1:$48422,2,FALSE)),\"Codice Errato\",VLOOKUP(A2440,Articoli!$1:$48422,2,FALSE)))","v":""},null,0,"        ","        ;",0,"      ","      ",""]
[null,{"$f":"IF(A2441=\"\",\"\",IF(ISERROR(VLOOKUP(A2441,Articoli!$1:$48422,2,FALSE)),\"Codice Errato\",VLOOKUP(A2441,Articoli!$1:$48422,2,FALSE)))","v":""},null,0,"        ","        ;",0,"      ","      ",""]
[null,{"$f":"IF(A2442=\"\",\"\",IF(ISERROR(VLOOKUP(A2442,Articoli!$1:$48422,2,FALSE)),\"Codice Errato\",VLOOKUP(A2442,Articoli!$1:$48422,2,FALSE)))","v":""},null,0,"        ","        ;",0,"      ","      ",""]
[null,{"$f":"IF(A2443=\"\",\"\",IF(ISERROR(VLOOKUP(A2443,Articoli!$1:$48422,2,FALSE)),\"Codice Errato\",VLOOKUP(A2443,Articoli!$1:$48422,2,FALSE)))","v":""},null,0,"        ","        ;",0,"      ","      ",""]
[null,{"$f":"IF(A2444=\"\",\"\",IF(ISERROR(VLOOKUP(A2444,Articoli!$1:$48422,2,FALSE)),\"Codice Errato\",VLOOKUP(A2444,Articoli!$1:$48422,2,FALSE)))","v":""},null,0,"        ","        ;",0,"      ","      ",""]
[null,{"$f":"IF(A2445=\"\",\"\",IF(ISERROR(VLOOKUP(A2445,Articoli!$1:$48422,2,FALSE)),\"Codice Errato\",VLOOKUP(A2445,Articoli!$1:$48422,2,FALSE)))","v":""},null,0,"        ","        ;",0,"      ","      ",""]
[null,{"$f":"IF(A2446=\"\",\"\",IF(ISERROR(VLOOKUP(A2446,Articoli!$1:$48422,2,FALSE)),\"Codice Errato\",VLOOKUP(A2446,Articoli!$1:$48422,2,FALSE)))","v":""},null,0,"        ","        ;",0,"      ","      ",""]
[null,{"$f":"IF(A2447=\"\",\"\",IF(ISERROR(VLOOKUP(A2447,Articoli!$1:$48422,2,FALSE)),\"Codice Errato\",VLOOKUP(A2447,Articoli!$1:$48422,2,FALSE)))","v":""},null,0,"        ","        ;",0,"      ","      ",""]
[null,{"$f":"IF(A2448=\"\",\"\",IF(ISERROR(VLOOKUP(A2448,Articoli!$1:$48422,2,FALSE)),\"Codice Errato\",VLOOKUP(A2448,Articoli!$1:$48422,2,FALSE)))","v":""},null,0,"        ","        ;",0,"      ","      ",""]
[null,{"$f":"IF(A2449=\"\",\"\",IF(ISERROR(VLOOKUP(A2449,Articoli!$1:$48422,2,FALSE)),\"Codice Errato\",VLOOKUP(A2449,Articoli!$1:$48422,2,FALSE)))","v":""},null,0,"        ","        ;",0,"      ","      ",""]
[null,{"$f":"IF(A2450=\"\",\"\",IF(ISERROR(VLOOKUP(A2450,Articoli!$1:$48422,2,FALSE)),\"Codice Errato\",VLOOKUP(A2450,Articoli!$1:$48422,2,FALSE)))","v":""},null,0,"        ","        ;",0,"      ","      ",""]
[null,{"$f":"IF(A2451=\"\",\"\",IF(ISERROR(VLOOKUP(A2451,Articoli!$1:$48422,2,FALSE)),\"Codice Errato\",VLOOKUP(A2451,Articoli!$1:$48422,2,FALSE)))","v":""},null,0,"        ","        ;",0,"      ","      ",""]
[null,{"$f":"IF(A2452=\"\",\"\",IF(ISERROR(VLOOKUP(A2452,Articoli!$1:$48422,2,FALSE)),\"Codice Errato\",VLOOKUP(A2452,Articoli!$1:$48422,2,FALSE)))","v":""},null,0,"        ","        ;",0,"      ","      ",""]
[null,{"$f":"IF(A2453=\"\",\"\",IF(ISERROR(VLOOKUP(A2453,Articoli!$1:$48422,2,FALSE)),\"Codice Errato\",VLOOKUP(A2453,Articoli!$1:$48422,2,FALSE)))","v":""},null,0,"        ","        ;",0,"      ","      ",""]
[null,{"$f":"IF(A2454=\"\",\"\",IF(ISERROR(VLOOKUP(A2454,Articoli!$1:$48422,2,FALSE)),\"Codice Errato\",VLOOKUP(A2454,Articoli!$1:$48422,2,FALSE)))","v":""},null,0,"        ","        ;",0,"      ","      ",""]
[null,{"$f":"IF(A2455=\"\",\"\",IF(ISERROR(VLOOKUP(A2455,Articoli!$1:$48422,2,FALSE)),\"Codice Errato\",VLOOKUP(A2455,Articoli!$1:$48422,2,FALSE)))","v":""},null,0,"        ","        ;",0,"      ","      ",""]
[null,{"$f":"IF(A2456=\"\",\"\",IF(ISERROR(VLOOKUP(A2456,Articoli!$1:$48422,2,FALSE)),\"Codice Errato\",VLOOKUP(A2456,Articoli!$1:$48422,2,FALSE)))","v":""},null,0,"        ","        ;",0,"      ","      ",""]
[null,{"$f":"IF(A2457=\"\",\"\",IF(ISERROR(VLOOKUP(A2457,Articoli!$1:$48422,2,FALSE)),\"Codice Errato\",VLOOKUP(A2457,Articoli!$1:$48422,2,FALSE)))","v":""},null,0,"        ","        ;",0,"      ","      ",""]
[null,{"$f":"IF(A2458=\"\",\"\",IF(ISERROR(VLOOKUP(A2458,Articoli!$1:$48422,2,FALSE)),\"Codice Errato\",VLOOKUP(A2458,Articoli!$1:$48422,2,FALSE)))","v":""},null,0,"        ","        ;",0,"      ","      ",""]
[null,{"$f":"IF(A2459=\"\",\"\",IF(ISERROR(VLOOKUP(A2459,Articoli!$1:$48422,2,FALSE)),\"Codice Errato\",VLOOKUP(A2459,Articoli!$1:$48422,2,FALSE)))","v":""},null,0,"        ","        ;",0,"      ","      ",""]
[null,{"$f":"IF(A2460=\"\",\"\",IF(ISERROR(VLOOKUP(A2460,Articoli!$1:$48422,2,FALSE)),\"Codice Errato\",VLOOKUP(A2460,Articoli!$1:$48422,2,FALSE)))","v":""},null,0,"        ","        ;",0,"      ","      ",""]
[null,{"$f":"IF(A2461=\"\",\"\",IF(ISERROR(VLOOKUP(A2461,Articoli!$1:$48422,2,FALSE)),\"Codice Errato\",VLOOKUP(A2461,Articoli!$1:$48422,2,FALSE)))","v":""},null,0,"        ","        ;",0,"      ","      ",""]
[null,{"$f":"IF(A2462=\"\",\"\",IF(ISERROR(VLOOKUP(A2462,Articoli!$1:$48422,2,FALSE)),\"Codice Errato\",VLOOKUP(A2462,Articoli!$1:$48422,2,FALSE)))","v":""},null,0,"        ","        ;",0,"      ","      ",""]
[null,{"$f":"IF(A2463=\"\",\"\",IF(ISERROR(VLOOKUP(A2463,Articoli!$1:$48422,2,FALSE)),\"Codice Errato\",VLOOKUP(A2463,Articoli!$1:$48422,2,FALSE)))","v":""},null,0,"        ","        ;",0,"      ","      ",""]
[null,{"$f":"IF(A2464=\"\",\"\",IF(ISERROR(VLOOKUP(A2464,Articoli!$1:$48422,2,FALSE)),\"Codice Errato\",VLOOKUP(A2464,Articoli!$1:$48422,2,FALSE)))","v":""},null,0,"        ","        ;",0,"      ","      ",{"$f":"IF(C2464=\"\",\"\",CONCATENATE(F2464,I2464))","v":""}]
[null,{"$f":"IF(A2465=\"\",\"\",IF(ISERROR(VLOOKUP(A2465,Articoli!$1:$48422,2,FALSE)),\"Codice Errato\",VLOOKUP(A2465,Articoli!$1:$48422,2,FALSE)))","v":""},null,0,"        ","        ;",0,"      ","      ",""]
[null,{"$f":"IF(A2466=\"\",\"\",IF(ISERROR(VLOOKUP(A2466,Articoli!$1:$48422,2,FALSE)),\"Codice Errato\",VLOOKUP(A2466,Articoli!$1:$48422,2,FALSE)))","v":""},null,0,"        ","        ;",0,"      ","      ",""]
[null,{"$f":"IF(A2467=\"\",\"\",IF(ISERROR(VLOOKUP(A2467,Articoli!$1:$48422,2,FALSE)),\"Codice Errato\",VLOOKUP(A2467,Articoli!$1:$48422,2,FALSE)))","v":""},null,0,"        ","        ;",0,"      ","      ",""]
[null,{"$f":"IF(A2468=\"\",\"\",IF(ISERROR(VLOOKUP(A2468,Articoli!$1:$48422,2,FALSE)),\"Codice Errato\",VLOOKUP(A2468,Articoli!$1:$48422,2,FALSE)))","v":""},null,0,"        ","        ;",0,"      ","      ",""]
[null,{"$f":"IF(A2469=\"\",\"\",IF(ISERROR(VLOOKUP(A2469,Articoli!$1:$48422,2,FALSE)),\"Codice Errato\",VLOOKUP(A2469,Articoli!$1:$48422,2,FALSE)))","v":""},null,0,"        ","        ;",0,"      ","      ",""]
[null,{"$f":"IF(A2470=\"\",\"\",IF(ISERROR(VLOOKUP(A2470,Articoli!$1:$48422,2,FALSE)),\"Codice Errato\",VLOOKUP(A2470,Articoli!$1:$48422,2,FALSE)))","v":""},null,0,"        ","        ;",0,"      ","      ",""]
[null,{"$f":"IF(A2471=\"\",\"\",IF(ISERROR(VLOOKUP(A2471,Articoli!$1:$48422,2,FALSE)),\"Codice Errato\",VLOOKUP(A2471,Articoli!$1:$48422,2,FALSE)))","v":""},null,0,"        ","        ;",0,"      ","      ",""]
[null,{"$f":"IF(A2472=\"\",\"\",IF(ISERROR(VLOOKUP(A2472,Articoli!$1:$48422,2,FALSE)),\"Codice Errato\",VLOOKUP(A2472,Articoli!$1:$48422,2,FALSE)))","v":""},null,0,"        ","        ;",0,"      ","      ",""]
[null,{"$f":"IF(A2473=\"\",\"\",IF(ISERROR(VLOOKUP(A2473,Articoli!$1:$48422,2,FALSE)),\"Codice Errato\",VLOOKUP(A2473,Articoli!$1:$48422,2,FALSE)))","v":""},null,0,"        ","        ;",0,"      ","      ",""]
[null,{"$f":"IF(A2474=\"\",\"\",IF(ISERROR(VLOOKUP(A2474,Articoli!$1:$48422,2,FALSE)),\"Codice Errato\",VLOOKUP(A2474,Articoli!$1:$48422,2,FALSE)))","v":""},null,0,"        ","        ;",0,"      ","      ",""]
[null,{"$f":"IF(A2475=\"\",\"\",IF(ISERROR(VLOOKUP(A2475,Articoli!$1:$48422,2,FALSE)),\"Codice Errato\",VLOOKUP(A2475,Articoli!$1:$48422,2,FALSE)))","v":""},null,0,"        ","        ;",0,"      ","      ",""]
[null,{"$f":"IF(A2476=\"\",\"\",IF(ISERROR(VLOOKUP(A2476,Articoli!$1:$48422,2,FALSE)),\"Codice Errato\",VLOOKUP(A2476,Articoli!$1:$48422,2,FALSE)))","v":""},null,0,"        ","        ;",0,"      ","      ",""]
[null,{"$f":"IF(A2477=\"\",\"\",IF(ISERROR(VLOOKUP(A2477,Articoli!$1:$48422,2,FALSE)),\"Codice Errato\",VLOOKUP(A2477,Articoli!$1:$48422,2,FALSE)))","v":""},null,0,"        ","        ;",0,"      ","      ",""]
[null,{"$f":"IF(A2478=\"\",\"\",IF(ISERROR(VLOOKUP(A2478,Articoli!$1:$48422,2,FALSE)),\"Codice Errato\",VLOOKUP(A2478,Articoli!$1:$48422,2,FALSE)))","v":""},null,0,"        ","        ;",0,"      ","      ",""]
[null,{"$f":"IF(A2479=\"\",\"\",IF(ISERROR(VLOOKUP(A2479,Articoli!$1:$48422,2,FALSE)),\"Codice Errato\",VLOOKUP(A2479,Articoli!$1:$48422,2,FALSE)))","v":""},null,0,"        ","        ;",0,"      ","      ",""]
[null,{"$f":"IF(A2480=\"\",\"\",IF(ISERROR(VLOOKUP(A2480,Articoli!$1:$48422,2,FALSE)),\"Codice Errato\",VLOOKUP(A2480,Articoli!$1:$48422,2,FALSE)))","v":""},null,0,"        ","        ;",0,"      ","      ",""]
[null,{"$f":"IF(A2481=\"\",\"\",IF(ISERROR(VLOOKUP(A2481,Articoli!$1:$48422,2,FALSE)),\"Codice Errato\",VLOOKUP(A2481,Articoli!$1:$48422,2,FALSE)))","v":""},null,0,"        ","        ;",0,"      ","      ",""]
[null,{"$f":"IF(A2482=\"\",\"\",IF(ISERROR(VLOOKUP(A2482,Articoli!$1:$48422,2,FALSE)),\"Codice Errato\",VLOOKUP(A2482,Articoli!$1:$48422,2,FALSE)))","v":""},null,{"$f":"LEN(A2482)","v":0},{"$f":"REPT(\" \",8-D2482)","v":"        "},{"$f":"CONCATENATE(A2482,E2482,\";\",)","v":"        ;"},{"$f":"LEN(C2482)","v":0},{"$f":"REPT(\" \",6-G2482)","v":"      "},{"$f":"CONCATENATE(H2482,C2482,)","v":"      "},""]
[null,{"$f":"IF(A2483=\"\",\"\",IF(ISERROR(VLOOKUP(A2483,Articoli!$1:$48422,2,FALSE)),\"Codice Errato\",VLOOKUP(A2483,Articoli!$1:$48422,2,FALSE)))","v":""},null,0,"        ","        ;",0,"      ","      ",""]
[null,{"$f":"IF(A2484=\"\",\"\",IF(ISERROR(VLOOKUP(A2484,Articoli!$1:$48422,2,FALSE)),\"Codice Errato\",VLOOKUP(A2484,Articoli!$1:$48422,2,FALSE)))","v":""},null,0,"        ","        ;",0,"      ","      ",""]
[null,{"$f":"IF(A2485=\"\",\"\",IF(ISERROR(VLOOKUP(A2485,Articoli!$1:$48422,2,FALSE)),\"Codice Errato\",VLOOKUP(A2485,Articoli!$1:$48422,2,FALSE)))","v":""},null,0,"        ","        ;",0,"      ","      ",""]
[null,{"$f":"IF(A2486=\"\",\"\",IF(ISERROR(VLOOKUP(A2486,Articoli!$1:$48422,2,FALSE)),\"Codice Errato\",VLOOKUP(A2486,Articoli!$1:$48422,2,FALSE)))","v":""},null,0,"        ","        ;",0,"      ","      ",""]
[null,{"$f":"IF(A2487=\"\",\"\",IF(ISERROR(VLOOKUP(A2487,Articoli!$1:$48422,2,FALSE)),\"Codice Errato\",VLOOKUP(A2487,Articoli!$1:$48422,2,FALSE)))","v":""},null,0,"        ","        ;",0,"      ","      ",""]
[null,{"$f":"IF(A2488=\"\",\"\",IF(ISERROR(VLOOKUP(A2488,Articoli!$1:$48422,2,FALSE)),\"Codice Errato\",VLOOKUP(A2488,Articoli!$1:$48422,2,FALSE)))","v":""},null,0,"        ","        ;",0,"      ","      ",""]
[null,{"$f":"IF(A2489=\"\",\"\",IF(ISERROR(VLOOKUP(A2489,Articoli!$1:$48422,2,FALSE)),\"Codice Errato\",VLOOKUP(A2489,Articoli!$1:$48422,2,FALSE)))","v":""},null,0,"        ","        ;",0,"      ","      ",""]
[null,{"$f":"IF(A2490=\"\",\"\",IF(ISERROR(VLOOKUP(A2490,Articoli!$1:$48422,2,FALSE)),\"Codice Errato\",VLOOKUP(A2490,Articoli!$1:$48422,2,FALSE)))","v":""},null,0,"        ","        ;",0,"      ","      ",""]
[null,{"$f":"IF(A2491=\"\",\"\",IF(ISERROR(VLOOKUP(A2491,Articoli!$1:$48422,2,FALSE)),\"Codice Errato\",VLOOKUP(A2491,Articoli!$1:$48422,2,FALSE)))","v":""},null,0,"        ","        ;",0,"      ","      ",""]
[null,{"$f":"IF(A2492=\"\",\"\",IF(ISERROR(VLOOKUP(A2492,Articoli!$1:$48422,2,FALSE)),\"Codice Errato\",VLOOKUP(A2492,Articoli!$1:$48422,2,FALSE)))","v":""},null,0,"        ","        ;",0,"      ","      ",""]
[null,{"$f":"IF(A2493=\"\",\"\",IF(ISERROR(VLOOKUP(A2493,Articoli!$1:$48422,2,FALSE)),\"Codice Errato\",VLOOKUP(A2493,Articoli!$1:$48422,2,FALSE)))","v":""},null,0,"        ","        ;",0,"      ","      ",""]
[null,{"$f":"IF(A2494=\"\",\"\",IF(ISERROR(VLOOKUP(A2494,Articoli!$1:$48422,2,FALSE)),\"Codice Errato\",VLOOKUP(A2494,Articoli!$1:$48422,2,FALSE)))","v":""},null,0,"        ","        ;",0,"      ","      ",""]
[null,{"$f":"IF(A2495=\"\",\"\",IF(ISERROR(VLOOKUP(A2495,Articoli!$1:$48422,2,FALSE)),\"Codice Errato\",VLOOKUP(A2495,Articoli!$1:$48422,2,FALSE)))","v":""},null,0,"        ","        ;",0,"      ","      ",""]
[null,{"$f":"IF(A2496=\"\",\"\",IF(ISERROR(VLOOKUP(A2496,Articoli!$1:$48422,2,FALSE)),\"Codice Errato\",VLOOKUP(A2496,Articoli!$1:$48422,2,FALSE)))","v":""},null,0,"        ","        ;",0,"      ","      ",""]
[null,{"$f":"IF(A2497=\"\",\"\",IF(ISERROR(VLOOKUP(A2497,Articoli!$1:$48422,2,FALSE)),\"Codice Errato\",VLOOKUP(A2497,Articoli!$1:$48422,2,FALSE)))","v":""},null,0,"        ","        ;",0,"      ","      ",""]
[null,{"$f":"IF(A2498=\"\",\"\",IF(ISERROR(VLOOKUP(A2498,Articoli!$1:$48422,2,FALSE)),\"Codice Errato\",VLOOKUP(A2498,Articoli!$1:$48422,2,FALSE)))","v":""},null,0,"        ","        ;",0,"      ","      ",""]
[null,{"$f":"IF(A2499=\"\",\"\",IF(ISERROR(VLOOKUP(A2499,Articoli!$1:$48422,2,FALSE)),\"Codice Errato\",VLOOKUP(A2499,Articoli!$1:$48422,2,FALSE)))","v":""},null,0,"        ","        ;",0,"      ","      ",""]
[null,{"$f":"IF(A2500=\"\",\"\",IF(ISERROR(VLOOKUP(A2500,Articoli!$1:$48422,2,FALSE)),\"Codice Errato\",VLOOKUP(A2500,Articoli!$1:$48422,2,FALSE)))","v":""},null,0,"        ","        ;",0,"      ","      ",""]
[null,{"$f":"IF(A2501=\"\",\"\",IF(ISERROR(VLOOKUP(A2501,Articoli!$1:$48422,2,FALSE)),\"Codice Errato\",VLOOKUP(A2501,Articoli!$1:$48422,2,FALSE)))","v":""},null,0,"        ","        ;",0,"      ","      ",""]
[null,{"$f":"IF(A2502=\"\",\"\",IF(ISERROR(VLOOKUP(A2502,Articoli!$1:$48422,2,FALSE)),\"Codice Errato\",VLOOKUP(A2502,Articoli!$1:$48422,2,FALSE)))","v":""},null,0,"        ","        ;",0,"      ","      ",""]
[null,{"$f":"IF(A2503=\"\",\"\",IF(ISERROR(VLOOKUP(A2503,Articoli!$1:$48422,2,FALSE)),\"Codice Errato\",VLOOKUP(A2503,Articoli!$1:$48422,2,FALSE)))","v":""},null,0,"        ","        ;",0,"      ","      ",""]
[null,{"$f":"IF(A2504=\"\",\"\",IF(ISERROR(VLOOKUP(A2504,Articoli!$1:$48422,2,FALSE)),\"Codice Errato\",VLOOKUP(A2504,Articoli!$1:$48422,2,FALSE)))","v":""},null,0,"        ","        ;",0,"      ","      ",""]
[null,{"$f":"IF(A2505=\"\",\"\",IF(ISERROR(VLOOKUP(A2505,Articoli!$1:$48422,2,FALSE)),\"Codice Errato\",VLOOKUP(A2505,Articoli!$1:$48422,2,FALSE)))","v":""},null,0,"        ","        ;",0,"      ","      ",""]
[null,{"$f":"IF(A2506=\"\",\"\",IF(ISERROR(VLOOKUP(A2506,Articoli!$1:$48422,2,FALSE)),\"Codice Errato\",VLOOKUP(A2506,Articoli!$1:$48422,2,FALSE)))","v":""},null,0,"        ","        ;",0,"      ","      ",""]
[null,{"$f":"IF(A2507=\"\",\"\",IF(ISERROR(VLOOKUP(A2507,Articoli!$1:$48422,2,FALSE)),\"Codice Errato\",VLOOKUP(A2507,Articoli!$1:$48422,2,FALSE)))","v":""},null,0,"        ","        ;",0,"      ","      ",""]
[null,{"$f":"IF(A2508=\"\",\"\",IF(ISERROR(VLOOKUP(A2508,Articoli!$1:$48422,2,FALSE)),\"Codice Errato\",VLOOKUP(A2508,Articoli!$1:$48422,2,FALSE)))","v":""},null,0,"        ","        ;",0,"      ","      ",""]
[null,{"$f":"IF(A2509=\"\",\"\",IF(ISERROR(VLOOKUP(A2509,Articoli!$1:$48422,2,FALSE)),\"Codice Errato\",VLOOKUP(A2509,Articoli!$1:$48422,2,FALSE)))","v":""},null,0,"        ","        ;",0,"      ","      ",""]
[null,{"$f":"IF(A2510=\"\",\"\",IF(ISERROR(VLOOKUP(A2510,Articoli!$1:$48422,2,FALSE)),\"Codice Errato\",VLOOKUP(A2510,Articoli!$1:$48422,2,FALSE)))","v":""},null,0,"        ","        ;",0,"      ","      ",""]
[null,{"$f":"IF(A2511=\"\",\"\",IF(ISERROR(VLOOKUP(A2511,Articoli!$1:$48422,2,FALSE)),\"Codice Errato\",VLOOKUP(A2511,Articoli!$1:$48422,2,FALSE)))","v":""},null,0,"        ","        ;",0,"      ","      ",""]
[null,{"$f":"IF(A2512=\"\",\"\",IF(ISERROR(VLOOKUP(A2512,Articoli!$1:$48422,2,FALSE)),\"Codice Errato\",VLOOKUP(A2512,Articoli!$1:$48422,2,FALSE)))","v":""},null,0,"        ","        ;",0,"      ","      ",""]
[null,{"$f":"IF(A2513=\"\",\"\",IF(ISERROR(VLOOKUP(A2513,Articoli!$1:$48422,2,FALSE)),\"Codice Errato\",VLOOKUP(A2513,Articoli!$1:$48422,2,FALSE)))","v":""},null,0,"        ","        ;",0,"      ","      ",""]
[null,{"$f":"IF(A2514=\"\",\"\",IF(ISERROR(VLOOKUP(A2514,Articoli!$1:$48422,2,FALSE)),\"Codice Errato\",VLOOKUP(A2514,Articoli!$1:$48422,2,FALSE)))","v":""},null,0,"        ","        ;",0,"      ","      ",""]
[null,{"$f":"IF(A2515=\"\",\"\",IF(ISERROR(VLOOKUP(A2515,Articoli!$1:$48422,2,FALSE)),\"Codice Errato\",VLOOKUP(A2515,Articoli!$1:$48422,2,FALSE)))","v":""},null,0,"        ","        ;",0,"      ","      ",""]
[null,{"$f":"IF(A2516=\"\",\"\",IF(ISERROR(VLOOKUP(A2516,Articoli!$1:$48422,2,FALSE)),\"Codice Errato\",VLOOKUP(A2516,Articoli!$1:$48422,2,FALSE)))","v":""},null,0,"        ","        ;",0,"      ","      ",""]
[null,{"$f":"IF(A2517=\"\",\"\",IF(ISERROR(VLOOKUP(A2517,Articoli!$1:$48422,2,FALSE)),\"Codice Errato\",VLOOKUP(A2517,Articoli!$1:$48422,2,FALSE)))","v":""},null,0,"        ","        ;",0,"      ","      ",""]
[null,{"$f":"IF(A2518=\"\",\"\",IF(ISERROR(VLOOKUP(A2518,Articoli!$1:$48422,2,FALSE)),\"Codice Errato\",VLOOKUP(A2518,Articoli!$1:$48422,2,FALSE)))","v":""},null,0,"        ","        ;",0,"      ","      ",""]
[null,{"$f":"IF(A2519=\"\",\"\",IF(ISERROR(VLOOKUP(A2519,Articoli!$1:$48422,2,FALSE)),\"Codice Errato\",VLOOKUP(A2519,Articoli!$1:$48422,2,FALSE)))","v":""},null,0,"        ","        ;",0,"      ","      ",""]
[null,{"$f":"IF(A2520=\"\",\"\",IF(ISERROR(VLOOKUP(A2520,Articoli!$1:$48422,2,FALSE)),\"Codice Errato\",VLOOKUP(A2520,Articoli!$1:$48422,2,FALSE)))","v":""},null,0,"        ","        ;",0,"      ","      ",""]
[null,{"$f":"IF(A2521=\"\",\"\",IF(ISERROR(VLOOKUP(A2521,Articoli!$1:$48422,2,FALSE)),\"Codice Errato\",VLOOKUP(A2521,Articoli!$1:$48422,2,FALSE)))","v":""},null,0,"        ","        ;",0,"      ","      ",""]
[null,{"$f":"IF(A2522=\"\",\"\",IF(ISERROR(VLOOKUP(A2522,Articoli!$1:$48422,2,FALSE)),\"Codice Errato\",VLOOKUP(A2522,Articoli!$1:$48422,2,FALSE)))","v":""},null,0,"        ","        ;",0,"      ","      ",""]
[null,{"$f":"IF(A2523=\"\",\"\",IF(ISERROR(VLOOKUP(A2523,Articoli!$1:$48422,2,FALSE)),\"Codice Errato\",VLOOKUP(A2523,Articoli!$1:$48422,2,FALSE)))","v":""},null,0,"        ","        ;",0,"      ","      ",""]
[null,{"$f":"IF(A2524=\"\",\"\",IF(ISERROR(VLOOKUP(A2524,Articoli!$1:$48422,2,FALSE)),\"Codice Errato\",VLOOKUP(A2524,Articoli!$1:$48422,2,FALSE)))","v":""},null,0,"        ","        ;",0,"      ","      ",""]
[null,{"$f":"IF(A2525=\"\",\"\",IF(ISERROR(VLOOKUP(A2525,Articoli!$1:$48422,2,FALSE)),\"Codice Errato\",VLOOKUP(A2525,Articoli!$1:$48422,2,FALSE)))","v":""},null,0,"        ","        ;",0,"      ","      ",""]
[null,{"$f":"IF(A2526=\"\",\"\",IF(ISERROR(VLOOKUP(A2526,Articoli!$1:$48422,2,FALSE)),\"Codice Errato\",VLOOKUP(A2526,Articoli!$1:$48422,2,FALSE)))","v":""},null,0,"        ","        ;",0,"      ","      ",""]
[null,{"$f":"IF(A2527=\"\",\"\",IF(ISERROR(VLOOKUP(A2527,Articoli!$1:$48422,2,FALSE)),\"Codice Errato\",VLOOKUP(A2527,Articoli!$1:$48422,2,FALSE)))","v":""},null,0,"        ","        ;",0,"      ","      ",""]
[null,{"$f":"IF(A2528=\"\",\"\",IF(ISERROR(VLOOKUP(A2528,Articoli!$1:$48422,2,FALSE)),\"Codice Errato\",VLOOKUP(A2528,Articoli!$1:$48422,2,FALSE)))","v":""},null,0,"        ","        ;",0,"      ","      ",{"$f":"IF(C2528=\"\",\"\",CONCATENATE(F2528,I2528))","v":""}]
[null,{"$f":"IF(A2529=\"\",\"\",IF(ISERROR(VLOOKUP(A2529,Articoli!$1:$48422,2,FALSE)),\"Codice Errato\",VLOOKUP(A2529,Articoli!$1:$48422,2,FALSE)))","v":""},null,0,"        ","        ;",0,"      ","      ",""]
[null,{"$f":"IF(A2530=\"\",\"\",IF(ISERROR(VLOOKUP(A2530,Articoli!$1:$48422,2,FALSE)),\"Codice Errato\",VLOOKUP(A2530,Articoli!$1:$48422,2,FALSE)))","v":""},null,0,"        ","        ;",0,"      ","      ",""]
[null,{"$f":"IF(A2531=\"\",\"\",IF(ISERROR(VLOOKUP(A2531,Articoli!$1:$48422,2,FALSE)),\"Codice Errato\",VLOOKUP(A2531,Articoli!$1:$48422,2,FALSE)))","v":""},null,0,"        ","        ;",0,"      ","      ",""]
[null,{"$f":"IF(A2532=\"\",\"\",IF(ISERROR(VLOOKUP(A2532,Articoli!$1:$48422,2,FALSE)),\"Codice Errato\",VLOOKUP(A2532,Articoli!$1:$48422,2,FALSE)))","v":""},null,0,"        ","        ;",0,"      ","      ",""]
[null,{"$f":"IF(A2533=\"\",\"\",IF(ISERROR(VLOOKUP(A2533,Articoli!$1:$48422,2,FALSE)),\"Codice Errato\",VLOOKUP(A2533,Articoli!$1:$48422,2,FALSE)))","v":""},null,0,"        ","        ;",0,"      ","      ",""]
[null,{"$f":"IF(A2534=\"\",\"\",IF(ISERROR(VLOOKUP(A2534,Articoli!$1:$48422,2,FALSE)),\"Codice Errato\",VLOOKUP(A2534,Articoli!$1:$48422,2,FALSE)))","v":""},null,0,"        ","        ;",0,"      ","      ",""]
[null,{"$f":"IF(A2535=\"\",\"\",IF(ISERROR(VLOOKUP(A2535,Articoli!$1:$48422,2,FALSE)),\"Codice Errato\",VLOOKUP(A2535,Articoli!$1:$48422,2,FALSE)))","v":""},null,0,"        ","        ;",0,"      ","      ",""]
[null,{"$f":"IF(A2536=\"\",\"\",IF(ISERROR(VLOOKUP(A2536,Articoli!$1:$48422,2,FALSE)),\"Codice Errato\",VLOOKUP(A2536,Articoli!$1:$48422,2,FALSE)))","v":""},null,0,"        ","        ;",0,"      ","      ",""]
[null,{"$f":"IF(A2537=\"\",\"\",IF(ISERROR(VLOOKUP(A2537,Articoli!$1:$48422,2,FALSE)),\"Codice Errato\",VLOOKUP(A2537,Articoli!$1:$48422,2,FALSE)))","v":""},null,0,"        ","        ;",0,"      ","      ",""]
[null,{"$f":"IF(A2538=\"\",\"\",IF(ISERROR(VLOOKUP(A2538,Articoli!$1:$48422,2,FALSE)),\"Codice Errato\",VLOOKUP(A2538,Articoli!$1:$48422,2,FALSE)))","v":""},null,0,"        ","        ;",0,"      ","      ",""]
[null,{"$f":"IF(A2539=\"\",\"\",IF(ISERROR(VLOOKUP(A2539,Articoli!$1:$48422,2,FALSE)),\"Codice Errato\",VLOOKUP(A2539,Articoli!$1:$48422,2,FALSE)))","v":""},null,0,"        ","        ;",0,"      ","      ",""]
[null,{"$f":"IF(A2540=\"\",\"\",IF(ISERROR(VLOOKUP(A2540,Articoli!$1:$48422,2,FALSE)),\"Codice Errato\",VLOOKUP(A2540,Articoli!$1:$48422,2,FALSE)))","v":""},null,0,"        ","        ;",0,"      ","      ",""]
[null,{"$f":"IF(A2541=\"\",\"\",IF(ISERROR(VLOOKUP(A2541,Articoli!$1:$48422,2,FALSE)),\"Codice Errato\",VLOOKUP(A2541,Articoli!$1:$48422,2,FALSE)))","v":""},null,0,"        ","        ;",0,"      ","      ",""]
[null,{"$f":"IF(A2542=\"\",\"\",IF(ISERROR(VLOOKUP(A2542,Articoli!$1:$48422,2,FALSE)),\"Codice Errato\",VLOOKUP(A2542,Articoli!$1:$48422,2,FALSE)))","v":""},null,0,"        ","        ;",0,"      ","      ",""]
[null,{"$f":"IF(A2543=\"\",\"\",IF(ISERROR(VLOOKUP(A2543,Articoli!$1:$48422,2,FALSE)),\"Codice Errato\",VLOOKUP(A2543,Articoli!$1:$48422,2,FALSE)))","v":""},null,0,"        ","        ;",0,"      ","      ",""]
[null,{"$f":"IF(A2544=\"\",\"\",IF(ISERROR(VLOOKUP(A2544,Articoli!$1:$48422,2,FALSE)),\"Codice Errato\",VLOOKUP(A2544,Articoli!$1:$48422,2,FALSE)))","v":""},null,0,"        ","        ;",0,"      ","      ",""]
[null,{"$f":"IF(A2545=\"\",\"\",IF(ISERROR(VLOOKUP(A2545,Articoli!$1:$48422,2,FALSE)),\"Codice Errato\",VLOOKUP(A2545,Articoli!$1:$48422,2,FALSE)))","v":""},null,0,"        ","        ;",0,"      ","      ",""]
[null,{"$f":"IF(A2546=\"\",\"\",IF(ISERROR(VLOOKUP(A2546,Articoli!$1:$48422,2,FALSE)),\"Codice Errato\",VLOOKUP(A2546,Articoli!$1:$48422,2,FALSE)))","v":""},null,{"$f":"LEN(A2546)","v":0},{"$f":"REPT(\" \",8-D2546)","v":"        "},{"$f":"CONCATENATE(A2546,E2546,\";\",)","v":"        ;"},{"$f":"LEN(C2546)","v":0},{"$f":"REPT(\" \",6-G2546)","v":"      "},{"$f":"CONCATENATE(H2546,C2546,)","v":"      "},""]
[null,{"$f":"IF(A2547=\"\",\"\",IF(ISERROR(VLOOKUP(A2547,Articoli!$1:$48422,2,FALSE)),\"Codice Errato\",VLOOKUP(A2547,Articoli!$1:$48422,2,FALSE)))","v":""},null,0,"        ","        ;",0,"      ","      ",""]
[null,{"$f":"IF(A2548=\"\",\"\",IF(ISERROR(VLOOKUP(A2548,Articoli!$1:$48422,2,FALSE)),\"Codice Errato\",VLOOKUP(A2548,Articoli!$1:$48422,2,FALSE)))","v":""},null,0,"        ","        ;",0,"      ","      ",""]
[null,{"$f":"IF(A2549=\"\",\"\",IF(ISERROR(VLOOKUP(A2549,Articoli!$1:$48422,2,FALSE)),\"Codice Errato\",VLOOKUP(A2549,Articoli!$1:$48422,2,FALSE)))","v":""},null,0,"        ","        ;",0,"      ","      ",""]
[null,{"$f":"IF(A2550=\"\",\"\",IF(ISERROR(VLOOKUP(A2550,Articoli!$1:$48422,2,FALSE)),\"Codice Errato\",VLOOKUP(A2550,Articoli!$1:$48422,2,FALSE)))","v":""},null,0,"        ","        ;",0,"      ","      ",""]
[null,{"$f":"IF(A2551=\"\",\"\",IF(ISERROR(VLOOKUP(A2551,Articoli!$1:$48422,2,FALSE)),\"Codice Errato\",VLOOKUP(A2551,Articoli!$1:$48422,2,FALSE)))","v":""},null,0,"        ","        ;",0,"      ","      ",""]
[null,{"$f":"IF(A2552=\"\",\"\",IF(ISERROR(VLOOKUP(A2552,Articoli!$1:$48422,2,FALSE)),\"Codice Errato\",VLOOKUP(A2552,Articoli!$1:$48422,2,FALSE)))","v":""},null,0,"        ","        ;",0,"      ","      ",""]
[null,{"$f":"IF(A2553=\"\",\"\",IF(ISERROR(VLOOKUP(A2553,Articoli!$1:$48422,2,FALSE)),\"Codice Errato\",VLOOKUP(A2553,Articoli!$1:$48422,2,FALSE)))","v":""},null,0,"        ","        ;",0,"      ","      ",""]
[null,{"$f":"IF(A2554=\"\",\"\",IF(ISERROR(VLOOKUP(A2554,Articoli!$1:$48422,2,FALSE)),\"Codice Errato\",VLOOKUP(A2554,Articoli!$1:$48422,2,FALSE)))","v":""},null,0,"        ","        ;",0,"      ","      ",""]
[null,{"$f":"IF(A2555=\"\",\"\",IF(ISERROR(VLOOKUP(A2555,Articoli!$1:$48422,2,FALSE)),\"Codice Errato\",VLOOKUP(A2555,Articoli!$1:$48422,2,FALSE)))","v":""},null,0,"        ","        ;",0,"      ","      ",""]
[null,{"$f":"IF(A2556=\"\",\"\",IF(ISERROR(VLOOKUP(A2556,Articoli!$1:$48422,2,FALSE)),\"Codice Errato\",VLOOKUP(A2556,Articoli!$1:$48422,2,FALSE)))","v":""},null,0,"        ","        ;",0,"      ","      ",""]
[null,{"$f":"IF(A2557=\"\",\"\",IF(ISERROR(VLOOKUP(A2557,Articoli!$1:$48422,2,FALSE)),\"Codice Errato\",VLOOKUP(A2557,Articoli!$1:$48422,2,FALSE)))","v":""},null,0,"        ","        ;",0,"      ","      ",""]
[null,{"$f":"IF(A2558=\"\",\"\",IF(ISERROR(VLOOKUP(A2558,Articoli!$1:$48422,2,FALSE)),\"Codice Errato\",VLOOKUP(A2558,Articoli!$1:$48422,2,FALSE)))","v":""},null,0,"        ","        ;",0,"      ","      ",""]
[null,{"$f":"IF(A2559=\"\",\"\",IF(ISERROR(VLOOKUP(A2559,Articoli!$1:$48422,2,FALSE)),\"Codice Errato\",VLOOKUP(A2559,Articoli!$1:$48422,2,FALSE)))","v":""},null,0,"        ","        ;",0,"      ","      ",""]
[null,{"$f":"IF(A2560=\"\",\"\",IF(ISERROR(VLOOKUP(A2560,Articoli!$1:$48422,2,FALSE)),\"Codice Errato\",VLOOKUP(A2560,Articoli!$1:$48422,2,FALSE)))","v":""},null,0,"        ","        ;",0,"      ","      ",""]
[null,{"$f":"IF(A2561=\"\",\"\",IF(ISERROR(VLOOKUP(A2561,Articoli!$1:$48422,2,FALSE)),\"Codice Errato\",VLOOKUP(A2561,Articoli!$1:$48422,2,FALSE)))","v":""},null,0,"        ","        ;",0,"      ","      ",""]
[null,{"$f":"IF(A2562=\"\",\"\",IF(ISERROR(VLOOKUP(A2562,Articoli!$1:$48422,2,FALSE)),\"Codice Errato\",VLOOKUP(A2562,Articoli!$1:$48422,2,FALSE)))","v":""},null,0,"        ","        ;",0,"      ","      ",""]
[null,{"$f":"IF(A2563=\"\",\"\",IF(ISERROR(VLOOKUP(A2563,Articoli!$1:$48422,2,FALSE)),\"Codice Errato\",VLOOKUP(A2563,Articoli!$1:$48422,2,FALSE)))","v":""},null,0,"        ","        ;",0,"      ","      ",""]
[null,{"$f":"IF(A2564=\"\",\"\",IF(ISERROR(VLOOKUP(A2564,Articoli!$1:$48422,2,FALSE)),\"Codice Errato\",VLOOKUP(A2564,Articoli!$1:$48422,2,FALSE)))","v":""},null,0,"        ","        ;",0,"      ","      ",""]
[null,{"$f":"IF(A2565=\"\",\"\",IF(ISERROR(VLOOKUP(A2565,Articoli!$1:$48422,2,FALSE)),\"Codice Errato\",VLOOKUP(A2565,Articoli!$1:$48422,2,FALSE)))","v":""},null,0,"        ","        ;",0,"      ","      ",""]
[null,{"$f":"IF(A2566=\"\",\"\",IF(ISERROR(VLOOKUP(A2566,Articoli!$1:$48422,2,FALSE)),\"Codice Errato\",VLOOKUP(A2566,Articoli!$1:$48422,2,FALSE)))","v":""},null,0,"        ","        ;",0,"      ","      ",""]
[null,{"$f":"IF(A2567=\"\",\"\",IF(ISERROR(VLOOKUP(A2567,Articoli!$1:$48422,2,FALSE)),\"Codice Errato\",VLOOKUP(A2567,Articoli!$1:$48422,2,FALSE)))","v":""},null,0,"        ","        ;",0,"      ","      ",""]
[null,{"$f":"IF(A2568=\"\",\"\",IF(ISERROR(VLOOKUP(A2568,Articoli!$1:$48422,2,FALSE)),\"Codice Errato\",VLOOKUP(A2568,Articoli!$1:$48422,2,FALSE)))","v":""},null,0,"        ","        ;",0,"      ","      ",""]
[null,{"$f":"IF(A2569=\"\",\"\",IF(ISERROR(VLOOKUP(A2569,Articoli!$1:$48422,2,FALSE)),\"Codice Errato\",VLOOKUP(A2569,Articoli!$1:$48422,2,FALSE)))","v":""},null,0,"        ","        ;",0,"      ","      ",""]
[null,{"$f":"IF(A2570=\"\",\"\",IF(ISERROR(VLOOKUP(A2570,Articoli!$1:$48422,2,FALSE)),\"Codice Errato\",VLOOKUP(A2570,Articoli!$1:$48422,2,FALSE)))","v":""},null,0,"        ","        ;",0,"      ","      ",""]
[null,{"$f":"IF(A2571=\"\",\"\",IF(ISERROR(VLOOKUP(A2571,Articoli!$1:$48422,2,FALSE)),\"Codice Errato\",VLOOKUP(A2571,Articoli!$1:$48422,2,FALSE)))","v":""},null,0,"        ","        ;",0,"      ","      ",""]
[null,{"$f":"IF(A2572=\"\",\"\",IF(ISERROR(VLOOKUP(A2572,Articoli!$1:$48422,2,FALSE)),\"Codice Errato\",VLOOKUP(A2572,Articoli!$1:$48422,2,FALSE)))","v":""},null,0,"        ","        ;",0,"      ","      ",""]
[null,{"$f":"IF(A2573=\"\",\"\",IF(ISERROR(VLOOKUP(A2573,Articoli!$1:$48422,2,FALSE)),\"Codice Errato\",VLOOKUP(A2573,Articoli!$1:$48422,2,FALSE)))","v":""},null,0,"        ","        ;",0,"      ","      ",""]
[null,{"$f":"IF(A2574=\"\",\"\",IF(ISERROR(VLOOKUP(A2574,Articoli!$1:$48422,2,FALSE)),\"Codice Errato\",VLOOKUP(A2574,Articoli!$1:$48422,2,FALSE)))","v":""},null,0,"        ","        ;",0,"      ","      ",""]
[null,{"$f":"IF(A2575=\"\",\"\",IF(ISERROR(VLOOKUP(A2575,Articoli!$1:$48422,2,FALSE)),\"Codice Errato\",VLOOKUP(A2575,Articoli!$1:$48422,2,FALSE)))","v":""},null,0,"        ","        ;",0,"      ","      ",""]
[null,{"$f":"IF(A2576=\"\",\"\",IF(ISERROR(VLOOKUP(A2576,Articoli!$1:$48422,2,FALSE)),\"Codice Errato\",VLOOKUP(A2576,Articoli!$1:$48422,2,FALSE)))","v":""},null,0,"        ","        ;",0,"      ","      ",""]
[null,{"$f":"IF(A2577=\"\",\"\",IF(ISERROR(VLOOKUP(A2577,Articoli!$1:$48422,2,FALSE)),\"Codice Errato\",VLOOKUP(A2577,Articoli!$1:$48422,2,FALSE)))","v":""},null,0,"        ","        ;",0,"      ","      ",""]
[null,{"$f":"IF(A2578=\"\",\"\",IF(ISERROR(VLOOKUP(A2578,Articoli!$1:$48422,2,FALSE)),\"Codice Errato\",VLOOKUP(A2578,Articoli!$1:$48422,2,FALSE)))","v":""},null,0,"        ","        ;",0,"      ","      ",""]
[null,{"$f":"IF(A2579=\"\",\"\",IF(ISERROR(VLOOKUP(A2579,Articoli!$1:$48422,2,FALSE)),\"Codice Errato\",VLOOKUP(A2579,Articoli!$1:$48422,2,FALSE)))","v":""},null,0,"        ","        ;",0,"      ","      ",""]
[null,{"$f":"IF(A2580=\"\",\"\",IF(ISERROR(VLOOKUP(A2580,Articoli!$1:$48422,2,FALSE)),\"Codice Errato\",VLOOKUP(A2580,Articoli!$1:$48422,2,FALSE)))","v":""},null,0,"        ","        ;",0,"      ","      ",""]
[null,{"$f":"IF(A2581=\"\",\"\",IF(ISERROR(VLOOKUP(A2581,Articoli!$1:$48422,2,FALSE)),\"Codice Errato\",VLOOKUP(A2581,Articoli!$1:$48422,2,FALSE)))","v":""},null,0,"        ","        ;",0,"      ","      ",""]
[null,{"$f":"IF(A2582=\"\",\"\",IF(ISERROR(VLOOKUP(A2582,Articoli!$1:$48422,2,FALSE)),\"Codice Errato\",VLOOKUP(A2582,Articoli!$1:$48422,2,FALSE)))","v":""},null,0,"        ","        ;",0,"      ","      ",""]
[null,{"$f":"IF(A2583=\"\",\"\",IF(ISERROR(VLOOKUP(A2583,Articoli!$1:$48422,2,FALSE)),\"Codice Errato\",VLOOKUP(A2583,Articoli!$1:$48422,2,FALSE)))","v":""},null,0,"        ","        ;",0,"      ","      ",""]
[null,{"$f":"IF(A2584=\"\",\"\",IF(ISERROR(VLOOKUP(A2584,Articoli!$1:$48422,2,FALSE)),\"Codice Errato\",VLOOKUP(A2584,Articoli!$1:$48422,2,FALSE)))","v":""},null,0,"        ","        ;",0,"      ","      ",""]
[null,{"$f":"IF(A2585=\"\",\"\",IF(ISERROR(VLOOKUP(A2585,Articoli!$1:$48422,2,FALSE)),\"Codice Errato\",VLOOKUP(A2585,Articoli!$1:$48422,2,FALSE)))","v":""},null,0,"        ","        ;",0,"      ","      ",""]
[null,{"$f":"IF(A2586=\"\",\"\",IF(ISERROR(VLOOKUP(A2586,Articoli!$1:$48422,2,FALSE)),\"Codice Errato\",VLOOKUP(A2586,Articoli!$1:$48422,2,FALSE)))","v":""},null,0,"        ","        ;",0,"      ","      ",""]
[null,{"$f":"IF(A2587=\"\",\"\",IF(ISERROR(VLOOKUP(A2587,Articoli!$1:$48422,2,FALSE)),\"Codice Errato\",VLOOKUP(A2587,Articoli!$1:$48422,2,FALSE)))","v":""},null,0,"        ","        ;",0,"      ","      ",""]
[null,{"$f":"IF(A2588=\"\",\"\",IF(ISERROR(VLOOKUP(A2588,Articoli!$1:$48422,2,FALSE)),\"Codice Errato\",VLOOKUP(A2588,Articoli!$1:$48422,2,FALSE)))","v":""},null,0,"        ","        ;",0,"      ","      ",""]
[null,{"$f":"IF(A2589=\"\",\"\",IF(ISERROR(VLOOKUP(A2589,Articoli!$1:$48422,2,FALSE)),\"Codice Errato\",VLOOKUP(A2589,Articoli!$1:$48422,2,FALSE)))","v":""},null,0,"        ","        ;",0,"      ","      ",""]
[null,{"$f":"IF(A2590=\"\",\"\",IF(ISERROR(VLOOKUP(A2590,Articoli!$1:$48422,2,FALSE)),\"Codice Errato\",VLOOKUP(A2590,Articoli!$1:$48422,2,FALSE)))","v":""},null,0,"        ","        ;",0,"      ","      ",""]
[null,{"$f":"IF(A2591=\"\",\"\",IF(ISERROR(VLOOKUP(A2591,Articoli!$1:$48422,2,FALSE)),\"Codice Errato\",VLOOKUP(A2591,Articoli!$1:$48422,2,FALSE)))","v":""},null,0,"        ","        ;",0,"      ","      ",""]
[null,{"$f":"IF(A2592=\"\",\"\",IF(ISERROR(VLOOKUP(A2592,Articoli!$1:$48422,2,FALSE)),\"Codice Errato\",VLOOKUP(A2592,Articoli!$1:$48422,2,FALSE)))","v":""},null,0,"        ","        ;",0,"      ","      ",{"$f":"IF(C2592=\"\",\"\",CONCATENATE(F2592,I2592))","v":""}]
[null,{"$f":"IF(A2593=\"\",\"\",IF(ISERROR(VLOOKUP(A2593,Articoli!$1:$48422,2,FALSE)),\"Codice Errato\",VLOOKUP(A2593,Articoli!$1:$48422,2,FALSE)))","v":""},null,0,"        ","        ;",0,"      ","      ",""]
[null,{"$f":"IF(A2594=\"\",\"\",IF(ISERROR(VLOOKUP(A2594,Articoli!$1:$48422,2,FALSE)),\"Codice Errato\",VLOOKUP(A2594,Articoli!$1:$48422,2,FALSE)))","v":""},null,0,"        ","        ;",0,"      ","      ",""]
[null,{"$f":"IF(A2595=\"\",\"\",IF(ISERROR(VLOOKUP(A2595,Articoli!$1:$48422,2,FALSE)),\"Codice Errato\",VLOOKUP(A2595,Articoli!$1:$48422,2,FALSE)))","v":""},null,0,"        ","        ;",0,"      ","      ",""]
[null,{"$f":"IF(A2596=\"\",\"\",IF(ISERROR(VLOOKUP(A2596,Articoli!$1:$48422,2,FALSE)),\"Codice Errato\",VLOOKUP(A2596,Articoli!$1:$48422,2,FALSE)))","v":""},null,0,"        ","        ;",0,"      ","      ",""]
[null,{"$f":"IF(A2597=\"\",\"\",IF(ISERROR(VLOOKUP(A2597,Articoli!$1:$48422,2,FALSE)),\"Codice Errato\",VLOOKUP(A2597,Articoli!$1:$48422,2,FALSE)))","v":""},null,0,"        ","        ;",0,"      ","      ",""]
[null,{"$f":"IF(A2598=\"\",\"\",IF(ISERROR(VLOOKUP(A2598,Articoli!$1:$48422,2,FALSE)),\"Codice Errato\",VLOOKUP(A2598,Articoli!$1:$48422,2,FALSE)))","v":""},null,0,"        ","        ;",0,"      ","      ",""]
[null,{"$f":"IF(A2599=\"\",\"\",IF(ISERROR(VLOOKUP(A2599,Articoli!$1:$48422,2,FALSE)),\"Codice Errato\",VLOOKUP(A2599,Articoli!$1:$48422,2,FALSE)))","v":""},null,0,"        ","        ;",0,"      ","      ",""]
[null,{"$f":"IF(A2600=\"\",\"\",IF(ISERROR(VLOOKUP(A2600,Articoli!$1:$48422,2,FALSE)),\"Codice Errato\",VLOOKUP(A2600,Articoli!$1:$48422,2,FALSE)))","v":""},null,0,"        ","        ;",0,"      ","      ",""]
[null,{"$f":"IF(A2601=\"\",\"\",IF(ISERROR(VLOOKUP(A2601,Articoli!$1:$48422,2,FALSE)),\"Codice Errato\",VLOOKUP(A2601,Articoli!$1:$48422,2,FALSE)))","v":""},null,0,"        ","        ;",0,"      ","      ",""]
[null,{"$f":"IF(A2602=\"\",\"\",IF(ISERROR(VLOOKUP(A2602,Articoli!$1:$48422,2,FALSE)),\"Codice Errato\",VLOOKUP(A2602,Articoli!$1:$48422,2,FALSE)))","v":""},null,0,"        ","        ;",0,"      ","      ",""]
[null,{"$f":"IF(A2603=\"\",\"\",IF(ISERROR(VLOOKUP(A2603,Articoli!$1:$48422,2,FALSE)),\"Codice Errato\",VLOOKUP(A2603,Articoli!$1:$48422,2,FALSE)))","v":""},null,0,"        ","        ;",0,"      ","      ",""]
[null,{"$f":"IF(A2604=\"\",\"\",IF(ISERROR(VLOOKUP(A2604,Articoli!$1:$48422,2,FALSE)),\"Codice Errato\",VLOOKUP(A2604,Articoli!$1:$48422,2,FALSE)))","v":""},null,0,"        ","        ;",0,"      ","      ",""]
[null,{"$f":"IF(A2605=\"\",\"\",IF(ISERROR(VLOOKUP(A2605,Articoli!$1:$48422,2,FALSE)),\"Codice Errato\",VLOOKUP(A2605,Articoli!$1:$48422,2,FALSE)))","v":""},null,0,"        ","        ;",0,"      ","      ",""]
[null,{"$f":"IF(A2606=\"\",\"\",IF(ISERROR(VLOOKUP(A2606,Articoli!$1:$48422,2,FALSE)),\"Codice Errato\",VLOOKUP(A2606,Articoli!$1:$48422,2,FALSE)))","v":""},null,0,"        ","        ;",0,"      ","      ",""]
[null,{"$f":"IF(A2607=\"\",\"\",IF(ISERROR(VLOOKUP(A2607,Articoli!$1:$48422,2,FALSE)),\"Codice Errato\",VLOOKUP(A2607,Articoli!$1:$48422,2,FALSE)))","v":""},null,0,"        ","        ;",0,"      ","      ",""]
[null,{"$f":"IF(A2608=\"\",\"\",IF(ISERROR(VLOOKUP(A2608,Articoli!$1:$48422,2,FALSE)),\"Codice Errato\",VLOOKUP(A2608,Articoli!$1:$48422,2,FALSE)))","v":""},null,0,"        ","        ;",0,"      ","      ",""]
[null,{"$f":"IF(A2609=\"\",\"\",IF(ISERROR(VLOOKUP(A2609,Articoli!$1:$48422,2,FALSE)),\"Codice Errato\",VLOOKUP(A2609,Articoli!$1:$48422,2,FALSE)))","v":""},null,0,"        ","        ;",0,"      ","      ",""]
[null,{"$f":"IF(A2610=\"\",\"\",IF(ISERROR(VLOOKUP(A2610,Articoli!$1:$48422,2,FALSE)),\"Codice Errato\",VLOOKUP(A2610,Articoli!$1:$48422,2,FALSE)))","v":""},null,{"$f":"LEN(A2610)","v":0},{"$f":"REPT(\" \",8-D2610)","v":"        "},{"$f":"CONCATENATE(A2610,E2610,\";\",)","v":"        ;"},{"$f":"LEN(C2610)","v":0},{"$f":"REPT(\" \",6-G2610)","v":"      "},{"$f":"CONCATENATE(H2610,C2610,)","v":"      "},""]
[null,{"$f":"IF(A2611=\"\",\"\",IF(ISERROR(VLOOKUP(A2611,Articoli!$1:$48422,2,FALSE)),\"Codice Errato\",VLOOKUP(A2611,Articoli!$1:$48422,2,FALSE)))","v":""},null,0,"        ","        ;",0,"      ","      ",""]
[null,{"$f":"IF(A2612=\"\",\"\",IF(ISERROR(VLOOKUP(A2612,Articoli!$1:$48422,2,FALSE)),\"Codice Errato\",VLOOKUP(A2612,Articoli!$1:$48422,2,FALSE)))","v":""},null,0,"        ","        ;",0,"      ","      ",""]
[null,{"$f":"IF(A2613=\"\",\"\",IF(ISERROR(VLOOKUP(A2613,Articoli!$1:$48422,2,FALSE)),\"Codice Errato\",VLOOKUP(A2613,Articoli!$1:$48422,2,FALSE)))","v":""},null,0,"        ","        ;",0,"      ","      ",""]
[null,{"$f":"IF(A2614=\"\",\"\",IF(ISERROR(VLOOKUP(A2614,Articoli!$1:$48422,2,FALSE)),\"Codice Errato\",VLOOKUP(A2614,Articoli!$1:$48422,2,FALSE)))","v":""},null,0,"        ","        ;",0,"      ","      ",""]
[null,{"$f":"IF(A2615=\"\",\"\",IF(ISERROR(VLOOKUP(A2615,Articoli!$1:$48422,2,FALSE)),\"Codice Errato\",VLOOKUP(A2615,Articoli!$1:$48422,2,FALSE)))","v":""},null,0,"        ","        ;",0,"      ","      ",""]
[null,{"$f":"IF(A2616=\"\",\"\",IF(ISERROR(VLOOKUP(A2616,Articoli!$1:$48422,2,FALSE)),\"Codice Errato\",VLOOKUP(A2616,Articoli!$1:$48422,2,FALSE)))","v":""},null,0,"        ","        ;",0,"      ","      ",""]
[null,{"$f":"IF(A2617=\"\",\"\",IF(ISERROR(VLOOKUP(A2617,Articoli!$1:$48422,2,FALSE)),\"Codice Errato\",VLOOKUP(A2617,Articoli!$1:$48422,2,FALSE)))","v":""},null,0,"        ","        ;",0,"      ","      ",""]
[null,{"$f":"IF(A2618=\"\",\"\",IF(ISERROR(VLOOKUP(A2618,Articoli!$1:$48422,2,FALSE)),\"Codice Errato\",VLOOKUP(A2618,Articoli!$1:$48422,2,FALSE)))","v":""},null,0,"        ","        ;",0,"      ","      ",""]
[null,{"$f":"IF(A2619=\"\",\"\",IF(ISERROR(VLOOKUP(A2619,Articoli!$1:$48422,2,FALSE)),\"Codice Errato\",VLOOKUP(A2619,Articoli!$1:$48422,2,FALSE)))","v":""},null,0,"        ","        ;",0,"      ","      ",""]
[null,{"$f":"IF(A2620=\"\",\"\",IF(ISERROR(VLOOKUP(A2620,Articoli!$1:$48422,2,FALSE)),\"Codice Errato\",VLOOKUP(A2620,Articoli!$1:$48422,2,FALSE)))","v":""},null,0,"        ","        ;",0,"      ","      ",""]
[null,{"$f":"IF(A2621=\"\",\"\",IF(ISERROR(VLOOKUP(A2621,Articoli!$1:$48422,2,FALSE)),\"Codice Errato\",VLOOKUP(A2621,Articoli!$1:$48422,2,FALSE)))","v":""},null,0,"        ","        ;",0,"      ","      ",""]
[null,{"$f":"IF(A2622=\"\",\"\",IF(ISERROR(VLOOKUP(A2622,Articoli!$1:$48422,2,FALSE)),\"Codice Errato\",VLOOKUP(A2622,Articoli!$1:$48422,2,FALSE)))","v":""},null,0,"        ","        ;",0,"      ","      ",""]
[null,{"$f":"IF(A2623=\"\",\"\",IF(ISERROR(VLOOKUP(A2623,Articoli!$1:$48422,2,FALSE)),\"Codice Errato\",VLOOKUP(A2623,Articoli!$1:$48422,2,FALSE)))","v":""},null,0,"        ","        ;",0,"      ","      ",""]
[null,{"$f":"IF(A2624=\"\",\"\",IF(ISERROR(VLOOKUP(A2624,Articoli!$1:$48422,2,FALSE)),\"Codice Errato\",VLOOKUP(A2624,Articoli!$1:$48422,2,FALSE)))","v":""},null,0,"        ","        ;",0,"      ","      ",""]
[null,{"$f":"IF(A2625=\"\",\"\",IF(ISERROR(VLOOKUP(A2625,Articoli!$1:$48422,2,FALSE)),\"Codice Errato\",VLOOKUP(A2625,Articoli!$1:$48422,2,FALSE)))","v":""},null,0,"        ","        ;",0,"      ","      ",""]
[null,{"$f":"IF(A2626=\"\",\"\",IF(ISERROR(VLOOKUP(A2626,Articoli!$1:$48422,2,FALSE)),\"Codice Errato\",VLOOKUP(A2626,Articoli!$1:$48422,2,FALSE)))","v":""},null,0,"        ","        ;",0,"      ","      ",""]
[null,{"$f":"IF(A2627=\"\",\"\",IF(ISERROR(VLOOKUP(A2627,Articoli!$1:$48422,2,FALSE)),\"Codice Errato\",VLOOKUP(A2627,Articoli!$1:$48422,2,FALSE)))","v":""},null,0,"        ","        ;",0,"      ","      ",""]
[null,{"$f":"IF(A2628=\"\",\"\",IF(ISERROR(VLOOKUP(A2628,Articoli!$1:$48422,2,FALSE)),\"Codice Errato\",VLOOKUP(A2628,Articoli!$1:$48422,2,FALSE)))","v":""},null,0,"        ","        ;",0,"      ","      ",""]
[null,{"$f":"IF(A2629=\"\",\"\",IF(ISERROR(VLOOKUP(A2629,Articoli!$1:$48422,2,FALSE)),\"Codice Errato\",VLOOKUP(A2629,Articoli!$1:$48422,2,FALSE)))","v":""},null,0,"        ","        ;",0,"      ","      ",""]
[null,{"$f":"IF(A2630=\"\",\"\",IF(ISERROR(VLOOKUP(A2630,Articoli!$1:$48422,2,FALSE)),\"Codice Errato\",VLOOKUP(A2630,Articoli!$1:$48422,2,FALSE)))","v":""},null,0,"        ","        ;",0,"      ","      ",""]
[null,{"$f":"IF(A2631=\"\",\"\",IF(ISERROR(VLOOKUP(A2631,Articoli!$1:$48422,2,FALSE)),\"Codice Errato\",VLOOKUP(A2631,Articoli!$1:$48422,2,FALSE)))","v":""},null,0,"        ","        ;",0,"      ","      ",""]
[null,{"$f":"IF(A2632=\"\",\"\",IF(ISERROR(VLOOKUP(A2632,Articoli!$1:$48422,2,FALSE)),\"Codice Errato\",VLOOKUP(A2632,Articoli!$1:$48422,2,FALSE)))","v":""},null,0,"        ","        ;",0,"      ","      ",""]
[null,{"$f":"IF(A2633=\"\",\"\",IF(ISERROR(VLOOKUP(A2633,Articoli!$1:$48422,2,FALSE)),\"Codice Errato\",VLOOKUP(A2633,Articoli!$1:$48422,2,FALSE)))","v":""},null,0,"        ","        ;",0,"      ","      ",""]
[null,{"$f":"IF(A2634=\"\",\"\",IF(ISERROR(VLOOKUP(A2634,Articoli!$1:$48422,2,FALSE)),\"Codice Errato\",VLOOKUP(A2634,Articoli!$1:$48422,2,FALSE)))","v":""},null,0,"        ","        ;",0,"      ","      ",""]
[null,{"$f":"IF(A2635=\"\",\"\",IF(ISERROR(VLOOKUP(A2635,Articoli!$1:$48422,2,FALSE)),\"Codice Errato\",VLOOKUP(A2635,Articoli!$1:$48422,2,FALSE)))","v":""},null,0,"        ","        ;",0,"      ","      ",""]
[null,{"$f":"IF(A2636=\"\",\"\",IF(ISERROR(VLOOKUP(A2636,Articoli!$1:$48422,2,FALSE)),\"Codice Errato\",VLOOKUP(A2636,Articoli!$1:$48422,2,FALSE)))","v":""},null,0,"        ","        ;",0,"      ","      ",""]
[null,{"$f":"IF(A2637=\"\",\"\",IF(ISERROR(VLOOKUP(A2637,Articoli!$1:$48422,2,FALSE)),\"Codice Errato\",VLOOKUP(A2637,Articoli!$1:$48422,2,FALSE)))","v":""},null,0,"        ","        ;",0,"      ","      ",""]
[null,{"$f":"IF(A2638=\"\",\"\",IF(ISERROR(VLOOKUP(A2638,Articoli!$1:$48422,2,FALSE)),\"Codice Errato\",VLOOKUP(A2638,Articoli!$1:$48422,2,FALSE)))","v":""},null,0,"        ","        ;",0,"      ","      ",""]
[null,{"$f":"IF(A2639=\"\",\"\",IF(ISERROR(VLOOKUP(A2639,Articoli!$1:$48422,2,FALSE)),\"Codice Errato\",VLOOKUP(A2639,Articoli!$1:$48422,2,FALSE)))","v":""},null,0,"        ","        ;",0,"      ","      ",""]
[null,{"$f":"IF(A2640=\"\",\"\",IF(ISERROR(VLOOKUP(A2640,Articoli!$1:$48422,2,FALSE)),\"Codice Errato\",VLOOKUP(A2640,Articoli!$1:$48422,2,FALSE)))","v":""},null,0,"        ","        ;",0,"      ","      ",""]
[null,{"$f":"IF(A2641=\"\",\"\",IF(ISERROR(VLOOKUP(A2641,Articoli!$1:$48422,2,FALSE)),\"Codice Errato\",VLOOKUP(A2641,Articoli!$1:$48422,2,FALSE)))","v":""},null,0,"        ","        ;",0,"      ","      ",""]
[null,{"$f":"IF(A2642=\"\",\"\",IF(ISERROR(VLOOKUP(A2642,Articoli!$1:$48422,2,FALSE)),\"Codice Errato\",VLOOKUP(A2642,Articoli!$1:$48422,2,FALSE)))","v":""},null,0,"        ","        ;",0,"      ","      ",""]
[null,{"$f":"IF(A2643=\"\",\"\",IF(ISERROR(VLOOKUP(A2643,Articoli!$1:$48422,2,FALSE)),\"Codice Errato\",VLOOKUP(A2643,Articoli!$1:$48422,2,FALSE)))","v":""},null,0,"        ","        ;",0,"      ","      ",""]
[null,{"$f":"IF(A2644=\"\",\"\",IF(ISERROR(VLOOKUP(A2644,Articoli!$1:$48422,2,FALSE)),\"Codice Errato\",VLOOKUP(A2644,Articoli!$1:$48422,2,FALSE)))","v":""},null,0,"        ","        ;",0,"      ","      ",""]
[null,{"$f":"IF(A2645=\"\",\"\",IF(ISERROR(VLOOKUP(A2645,Articoli!$1:$48422,2,FALSE)),\"Codice Errato\",VLOOKUP(A2645,Articoli!$1:$48422,2,FALSE)))","v":""},null,0,"        ","        ;",0,"      ","      ",""]
[null,{"$f":"IF(A2646=\"\",\"\",IF(ISERROR(VLOOKUP(A2646,Articoli!$1:$48422,2,FALSE)),\"Codice Errato\",VLOOKUP(A2646,Articoli!$1:$48422,2,FALSE)))","v":""},null,0,"        ","        ;",0,"      ","      ",""]
[null,{"$f":"IF(A2647=\"\",\"\",IF(ISERROR(VLOOKUP(A2647,Articoli!$1:$48422,2,FALSE)),\"Codice Errato\",VLOOKUP(A2647,Articoli!$1:$48422,2,FALSE)))","v":""},null,0,"        ","        ;",0,"      ","      ",""]
[null,{"$f":"IF(A2648=\"\",\"\",IF(ISERROR(VLOOKUP(A2648,Articoli!$1:$48422,2,FALSE)),\"Codice Errato\",VLOOKUP(A2648,Articoli!$1:$48422,2,FALSE)))","v":""},null,0,"        ","        ;",0,"      ","      ",""]
[null,{"$f":"IF(A2649=\"\",\"\",IF(ISERROR(VLOOKUP(A2649,Articoli!$1:$48422,2,FALSE)),\"Codice Errato\",VLOOKUP(A2649,Articoli!$1:$48422,2,FALSE)))","v":""},null,0,"        ","        ;",0,"      ","      ",""]
[null,{"$f":"IF(A2650=\"\",\"\",IF(ISERROR(VLOOKUP(A2650,Articoli!$1:$48422,2,FALSE)),\"Codice Errato\",VLOOKUP(A2650,Articoli!$1:$48422,2,FALSE)))","v":""},null,0,"        ","        ;",0,"      ","      ",""]
[null,{"$f":"IF(A2651=\"\",\"\",IF(ISERROR(VLOOKUP(A2651,Articoli!$1:$48422,2,FALSE)),\"Codice Errato\",VLOOKUP(A2651,Articoli!$1:$48422,2,FALSE)))","v":""},null,0,"        ","        ;",0,"      ","      ",""]
[null,{"$f":"IF(A2652=\"\",\"\",IF(ISERROR(VLOOKUP(A2652,Articoli!$1:$48422,2,FALSE)),\"Codice Errato\",VLOOKUP(A2652,Articoli!$1:$48422,2,FALSE)))","v":""},null,0,"        ","        ;",0,"      ","      ",""]
[null,{"$f":"IF(A2653=\"\",\"\",IF(ISERROR(VLOOKUP(A2653,Articoli!$1:$48422,2,FALSE)),\"Codice Errato\",VLOOKUP(A2653,Articoli!$1:$48422,2,FALSE)))","v":""},null,0,"        ","        ;",0,"      ","      ",""]
[null,{"$f":"IF(A2654=\"\",\"\",IF(ISERROR(VLOOKUP(A2654,Articoli!$1:$48422,2,FALSE)),\"Codice Errato\",VLOOKUP(A2654,Articoli!$1:$48422,2,FALSE)))","v":""},null,0,"        ","        ;",0,"      ","      ",""]
[null,{"$f":"IF(A2655=\"\",\"\",IF(ISERROR(VLOOKUP(A2655,Articoli!$1:$48422,2,FALSE)),\"Codice Errato\",VLOOKUP(A2655,Articoli!$1:$48422,2,FALSE)))","v":""},null,0,"        ","        ;",0,"      ","      ",""]
[null,{"$f":"IF(A2656=\"\",\"\",IF(ISERROR(VLOOKUP(A2656,Articoli!$1:$48422,2,FALSE)),\"Codice Errato\",VLOOKUP(A2656,Articoli!$1:$48422,2,FALSE)))","v":""},null,0,"        ","        ;",0,"      ","      ",{"$f":"IF(C2656=\"\",\"\",CONCATENATE(F2656,I2656))","v":""}]
[null,{"$f":"IF(A2657=\"\",\"\",IF(ISERROR(VLOOKUP(A2657,Articoli!$1:$48422,2,FALSE)),\"Codice Errato\",VLOOKUP(A2657,Articoli!$1:$48422,2,FALSE)))","v":""},null,0,"        ","        ;",0,"      ","      ",""]
[null,{"$f":"IF(A2658=\"\",\"\",IF(ISERROR(VLOOKUP(A2658,Articoli!$1:$48422,2,FALSE)),\"Codice Errato\",VLOOKUP(A2658,Articoli!$1:$48422,2,FALSE)))","v":""},null,0,"        ","        ;",0,"      ","      ",""]
[null,{"$f":"IF(A2659=\"\",\"\",IF(ISERROR(VLOOKUP(A2659,Articoli!$1:$48422,2,FALSE)),\"Codice Errato\",VLOOKUP(A2659,Articoli!$1:$48422,2,FALSE)))","v":""},null,0,"        ","        ;",0,"      ","      ",""]
[null,{"$f":"IF(A2660=\"\",\"\",IF(ISERROR(VLOOKUP(A2660,Articoli!$1:$48422,2,FALSE)),\"Codice Errato\",VLOOKUP(A2660,Articoli!$1:$48422,2,FALSE)))","v":""},null,0,"        ","        ;",0,"      ","      ",""]
[null,{"$f":"IF(A2661=\"\",\"\",IF(ISERROR(VLOOKUP(A2661,Articoli!$1:$48422,2,FALSE)),\"Codice Errato\",VLOOKUP(A2661,Articoli!$1:$48422,2,FALSE)))","v":""},null,0,"        ","        ;",0,"      ","      ",""]
[null,{"$f":"IF(A2662=\"\",\"\",IF(ISERROR(VLOOKUP(A2662,Articoli!$1:$48422,2,FALSE)),\"Codice Errato\",VLOOKUP(A2662,Articoli!$1:$48422,2,FALSE)))","v":""},null,0,"        ","        ;",0,"      ","      ",""]
[null,{"$f":"IF(A2663=\"\",\"\",IF(ISERROR(VLOOKUP(A2663,Articoli!$1:$48422,2,FALSE)),\"Codice Errato\",VLOOKUP(A2663,Articoli!$1:$48422,2,FALSE)))","v":""},null,0,"        ","        ;",0,"      ","      ",""]
[null,{"$f":"IF(A2664=\"\",\"\",IF(ISERROR(VLOOKUP(A2664,Articoli!$1:$48422,2,FALSE)),\"Codice Errato\",VLOOKUP(A2664,Articoli!$1:$48422,2,FALSE)))","v":""},null,0,"        ","        ;",0,"      ","      ",""]
[null,{"$f":"IF(A2665=\"\",\"\",IF(ISERROR(VLOOKUP(A2665,Articoli!$1:$48422,2,FALSE)),\"Codice Errato\",VLOOKUP(A2665,Articoli!$1:$48422,2,FALSE)))","v":""},null,0,"        ","        ;",0,"      ","      ",""]
[null,{"$f":"IF(A2666=\"\",\"\",IF(ISERROR(VLOOKUP(A2666,Articoli!$1:$48422,2,FALSE)),\"Codice Errato\",VLOOKUP(A2666,Articoli!$1:$48422,2,FALSE)))","v":""},null,0,"        ","        ;",0,"      ","      ",""]
[null,{"$f":"IF(A2667=\"\",\"\",IF(ISERROR(VLOOKUP(A2667,Articoli!$1:$48422,2,FALSE)),\"Codice Errato\",VLOOKUP(A2667,Articoli!$1:$48422,2,FALSE)))","v":""},null,0,"        ","        ;",0,"      ","      ",""]
[null,{"$f":"IF(A2668=\"\",\"\",IF(ISERROR(VLOOKUP(A2668,Articoli!$1:$48422,2,FALSE)),\"Codice Errato\",VLOOKUP(A2668,Articoli!$1:$48422,2,FALSE)))","v":""},null,0,"        ","        ;",0,"      ","      ",""]
[null,{"$f":"IF(A2669=\"\",\"\",IF(ISERROR(VLOOKUP(A2669,Articoli!$1:$48422,2,FALSE)),\"Codice Errato\",VLOOKUP(A2669,Articoli!$1:$48422,2,FALSE)))","v":""},null,0,"        ","        ;",0,"      ","      ",""]
[null,{"$f":"IF(A2670=\"\",\"\",IF(ISERROR(VLOOKUP(A2670,Articoli!$1:$48422,2,FALSE)),\"Codice Errato\",VLOOKUP(A2670,Articoli!$1:$48422,2,FALSE)))","v":""},null,0,"        ","        ;",0,"      ","      ",""]
[null,{"$f":"IF(A2671=\"\",\"\",IF(ISERROR(VLOOKUP(A2671,Articoli!$1:$48422,2,FALSE)),\"Codice Errato\",VLOOKUP(A2671,Articoli!$1:$48422,2,FALSE)))","v":""},null,0,"        ","        ;",0,"      ","      ",""]
[null,{"$f":"IF(A2672=\"\",\"\",IF(ISERROR(VLOOKUP(A2672,Articoli!$1:$48422,2,FALSE)),\"Codice Errato\",VLOOKUP(A2672,Articoli!$1:$48422,2,FALSE)))","v":""},null,0,"        ","        ;",0,"      ","      ",""]
[null,{"$f":"IF(A2673=\"\",\"\",IF(ISERROR(VLOOKUP(A2673,Articoli!$1:$48422,2,FALSE)),\"Codice Errato\",VLOOKUP(A2673,Articoli!$1:$48422,2,FALSE)))","v":""},null,0,"        ","        ;",0,"      ","      ",""]
[null,{"$f":"IF(A2674=\"\",\"\",IF(ISERROR(VLOOKUP(A2674,Articoli!$1:$48422,2,FALSE)),\"Codice Errato\",VLOOKUP(A2674,Articoli!$1:$48422,2,FALSE)))","v":""},null,{"$f":"LEN(A2674)","v":0},{"$f":"REPT(\" \",8-D2674)","v":"        "},{"$f":"CONCATENATE(A2674,E2674,\";\",)","v":"        ;"},{"$f":"LEN(C2674)","v":0},{"$f":"REPT(\" \",6-G2674)","v":"      "},{"$f":"CONCATENATE(H2674,C2674,)","v":"      "},""]
[null,{"$f":"IF(A2675=\"\",\"\",IF(ISERROR(VLOOKUP(A2675,Articoli!$1:$48422,2,FALSE)),\"Codice Errato\",VLOOKUP(A2675,Articoli!$1:$48422,2,FALSE)))","v":""},null,0,"        ","        ;",0,"      ","      ",""]
[null,{"$f":"IF(A2676=\"\",\"\",IF(ISERROR(VLOOKUP(A2676,Articoli!$1:$48422,2,FALSE)),\"Codice Errato\",VLOOKUP(A2676,Articoli!$1:$48422,2,FALSE)))","v":""},null,0,"        ","        ;",0,"      ","      ",""]
[null,{"$f":"IF(A2677=\"\",\"\",IF(ISERROR(VLOOKUP(A2677,Articoli!$1:$48422,2,FALSE)),\"Codice Errato\",VLOOKUP(A2677,Articoli!$1:$48422,2,FALSE)))","v":""},null,0,"        ","        ;",0,"      ","      ",""]
[null,{"$f":"IF(A2678=\"\",\"\",IF(ISERROR(VLOOKUP(A2678,Articoli!$1:$48422,2,FALSE)),\"Codice Errato\",VLOOKUP(A2678,Articoli!$1:$48422,2,FALSE)))","v":""},null,0,"        ","        ;",0,"      ","      ",""]
[null,{"$f":"IF(A2679=\"\",\"\",IF(ISERROR(VLOOKUP(A2679,Articoli!$1:$48422,2,FALSE)),\"Codice Errato\",VLOOKUP(A2679,Articoli!$1:$48422,2,FALSE)))","v":""},null,0,"        ","        ;",0,"      ","      ",""]
[null,{"$f":"IF(A2680=\"\",\"\",IF(ISERROR(VLOOKUP(A2680,Articoli!$1:$48422,2,FALSE)),\"Codice Errato\",VLOOKUP(A2680,Articoli!$1:$48422,2,FALSE)))","v":""},null,0,"        ","        ;",0,"      ","      ",""]
[null,{"$f":"IF(A2681=\"\",\"\",IF(ISERROR(VLOOKUP(A2681,Articoli!$1:$48422,2,FALSE)),\"Codice Errato\",VLOOKUP(A2681,Articoli!$1:$48422,2,FALSE)))","v":""},null,0,"        ","        ;",0,"      ","      ",""]
[null,{"$f":"IF(A2682=\"\",\"\",IF(ISERROR(VLOOKUP(A2682,Articoli!$1:$48422,2,FALSE)),\"Codice Errato\",VLOOKUP(A2682,Articoli!$1:$48422,2,FALSE)))","v":""},null,0,"        ","        ;",0,"      ","      ",""]
[null,{"$f":"IF(A2683=\"\",\"\",IF(ISERROR(VLOOKUP(A2683,Articoli!$1:$48422,2,FALSE)),\"Codice Errato\",VLOOKUP(A2683,Articoli!$1:$48422,2,FALSE)))","v":""},null,0,"        ","        ;",0,"      ","      ",""]
[null,{"$f":"IF(A2684=\"\",\"\",IF(ISERROR(VLOOKUP(A2684,Articoli!$1:$48422,2,FALSE)),\"Codice Errato\",VLOOKUP(A2684,Articoli!$1:$48422,2,FALSE)))","v":""},null,0,"        ","        ;",0,"      ","      ",""]
[null,{"$f":"IF(A2685=\"\",\"\",IF(ISERROR(VLOOKUP(A2685,Articoli!$1:$48422,2,FALSE)),\"Codice Errato\",VLOOKUP(A2685,Articoli!$1:$48422,2,FALSE)))","v":""},null,0,"        ","        ;",0,"      ","      ",""]
[null,{"$f":"IF(A2686=\"\",\"\",IF(ISERROR(VLOOKUP(A2686,Articoli!$1:$48422,2,FALSE)),\"Codice Errato\",VLOOKUP(A2686,Articoli!$1:$48422,2,FALSE)))","v":""},null,0,"        ","        ;",0,"      ","      ",""]
[null,{"$f":"IF(A2687=\"\",\"\",IF(ISERROR(VLOOKUP(A2687,Articoli!$1:$48422,2,FALSE)),\"Codice Errato\",VLOOKUP(A2687,Articoli!$1:$48422,2,FALSE)))","v":""},null,0,"        ","        ;",0,"      ","      ",""]
[null,{"$f":"IF(A2688=\"\",\"\",IF(ISERROR(VLOOKUP(A2688,Articoli!$1:$48422,2,FALSE)),\"Codice Errato\",VLOOKUP(A2688,Articoli!$1:$48422,2,FALSE)))","v":""},null,0,"        ","        ;",0,"      ","      ",""]
[null,{"$f":"IF(A2689=\"\",\"\",IF(ISERROR(VLOOKUP(A2689,Articoli!$1:$48422,2,FALSE)),\"Codice Errato\",VLOOKUP(A2689,Articoli!$1:$48422,2,FALSE)))","v":""},null,0,"        ","        ;",0,"      ","      ",""]
[null,{"$f":"IF(A2690=\"\",\"\",IF(ISERROR(VLOOKUP(A2690,Articoli!$1:$48422,2,FALSE)),\"Codice Errato\",VLOOKUP(A2690,Articoli!$1:$48422,2,FALSE)))","v":""},null,0,"        ","        ;",0,"      ","      ",""]
[null,{"$f":"IF(A2691=\"\",\"\",IF(ISERROR(VLOOKUP(A2691,Articoli!$1:$48422,2,FALSE)),\"Codice Errato\",VLOOKUP(A2691,Articoli!$1:$48422,2,FALSE)))","v":""},null,0,"        ","        ;",0,"      ","      ",""]
[null,{"$f":"IF(A2692=\"\",\"\",IF(ISERROR(VLOOKUP(A2692,Articoli!$1:$48422,2,FALSE)),\"Codice Errato\",VLOOKUP(A2692,Articoli!$1:$48422,2,FALSE)))","v":""},null,0,"        ","        ;",0,"      ","      ",""]
[null,{"$f":"IF(A2693=\"\",\"\",IF(ISERROR(VLOOKUP(A2693,Articoli!$1:$48422,2,FALSE)),\"Codice Errato\",VLOOKUP(A2693,Articoli!$1:$48422,2,FALSE)))","v":""},null,0,"        ","        ;",0,"      ","      ",""]
[null,{"$f":"IF(A2694=\"\",\"\",IF(ISERROR(VLOOKUP(A2694,Articoli!$1:$48422,2,FALSE)),\"Codice Errato\",VLOOKUP(A2694,Articoli!$1:$48422,2,FALSE)))","v":""},null,0,"        ","        ;",0,"      ","      ",""]
[null,{"$f":"IF(A2695=\"\",\"\",IF(ISERROR(VLOOKUP(A2695,Articoli!$1:$48422,2,FALSE)),\"Codice Errato\",VLOOKUP(A2695,Articoli!$1:$48422,2,FALSE)))","v":""},null,0,"        ","        ;",0,"      ","      ",""]
[null,{"$f":"IF(A2696=\"\",\"\",IF(ISERROR(VLOOKUP(A2696,Articoli!$1:$48422,2,FALSE)),\"Codice Errato\",VLOOKUP(A2696,Articoli!$1:$48422,2,FALSE)))","v":""},null,0,"        ","        ;",0,"      ","      ",""]
[null,{"$f":"IF(A2697=\"\",\"\",IF(ISERROR(VLOOKUP(A2697,Articoli!$1:$48422,2,FALSE)),\"Codice Errato\",VLOOKUP(A2697,Articoli!$1:$48422,2,FALSE)))","v":""},null,0,"        ","        ;",0,"      ","      ",""]
[null,{"$f":"IF(A2698=\"\",\"\",IF(ISERROR(VLOOKUP(A2698,Articoli!$1:$48422,2,FALSE)),\"Codice Errato\",VLOOKUP(A2698,Articoli!$1:$48422,2,FALSE)))","v":""},null,0,"        ","        ;",0,"      ","      ",""]
[null,{"$f":"IF(A2699=\"\",\"\",IF(ISERROR(VLOOKUP(A2699,Articoli!$1:$48422,2,FALSE)),\"Codice Errato\",VLOOKUP(A2699,Articoli!$1:$48422,2,FALSE)))","v":""},null,0,"        ","        ;",0,"      ","      ",""]
[null,{"$f":"IF(A2700=\"\",\"\",IF(ISERROR(VLOOKUP(A2700,Articoli!$1:$48422,2,FALSE)),\"Codice Errato\",VLOOKUP(A2700,Articoli!$1:$48422,2,FALSE)))","v":""},null,0,"        ","        ;",0,"      ","      ",""]
[null,{"$f":"IF(A2701=\"\",\"\",IF(ISERROR(VLOOKUP(A2701,Articoli!$1:$48422,2,FALSE)),\"Codice Errato\",VLOOKUP(A2701,Articoli!$1:$48422,2,FALSE)))","v":""},null,0,"        ","        ;",0,"      ","      ",""]
[null,{"$f":"IF(A2702=\"\",\"\",IF(ISERROR(VLOOKUP(A2702,Articoli!$1:$48422,2,FALSE)),\"Codice Errato\",VLOOKUP(A2702,Articoli!$1:$48422,2,FALSE)))","v":""},null,0,"        ","        ;",0,"      ","      ",""]
[null,{"$f":"IF(A2703=\"\",\"\",IF(ISERROR(VLOOKUP(A2703,Articoli!$1:$48422,2,FALSE)),\"Codice Errato\",VLOOKUP(A2703,Articoli!$1:$48422,2,FALSE)))","v":""},null,0,"        ","        ;",0,"      ","      ",""]
[null,{"$f":"IF(A2704=\"\",\"\",IF(ISERROR(VLOOKUP(A2704,Articoli!$1:$48422,2,FALSE)),\"Codice Errato\",VLOOKUP(A2704,Articoli!$1:$48422,2,FALSE)))","v":""},null,0,"        ","        ;",0,"      ","      ",""]
[null,{"$f":"IF(A2705=\"\",\"\",IF(ISERROR(VLOOKUP(A2705,Articoli!$1:$48422,2,FALSE)),\"Codice Errato\",VLOOKUP(A2705,Articoli!$1:$48422,2,FALSE)))","v":""},null,0,"        ","        ;",0,"      ","      ",""]
[null,{"$f":"IF(A2706=\"\",\"\",IF(ISERROR(VLOOKUP(A2706,Articoli!$1:$48422,2,FALSE)),\"Codice Errato\",VLOOKUP(A2706,Articoli!$1:$48422,2,FALSE)))","v":""},null,0,"        ","        ;",0,"      ","      ",""]
[null,{"$f":"IF(A2707=\"\",\"\",IF(ISERROR(VLOOKUP(A2707,Articoli!$1:$48422,2,FALSE)),\"Codice Errato\",VLOOKUP(A2707,Articoli!$1:$48422,2,FALSE)))","v":""},null,0,"        ","        ;",0,"      ","      ",""]
[null,{"$f":"IF(A2708=\"\",\"\",IF(ISERROR(VLOOKUP(A2708,Articoli!$1:$48422,2,FALSE)),\"Codice Errato\",VLOOKUP(A2708,Articoli!$1:$48422,2,FALSE)))","v":""},null,0,"        ","        ;",0,"      ","      ",""]
[null,{"$f":"IF(A2709=\"\",\"\",IF(ISERROR(VLOOKUP(A2709,Articoli!$1:$48422,2,FALSE)),\"Codice Errato\",VLOOKUP(A2709,Articoli!$1:$48422,2,FALSE)))","v":""},null,0,"        ","        ;",0,"      ","      ",""]
[null,{"$f":"IF(A2710=\"\",\"\",IF(ISERROR(VLOOKUP(A2710,Articoli!$1:$48422,2,FALSE)),\"Codice Errato\",VLOOKUP(A2710,Articoli!$1:$48422,2,FALSE)))","v":""},null,0,"        ","        ;",0,"      ","      ",""]
[null,{"$f":"IF(A2711=\"\",\"\",IF(ISERROR(VLOOKUP(A2711,Articoli!$1:$48422,2,FALSE)),\"Codice Errato\",VLOOKUP(A2711,Articoli!$1:$48422,2,FALSE)))","v":""},null,0,"        ","        ;",0,"      ","      ",""]
[null,{"$f":"IF(A2712=\"\",\"\",IF(ISERROR(VLOOKUP(A2712,Articoli!$1:$48422,2,FALSE)),\"Codice Errato\",VLOOKUP(A2712,Articoli!$1:$48422,2,FALSE)))","v":""},null,0,"        ","        ;",0,"      ","      ",""]
[null,{"$f":"IF(A2713=\"\",\"\",IF(ISERROR(VLOOKUP(A2713,Articoli!$1:$48422,2,FALSE)),\"Codice Errato\",VLOOKUP(A2713,Articoli!$1:$48422,2,FALSE)))","v":""},null,0,"        ","        ;",0,"      ","      ",""]
[null,{"$f":"IF(A2714=\"\",\"\",IF(ISERROR(VLOOKUP(A2714,Articoli!$1:$48422,2,FALSE)),\"Codice Errato\",VLOOKUP(A2714,Articoli!$1:$48422,2,FALSE)))","v":""},null,0,"        ","        ;",0,"      ","      ",""]
[null,{"$f":"IF(A2715=\"\",\"\",IF(ISERROR(VLOOKUP(A2715,Articoli!$1:$48422,2,FALSE)),\"Codice Errato\",VLOOKUP(A2715,Articoli!$1:$48422,2,FALSE)))","v":""},null,0,"        ","        ;",0,"      ","      ",""]
[null,{"$f":"IF(A2716=\"\",\"\",IF(ISERROR(VLOOKUP(A2716,Articoli!$1:$48422,2,FALSE)),\"Codice Errato\",VLOOKUP(A2716,Articoli!$1:$48422,2,FALSE)))","v":""},null,0,"        ","        ;",0,"      ","      ",""]
[null,{"$f":"IF(A2717=\"\",\"\",IF(ISERROR(VLOOKUP(A2717,Articoli!$1:$48422,2,FALSE)),\"Codice Errato\",VLOOKUP(A2717,Articoli!$1:$48422,2,FALSE)))","v":""},null,0,"        ","        ;",0,"      ","      ",""]
[null,{"$f":"IF(A2718=\"\",\"\",IF(ISERROR(VLOOKUP(A2718,Articoli!$1:$48422,2,FALSE)),\"Codice Errato\",VLOOKUP(A2718,Articoli!$1:$48422,2,FALSE)))","v":""},null,0,"        ","        ;",0,"      ","      ",""]
[null,{"$f":"IF(A2719=\"\",\"\",IF(ISERROR(VLOOKUP(A2719,Articoli!$1:$48422,2,FALSE)),\"Codice Errato\",VLOOKUP(A2719,Articoli!$1:$48422,2,FALSE)))","v":""},null,0,"        ","        ;",0,"      ","      ",""]
[null,{"$f":"IF(A2720=\"\",\"\",IF(ISERROR(VLOOKUP(A2720,Articoli!$1:$48422,2,FALSE)),\"Codice Errato\",VLOOKUP(A2720,Articoli!$1:$48422,2,FALSE)))","v":""},null,0,"        ","        ;",0,"      ","      ",{"$f":"IF(C2720=\"\",\"\",CONCATENATE(F2720,I2720))","v":""}]
[null,{"$f":"IF(A2721=\"\",\"\",IF(ISERROR(VLOOKUP(A2721,Articoli!$1:$48422,2,FALSE)),\"Codice Errato\",VLOOKUP(A2721,Articoli!$1:$48422,2,FALSE)))","v":""},null,0,"        ","        ;",0,"      ","      ",""]
[null,{"$f":"IF(A2722=\"\",\"\",IF(ISERROR(VLOOKUP(A2722,Articoli!$1:$48422,2,FALSE)),\"Codice Errato\",VLOOKUP(A2722,Articoli!$1:$48422,2,FALSE)))","v":""},null,0,"        ","        ;",0,"      ","      ",""]
[null,{"$f":"IF(A2723=\"\",\"\",IF(ISERROR(VLOOKUP(A2723,Articoli!$1:$48422,2,FALSE)),\"Codice Errato\",VLOOKUP(A2723,Articoli!$1:$48422,2,FALSE)))","v":""},null,0,"        ","        ;",0,"      ","      ",""]
[null,{"$f":"IF(A2724=\"\",\"\",IF(ISERROR(VLOOKUP(A2724,Articoli!$1:$48422,2,FALSE)),\"Codice Errato\",VLOOKUP(A2724,Articoli!$1:$48422,2,FALSE)))","v":""},null,0,"        ","        ;",0,"      ","      ",""]
[null,{"$f":"IF(A2725=\"\",\"\",IF(ISERROR(VLOOKUP(A2725,Articoli!$1:$48422,2,FALSE)),\"Codice Errato\",VLOOKUP(A2725,Articoli!$1:$48422,2,FALSE)))","v":""},null,0,"        ","        ;",0,"      ","      ",""]
[null,{"$f":"IF(A2726=\"\",\"\",IF(ISERROR(VLOOKUP(A2726,Articoli!$1:$48422,2,FALSE)),\"Codice Errato\",VLOOKUP(A2726,Articoli!$1:$48422,2,FALSE)))","v":""},null,0,"        ","        ;",0,"      ","      ",""]
[null,{"$f":"IF(A2727=\"\",\"\",IF(ISERROR(VLOOKUP(A2727,Articoli!$1:$48422,2,FALSE)),\"Codice Errato\",VLOOKUP(A2727,Articoli!$1:$48422,2,FALSE)))","v":""},null,0,"        ","        ;",0,"      ","      ",""]
[null,{"$f":"IF(A2728=\"\",\"\",IF(ISERROR(VLOOKUP(A2728,Articoli!$1:$48422,2,FALSE)),\"Codice Errato\",VLOOKUP(A2728,Articoli!$1:$48422,2,FALSE)))","v":""},null,0,"        ","        ;",0,"      ","      ",""]
[null,{"$f":"IF(A2729=\"\",\"\",IF(ISERROR(VLOOKUP(A2729,Articoli!$1:$48422,2,FALSE)),\"Codice Errato\",VLOOKUP(A2729,Articoli!$1:$48422,2,FALSE)))","v":""},null,0,"        ","        ;",0,"      ","      ",""]
[null,{"$f":"IF(A2730=\"\",\"\",IF(ISERROR(VLOOKUP(A2730,Articoli!$1:$48422,2,FALSE)),\"Codice Errato\",VLOOKUP(A2730,Articoli!$1:$48422,2,FALSE)))","v":""},null,0,"        ","        ;",0,"      ","      ",""]
[null,{"$f":"IF(A2731=\"\",\"\",IF(ISERROR(VLOOKUP(A2731,Articoli!$1:$48422,2,FALSE)),\"Codice Errato\",VLOOKUP(A2731,Articoli!$1:$48422,2,FALSE)))","v":""},null,0,"        ","        ;",0,"      ","      ",""]
[null,{"$f":"IF(A2732=\"\",\"\",IF(ISERROR(VLOOKUP(A2732,Articoli!$1:$48422,2,FALSE)),\"Codice Errato\",VLOOKUP(A2732,Articoli!$1:$48422,2,FALSE)))","v":""},null,0,"        ","        ;",0,"      ","      ",""]
[null,{"$f":"IF(A2733=\"\",\"\",IF(ISERROR(VLOOKUP(A2733,Articoli!$1:$48422,2,FALSE)),\"Codice Errato\",VLOOKUP(A2733,Articoli!$1:$48422,2,FALSE)))","v":""},null,0,"        ","        ;",0,"      ","      ",""]
[null,{"$f":"IF(A2734=\"\",\"\",IF(ISERROR(VLOOKUP(A2734,Articoli!$1:$48422,2,FALSE)),\"Codice Errato\",VLOOKUP(A2734,Articoli!$1:$48422,2,FALSE)))","v":""},null,0,"        ","        ;",0,"      ","      ",""]
[null,{"$f":"IF(A2735=\"\",\"\",IF(ISERROR(VLOOKUP(A2735,Articoli!$1:$48422,2,FALSE)),\"Codice Errato\",VLOOKUP(A2735,Articoli!$1:$48422,2,FALSE)))","v":""},null,0,"        ","        ;",0,"      ","      ",""]
[null,{"$f":"IF(A2736=\"\",\"\",IF(ISERROR(VLOOKUP(A2736,Articoli!$1:$48422,2,FALSE)),\"Codice Errato\",VLOOKUP(A2736,Articoli!$1:$48422,2,FALSE)))","v":""},null,0,"        ","        ;",0,"      ","      ",""]
[null,{"$f":"IF(A2737=\"\",\"\",IF(ISERROR(VLOOKUP(A2737,Articoli!$1:$48422,2,FALSE)),\"Codice Errato\",VLOOKUP(A2737,Articoli!$1:$48422,2,FALSE)))","v":""},null,0,"        ","        ;",0,"      ","      ",""]
[null,{"$f":"IF(A2738=\"\",\"\",IF(ISERROR(VLOOKUP(A2738,Articoli!$1:$48422,2,FALSE)),\"Codice Errato\",VLOOKUP(A2738,Articoli!$1:$48422,2,FALSE)))","v":""},null,{"$f":"LEN(A2738)","v":0},{"$f":"REPT(\" \",8-D2738)","v":"        "},{"$f":"CONCATENATE(A2738,E2738,\";\",)","v":"        ;"},{"$f":"LEN(C2738)","v":0},{"$f":"REPT(\" \",6-G2738)","v":"      "},{"$f":"CONCATENATE(H2738,C2738,)","v":"      "},""]
[null,{"$f":"IF(A2739=\"\",\"\",IF(ISERROR(VLOOKUP(A2739,Articoli!$1:$48422,2,FALSE)),\"Codice Errato\",VLOOKUP(A2739,Articoli!$1:$48422,2,FALSE)))","v":""},null,0,"        ","        ;",0,"      ","      ",""]
[null,{"$f":"IF(A2740=\"\",\"\",IF(ISERROR(VLOOKUP(A2740,Articoli!$1:$48422,2,FALSE)),\"Codice Errato\",VLOOKUP(A2740,Articoli!$1:$48422,2,FALSE)))","v":""},null,0,"        ","        ;",0,"      ","      ",""]
[null,{"$f":"IF(A2741=\"\",\"\",IF(ISERROR(VLOOKUP(A2741,Articoli!$1:$48422,2,FALSE)),\"Codice Errato\",VLOOKUP(A2741,Articoli!$1:$48422,2,FALSE)))","v":""},null,0,"        ","        ;",0,"      ","      ",""]
[null,{"$f":"IF(A2742=\"\",\"\",IF(ISERROR(VLOOKUP(A2742,Articoli!$1:$48422,2,FALSE)),\"Codice Errato\",VLOOKUP(A2742,Articoli!$1:$48422,2,FALSE)))","v":""},null,0,"        ","        ;",0,"      ","      ",""]
[null,{"$f":"IF(A2743=\"\",\"\",IF(ISERROR(VLOOKUP(A2743,Articoli!$1:$48422,2,FALSE)),\"Codice Errato\",VLOOKUP(A2743,Articoli!$1:$48422,2,FALSE)))","v":""},null,0,"        ","        ;",0,"      ","      ",""]
[null,{"$f":"IF(A2744=\"\",\"\",IF(ISERROR(VLOOKUP(A2744,Articoli!$1:$48422,2,FALSE)),\"Codice Errato\",VLOOKUP(A2744,Articoli!$1:$48422,2,FALSE)))","v":""},null,0,"        ","        ;",0,"      ","      ",""]
[null,{"$f":"IF(A2745=\"\",\"\",IF(ISERROR(VLOOKUP(A2745,Articoli!$1:$48422,2,FALSE)),\"Codice Errato\",VLOOKUP(A2745,Articoli!$1:$48422,2,FALSE)))","v":""},null,0,"        ","        ;",0,"      ","      ",""]
[null,{"$f":"IF(A2746=\"\",\"\",IF(ISERROR(VLOOKUP(A2746,Articoli!$1:$48422,2,FALSE)),\"Codice Errato\",VLOOKUP(A2746,Articoli!$1:$48422,2,FALSE)))","v":""},null,0,"        ","        ;",0,"      ","      ",""]
[null,{"$f":"IF(A2747=\"\",\"\",IF(ISERROR(VLOOKUP(A2747,Articoli!$1:$48422,2,FALSE)),\"Codice Errato\",VLOOKUP(A2747,Articoli!$1:$48422,2,FALSE)))","v":""},null,0,"        ","        ;",0,"      ","      ",""]
[null,{"$f":"IF(A2748=\"\",\"\",IF(ISERROR(VLOOKUP(A2748,Articoli!$1:$48422,2,FALSE)),\"Codice Errato\",VLOOKUP(A2748,Articoli!$1:$48422,2,FALSE)))","v":""},null,0,"        ","        ;",0,"      ","      ",""]
[null,{"$f":"IF(A2749=\"\",\"\",IF(ISERROR(VLOOKUP(A2749,Articoli!$1:$48422,2,FALSE)),\"Codice Errato\",VLOOKUP(A2749,Articoli!$1:$48422,2,FALSE)))","v":""},null,0,"        ","        ;",0,"      ","      ",""]
[null,{"$f":"IF(A2750=\"\",\"\",IF(ISERROR(VLOOKUP(A2750,Articoli!$1:$48422,2,FALSE)),\"Codice Errato\",VLOOKUP(A2750,Articoli!$1:$48422,2,FALSE)))","v":""},null,0,"        ","        ;",0,"      ","      ",""]
[null,{"$f":"IF(A2751=\"\",\"\",IF(ISERROR(VLOOKUP(A2751,Articoli!$1:$48422,2,FALSE)),\"Codice Errato\",VLOOKUP(A2751,Articoli!$1:$48422,2,FALSE)))","v":""},null,0,"        ","        ;",0,"      ","      ",""]
[null,{"$f":"IF(A2752=\"\",\"\",IF(ISERROR(VLOOKUP(A2752,Articoli!$1:$48422,2,FALSE)),\"Codice Errato\",VLOOKUP(A2752,Articoli!$1:$48422,2,FALSE)))","v":""},null,0,"        ","        ;",0,"      ","      ",""]
[null,{"$f":"IF(A2753=\"\",\"\",IF(ISERROR(VLOOKUP(A2753,Articoli!$1:$48422,2,FALSE)),\"Codice Errato\",VLOOKUP(A2753,Articoli!$1:$48422,2,FALSE)))","v":""},null,0,"        ","        ;",0,"      ","      ",""]
[null,{"$f":"IF(A2754=\"\",\"\",IF(ISERROR(VLOOKUP(A2754,Articoli!$1:$48422,2,FALSE)),\"Codice Errato\",VLOOKUP(A2754,Articoli!$1:$48422,2,FALSE)))","v":""},null,0,"        ","        ;",0,"      ","      ",""]
[null,{"$f":"IF(A2755=\"\",\"\",IF(ISERROR(VLOOKUP(A2755,Articoli!$1:$48422,2,FALSE)),\"Codice Errato\",VLOOKUP(A2755,Articoli!$1:$48422,2,FALSE)))","v":""},null,0,"        ","        ;",0,"      ","      ",""]
[null,{"$f":"IF(A2756=\"\",\"\",IF(ISERROR(VLOOKUP(A2756,Articoli!$1:$48422,2,FALSE)),\"Codice Errato\",VLOOKUP(A2756,Articoli!$1:$48422,2,FALSE)))","v":""},null,0,"        ","        ;",0,"      ","      ",""]
[null,{"$f":"IF(A2757=\"\",\"\",IF(ISERROR(VLOOKUP(A2757,Articoli!$1:$48422,2,FALSE)),\"Codice Errato\",VLOOKUP(A2757,Articoli!$1:$48422,2,FALSE)))","v":""},null,0,"        ","        ;",0,"      ","      ",""]
[null,{"$f":"IF(A2758=\"\",\"\",IF(ISERROR(VLOOKUP(A2758,Articoli!$1:$48422,2,FALSE)),\"Codice Errato\",VLOOKUP(A2758,Articoli!$1:$48422,2,FALSE)))","v":""},null,0,"        ","        ;",0,"      ","      ",""]
[null,{"$f":"IF(A2759=\"\",\"\",IF(ISERROR(VLOOKUP(A2759,Articoli!$1:$48422,2,FALSE)),\"Codice Errato\",VLOOKUP(A2759,Articoli!$1:$48422,2,FALSE)))","v":""},null,0,"        ","        ;",0,"      ","      ",""]
[null,{"$f":"IF(A2760=\"\",\"\",IF(ISERROR(VLOOKUP(A2760,Articoli!$1:$48422,2,FALSE)),\"Codice Errato\",VLOOKUP(A2760,Articoli!$1:$48422,2,FALSE)))","v":""},null,0,"        ","        ;",0,"      ","      ",""]
[null,{"$f":"IF(A2761=\"\",\"\",IF(ISERROR(VLOOKUP(A2761,Articoli!$1:$48422,2,FALSE)),\"Codice Errato\",VLOOKUP(A2761,Articoli!$1:$48422,2,FALSE)))","v":""},null,0,"        ","        ;",0,"      ","      ",""]
[null,{"$f":"IF(A2762=\"\",\"\",IF(ISERROR(VLOOKUP(A2762,Articoli!$1:$48422,2,FALSE)),\"Codice Errato\",VLOOKUP(A2762,Articoli!$1:$48422,2,FALSE)))","v":""},null,0,"        ","        ;",0,"      ","      ",""]
[null,{"$f":"IF(A2763=\"\",\"\",IF(ISERROR(VLOOKUP(A2763,Articoli!$1:$48422,2,FALSE)),\"Codice Errato\",VLOOKUP(A2763,Articoli!$1:$48422,2,FALSE)))","v":""},null,0,"        ","        ;",0,"      ","      ",""]
[null,{"$f":"IF(A2764=\"\",\"\",IF(ISERROR(VLOOKUP(A2764,Articoli!$1:$48422,2,FALSE)),\"Codice Errato\",VLOOKUP(A2764,Articoli!$1:$48422,2,FALSE)))","v":""},null,0,"        ","        ;",0,"      ","      ",""]
[null,{"$f":"IF(A2765=\"\",\"\",IF(ISERROR(VLOOKUP(A2765,Articoli!$1:$48422,2,FALSE)),\"Codice Errato\",VLOOKUP(A2765,Articoli!$1:$48422,2,FALSE)))","v":""},null,0,"        ","        ;",0,"      ","      ",""]
[null,{"$f":"IF(A2766=\"\",\"\",IF(ISERROR(VLOOKUP(A2766,Articoli!$1:$48422,2,FALSE)),\"Codice Errato\",VLOOKUP(A2766,Articoli!$1:$48422,2,FALSE)))","v":""},null,0,"        ","        ;",0,"      ","      ",""]
[null,{"$f":"IF(A2767=\"\",\"\",IF(ISERROR(VLOOKUP(A2767,Articoli!$1:$48422,2,FALSE)),\"Codice Errato\",VLOOKUP(A2767,Articoli!$1:$48422,2,FALSE)))","v":""},null,0,"        ","        ;",0,"      ","      ",""]
[null,{"$f":"IF(A2768=\"\",\"\",IF(ISERROR(VLOOKUP(A2768,Articoli!$1:$48422,2,FALSE)),\"Codice Errato\",VLOOKUP(A2768,Articoli!$1:$48422,2,FALSE)))","v":""},null,0,"        ","        ;",0,"      ","      ",""]
[null,{"$f":"IF(A2769=\"\",\"\",IF(ISERROR(VLOOKUP(A2769,Articoli!$1:$48422,2,FALSE)),\"Codice Errato\",VLOOKUP(A2769,Articoli!$1:$48422,2,FALSE)))","v":""},null,0,"        ","        ;",0,"      ","      ",""]
[null,{"$f":"IF(A2770=\"\",\"\",IF(ISERROR(VLOOKUP(A2770,Articoli!$1:$48422,2,FALSE)),\"Codice Errato\",VLOOKUP(A2770,Articoli!$1:$48422,2,FALSE)))","v":""},null,0,"        ","        ;",0,"      ","      ",""]
[null,{"$f":"IF(A2771=\"\",\"\",IF(ISERROR(VLOOKUP(A2771,Articoli!$1:$48422,2,FALSE)),\"Codice Errato\",VLOOKUP(A2771,Articoli!$1:$48422,2,FALSE)))","v":""},null,0,"        ","        ;",0,"      ","      ",""]
[null,{"$f":"IF(A2772=\"\",\"\",IF(ISERROR(VLOOKUP(A2772,Articoli!$1:$48422,2,FALSE)),\"Codice Errato\",VLOOKUP(A2772,Articoli!$1:$48422,2,FALSE)))","v":""},null,0,"        ","        ;",0,"      ","      ",""]
[null,{"$f":"IF(A2773=\"\",\"\",IF(ISERROR(VLOOKUP(A2773,Articoli!$1:$48422,2,FALSE)),\"Codice Errato\",VLOOKUP(A2773,Articoli!$1:$48422,2,FALSE)))","v":""},null,0,"        ","        ;",0,"      ","      ",""]
[null,{"$f":"IF(A2774=\"\",\"\",IF(ISERROR(VLOOKUP(A2774,Articoli!$1:$48422,2,FALSE)),\"Codice Errato\",VLOOKUP(A2774,Articoli!$1:$48422,2,FALSE)))","v":""},null,0,"        ","        ;",0,"      ","      ",""]
[null,{"$f":"IF(A2775=\"\",\"\",IF(ISERROR(VLOOKUP(A2775,Articoli!$1:$48422,2,FALSE)),\"Codice Errato\",VLOOKUP(A2775,Articoli!$1:$48422,2,FALSE)))","v":""},null,0,"        ","        ;",0,"      ","      ",""]
[null,{"$f":"IF(A2776=\"\",\"\",IF(ISERROR(VLOOKUP(A2776,Articoli!$1:$48422,2,FALSE)),\"Codice Errato\",VLOOKUP(A2776,Articoli!$1:$48422,2,FALSE)))","v":""},null,0,"        ","        ;",0,"      ","      ",""]
[null,{"$f":"IF(A2777=\"\",\"\",IF(ISERROR(VLOOKUP(A2777,Articoli!$1:$48422,2,FALSE)),\"Codice Errato\",VLOOKUP(A2777,Articoli!$1:$48422,2,FALSE)))","v":""},null,0,"        ","        ;",0,"      ","      ",""]
[null,{"$f":"IF(A2778=\"\",\"\",IF(ISERROR(VLOOKUP(A2778,Articoli!$1:$48422,2,FALSE)),\"Codice Errato\",VLOOKUP(A2778,Articoli!$1:$48422,2,FALSE)))","v":""},null,0,"        ","        ;",0,"      ","      ",""]
[null,{"$f":"IF(A2779=\"\",\"\",IF(ISERROR(VLOOKUP(A2779,Articoli!$1:$48422,2,FALSE)),\"Codice Errato\",VLOOKUP(A2779,Articoli!$1:$48422,2,FALSE)))","v":""},null,0,"        ","        ;",0,"      ","      ",""]
[null,{"$f":"IF(A2780=\"\",\"\",IF(ISERROR(VLOOKUP(A2780,Articoli!$1:$48422,2,FALSE)),\"Codice Errato\",VLOOKUP(A2780,Articoli!$1:$48422,2,FALSE)))","v":""},null,0,"        ","        ;",0,"      ","      ",""]
[null,{"$f":"IF(A2781=\"\",\"\",IF(ISERROR(VLOOKUP(A2781,Articoli!$1:$48422,2,FALSE)),\"Codice Errato\",VLOOKUP(A2781,Articoli!$1:$48422,2,FALSE)))","v":""},null,0,"        ","        ;",0,"      ","      ",""]
[null,{"$f":"IF(A2782=\"\",\"\",IF(ISERROR(VLOOKUP(A2782,Articoli!$1:$48422,2,FALSE)),\"Codice Errato\",VLOOKUP(A2782,Articoli!$1:$48422,2,FALSE)))","v":""},null,0,"        ","        ;",0,"      ","      ",""]
[null,{"$f":"IF(A2783=\"\",\"\",IF(ISERROR(VLOOKUP(A2783,Articoli!$1:$48422,2,FALSE)),\"Codice Errato\",VLOOKUP(A2783,Articoli!$1:$48422,2,FALSE)))","v":""},null,0,"        ","        ;",0,"      ","      ",""]
[null,{"$f":"IF(A2784=\"\",\"\",IF(ISERROR(VLOOKUP(A2784,Articoli!$1:$48422,2,FALSE)),\"Codice Errato\",VLOOKUP(A2784,Articoli!$1:$48422,2,FALSE)))","v":""},null,0,"        ","        ;",0,"      ","      ",{"$f":"IF(C2784=\"\",\"\",CONCATENATE(F2784,I2784))","v":""}]
[null,{"$f":"IF(A2785=\"\",\"\",IF(ISERROR(VLOOKUP(A2785,Articoli!$1:$48422,2,FALSE)),\"Codice Errato\",VLOOKUP(A2785,Articoli!$1:$48422,2,FALSE)))","v":""},null,0,"        ","        ;",0,"      ","      ",""]
[null,{"$f":"IF(A2786=\"\",\"\",IF(ISERROR(VLOOKUP(A2786,Articoli!$1:$48422,2,FALSE)),\"Codice Errato\",VLOOKUP(A2786,Articoli!$1:$48422,2,FALSE)))","v":""},null,0,"        ","        ;",0,"      ","      ",""]
[null,{"$f":"IF(A2787=\"\",\"\",IF(ISERROR(VLOOKUP(A2787,Articoli!$1:$48422,2,FALSE)),\"Codice Errato\",VLOOKUP(A2787,Articoli!$1:$48422,2,FALSE)))","v":""},null,0,"        ","        ;",0,"      ","      ",""]
[null,{"$f":"IF(A2788=\"\",\"\",IF(ISERROR(VLOOKUP(A2788,Articoli!$1:$48422,2,FALSE)),\"Codice Errato\",VLOOKUP(A2788,Articoli!$1:$48422,2,FALSE)))","v":""},null,0,"        ","        ;",0,"      ","      ",""]
[null,{"$f":"IF(A2789=\"\",\"\",IF(ISERROR(VLOOKUP(A2789,Articoli!$1:$48422,2,FALSE)),\"Codice Errato\",VLOOKUP(A2789,Articoli!$1:$48422,2,FALSE)))","v":""},null,0,"        ","        ;",0,"      ","      ",""]
[null,{"$f":"IF(A2790=\"\",\"\",IF(ISERROR(VLOOKUP(A2790,Articoli!$1:$48422,2,FALSE)),\"Codice Errato\",VLOOKUP(A2790,Articoli!$1:$48422,2,FALSE)))","v":""},null,0,"        ","        ;",0,"      ","      ",""]
[null,{"$f":"IF(A2791=\"\",\"\",IF(ISERROR(VLOOKUP(A2791,Articoli!$1:$48422,2,FALSE)),\"Codice Errato\",VLOOKUP(A2791,Articoli!$1:$48422,2,FALSE)))","v":""},null,0,"        ","        ;",0,"      ","      ",""]
[null,{"$f":"IF(A2792=\"\",\"\",IF(ISERROR(VLOOKUP(A2792,Articoli!$1:$48422,2,FALSE)),\"Codice Errato\",VLOOKUP(A2792,Articoli!$1:$48422,2,FALSE)))","v":""},null,0,"        ","        ;",0,"      ","      ",""]
[null,{"$f":"IF(A2793=\"\",\"\",IF(ISERROR(VLOOKUP(A2793,Articoli!$1:$48422,2,FALSE)),\"Codice Errato\",VLOOKUP(A2793,Articoli!$1:$48422,2,FALSE)))","v":""},null,0,"        ","        ;",0,"      ","      ",""]
[null,{"$f":"IF(A2794=\"\",\"\",IF(ISERROR(VLOOKUP(A2794,Articoli!$1:$48422,2,FALSE)),\"Codice Errato\",VLOOKUP(A2794,Articoli!$1:$48422,2,FALSE)))","v":""},null,0,"        ","        ;",0,"      ","      ",""]
[null,{"$f":"IF(A2795=\"\",\"\",IF(ISERROR(VLOOKUP(A2795,Articoli!$1:$48422,2,FALSE)),\"Codice Errato\",VLOOKUP(A2795,Articoli!$1:$48422,2,FALSE)))","v":""},null,0,"        ","        ;",0,"      ","      ",""]
[null,{"$f":"IF(A2796=\"\",\"\",IF(ISERROR(VLOOKUP(A2796,Articoli!$1:$48422,2,FALSE)),\"Codice Errato\",VLOOKUP(A2796,Articoli!$1:$48422,2,FALSE)))","v":""},null,0,"        ","        ;",0,"      ","      ",""]
[null,{"$f":"IF(A2797=\"\",\"\",IF(ISERROR(VLOOKUP(A2797,Articoli!$1:$48422,2,FALSE)),\"Codice Errato\",VLOOKUP(A2797,Articoli!$1:$48422,2,FALSE)))","v":""},null,0,"        ","        ;",0,"      ","      ",""]
[null,{"$f":"IF(A2798=\"\",\"\",IF(ISERROR(VLOOKUP(A2798,Articoli!$1:$48422,2,FALSE)),\"Codice Errato\",VLOOKUP(A2798,Articoli!$1:$48422,2,FALSE)))","v":""},null,0,"        ","        ;",0,"      ","      ",""]
[null,{"$f":"IF(A2799=\"\",\"\",IF(ISERROR(VLOOKUP(A2799,Articoli!$1:$48422,2,FALSE)),\"Codice Errato\",VLOOKUP(A2799,Articoli!$1:$48422,2,FALSE)))","v":""},null,0,"        ","        ;",0,"      ","      ",""]
[null,{"$f":"IF(A2800=\"\",\"\",IF(ISERROR(VLOOKUP(A2800,Articoli!$1:$48422,2,FALSE)),\"Codice Errato\",VLOOKUP(A2800,Articoli!$1:$48422,2,FALSE)))","v":""},null,0,"        ","        ;",0,"      ","      ",""]
[null,{"$f":"IF(A2801=\"\",\"\",IF(ISERROR(VLOOKUP(A2801,Articoli!$1:$48422,2,FALSE)),\"Codice Errato\",VLOOKUP(A2801,Articoli!$1:$48422,2,FALSE)))","v":""},null,0,"        ","        ;",0,"      ","      ",""]
[null,{"$f":"IF(A2802=\"\",\"\",IF(ISERROR(VLOOKUP(A2802,Articoli!$1:$48422,2,FALSE)),\"Codice Errato\",VLOOKUP(A2802,Articoli!$1:$48422,2,FALSE)))","v":""},null,{"$f":"LEN(A2802)","v":0},{"$f":"REPT(\" \",8-D2802)","v":"        "},{"$f":"CONCATENATE(A2802,E2802,\";\",)","v":"        ;"},{"$f":"LEN(C2802)","v":0},{"$f":"REPT(\" \",6-G2802)","v":"      "},{"$f":"CONCATENATE(H2802,C2802,)","v":"      "},""]
[null,{"$f":"IF(A2803=\"\",\"\",IF(ISERROR(VLOOKUP(A2803,Articoli!$1:$48422,2,FALSE)),\"Codice Errato\",VLOOKUP(A2803,Articoli!$1:$48422,2,FALSE)))","v":""},null,0,"        ","        ;",0,"      ","      ",""]
[null,{"$f":"IF(A2804=\"\",\"\",IF(ISERROR(VLOOKUP(A2804,Articoli!$1:$48422,2,FALSE)),\"Codice Errato\",VLOOKUP(A2804,Articoli!$1:$48422,2,FALSE)))","v":""},null,0,"        ","        ;",0,"      ","      ",""]
[null,{"$f":"IF(A2805=\"\",\"\",IF(ISERROR(VLOOKUP(A2805,Articoli!$1:$48422,2,FALSE)),\"Codice Errato\",VLOOKUP(A2805,Articoli!$1:$48422,2,FALSE)))","v":""},null,0,"        ","        ;",0,"      ","      ",""]
[null,{"$f":"IF(A2806=\"\",\"\",IF(ISERROR(VLOOKUP(A2806,Articoli!$1:$48422,2,FALSE)),\"Codice Errato\",VLOOKUP(A2806,Articoli!$1:$48422,2,FALSE)))","v":""},null,0,"        ","        ;",0,"      ","      ",""]
[null,{"$f":"IF(A2807=\"\",\"\",IF(ISERROR(VLOOKUP(A2807,Articoli!$1:$48422,2,FALSE)),\"Codice Errato\",VLOOKUP(A2807,Articoli!$1:$48422,2,FALSE)))","v":""},null,0,"        ","        ;",0,"      ","      ",""]
[null,{"$f":"IF(A2808=\"\",\"\",IF(ISERROR(VLOOKUP(A2808,Articoli!$1:$48422,2,FALSE)),\"Codice Errato\",VLOOKUP(A2808,Articoli!$1:$48422,2,FALSE)))","v":""},null,0,"        ","        ;",0,"      ","      ",""]
[null,{"$f":"IF(A2809=\"\",\"\",IF(ISERROR(VLOOKUP(A2809,Articoli!$1:$48422,2,FALSE)),\"Codice Errato\",VLOOKUP(A2809,Articoli!$1:$48422,2,FALSE)))","v":""},null,0,"        ","        ;",0,"      ","      ",""]
[null,{"$f":"IF(A2810=\"\",\"\",IF(ISERROR(VLOOKUP(A2810,Articoli!$1:$48422,2,FALSE)),\"Codice Errato\",VLOOKUP(A2810,Articoli!$1:$48422,2,FALSE)))","v":""},null,0,"        ","        ;",0,"      ","      ",""]
[null,{"$f":"IF(A2811=\"\",\"\",IF(ISERROR(VLOOKUP(A2811,Articoli!$1:$48422,2,FALSE)),\"Codice Errato\",VLOOKUP(A2811,Articoli!$1:$48422,2,FALSE)))","v":""},null,0,"        ","        ;",0,"      ","      ",""]
[null,{"$f":"IF(A2812=\"\",\"\",IF(ISERROR(VLOOKUP(A2812,Articoli!$1:$48422,2,FALSE)),\"Codice Errato\",VLOOKUP(A2812,Articoli!$1:$48422,2,FALSE)))","v":""},null,0,"        ","        ;",0,"      ","      ",""]
[null,{"$f":"IF(A2813=\"\",\"\",IF(ISERROR(VLOOKUP(A2813,Articoli!$1:$48422,2,FALSE)),\"Codice Errato\",VLOOKUP(A2813,Articoli!$1:$48422,2,FALSE)))","v":""},null,0,"        ","        ;",0,"      ","      ",""]
[null,{"$f":"IF(A2814=\"\",\"\",IF(ISERROR(VLOOKUP(A2814,Articoli!$1:$48422,2,FALSE)),\"Codice Errato\",VLOOKUP(A2814,Articoli!$1:$48422,2,FALSE)))","v":""},null,0,"        ","        ;",0,"      ","      ",""]
[null,{"$f":"IF(A2815=\"\",\"\",IF(ISERROR(VLOOKUP(A2815,Articoli!$1:$48422,2,FALSE)),\"Codice Errato\",VLOOKUP(A2815,Articoli!$1:$48422,2,FALSE)))","v":""},null,0,"        ","        ;",0,"      ","      ",""]
[null,{"$f":"IF(A2816=\"\",\"\",IF(ISERROR(VLOOKUP(A2816,Articoli!$1:$48422,2,FALSE)),\"Codice Errato\",VLOOKUP(A2816,Articoli!$1:$48422,2,FALSE)))","v":""},null,0,"        ","        ;",0,"      ","      ",""]
[null,{"$f":"IF(A2817=\"\",\"\",IF(ISERROR(VLOOKUP(A2817,Articoli!$1:$48422,2,FALSE)),\"Codice Errato\",VLOOKUP(A2817,Articoli!$1:$48422,2,FALSE)))","v":""},null,0,"        ","        ;",0,"      ","      ",""]
[null,{"$f":"IF(A2818=\"\",\"\",IF(ISERROR(VLOOKUP(A2818,Articoli!$1:$48422,2,FALSE)),\"Codice Errato\",VLOOKUP(A2818,Articoli!$1:$48422,2,FALSE)))","v":""},null,0,"        ","        ;",0,"      ","      ",""]
[null,{"$f":"IF(A2819=\"\",\"\",IF(ISERROR(VLOOKUP(A2819,Articoli!$1:$48422,2,FALSE)),\"Codice Errato\",VLOOKUP(A2819,Articoli!$1:$48422,2,FALSE)))","v":""},null,0,"        ","        ;",0,"      ","      ",""]
[null,{"$f":"IF(A2820=\"\",\"\",IF(ISERROR(VLOOKUP(A2820,Articoli!$1:$48422,2,FALSE)),\"Codice Errato\",VLOOKUP(A2820,Articoli!$1:$48422,2,FALSE)))","v":""},null,0,"        ","        ;",0,"      ","      ",""]
[null,{"$f":"IF(A2821=\"\",\"\",IF(ISERROR(VLOOKUP(A2821,Articoli!$1:$48422,2,FALSE)),\"Codice Errato\",VLOOKUP(A2821,Articoli!$1:$48422,2,FALSE)))","v":""},null,0,"        ","        ;",0,"      ","      ",""]
[null,{"$f":"IF(A2822=\"\",\"\",IF(ISERROR(VLOOKUP(A2822,Articoli!$1:$48422,2,FALSE)),\"Codice Errato\",VLOOKUP(A2822,Articoli!$1:$48422,2,FALSE)))","v":""},null,0,"        ","        ;",0,"      ","      ",""]
[null,{"$f":"IF(A2823=\"\",\"\",IF(ISERROR(VLOOKUP(A2823,Articoli!$1:$48422,2,FALSE)),\"Codice Errato\",VLOOKUP(A2823,Articoli!$1:$48422,2,FALSE)))","v":""},null,0,"        ","        ;",0,"      ","      ",""]
[null,{"$f":"IF(A2824=\"\",\"\",IF(ISERROR(VLOOKUP(A2824,Articoli!$1:$48422,2,FALSE)),\"Codice Errato\",VLOOKUP(A2824,Articoli!$1:$48422,2,FALSE)))","v":""},null,0,"        ","        ;",0,"      ","      ",""]
[null,{"$f":"IF(A2825=\"\",\"\",IF(ISERROR(VLOOKUP(A2825,Articoli!$1:$48422,2,FALSE)),\"Codice Errato\",VLOOKUP(A2825,Articoli!$1:$48422,2,FALSE)))","v":""},null,0,"        ","        ;",0,"      ","      ",""]
[null,{"$f":"IF(A2826=\"\",\"\",IF(ISERROR(VLOOKUP(A2826,Articoli!$1:$48422,2,FALSE)),\"Codice Errato\",VLOOKUP(A2826,Articoli!$1:$48422,2,FALSE)))","v":""},null,0,"        ","        ;",0,"      ","      ",""]
[null,{"$f":"IF(A2827=\"\",\"\",IF(ISERROR(VLOOKUP(A2827,Articoli!$1:$48422,2,FALSE)),\"Codice Errato\",VLOOKUP(A2827,Articoli!$1:$48422,2,FALSE)))","v":""},null,0,"        ","        ;",0,"      ","      ",""]
[null,{"$f":"IF(A2828=\"\",\"\",IF(ISERROR(VLOOKUP(A2828,Articoli!$1:$48422,2,FALSE)),\"Codice Errato\",VLOOKUP(A2828,Articoli!$1:$48422,2,FALSE)))","v":""},null,0,"        ","        ;",0,"      ","      ",""]
[null,{"$f":"IF(A2829=\"\",\"\",IF(ISERROR(VLOOKUP(A2829,Articoli!$1:$48422,2,FALSE)),\"Codice Errato\",VLOOKUP(A2829,Articoli!$1:$48422,2,FALSE)))","v":""},null,0,"        ","        ;",0,"      ","      ",""]
[null,{"$f":"IF(A2830=\"\",\"\",IF(ISERROR(VLOOKUP(A2830,Articoli!$1:$48422,2,FALSE)),\"Codice Errato\",VLOOKUP(A2830,Articoli!$1:$48422,2,FALSE)))","v":""},null,0,"        ","        ;",0,"      ","      ",""]
[null,{"$f":"IF(A2831=\"\",\"\",IF(ISERROR(VLOOKUP(A2831,Articoli!$1:$48422,2,FALSE)),\"Codice Errato\",VLOOKUP(A2831,Articoli!$1:$48422,2,FALSE)))","v":""},null,0,"        ","        ;",0,"      ","      ",""]
[null,{"$f":"IF(A2832=\"\",\"\",IF(ISERROR(VLOOKUP(A2832,Articoli!$1:$48422,2,FALSE)),\"Codice Errato\",VLOOKUP(A2832,Articoli!$1:$48422,2,FALSE)))","v":""},null,0,"        ","        ;",0,"      ","      ",""]
[null,{"$f":"IF(A2833=\"\",\"\",IF(ISERROR(VLOOKUP(A2833,Articoli!$1:$48422,2,FALSE)),\"Codice Errato\",VLOOKUP(A2833,Articoli!$1:$48422,2,FALSE)))","v":""},null,0,"        ","        ;",0,"      ","      ",""]
[null,{"$f":"IF(A2834=\"\",\"\",IF(ISERROR(VLOOKUP(A2834,Articoli!$1:$48422,2,FALSE)),\"Codice Errato\",VLOOKUP(A2834,Articoli!$1:$48422,2,FALSE)))","v":""},null,0,"        ","        ;",0,"      ","      ",""]
[null,{"$f":"IF(A2835=\"\",\"\",IF(ISERROR(VLOOKUP(A2835,Articoli!$1:$48422,2,FALSE)),\"Codice Errato\",VLOOKUP(A2835,Articoli!$1:$48422,2,FALSE)))","v":""},null,0,"        ","        ;",0,"      ","      ",""]
[null,{"$f":"IF(A2836=\"\",\"\",IF(ISERROR(VLOOKUP(A2836,Articoli!$1:$48422,2,FALSE)),\"Codice Errato\",VLOOKUP(A2836,Articoli!$1:$48422,2,FALSE)))","v":""},null,0,"        ","        ;",0,"      ","      ",""]
[null,{"$f":"IF(A2837=\"\",\"\",IF(ISERROR(VLOOKUP(A2837,Articoli!$1:$48422,2,FALSE)),\"Codice Errato\",VLOOKUP(A2837,Articoli!$1:$48422,2,FALSE)))","v":""},null,0,"        ","        ;",0,"      ","      ",""]
[null,{"$f":"IF(A2838=\"\",\"\",IF(ISERROR(VLOOKUP(A2838,Articoli!$1:$48422,2,FALSE)),\"Codice Errato\",VLOOKUP(A2838,Articoli!$1:$48422,2,FALSE)))","v":""},null,0,"        ","        ;",0,"      ","      ",""]
[null,{"$f":"IF(A2839=\"\",\"\",IF(ISERROR(VLOOKUP(A2839,Articoli!$1:$48422,2,FALSE)),\"Codice Errato\",VLOOKUP(A2839,Articoli!$1:$48422,2,FALSE)))","v":""},null,0,"        ","        ;",0,"      ","      ",""]
[null,{"$f":"IF(A2840=\"\",\"\",IF(ISERROR(VLOOKUP(A2840,Articoli!$1:$48422,2,FALSE)),\"Codice Errato\",VLOOKUP(A2840,Articoli!$1:$48422,2,FALSE)))","v":""},null,0,"        ","        ;",0,"      ","      ",""]
[null,{"$f":"IF(A2841=\"\",\"\",IF(ISERROR(VLOOKUP(A2841,Articoli!$1:$48422,2,FALSE)),\"Codice Errato\",VLOOKUP(A2841,Articoli!$1:$48422,2,FALSE)))","v":""},null,0,"        ","        ;",0,"      ","      ",""]
[null,{"$f":"IF(A2842=\"\",\"\",IF(ISERROR(VLOOKUP(A2842,Articoli!$1:$48422,2,FALSE)),\"Codice Errato\",VLOOKUP(A2842,Articoli!$1:$48422,2,FALSE)))","v":""},null,0,"        ","        ;",0,"      ","      ",""]
[null,{"$f":"IF(A2843=\"\",\"\",IF(ISERROR(VLOOKUP(A2843,Articoli!$1:$48422,2,FALSE)),\"Codice Errato\",VLOOKUP(A2843,Articoli!$1:$48422,2,FALSE)))","v":""},null,0,"        ","        ;",0,"      ","      ",""]
[null,{"$f":"IF(A2844=\"\",\"\",IF(ISERROR(VLOOKUP(A2844,Articoli!$1:$48422,2,FALSE)),\"Codice Errato\",VLOOKUP(A2844,Articoli!$1:$48422,2,FALSE)))","v":""},null,0,"        ","        ;",0,"      ","      ",""]
[null,{"$f":"IF(A2845=\"\",\"\",IF(ISERROR(VLOOKUP(A2845,Articoli!$1:$48422,2,FALSE)),\"Codice Errato\",VLOOKUP(A2845,Articoli!$1:$48422,2,FALSE)))","v":""},null,0,"        ","        ;",0,"      ","      ",""]
[null,{"$f":"IF(A2846=\"\",\"\",IF(ISERROR(VLOOKUP(A2846,Articoli!$1:$48422,2,FALSE)),\"Codice Errato\",VLOOKUP(A2846,Articoli!$1:$48422,2,FALSE)))","v":""},null,0,"        ","        ;",0,"      ","      ",""]
[null,{"$f":"IF(A2847=\"\",\"\",IF(ISERROR(VLOOKUP(A2847,Articoli!$1:$48422,2,FALSE)),\"Codice Errato\",VLOOKUP(A2847,Articoli!$1:$48422,2,FALSE)))","v":""},null,0,"        ","        ;",0,"      ","      ",""]
[null,{"$f":"IF(A2848=\"\",\"\",IF(ISERROR(VLOOKUP(A2848,Articoli!$1:$48422,2,FALSE)),\"Codice Errato\",VLOOKUP(A2848,Articoli!$1:$48422,2,FALSE)))","v":""},null,0,"        ","        ;",0,"      ","      ",{"$f":"IF(C2848=\"\",\"\",CONCATENATE(F2848,I2848))","v":""}]
[null,{"$f":"IF(A2849=\"\",\"\",IF(ISERROR(VLOOKUP(A2849,Articoli!$1:$48422,2,FALSE)),\"Codice Errato\",VLOOKUP(A2849,Articoli!$1:$48422,2,FALSE)))","v":""},null,0,"        ","        ;",0,"      ","      ",""]
[null,{"$f":"IF(A2850=\"\",\"\",IF(ISERROR(VLOOKUP(A2850,Articoli!$1:$48422,2,FALSE)),\"Codice Errato\",VLOOKUP(A2850,Articoli!$1:$48422,2,FALSE)))","v":""},null,0,"        ","        ;",0,"      ","      ",""]
[null,{"$f":"IF(A2851=\"\",\"\",IF(ISERROR(VLOOKUP(A2851,Articoli!$1:$48422,2,FALSE)),\"Codice Errato\",VLOOKUP(A2851,Articoli!$1:$48422,2,FALSE)))","v":""},null,0,"        ","        ;",0,"      ","      ",""]
[null,{"$f":"IF(A2852=\"\",\"\",IF(ISERROR(VLOOKUP(A2852,Articoli!$1:$48422,2,FALSE)),\"Codice Errato\",VLOOKUP(A2852,Articoli!$1:$48422,2,FALSE)))","v":""},null,0,"        ","        ;",0,"      ","      ",""]
[null,{"$f":"IF(A2853=\"\",\"\",IF(ISERROR(VLOOKUP(A2853,Articoli!$1:$48422,2,FALSE)),\"Codice Errato\",VLOOKUP(A2853,Articoli!$1:$48422,2,FALSE)))","v":""},null,0,"        ","        ;",0,"      ","      ",""]
[null,{"$f":"IF(A2854=\"\",\"\",IF(ISERROR(VLOOKUP(A2854,Articoli!$1:$48422,2,FALSE)),\"Codice Errato\",VLOOKUP(A2854,Articoli!$1:$48422,2,FALSE)))","v":""},null,0,"        ","        ;",0,"      ","      ",""]
[null,{"$f":"IF(A2855=\"\",\"\",IF(ISERROR(VLOOKUP(A2855,Articoli!$1:$48422,2,FALSE)),\"Codice Errato\",VLOOKUP(A2855,Articoli!$1:$48422,2,FALSE)))","v":""},null,0,"        ","        ;",0,"      ","      ",""]
[null,{"$f":"IF(A2856=\"\",\"\",IF(ISERROR(VLOOKUP(A2856,Articoli!$1:$48422,2,FALSE)),\"Codice Errato\",VLOOKUP(A2856,Articoli!$1:$48422,2,FALSE)))","v":""},null,0,"        ","        ;",0,"      ","      ",""]
[null,{"$f":"IF(A2857=\"\",\"\",IF(ISERROR(VLOOKUP(A2857,Articoli!$1:$48422,2,FALSE)),\"Codice Errato\",VLOOKUP(A2857,Articoli!$1:$48422,2,FALSE)))","v":""},null,0,"        ","        ;",0,"      ","      ",""]
[null,{"$f":"IF(A2858=\"\",\"\",IF(ISERROR(VLOOKUP(A2858,Articoli!$1:$48422,2,FALSE)),\"Codice Errato\",VLOOKUP(A2858,Articoli!$1:$48422,2,FALSE)))","v":""},null,0,"        ","        ;",0,"      ","      ",""]
[null,{"$f":"IF(A2859=\"\",\"\",IF(ISERROR(VLOOKUP(A2859,Articoli!$1:$48422,2,FALSE)),\"Codice Errato\",VLOOKUP(A2859,Articoli!$1:$48422,2,FALSE)))","v":""},null,0,"        ","        ;",0,"      ","      ",""]
[null,{"$f":"IF(A2860=\"\",\"\",IF(ISERROR(VLOOKUP(A2860,Articoli!$1:$48422,2,FALSE)),\"Codice Errato\",VLOOKUP(A2860,Articoli!$1:$48422,2,FALSE)))","v":""},null,0,"        ","        ;",0,"      ","      ",""]
[null,{"$f":"IF(A2861=\"\",\"\",IF(ISERROR(VLOOKUP(A2861,Articoli!$1:$48422,2,FALSE)),\"Codice Errato\",VLOOKUP(A2861,Articoli!$1:$48422,2,FALSE)))","v":""},null,0,"        ","        ;",0,"      ","      ",""]
[null,{"$f":"IF(A2862=\"\",\"\",IF(ISERROR(VLOOKUP(A2862,Articoli!$1:$48422,2,FALSE)),\"Codice Errato\",VLOOKUP(A2862,Articoli!$1:$48422,2,FALSE)))","v":""},null,0,"        ","        ;",0,"      ","      ",""]
[null,{"$f":"IF(A2863=\"\",\"\",IF(ISERROR(VLOOKUP(A2863,Articoli!$1:$48422,2,FALSE)),\"Codice Errato\",VLOOKUP(A2863,Articoli!$1:$48422,2,FALSE)))","v":""},null,0,"        ","        ;",0,"      ","      ",""]
[null,{"$f":"IF(A2864=\"\",\"\",IF(ISERROR(VLOOKUP(A2864,Articoli!$1:$48422,2,FALSE)),\"Codice Errato\",VLOOKUP(A2864,Articoli!$1:$48422,2,FALSE)))","v":""},null,0,"        ","        ;",0,"      ","      ",""]
[null,{"$f":"IF(A2865=\"\",\"\",IF(ISERROR(VLOOKUP(A2865,Articoli!$1:$48422,2,FALSE)),\"Codice Errato\",VLOOKUP(A2865,Articoli!$1:$48422,2,FALSE)))","v":""},null,0,"        ","        ;",0,"      ","      ",""]
[null,{"$f":"IF(A2866=\"\",\"\",IF(ISERROR(VLOOKUP(A2866,Articoli!$1:$48422,2,FALSE)),\"Codice Errato\",VLOOKUP(A2866,Articoli!$1:$48422,2,FALSE)))","v":""},null,{"$f":"LEN(A2866)","v":0},{"$f":"REPT(\" \",8-D2866)","v":"        "},{"$f":"CONCATENATE(A2866,E2866,\";\",)","v":"        ;"},{"$f":"LEN(C2866)","v":0},{"$f":"REPT(\" \",6-G2866)","v":"      "},{"$f":"CONCATENATE(H2866,C2866,)","v":"      "},""]
[null,{"$f":"IF(A2867=\"\",\"\",IF(ISERROR(VLOOKUP(A2867,Articoli!$1:$48422,2,FALSE)),\"Codice Errato\",VLOOKUP(A2867,Articoli!$1:$48422,2,FALSE)))","v":""},null,0,"        ","        ;",0,"      ","      ",""]
[null,{"$f":"IF(A2868=\"\",\"\",IF(ISERROR(VLOOKUP(A2868,Articoli!$1:$48422,2,FALSE)),\"Codice Errato\",VLOOKUP(A2868,Articoli!$1:$48422,2,FALSE)))","v":""},null,0,"        ","        ;",0,"      ","      ",""]
[null,{"$f":"IF(A2869=\"\",\"\",IF(ISERROR(VLOOKUP(A2869,Articoli!$1:$48422,2,FALSE)),\"Codice Errato\",VLOOKUP(A2869,Articoli!$1:$48422,2,FALSE)))","v":""},null,0,"        ","        ;",0,"      ","      ",""]
[null,{"$f":"IF(A2870=\"\",\"\",IF(ISERROR(VLOOKUP(A2870,Articoli!$1:$48422,2,FALSE)),\"Codice Errato\",VLOOKUP(A2870,Articoli!$1:$48422,2,FALSE)))","v":""},null,0,"        ","        ;",0,"      ","      ",""]
[null,{"$f":"IF(A2871=\"\",\"\",IF(ISERROR(VLOOKUP(A2871,Articoli!$1:$48422,2,FALSE)),\"Codice Errato\",VLOOKUP(A2871,Articoli!$1:$48422,2,FALSE)))","v":""},null,0,"        ","        ;",0,"      ","      ",""]
[null,{"$f":"IF(A2872=\"\",\"\",IF(ISERROR(VLOOKUP(A2872,Articoli!$1:$48422,2,FALSE)),\"Codice Errato\",VLOOKUP(A2872,Articoli!$1:$48422,2,FALSE)))","v":""},null,0,"        ","        ;",0,"      ","      ",""]
[null,{"$f":"IF(A2873=\"\",\"\",IF(ISERROR(VLOOKUP(A2873,Articoli!$1:$48422,2,FALSE)),\"Codice Errato\",VLOOKUP(A2873,Articoli!$1:$48422,2,FALSE)))","v":""},null,0,"        ","        ;",0,"      ","      ",""]
[null,{"$f":"IF(A2874=\"\",\"\",IF(ISERROR(VLOOKUP(A2874,Articoli!$1:$48422,2,FALSE)),\"Codice Errato\",VLOOKUP(A2874,Articoli!$1:$48422,2,FALSE)))","v":""},null,0,"        ","        ;",0,"      ","      ",""]
[null,{"$f":"IF(A2875=\"\",\"\",IF(ISERROR(VLOOKUP(A2875,Articoli!$1:$48422,2,FALSE)),\"Codice Errato\",VLOOKUP(A2875,Articoli!$1:$48422,2,FALSE)))","v":""},null,0,"        ","        ;",0,"      ","      ",""]
[null,{"$f":"IF(A2876=\"\",\"\",IF(ISERROR(VLOOKUP(A2876,Articoli!$1:$48422,2,FALSE)),\"Codice Errato\",VLOOKUP(A2876,Articoli!$1:$48422,2,FALSE)))","v":""},null,0,"        ","        ;",0,"      ","      ",""]
[null,{"$f":"IF(A2877=\"\",\"\",IF(ISERROR(VLOOKUP(A2877,Articoli!$1:$48422,2,FALSE)),\"Codice Errato\",VLOOKUP(A2877,Articoli!$1:$48422,2,FALSE)))","v":""},null,0,"        ","        ;",0,"      ","      ",""]
[null,{"$f":"IF(A2878=\"\",\"\",IF(ISERROR(VLOOKUP(A2878,Articoli!$1:$48422,2,FALSE)),\"Codice Errato\",VLOOKUP(A2878,Articoli!$1:$48422,2,FALSE)))","v":""},null,0,"        ","        ;",0,"      ","      ",""]
[null,{"$f":"IF(A2879=\"\",\"\",IF(ISERROR(VLOOKUP(A2879,Articoli!$1:$48422,2,FALSE)),\"Codice Errato\",VLOOKUP(A2879,Articoli!$1:$48422,2,FALSE)))","v":""},null,0,"        ","        ;",0,"      ","      ",""]
[null,{"$f":"IF(A2880=\"\",\"\",IF(ISERROR(VLOOKUP(A2880,Articoli!$1:$48422,2,FALSE)),\"Codice Errato\",VLOOKUP(A2880,Articoli!$1:$48422,2,FALSE)))","v":""},null,0,"        ","        ;",0,"      ","      ",""]
[null,{"$f":"IF(A2881=\"\",\"\",IF(ISERROR(VLOOKUP(A2881,Articoli!$1:$48422,2,FALSE)),\"Codice Errato\",VLOOKUP(A2881,Articoli!$1:$48422,2,FALSE)))","v":""},null,0,"        ","        ;",0,"      ","      ",""]
[null,{"$f":"IF(A2882=\"\",\"\",IF(ISERROR(VLOOKUP(A2882,Articoli!$1:$48422,2,FALSE)),\"Codice Errato\",VLOOKUP(A2882,Articoli!$1:$48422,2,FALSE)))","v":""},null,0,"        ","        ;",0,"      ","      ",""]
[null,{"$f":"IF(A2883=\"\",\"\",IF(ISERROR(VLOOKUP(A2883,Articoli!$1:$48422,2,FALSE)),\"Codice Errato\",VLOOKUP(A2883,Articoli!$1:$48422,2,FALSE)))","v":""},null,0,"        ","        ;",0,"      ","      ",""]
[null,{"$f":"IF(A2884=\"\",\"\",IF(ISERROR(VLOOKUP(A2884,Articoli!$1:$48422,2,FALSE)),\"Codice Errato\",VLOOKUP(A2884,Articoli!$1:$48422,2,FALSE)))","v":""},null,0,"        ","        ;",0,"      ","      ",""]
[null,{"$f":"IF(A2885=\"\",\"\",IF(ISERROR(VLOOKUP(A2885,Articoli!$1:$48422,2,FALSE)),\"Codice Errato\",VLOOKUP(A2885,Articoli!$1:$48422,2,FALSE)))","v":""},null,0,"        ","        ;",0,"      ","      ",""]
[null,{"$f":"IF(A2886=\"\",\"\",IF(ISERROR(VLOOKUP(A2886,Articoli!$1:$48422,2,FALSE)),\"Codice Errato\",VLOOKUP(A2886,Articoli!$1:$48422,2,FALSE)))","v":""},null,0,"        ","        ;",0,"      ","      ",""]
[null,{"$f":"IF(A2887=\"\",\"\",IF(ISERROR(VLOOKUP(A2887,Articoli!$1:$48422,2,FALSE)),\"Codice Errato\",VLOOKUP(A2887,Articoli!$1:$48422,2,FALSE)))","v":""},null,0,"        ","        ;",0,"      ","      ",""]
[null,{"$f":"IF(A2888=\"\",\"\",IF(ISERROR(VLOOKUP(A2888,Articoli!$1:$48422,2,FALSE)),\"Codice Errato\",VLOOKUP(A2888,Articoli!$1:$48422,2,FALSE)))","v":""},null,0,"        ","        ;",0,"      ","      ",""]
[null,{"$f":"IF(A2889=\"\",\"\",IF(ISERROR(VLOOKUP(A2889,Articoli!$1:$48422,2,FALSE)),\"Codice Errato\",VLOOKUP(A2889,Articoli!$1:$48422,2,FALSE)))","v":""},null,0,"        ","        ;",0,"      ","      ",""]
[null,{"$f":"IF(A2890=\"\",\"\",IF(ISERROR(VLOOKUP(A2890,Articoli!$1:$48422,2,FALSE)),\"Codice Errato\",VLOOKUP(A2890,Articoli!$1:$48422,2,FALSE)))","v":""},null,0,"        ","        ;",0,"      ","      ",""]
[null,{"$f":"IF(A2891=\"\",\"\",IF(ISERROR(VLOOKUP(A2891,Articoli!$1:$48422,2,FALSE)),\"Codice Errato\",VLOOKUP(A2891,Articoli!$1:$48422,2,FALSE)))","v":""},null,0,"        ","        ;",0,"      ","      ",""]
[null,{"$f":"IF(A2892=\"\",\"\",IF(ISERROR(VLOOKUP(A2892,Articoli!$1:$48422,2,FALSE)),\"Codice Errato\",VLOOKUP(A2892,Articoli!$1:$48422,2,FALSE)))","v":""},null,0,"        ","        ;",0,"      ","      ",""]
[null,{"$f":"IF(A2893=\"\",\"\",IF(ISERROR(VLOOKUP(A2893,Articoli!$1:$48422,2,FALSE)),\"Codice Errato\",VLOOKUP(A2893,Articoli!$1:$48422,2,FALSE)))","v":""},null,0,"        ","        ;",0,"      ","      ",""]
[null,{"$f":"IF(A2894=\"\",\"\",IF(ISERROR(VLOOKUP(A2894,Articoli!$1:$48422,2,FALSE)),\"Codice Errato\",VLOOKUP(A2894,Articoli!$1:$48422,2,FALSE)))","v":""},null,0,"        ","        ;",0,"      ","      ",""]
[null,{"$f":"IF(A2895=\"\",\"\",IF(ISERROR(VLOOKUP(A2895,Articoli!$1:$48422,2,FALSE)),\"Codice Errato\",VLOOKUP(A2895,Articoli!$1:$48422,2,FALSE)))","v":""},null,0,"        ","        ;",0,"      ","      ",""]
[null,{"$f":"IF(A2896=\"\",\"\",IF(ISERROR(VLOOKUP(A2896,Articoli!$1:$48422,2,FALSE)),\"Codice Errato\",VLOOKUP(A2896,Articoli!$1:$48422,2,FALSE)))","v":""},null,0,"        ","        ;",0,"      ","      ",""]
[null,{"$f":"IF(A2897=\"\",\"\",IF(ISERROR(VLOOKUP(A2897,Articoli!$1:$48422,2,FALSE)),\"Codice Errato\",VLOOKUP(A2897,Articoli!$1:$48422,2,FALSE)))","v":""},null,0,"        ","        ;",0,"      ","      ",""]
[null,{"$f":"IF(A2898=\"\",\"\",IF(ISERROR(VLOOKUP(A2898,Articoli!$1:$48422,2,FALSE)),\"Codice Errato\",VLOOKUP(A2898,Articoli!$1:$48422,2,FALSE)))","v":""},null,0,"        ","        ;",0,"      ","      ",""]
[null,{"$f":"IF(A2899=\"\",\"\",IF(ISERROR(VLOOKUP(A2899,Articoli!$1:$48422,2,FALSE)),\"Codice Errato\",VLOOKUP(A2899,Articoli!$1:$48422,2,FALSE)))","v":""},null,0,"        ","        ;",0,"      ","      ",""]
[null,{"$f":"IF(A2900=\"\",\"\",IF(ISERROR(VLOOKUP(A2900,Articoli!$1:$48422,2,FALSE)),\"Codice Errato\",VLOOKUP(A2900,Articoli!$1:$48422,2,FALSE)))","v":""},null,0,"        ","        ;",0,"      ","      ",""]
[null,{"$f":"IF(A2901=\"\",\"\",IF(ISERROR(VLOOKUP(A2901,Articoli!$1:$48422,2,FALSE)),\"Codice Errato\",VLOOKUP(A2901,Articoli!$1:$48422,2,FALSE)))","v":""},null,0,"        ","        ;",0,"      ","      ",""]
[null,{"$f":"IF(A2902=\"\",\"\",IF(ISERROR(VLOOKUP(A2902,Articoli!$1:$48422,2,FALSE)),\"Codice Errato\",VLOOKUP(A2902,Articoli!$1:$48422,2,FALSE)))","v":""},null,0,"        ","        ;",0,"      ","      ",""]
[null,{"$f":"IF(A2903=\"\",\"\",IF(ISERROR(VLOOKUP(A2903,Articoli!$1:$48422,2,FALSE)),\"Codice Errato\",VLOOKUP(A2903,Articoli!$1:$48422,2,FALSE)))","v":""},null,0,"        ","        ;",0,"      ","      ",""]
[null,{"$f":"IF(A2904=\"\",\"\",IF(ISERROR(VLOOKUP(A2904,Articoli!$1:$48422,2,FALSE)),\"Codice Errato\",VLOOKUP(A2904,Articoli!$1:$48422,2,FALSE)))","v":""},null,0,"        ","        ;",0,"      ","      ",""]
[null,{"$f":"IF(A2905=\"\",\"\",IF(ISERROR(VLOOKUP(A2905,Articoli!$1:$48422,2,FALSE)),\"Codice Errato\",VLOOKUP(A2905,Articoli!$1:$48422,2,FALSE)))","v":""},null,0,"        ","        ;",0,"      ","      ",""]
[null,{"$f":"IF(A2906=\"\",\"\",IF(ISERROR(VLOOKUP(A2906,Articoli!$1:$48422,2,FALSE)),\"Codice Errato\",VLOOKUP(A2906,Articoli!$1:$48422,2,FALSE)))","v":""},null,0,"        ","        ;",0,"      ","      ",""]
[null,{"$f":"IF(A2907=\"\",\"\",IF(ISERROR(VLOOKUP(A2907,Articoli!$1:$48422,2,FALSE)),\"Codice Errato\",VLOOKUP(A2907,Articoli!$1:$48422,2,FALSE)))","v":""},null,0,"        ","        ;",0,"      ","      ",""]
[null,{"$f":"IF(A2908=\"\",\"\",IF(ISERROR(VLOOKUP(A2908,Articoli!$1:$48422,2,FALSE)),\"Codice Errato\",VLOOKUP(A2908,Articoli!$1:$48422,2,FALSE)))","v":""},null,0,"        ","        ;",0,"      ","      ",""]
[null,{"$f":"IF(A2909=\"\",\"\",IF(ISERROR(VLOOKUP(A2909,Articoli!$1:$48422,2,FALSE)),\"Codice Errato\",VLOOKUP(A2909,Articoli!$1:$48422,2,FALSE)))","v":""},null,0,"        ","        ;",0,"      ","      ",""]
[null,{"$f":"IF(A2910=\"\",\"\",IF(ISERROR(VLOOKUP(A2910,Articoli!$1:$48422,2,FALSE)),\"Codice Errato\",VLOOKUP(A2910,Articoli!$1:$48422,2,FALSE)))","v":""},null,0,"        ","        ;",0,"      ","      ",""]
[null,{"$f":"IF(A2911=\"\",\"\",IF(ISERROR(VLOOKUP(A2911,Articoli!$1:$48422,2,FALSE)),\"Codice Errato\",VLOOKUP(A2911,Articoli!$1:$48422,2,FALSE)))","v":""},null,0,"        ","        ;",0,"      ","      ",""]
[null,{"$f":"IF(A2912=\"\",\"\",IF(ISERROR(VLOOKUP(A2912,Articoli!$1:$48422,2,FALSE)),\"Codice Errato\",VLOOKUP(A2912,Articoli!$1:$48422,2,FALSE)))","v":""},null,0,"        ","        ;",0,"      ","      ",{"$f":"IF(C2912=\"\",\"\",CONCATENATE(F2912,I2912))","v":""}]
[null,{"$f":"IF(A2913=\"\",\"\",IF(ISERROR(VLOOKUP(A2913,Articoli!$1:$48422,2,FALSE)),\"Codice Errato\",VLOOKUP(A2913,Articoli!$1:$48422,2,FALSE)))","v":""},null,0,"        ","        ;",0,"      ","      ",""]
[null,{"$f":"IF(A2914=\"\",\"\",IF(ISERROR(VLOOKUP(A2914,Articoli!$1:$48422,2,FALSE)),\"Codice Errato\",VLOOKUP(A2914,Articoli!$1:$48422,2,FALSE)))","v":""},null,0,"        ","        ;",0,"      ","      ",""]
[null,{"$f":"IF(A2915=\"\",\"\",IF(ISERROR(VLOOKUP(A2915,Articoli!$1:$48422,2,FALSE)),\"Codice Errato\",VLOOKUP(A2915,Articoli!$1:$48422,2,FALSE)))","v":""},null,0,"        ","        ;",0,"      ","      ",""]
[null,{"$f":"IF(A2916=\"\",\"\",IF(ISERROR(VLOOKUP(A2916,Articoli!$1:$48422,2,FALSE)),\"Codice Errato\",VLOOKUP(A2916,Articoli!$1:$48422,2,FALSE)))","v":""},null,0,"        ","        ;",0,"      ","      ",""]
[null,{"$f":"IF(A2917=\"\",\"\",IF(ISERROR(VLOOKUP(A2917,Articoli!$1:$48422,2,FALSE)),\"Codice Errato\",VLOOKUP(A2917,Articoli!$1:$48422,2,FALSE)))","v":""},null,0,"        ","        ;",0,"      ","      ",""]
[null,{"$f":"IF(A2918=\"\",\"\",IF(ISERROR(VLOOKUP(A2918,Articoli!$1:$48422,2,FALSE)),\"Codice Errato\",VLOOKUP(A2918,Articoli!$1:$48422,2,FALSE)))","v":""},null,0,"        ","        ;",0,"      ","      ",""]
[null,{"$f":"IF(A2919=\"\",\"\",IF(ISERROR(VLOOKUP(A2919,Articoli!$1:$48422,2,FALSE)),\"Codice Errato\",VLOOKUP(A2919,Articoli!$1:$48422,2,FALSE)))","v":""},null,0,"        ","        ;",0,"      ","      ",""]
[null,{"$f":"IF(A2920=\"\",\"\",IF(ISERROR(VLOOKUP(A2920,Articoli!$1:$48422,2,FALSE)),\"Codice Errato\",VLOOKUP(A2920,Articoli!$1:$48422,2,FALSE)))","v":""},null,0,"        ","        ;",0,"      ","      ",""]
[null,{"$f":"IF(A2921=\"\",\"\",IF(ISERROR(VLOOKUP(A2921,Articoli!$1:$48422,2,FALSE)),\"Codice Errato\",VLOOKUP(A2921,Articoli!$1:$48422,2,FALSE)))","v":""},null,0,"        ","        ;",0,"      ","      ",""]
[null,{"$f":"IF(A2922=\"\",\"\",IF(ISERROR(VLOOKUP(A2922,Articoli!$1:$48422,2,FALSE)),\"Codice Errato\",VLOOKUP(A2922,Articoli!$1:$48422,2,FALSE)))","v":""},null,0,"        ","        ;",0,"      ","      ",""]
[null,{"$f":"IF(A2923=\"\",\"\",IF(ISERROR(VLOOKUP(A2923,Articoli!$1:$48422,2,FALSE)),\"Codice Errato\",VLOOKUP(A2923,Articoli!$1:$48422,2,FALSE)))","v":""},null,0,"        ","        ;",0,"      ","      ",""]
[null,{"$f":"IF(A2924=\"\",\"\",IF(ISERROR(VLOOKUP(A2924,Articoli!$1:$48422,2,FALSE)),\"Codice Errato\",VLOOKUP(A2924,Articoli!$1:$48422,2,FALSE)))","v":""},null,0,"        ","        ;",0,"      ","      ",""]
[null,{"$f":"IF(A2925=\"\",\"\",IF(ISERROR(VLOOKUP(A2925,Articoli!$1:$48422,2,FALSE)),\"Codice Errato\",VLOOKUP(A2925,Articoli!$1:$48422,2,FALSE)))","v":""},null,0,"        ","        ;",0,"      ","      ",""]
[null,{"$f":"IF(A2926=\"\",\"\",IF(ISERROR(VLOOKUP(A2926,Articoli!$1:$48422,2,FALSE)),\"Codice Errato\",VLOOKUP(A2926,Articoli!$1:$48422,2,FALSE)))","v":""},null,0,"        ","        ;",0,"      ","      ",""]
[null,{"$f":"IF(A2927=\"\",\"\",IF(ISERROR(VLOOKUP(A2927,Articoli!$1:$48422,2,FALSE)),\"Codice Errato\",VLOOKUP(A2927,Articoli!$1:$48422,2,FALSE)))","v":""},null,0,"        ","        ;",0,"      ","      ",""]
[null,{"$f":"IF(A2928=\"\",\"\",IF(ISERROR(VLOOKUP(A2928,Articoli!$1:$48422,2,FALSE)),\"Codice Errato\",VLOOKUP(A2928,Articoli!$1:$48422,2,FALSE)))","v":""},null,0,"        ","        ;",0,"      ","      ",""]
[null,{"$f":"IF(A2929=\"\",\"\",IF(ISERROR(VLOOKUP(A2929,Articoli!$1:$48422,2,FALSE)),\"Codice Errato\",VLOOKUP(A2929,Articoli!$1:$48422,2,FALSE)))","v":""},null,0,"        ","        ;",0,"      ","      ",""]
[null,{"$f":"IF(A2930=\"\",\"\",IF(ISERROR(VLOOKUP(A2930,Articoli!$1:$48422,2,FALSE)),\"Codice Errato\",VLOOKUP(A2930,Articoli!$1:$48422,2,FALSE)))","v":""},null,{"$f":"LEN(A2930)","v":0},{"$f":"REPT(\" \",8-D2930)","v":"        "},{"$f":"CONCATENATE(A2930,E2930,\";\",)","v":"        ;"},{"$f":"LEN(C2930)","v":0},{"$f":"REPT(\" \",6-G2930)","v":"      "},{"$f":"CONCATENATE(H2930,C2930,)","v":"      "},""]
[null,{"$f":"IF(A2931=\"\",\"\",IF(ISERROR(VLOOKUP(A2931,Articoli!$1:$48422,2,FALSE)),\"Codice Errato\",VLOOKUP(A2931,Articoli!$1:$48422,2,FALSE)))","v":""},null,0,"        ","        ;",0,"      ","      ",""]
[null,{"$f":"IF(A2932=\"\",\"\",IF(ISERROR(VLOOKUP(A2932,Articoli!$1:$48422,2,FALSE)),\"Codice Errato\",VLOOKUP(A2932,Articoli!$1:$48422,2,FALSE)))","v":""},null,0,"        ","        ;",0,"      ","      ",""]
[null,{"$f":"IF(A2933=\"\",\"\",IF(ISERROR(VLOOKUP(A2933,Articoli!$1:$48422,2,FALSE)),\"Codice Errato\",VLOOKUP(A2933,Articoli!$1:$48422,2,FALSE)))","v":""},null,0,"        ","        ;",0,"      ","      ",""]
[null,{"$f":"IF(A2934=\"\",\"\",IF(ISERROR(VLOOKUP(A2934,Articoli!$1:$48422,2,FALSE)),\"Codice Errato\",VLOOKUP(A2934,Articoli!$1:$48422,2,FALSE)))","v":""},null,0,"        ","        ;",0,"      ","      ",""]
[null,{"$f":"IF(A2935=\"\",\"\",IF(ISERROR(VLOOKUP(A2935,Articoli!$1:$48422,2,FALSE)),\"Codice Errato\",VLOOKUP(A2935,Articoli!$1:$48422,2,FALSE)))","v":""},null,0,"        ","        ;",0,"      ","      ",""]
[null,{"$f":"IF(A2936=\"\",\"\",IF(ISERROR(VLOOKUP(A2936,Articoli!$1:$48422,2,FALSE)),\"Codice Errato\",VLOOKUP(A2936,Articoli!$1:$48422,2,FALSE)))","v":""},null,0,"        ","        ;",0,"      ","      ",""]
[null,{"$f":"IF(A2937=\"\",\"\",IF(ISERROR(VLOOKUP(A2937,Articoli!$1:$48422,2,FALSE)),\"Codice Errato\",VLOOKUP(A2937,Articoli!$1:$48422,2,FALSE)))","v":""},null,0,"        ","        ;",0,"      ","      ",""]
[null,{"$f":"IF(A2938=\"\",\"\",IF(ISERROR(VLOOKUP(A2938,Articoli!$1:$48422,2,FALSE)),\"Codice Errato\",VLOOKUP(A2938,Articoli!$1:$48422,2,FALSE)))","v":""},null,0,"        ","        ;",0,"      ","      ",""]
[null,{"$f":"IF(A2939=\"\",\"\",IF(ISERROR(VLOOKUP(A2939,Articoli!$1:$48422,2,FALSE)),\"Codice Errato\",VLOOKUP(A2939,Articoli!$1:$48422,2,FALSE)))","v":""},null,0,"        ","        ;",0,"      ","      ",""]
[null,{"$f":"IF(A2940=\"\",\"\",IF(ISERROR(VLOOKUP(A2940,Articoli!$1:$48422,2,FALSE)),\"Codice Errato\",VLOOKUP(A2940,Articoli!$1:$48422,2,FALSE)))","v":""},null,0,"        ","        ;",0,"      ","      ",""]
[null,{"$f":"IF(A2941=\"\",\"\",IF(ISERROR(VLOOKUP(A2941,Articoli!$1:$48422,2,FALSE)),\"Codice Errato\",VLOOKUP(A2941,Articoli!$1:$48422,2,FALSE)))","v":""},null,0,"        ","        ;",0,"      ","      ",""]
[null,{"$f":"IF(A2942=\"\",\"\",IF(ISERROR(VLOOKUP(A2942,Articoli!$1:$48422,2,FALSE)),\"Codice Errato\",VLOOKUP(A2942,Articoli!$1:$48422,2,FALSE)))","v":""},null,0,"        ","        ;",0,"      ","      ",""]
[null,{"$f":"IF(A2943=\"\",\"\",IF(ISERROR(VLOOKUP(A2943,Articoli!$1:$48422,2,FALSE)),\"Codice Errato\",VLOOKUP(A2943,Articoli!$1:$48422,2,FALSE)))","v":""},null,0,"        ","        ;",0,"      ","      ",""]
[null,{"$f":"IF(A2944=\"\",\"\",IF(ISERROR(VLOOKUP(A2944,Articoli!$1:$48422,2,FALSE)),\"Codice Errato\",VLOOKUP(A2944,Articoli!$1:$48422,2,FALSE)))","v":""},null,0,"        ","        ;",0,"      ","      ",""]
[null,{"$f":"IF(A2945=\"\",\"\",IF(ISERROR(VLOOKUP(A2945,Articoli!$1:$48422,2,FALSE)),\"Codice Errato\",VLOOKUP(A2945,Articoli!$1:$48422,2,FALSE)))","v":""},null,0,"        ","        ;",0,"      ","      ",""]
[null,{"$f":"IF(A2946=\"\",\"\",IF(ISERROR(VLOOKUP(A2946,Articoli!$1:$48422,2,FALSE)),\"Codice Errato\",VLOOKUP(A2946,Articoli!$1:$48422,2,FALSE)))","v":""},null,0,"        ","        ;",0,"      ","      ",""]
[null,{"$f":"IF(A2947=\"\",\"\",IF(ISERROR(VLOOKUP(A2947,Articoli!$1:$48422,2,FALSE)),\"Codice Errato\",VLOOKUP(A2947,Articoli!$1:$48422,2,FALSE)))","v":""},null,0,"        ","        ;",0,"      ","      ",""]
[null,{"$f":"IF(A2948=\"\",\"\",IF(ISERROR(VLOOKUP(A2948,Articoli!$1:$48422,2,FALSE)),\"Codice Errato\",VLOOKUP(A2948,Articoli!$1:$48422,2,FALSE)))","v":""},null,0,"        ","        ;",0,"      ","      ",""]
[null,{"$f":"IF(A2949=\"\",\"\",IF(ISERROR(VLOOKUP(A2949,Articoli!$1:$48422,2,FALSE)),\"Codice Errato\",VLOOKUP(A2949,Articoli!$1:$48422,2,FALSE)))","v":""},null,0,"        ","        ;",0,"      ","      ",""]
[null,{"$f":"IF(A2950=\"\",\"\",IF(ISERROR(VLOOKUP(A2950,Articoli!$1:$48422,2,FALSE)),\"Codice Errato\",VLOOKUP(A2950,Articoli!$1:$48422,2,FALSE)))","v":""},null,0,"        ","        ;",0,"      ","      ",""]
[null,{"$f":"IF(A2951=\"\",\"\",IF(ISERROR(VLOOKUP(A2951,Articoli!$1:$48422,2,FALSE)),\"Codice Errato\",VLOOKUP(A2951,Articoli!$1:$48422,2,FALSE)))","v":""},null,0,"        ","        ;",0,"      ","      ",""]
[null,{"$f":"IF(A2952=\"\",\"\",IF(ISERROR(VLOOKUP(A2952,Articoli!$1:$48422,2,FALSE)),\"Codice Errato\",VLOOKUP(A2952,Articoli!$1:$48422,2,FALSE)))","v":""},null,0,"        ","        ;",0,"      ","      ",""]
[null,{"$f":"IF(A2953=\"\",\"\",IF(ISERROR(VLOOKUP(A2953,Articoli!$1:$48422,2,FALSE)),\"Codice Errato\",VLOOKUP(A2953,Articoli!$1:$48422,2,FALSE)))","v":""},null,0,"        ","        ;",0,"      ","      ",""]
[null,{"$f":"IF(A2954=\"\",\"\",IF(ISERROR(VLOOKUP(A2954,Articoli!$1:$48422,2,FALSE)),\"Codice Errato\",VLOOKUP(A2954,Articoli!$1:$48422,2,FALSE)))","v":""},null,0,"        ","        ;",0,"      ","      ",""]
[null,{"$f":"IF(A2955=\"\",\"\",IF(ISERROR(VLOOKUP(A2955,Articoli!$1:$48422,2,FALSE)),\"Codice Errato\",VLOOKUP(A2955,Articoli!$1:$48422,2,FALSE)))","v":""},null,0,"        ","        ;",0,"      ","      ",""]
[null,{"$f":"IF(A2956=\"\",\"\",IF(ISERROR(VLOOKUP(A2956,Articoli!$1:$48422,2,FALSE)),\"Codice Errato\",VLOOKUP(A2956,Articoli!$1:$48422,2,FALSE)))","v":""},null,0,"        ","        ;",0,"      ","      ",""]
[null,{"$f":"IF(A2957=\"\",\"\",IF(ISERROR(VLOOKUP(A2957,Articoli!$1:$48422,2,FALSE)),\"Codice Errato\",VLOOKUP(A2957,Articoli!$1:$48422,2,FALSE)))","v":""},null,0,"        ","        ;",0,"      ","      ",""]
[null,{"$f":"IF(A2958=\"\",\"\",IF(ISERROR(VLOOKUP(A2958,Articoli!$1:$48422,2,FALSE)),\"Codice Errato\",VLOOKUP(A2958,Articoli!$1:$48422,2,FALSE)))","v":""},null,0,"        ","        ;",0,"      ","      ",""]
[null,{"$f":"IF(A2959=\"\",\"\",IF(ISERROR(VLOOKUP(A2959,Articoli!$1:$48422,2,FALSE)),\"Codice Errato\",VLOOKUP(A2959,Articoli!$1:$48422,2,FALSE)))","v":""},null,0,"        ","        ;",0,"      ","      ",""]
[null,{"$f":"IF(A2960=\"\",\"\",IF(ISERROR(VLOOKUP(A2960,Articoli!$1:$48422,2,FALSE)),\"Codice Errato\",VLOOKUP(A2960,Articoli!$1:$48422,2,FALSE)))","v":""},null,0,"        ","        ;",0,"      ","      ",""]
[null,{"$f":"IF(A2961=\"\",\"\",IF(ISERROR(VLOOKUP(A2961,Articoli!$1:$48422,2,FALSE)),\"Codice Errato\",VLOOKUP(A2961,Articoli!$1:$48422,2,FALSE)))","v":""},null,0,"        ","        ;",0,"      ","      ",""]
[null,{"$f":"IF(A2962=\"\",\"\",IF(ISERROR(VLOOKUP(A2962,Articoli!$1:$48422,2,FALSE)),\"Codice Errato\",VLOOKUP(A2962,Articoli!$1:$48422,2,FALSE)))","v":""},null,0,"        ","        ;",0,"      ","      ",""]
[null,{"$f":"IF(A2963=\"\",\"\",IF(ISERROR(VLOOKUP(A2963,Articoli!$1:$48422,2,FALSE)),\"Codice Errato\",VLOOKUP(A2963,Articoli!$1:$48422,2,FALSE)))","v":""},null,0,"        ","        ;",0,"      ","      ",""]
[null,{"$f":"IF(A2964=\"\",\"\",IF(ISERROR(VLOOKUP(A2964,Articoli!$1:$48422,2,FALSE)),\"Codice Errato\",VLOOKUP(A2964,Articoli!$1:$48422,2,FALSE)))","v":""},null,0,"        ","        ;",0,"      ","      ",""]
[null,{"$f":"IF(A2965=\"\",\"\",IF(ISERROR(VLOOKUP(A2965,Articoli!$1:$48422,2,FALSE)),\"Codice Errato\",VLOOKUP(A2965,Articoli!$1:$48422,2,FALSE)))","v":""},null,0,"        ","        ;",0,"      ","      ",""]
[null,{"$f":"IF(A2966=\"\",\"\",IF(ISERROR(VLOOKUP(A2966,Articoli!$1:$48422,2,FALSE)),\"Codice Errato\",VLOOKUP(A2966,Articoli!$1:$48422,2,FALSE)))","v":""},null,0,"        ","        ;",0,"      ","      ",""]
[null,{"$f":"IF(A2967=\"\",\"\",IF(ISERROR(VLOOKUP(A2967,Articoli!$1:$48422,2,FALSE)),\"Codice Errato\",VLOOKUP(A2967,Articoli!$1:$48422,2,FALSE)))","v":""},null,0,"        ","        ;",0,"      ","      ",""]
[null,{"$f":"IF(A2968=\"\",\"\",IF(ISERROR(VLOOKUP(A2968,Articoli!$1:$48422,2,FALSE)),\"Codice Errato\",VLOOKUP(A2968,Articoli!$1:$48422,2,FALSE)))","v":""},null,0,"        ","        ;",0,"      ","      ",""]
[null,{"$f":"IF(A2969=\"\",\"\",IF(ISERROR(VLOOKUP(A2969,Articoli!$1:$48422,2,FALSE)),\"Codice Errato\",VLOOKUP(A2969,Articoli!$1:$48422,2,FALSE)))","v":""},null,0,"        ","        ;",0,"      ","      ",""]
[null,{"$f":"IF(A2970=\"\",\"\",IF(ISERROR(VLOOKUP(A2970,Articoli!$1:$48422,2,FALSE)),\"Codice Errato\",VLOOKUP(A2970,Articoli!$1:$48422,2,FALSE)))","v":""},null,0,"        ","        ;",0,"      ","      ",""]
[null,{"$f":"IF(A2971=\"\",\"\",IF(ISERROR(VLOOKUP(A2971,Articoli!$1:$48422,2,FALSE)),\"Codice Errato\",VLOOKUP(A2971,Articoli!$1:$48422,2,FALSE)))","v":""},null,0,"        ","        ;",0,"      ","      ",""]
[null,{"$f":"IF(A2972=\"\",\"\",IF(ISERROR(VLOOKUP(A2972,Articoli!$1:$48422,2,FALSE)),\"Codice Errato\",VLOOKUP(A2972,Articoli!$1:$48422,2,FALSE)))","v":""},null,0,"        ","        ;",0,"      ","      ",""]
[null,{"$f":"IF(A2973=\"\",\"\",IF(ISERROR(VLOOKUP(A2973,Articoli!$1:$48422,2,FALSE)),\"Codice Errato\",VLOOKUP(A2973,Articoli!$1:$48422,2,FALSE)))","v":""},null,0,"        ","        ;",0,"      ","      ",""]
[null,{"$f":"IF(A2974=\"\",\"\",IF(ISERROR(VLOOKUP(A2974,Articoli!$1:$48422,2,FALSE)),\"Codice Errato\",VLOOKUP(A2974,Articoli!$1:$48422,2,FALSE)))","v":""},null,0,"        ","        ;",0,"      ","      ",""]
[null,{"$f":"IF(A2975=\"\",\"\",IF(ISERROR(VLOOKUP(A2975,Articoli!$1:$48422,2,FALSE)),\"Codice Errato\",VLOOKUP(A2975,Articoli!$1:$48422,2,FALSE)))","v":""},null,0,"        ","        ;",0,"      ","      ",""]
[null,{"$f":"IF(A2976=\"\",\"\",IF(ISERROR(VLOOKUP(A2976,Articoli!$1:$48422,2,FALSE)),\"Codice Errato\",VLOOKUP(A2976,Articoli!$1:$48422,2,FALSE)))","v":""},null,0,"        ","        ;",0,"      ","      ",{"$f":"IF(C2976=\"\",\"\",CONCATENATE(F2976,I2976))","v":""}]
[null,{"$f":"IF(A2977=\"\",\"\",IF(ISERROR(VLOOKUP(A2977,Articoli!$1:$48422,2,FALSE)),\"Codice Errato\",VLOOKUP(A2977,Articoli!$1:$48422,2,FALSE)))","v":""},null,0,"        ","        ;",0,"      ","      ",""]
[null,{"$f":"IF(A2978=\"\",\"\",IF(ISERROR(VLOOKUP(A2978,Articoli!$1:$48422,2,FALSE)),\"Codice Errato\",VLOOKUP(A2978,Articoli!$1:$48422,2,FALSE)))","v":""},null,0,"        ","        ;",0,"      ","      ",""]
[null,{"$f":"IF(A2979=\"\",\"\",IF(ISERROR(VLOOKUP(A2979,Articoli!$1:$48422,2,FALSE)),\"Codice Errato\",VLOOKUP(A2979,Articoli!$1:$48422,2,FALSE)))","v":""},null,0,"        ","        ;",0,"      ","      ",""]
[null,{"$f":"IF(A2980=\"\",\"\",IF(ISERROR(VLOOKUP(A2980,Articoli!$1:$48422,2,FALSE)),\"Codice Errato\",VLOOKUP(A2980,Articoli!$1:$48422,2,FALSE)))","v":""},null,0,"        ","        ;",0,"      ","      ",""]
[null,{"$f":"IF(A2981=\"\",\"\",IF(ISERROR(VLOOKUP(A2981,Articoli!$1:$48422,2,FALSE)),\"Codice Errato\",VLOOKUP(A2981,Articoli!$1:$48422,2,FALSE)))","v":""},null,0,"        ","        ;",0,"      ","      ",""]
[null,{"$f":"IF(A2982=\"\",\"\",IF(ISERROR(VLOOKUP(A2982,Articoli!$1:$48422,2,FALSE)),\"Codice Errato\",VLOOKUP(A2982,Articoli!$1:$48422,2,FALSE)))","v":""},null,0,"        ","        ;",0,"      ","      ",""]
[null,{"$f":"IF(A2983=\"\",\"\",IF(ISERROR(VLOOKUP(A2983,Articoli!$1:$48422,2,FALSE)),\"Codice Errato\",VLOOKUP(A2983,Articoli!$1:$48422,2,FALSE)))","v":""},null,0,"        ","        ;",0,"      ","      ",""]
[null,{"$f":"IF(A2984=\"\",\"\",IF(ISERROR(VLOOKUP(A2984,Articoli!$1:$48422,2,FALSE)),\"Codice Errato\",VLOOKUP(A2984,Articoli!$1:$48422,2,FALSE)))","v":""},null,0,"        ","        ;",0,"      ","      ",""]
[null,{"$f":"IF(A2985=\"\",\"\",IF(ISERROR(VLOOKUP(A2985,Articoli!$1:$48422,2,FALSE)),\"Codice Errato\",VLOOKUP(A2985,Articoli!$1:$48422,2,FALSE)))","v":""},null,0,"        ","        ;",0,"      ","      ",""]
[null,{"$f":"IF(A2986=\"\",\"\",IF(ISERROR(VLOOKUP(A2986,Articoli!$1:$48422,2,FALSE)),\"Codice Errato\",VLOOKUP(A2986,Articoli!$1:$48422,2,FALSE)))","v":""},null,0,"        ","        ;",0,"      ","      ",""]
[null,{"$f":"IF(A2987=\"\",\"\",IF(ISERROR(VLOOKUP(A2987,Articoli!$1:$48422,2,FALSE)),\"Codice Errato\",VLOOKUP(A2987,Articoli!$1:$48422,2,FALSE)))","v":""},null,0,"        ","        ;",0,"      ","      ",""]
[null,{"$f":"IF(A2988=\"\",\"\",IF(ISERROR(VLOOKUP(A2988,Articoli!$1:$48422,2,FALSE)),\"Codice Errato\",VLOOKUP(A2988,Articoli!$1:$48422,2,FALSE)))","v":""},null,0,"        ","        ;",0,"      ","      ",""]
[null,{"$f":"IF(A2989=\"\",\"\",IF(ISERROR(VLOOKUP(A2989,Articoli!$1:$48422,2,FALSE)),\"Codice Errato\",VLOOKUP(A2989,Articoli!$1:$48422,2,FALSE)))","v":""},null,0,"        ","        ;",0,"      ","      ",""]
[null,{"$f":"IF(A2990=\"\",\"\",IF(ISERROR(VLOOKUP(A2990,Articoli!$1:$48422,2,FALSE)),\"Codice Errato\",VLOOKUP(A2990,Articoli!$1:$48422,2,FALSE)))","v":""},null,0,"        ","        ;",0,"      ","      ",""]
[null,{"$f":"IF(A2991=\"\",\"\",IF(ISERROR(VLOOKUP(A2991,Articoli!$1:$48422,2,FALSE)),\"Codice Errato\",VLOOKUP(A2991,Articoli!$1:$48422,2,FALSE)))","v":""},null,0,"        ","        ;",0,"      ","      ",""]
[null,{"$f":"IF(A2992=\"\",\"\",IF(ISERROR(VLOOKUP(A2992,Articoli!$1:$48422,2,FALSE)),\"Codice Errato\",VLOOKUP(A2992,Articoli!$1:$48422,2,FALSE)))","v":""},null,0,"        ","        ;",0,"      ","      ",""]
[null,{"$f":"IF(A2993=\"\",\"\",IF(ISERROR(VLOOKUP(A2993,Articoli!$1:$48422,2,FALSE)),\"Codice Errato\",VLOOKUP(A2993,Articoli!$1:$48422,2,FALSE)))","v":""},null,0,"        ","        ;",0,"      ","      ",""]
[null,{"$f":"IF(A2994=\"\",\"\",IF(ISERROR(VLOOKUP(A2994,Articoli!$1:$48422,2,FALSE)),\"Codice Errato\",VLOOKUP(A2994,Articoli!$1:$48422,2,FALSE)))","v":""},null,{"$f":"LEN(A2994)","v":0},{"$f":"REPT(\" \",8-D2994)","v":"        "},{"$f":"CONCATENATE(A2994,E2994,\";\",)","v":"        ;"},{"$f":"LEN(C2994)","v":0},{"$f":"REPT(\" \",6-G2994)","v":"      "},{"$f":"CONCATENATE(H2994,C2994,)","v":"      "},""]
[null,{"$f":"IF(A2995=\"\",\"\",IF(ISERROR(VLOOKUP(A2995,Articoli!$1:$48422,2,FALSE)),\"Codice Errato\",VLOOKUP(A2995,Articoli!$1:$48422,2,FALSE)))","v":""},null,0,"        ","        ;",0,"      ","      ",""]
[null,{"$f":"IF(A2996=\"\",\"\",IF(ISERROR(VLOOKUP(A2996,Articoli!$1:$48422,2,FALSE)),\"Codice Errato\",VLOOKUP(A2996,Articoli!$1:$48422,2,FALSE)))","v":""},null,0,"        ","        ;",0,"      ","      ",""]
[null,{"$f":"IF(A2997=\"\",\"\",IF(ISERROR(VLOOKUP(A2997,Articoli!$1:$48422,2,FALSE)),\"Codice Errato\",VLOOKUP(A2997,Articoli!$1:$48422,2,FALSE)))","v":""},null,0,"        ","        ;",0,"      ","      ",""]
[null,{"$f":"IF(A2998=\"\",\"\",IF(ISERROR(VLOOKUP(A2998,Articoli!$1:$48422,2,FALSE)),\"Codice Errato\",VLOOKUP(A2998,Articoli!$1:$48422,2,FALSE)))","v":""},null,0,"        ","        ;",0,"      ","      ",""]
[null,{"$f":"IF(A2999=\"\",\"\",IF(ISERROR(VLOOKUP(A2999,Articoli!$1:$48422,2,FALSE)),\"Codice Errato\",VLOOKUP(A2999,Articoli!$1:$48422,2,FALSE)))","v":""},null,0,"        ","        ;",0,"      ","      ",""]
[null,{"$f":"IF(A3000=\"\",\"\",IF(ISERROR(VLOOKUP(A3000,Articoli!$1:$48422,2,FALSE)),\"Codice Errato\",VLOOKUP(A3000,Articoli!$1:$48422,2,FALSE)))","v":""},null,0,"        ","        ;",0,"      ","      ",""]
[null,{"$f":"IF(A3001=\"\",\"\",IF(ISERROR(VLOOKUP(A3001,Articoli!$1:$48422,2,FALSE)),\"Codice Errato\",VLOOKUP(A3001,Articoli!$1:$48422,2,FALSE)))","v":""},null,0,"        ","        ;",0,"      ","      ",""]
[null,{"$f":"IF(A3002=\"\",\"\",IF(ISERROR(VLOOKUP(A3002,Articoli!$1:$48422,2,FALSE)),\"Codice Errato\",VLOOKUP(A3002,Articoli!$1:$48422,2,FALSE)))","v":""},null,0,"        ","        ;",0,"      ","      ",""]
[null,{"$f":"IF(A3003=\"\",\"\",IF(ISERROR(VLOOKUP(A3003,Articoli!$1:$48422,2,FALSE)),\"Codice Errato\",VLOOKUP(A3003,Articoli!$1:$48422,2,FALSE)))","v":""},null,0,"        ","        ;",0,"      ","      ",""]
[null,{"$f":"IF(A3004=\"\",\"\",IF(ISERROR(VLOOKUP(A3004,Articoli!$1:$48422,2,FALSE)),\"Codice Errato\",VLOOKUP(A3004,Articoli!$1:$48422,2,FALSE)))","v":""},null,0,"        ","        ;",0,"      ","      ",""]
[null,{"$f":"IF(A3005=\"\",\"\",IF(ISERROR(VLOOKUP(A3005,Articoli!$1:$48422,2,FALSE)),\"Codice Errato\",VLOOKUP(A3005,Articoli!$1:$48422,2,FALSE)))","v":""},null,0,"        ","        ;",0,"      ","      ",""]
[null,{"$f":"IF(A3006=\"\",\"\",IF(ISERROR(VLOOKUP(A3006,Articoli!$1:$48422,2,FALSE)),\"Codice Errato\",VLOOKUP(A3006,Articoli!$1:$48422,2,FALSE)))","v":""},null,0,"        ","        ;",0,"      ","      ",""]
[null,{"$f":"IF(A3007=\"\",\"\",IF(ISERROR(VLOOKUP(A3007,Articoli!$1:$48422,2,FALSE)),\"Codice Errato\",VLOOKUP(A3007,Articoli!$1:$48422,2,FALSE)))","v":""},null,0,"        ","        ;",0,"      ","      ",""]
[null,{"$f":"IF(A3008=\"\",\"\",IF(ISERROR(VLOOKUP(A3008,Articoli!$1:$48422,2,FALSE)),\"Codice Errato\",VLOOKUP(A3008,Articoli!$1:$48422,2,FALSE)))","v":""},null,0,"        ","        ;",0,"      ","      ",""]
[null,{"$f":"IF(A3009=\"\",\"\",IF(ISERROR(VLOOKUP(A3009,Articoli!$1:$48422,2,FALSE)),\"Codice Errato\",VLOOKUP(A3009,Articoli!$1:$48422,2,FALSE)))","v":""},null,0,"        ","        ;",0,"      ","      ",""]
[null,{"$f":"IF(A3010=\"\",\"\",IF(ISERROR(VLOOKUP(A3010,Articoli!$1:$48422,2,FALSE)),\"Codice Errato\",VLOOKUP(A3010,Articoli!$1:$48422,2,FALSE)))","v":""},null,0,"        ","        ;",0,"      ","      ",""]
[null,{"$f":"IF(A3011=\"\",\"\",IF(ISERROR(VLOOKUP(A3011,Articoli!$1:$48422,2,FALSE)),\"Codice Errato\",VLOOKUP(A3011,Articoli!$1:$48422,2,FALSE)))","v":""},null,0,"        ","        ;",0,"      ","      ",""]
[null,{"$f":"IF(A3012=\"\",\"\",IF(ISERROR(VLOOKUP(A3012,Articoli!$1:$48422,2,FALSE)),\"Codice Errato\",VLOOKUP(A3012,Articoli!$1:$48422,2,FALSE)))","v":""},null,0,"        ","        ;",0,"      ","      ",""]
[null,{"$f":"IF(A3013=\"\",\"\",IF(ISERROR(VLOOKUP(A3013,Articoli!$1:$48422,2,FALSE)),\"Codice Errato\",VLOOKUP(A3013,Articoli!$1:$48422,2,FALSE)))","v":""},null,0,"        ","        ;",0,"      ","      ",""]
[null,{"$f":"IF(A3014=\"\",\"\",IF(ISERROR(VLOOKUP(A3014,Articoli!$1:$48422,2,FALSE)),\"Codice Errato\",VLOOKUP(A3014,Articoli!$1:$48422,2,FALSE)))","v":""},null,0,"        ","        ;",0,"      ","      ",""]
[null,{"$f":"IF(A3015=\"\",\"\",IF(ISERROR(VLOOKUP(A3015,Articoli!$1:$48422,2,FALSE)),\"Codice Errato\",VLOOKUP(A3015,Articoli!$1:$48422,2,FALSE)))","v":""},null,0,"        ","        ;",0,"      ","      ",""]
[null,{"$f":"IF(A3016=\"\",\"\",IF(ISERROR(VLOOKUP(A3016,Articoli!$1:$48422,2,FALSE)),\"Codice Errato\",VLOOKUP(A3016,Articoli!$1:$48422,2,FALSE)))","v":""},null,0,"        ","        ;",0,"      ","      ",""]

{"sheet":"Articoli","index":1,"n_rows":3919,"n_cols":3,"rows_kept":3919,"cut":false,"hidden":false,"merged":[]}
["Codice Articolo","Descrizione","Codice Alternativo"]
["0001","GHIACCIOLO (4 GUSTI) PZ35","IMPULSO"]
["0004","TORTA DELLA NONNA PRET. 14 PZ","BINDI"]
["0005B","TORTA BEATRICE PRET. 14 PZ","BINDI"]
["0006","TORTA ZAGARA 14 PZ","BINDI"]
["000741","BISCOTTO PANNA S/ZUCCHERO 9PZX300G(6x50g) SOMOSIERRA","SOMOSIERRA"]
["000751","CONO PANNA/CIOCC. S/GLUTINE 9PZX260G(4x65g) SOMOSIERRA","SOMOSIERRA"]
["00107","CAPRICCI DI MARE S/GLUT. 400GRX15 PESCANOVA-ANELLI ALLA ROMANA","PESCANOVA"]
["0013","FRAGOLINO 35PZ","IMPULSO"]
["00142","SURFERS DI MERLUZZO 400GRX10 PESCANOVA","PESCANOVA"]
["001570","4 DISCOTTO 320GX6 CAFFE' DEL VAPORE","CAFFEDELVAPORE"]
["001643","4 COPPETTE CAFFE' 280GX4 CAFFE' DEL VAPORE","CAFFEDELVAPORE"]
["001708","4 MAXI SNACK 400GX6 CAFFE' DEL VAPORE","CAFFEDELVAPORE"]
["0017B","HAZELNUT(NOCCIOLA) PASSION 1,5KG","BINDI"]
["0020","STECCO FRUTTIAMO AVVENTUROSO ALLA FRAGOLA 14PZ","IMPULSO"]
["00255","BRIOCHES COTTA 85GX35PZ","CROISSANT"]
["00295","PATATE CRISSCUTS® 2500GX4 LW  Aromatizzate paprika taglio a rete","LAMBWESTON"]
["00296","PATATE TWISTERS® 2500GX4 LW         Aromatizzate paprika + taglio spiral","LAMBWESTON"]
["0033","SORBELLO 35PZ","IMPULSO"]
["0035","LIPPERLI' PZ 35","IMPULSO"]
["0037","STECCO MORO PZ24","IMPULSO"]
["0044","INTRIGO DI CIOCCOLATO 24PZ","IMPULSO"]
["00450","ARANCINO PREFRITTO GR200X40PZ - RAGU'","TOSCANO"]
["00451","ARANCINO \"GOLD\" PREFRITTO GR200X40PZ - RAGU' (RISO GIALLO)","TOSCANO"]
["00452","ARANCINO PROSC./MOZZ. TONDO 200GRX40PZ","TOSCANO"]
["00453","MOZZARELLA IN CARROZZA 150GRX30PZ","TOSCANO"]
["00455","ARANCINO ALLA SALSICCIA GR200X20PZ","TOSCANO"]
["00457","ARANCINO \"BUFALINO\" PREFRITTO GR200X20PZ - POMODORO E BUFALA SX","TOSCANO"]
["0047","STECCO BLOCCO PZ24","IMPULSO"]
["0050","DUCALE PZ20","IMPULSO"]
["005336","SPADA FILONE 1/2 C/P C/O KG__       GLASS.0%","BRASMAR"]
["0054","INTRIGO BIANCO 24PZ","IMPULSO"]
["00579","CHELE DI GRANCHIO S/GLUT. 250X12 PESCANOVA","PESCANOVA"]
["0059","STECCO AMANDO F.ROSSI E PESCA 21PZ","IMPULSO"]
["0060","GRANULATO PZ 28","IMPULSO"]
["0062","BLANCO","IMPULSO"]
["007085","INVOLTINI DI PESCE SPADA 1KGX2 MARE PIU'","MAREPIU"]
["0073","COLORITA PZ20","IMPULSO"]
["0074","PREZZEMOLO PZ 20","IMPULSO"]
["0077B","TORTA NOCCIOLA KG 1,20","BINDI"]
["0080","STECCO FRUTTIAMO ALTERNATIVO AI FRUTTI ROSSI 14PZ","IMPULSO"]
["008001","PASTICCIOTTO CREMA/NOCCIOLA 115GX48PZ FORNO D'ORO","CROISSANT"]
["008002","PASTICCIOTTO BLANCO 115GX40PZ FORNO D'ORO","CROISSANT"]
["008020","PASTICCIOTTO CREMA/AMARENA 115GX40PZ FORNO D'ORO","CROISSANT"]
["008040","PASTICCIOTTO CREMA/PISTACCHIO 115GX40PZ FORNO D'ORO","CROISSANT"]
["0080B","MERINGA AL CIOCCOLATO MONOPORZIONE 9PZ","BINDI"]
["0082","GRUVI PISTACCHIO SINCERO 24PZ","IMPULSO"]
["0083","GRUVI MITICO CROCCANTINO 24PZ","IMPULSO"]
["0084B","GIROTONDO ALLE MANDORLE 6PZ","BINDI"]
["0086","GRUVI COCCO BELLO PZ24","IMPULSO"]
["0088","STECCO FRUTTIAMO KIWI VIVACE 14PZ","IMPULSO"]
["0090","*E* GHIACCIOLO GNAUM PZ20","IMPULSO"]
["0091","STECCO UNICORNO PZ20","IMPULSO"]
["0091B","DELIZIE AL LIMONE (GR 1300)","BINDI"]
["0092","STECCO 44 GATTI PZ20","IMPULSO"]
["0092B","GRAN GELATO SORBETTO LIMONE 2,5LT BINDI","BINDI"]
["0093","GRUVI STRACCIATELLA MAIVISTA 24PZ","IMPULSO"]
["0093B","GRAN GELATO SORBETTO FRAGOLA 2,5LT BINDI","BINDI"]
["0094","GHIACCIOLO GNAUM PZ14","IMPULSO"]
["0094B","GRAN GELATO SORBETTO MELA VERDE 2,5LT BINDI","BINDI"]
["0097","GREENGO (GHIACCIOLO AL LIME CON SPIRULINA) PZ35","IMPULSO"]
["0099B","EASY PIZZA  PZ 10X120G","BUONI E PRONTI"]
["0102","FILETTI DI ALICI MARINATE 200G","FRESCO"]
["0103B","CHOCOLATE TEMPTATION PRETAGLIATA 12PZ","BINDI"]
["0104","LA GELATO MERENDA MIX MAX 24PZ","IMPULSO"]
["0112","TORTA CIOCCOLATO ARANCIO E COCCO    1400G","BINDI"]
["0122","FRUTTA LUNGA GR 1200","BINDI"]
["0125","COPPA ORO AMARENA FABBRI 16PZ","IMPULSO"]
["0127","COPPA ORO CACAO DOMORI 16PZ","IMPULSO"]
["0129","COPPA ORO CAFFE' SEGAFREDO 16PZ","IMPULSO"]
["0130","MARENGO TONDA","BINDI"]
["0134","COPPA CREMA AMARENA VETRO 9PZ","BINDI"]
["0135","COPPA MASCARPONE E FRAGOLE VETRO 9PZ","BINDI"]
["0136B","FLUTE MANGO E PASSION FRUIT 8PZX100G","BINDI"]
["0137B","CREMOSO AL CIOCCOLATO MONOPORZIONE 12PZ","BINDI"]
["0140B","COPPA COCCO NOCCIOLA 6PZX100G","BINDI"]
["0144B","SOUFFLE' AL PISTACCHIO 12PZ 90G","BINDI"]
["0146","LONG JOHN COLA PZ 18","IMPULSO"]
["0146B","TORTA RICOTTA E PISTACCHIO PCUT 12PZ","BINDI"]
["0148","CONO BIG WHISKY 20PZ","BINDI IMPULSO"]
["0150","PANETTONE FARCITO BINDI","BINDI"]
["0152","PASTIERA NAPOLETANA","BINDI"]
["0160","LONG JOHN ARANCIA-LIMONE PZ18","IMPULSO"]
["0162","TRANCIO ST. HONORE' (GR 1000)","BINDI"]
["0172","STRUDEL 1200G","BINDI"]
["0179","TARTUFO ALLA NOCCIOLA 12PZX85G","BINDI"]
["018361","TOTANO ANELLI 5X1KG(700g) BRASMAR GLASS.30%-ILLEX ARGENTINUS","BRASMAR"]
["0187","CHOCOLATE-TRILOGY PRECUT 12 PRZ.","BINDI"]
["0189","CHEESECAKE LIMONCELLO","BINDI"]
["0192","COPPA CHEESECAKE MONTEROSA VETRO 12P","BINDI"]
["0201","CUPOLINA CIOCCOLATO E RHUM 9P","BINDI"]
["0202","FROLLINI AL BURRO 1KG","BINDI"]
["0216","KRAPFEN CACAO/NOCC. 70GX24PZ","CROISSANT BINDI"]
["0217","CHEESCAKE ALLE FRAGOLE MONOPORZIONE 9PZ","BINDI"]
["0218","SANSONI' 12PZ","IMPULSO"]
["0218B","CROISSANT SALATO 70PX65G","CROISSANT BINDI"]
["0221B","PASTICCIOTTO ALLA CREMA 20PZX115G","CROISSANT BINDI"]
["0222","BABY PZ24","IMPULSO"]
["02225","PATATE DIPPERS LW 2500GX4           Patate scavate con buccia","LAMBWESTON"]
["0224","MINI KRAPFEN CREMA 24GX104PZ","CROISSANT BINDI"]
["0225","MINI CIAMBELLA","CROISSANT BINDI"]
["0229","CONO AMANDO VANIGLIA 24PZ","IMPULSO"]
["0230","SUPER CIALDONE 5 STELLE XL PZ20","IMPULSO"]
["0232","CONO 5 STELLE PISTACCHIO 24PZ","IMPULSO"]
["0235B","GRAN GELATO NOCCIOLA 4,1LT BINDI","BINDI"]
["0239","CONO CINQUE STELLE CROCCANTINO 24PZ","IMPULSO"]
["0242","CONO 5 STELLE PANNA/AMARENA 24PZ","IMPULSO"]
["0242B","GRAN GELATO PISTACCHIO 4,1LT BINDI","BINDI"]
["0243","CONO 5 STELLE PANNA/CIOCCOLATO 24PZ","IMPULSO"]
["0248B","GRAN GELATO AMARENA 4,1LT BINDI","BINDI"]
["0253","TORTA LUNGA CREMA MANZONI","MANZONI"]
["0257","TORTA LUNGA NOCC./TORR.NO MANZONI","MANZONI"]
["0258","TORTA LUNGA CACAO E CREMA MANZONI","MANZONI"]
["0265B","CHOCO NOCCIOLA MONOPORZIONE 9PZ","BINDI"]
["0267","BARATTOLINO DELIZIE PISTACCHIO 500X6","BARATTOLINODELIZ"]
["0267B","CROCCANTE ALLE MANDORLE 9PZ 95G","BINDI"]
["0268","BARATTOLINO DELIZIE NOCCIOLA 500X6","BARATTOLINODELIZ"]
["0269","BARATTOLINO DELIZIE PANNA COTTA 500X6","BARATTOLINODELIZ"]
["0270","BARATTOLINO DELIZIE PANNA E CIOCCOLATO 500X6","BARATTOLINODELIZ"]
["0270B","BLACK BISCUITS (TORTA OREO) 1400G","BINDI"]
["0272","BARATTOLINO SPIRITO NATALIZIO 410X6","MULTIPACK"]
["0277","SOUFFLE' CIOCCOLATO BIANCO 12PZ 100G","BINDI"]
["0281B","DONUTS PARTY 58GX36PZ","CROISSANT BINDI"]
["0297B","BLANCA TORTA 1400G","BINDI"]
["0299B","TORTA CIOCCOLATO MORE E LAMPONI 1680G","BINDI"]
["030308","MERLUZZO ATLANTICO FILETTI 1KG(800)X6 GL.20% ARGENTINA","ITTICO"]
["0325","DUETTO 25 PZ","IMPULSO"]
["0329","BEATRICE Pret. 16Ppz","BINDI"]
["0331","BISCOTTO AMANDO FRUTTI DI BOSCO PZ18","IMPULSO"]
["0333","CROSTATA CIOCCOLATO pret. 16pz","BINDI"]
["0334","TARTUFO CLASSICO 12PZ","IMPULSO"]
["0335","TARTUFO BIANCO 12PZ","IMPULSO"]
["0338","MELE Pret. 16pz","BINDI"]
["0341","TIRAMISU' 12PZ","IMPULSO"]
["0342B","CROSTATA FRUT. BOSCO/MASCARPONE","BINDI"]
["0349","SORBET LEMON 16PZ","IMPULSO"]
["0351","GOCCE IN BARATTOLINO (BON BON) 16PZ","IMPULSO"]
["0351B","TORTA CARROT CAKE PCUT 16PZ","BINDI"]
["0358B","BISCOTTO PRALINATO 24PZ","BINDI IMPULSO"]
["0362B","BISCOTTO FIORDILATTE 24PZ","BINDI IMPULSO"]
["0365B","BISCOTTO FIORDILATTE/CIOCCOLATO 24PZ","BINDI IMPULSO"]
["0366","COCCO 6PZ","IMPULSO"]
["0371B","BROWNIES 20PZX65G","BINDI"]
["0372","VIP BIANCO 24PZ","BINDI IMPULSO"]
["0373B","VIP FIOR DI LATTE RICOPERTO 24PZ","BINDI IMPULSO"]
["0374","VIP PRALINATO 24PZ","BINDI IMPULSO"]
["0377","STECCO PANNA RICOPERTO 24PZ","BINDI IMPULSO"]
["0379","STECCO PRALINATO AMARENA 24PZ","BINDI IMPULSO"]
["0384B","CONO AMARENA 24PZ","BINDI IMPULSO"]
["0385B","CONO CLASSICO 24PZ","BINDI IMPULSO"]
["0386B","CONO CIOCCOLATO 24PZ","BINDI IMPULSO"]
["0390B","LIMONSTEC 24PZ","BINDI IMPULSO"]
["0391B","STECCO PANNA FRAGOLA 24PZ","BINDI IMPULSO"]
["0395","COPPA CIOCCOLATO/NOCCIOLA 16PZ","BINDI IMPULSO"]
["0397B","STECCO VIP PESCA E YOGURT GRECO 24PZ","BINDI IMPULSO"]
["0404","BARATTOLINO CLASSICO VANIGLIA E CIOCCOLATO 6X500G","BARATTOLINOCLASS"]
["0408","BARATTOLINO CLASSICO FRAGOLA E LIMONE 6X500G","BARATTOLINOCLASS"]
["0422B","TORTA SOFFICE ALLE MELE PRET. 12PZ MANZONI","MANZONI"]
["0423B","TORTA PISTACCHIO E CIOCCOLATO 1200G","BINDI"]
["0426B","TORTA SOFFICE PERE E CIOCCOLATO 1KG","MANZONI"]
["0427B","CHOCOLATE CHIP CHEESECAKE PCUT 16PZ","BINDI"]
["0429B","TORTA SOFFICE ALBICOCCA GERME GRANO","MANZONI"]
["0430B","KEY LIME CHEESECAKE PCUT 16P","BINDI"]
["0440","BARATTOLINO CLASSICO STRACCIATELLA 6X500G","BARATTOLINOCLASS"]
["0441","BARATTOLINO DELIZIE L'AMARENA DI COPPA ORO 6X500G","BARATTOLINODELIZ"]
["0442","BARATTOLINO CLASSICO CIOCCOLATO 6X500G","BARATTOLINOCLASS"]
["0443","BARATTOLINO CLASSICO CROCCANTINO 6X500G","BARATTOLINOCLASS"]
["0444","BARATTOLINO CLASSICO PANNA 6X500G","BARATTOLINOCLASS"]
["0449","SORBETTIERA STRACCIATELLA/PANNA/CACAO/CAFFE' 6X1KG","SORBETTIERA"]
["0451B","TORTINA DELLA NONNA 12 PZ","BINDI"]
["0454","SORBETTIERA PANNACOTTA/NOCCIOLA/CREMA/CACAO 6X1KG","SORBETTIERA"]
["0455B","PISTACCHIO E CIOCCOLATO PRETAGLIATA 12PZ","BINDI"]
["0460","SORBETTIERA STRACC/MASCARP/SPAG/GIANDUIA 6X1KG","SORBETTIERA"]
["0474","PIRAMIDE CIOCCOLATO 6PZ NEW","BINDI"]
["0476","TORTA DUCHESSA (GR 750)","TORTAMULTIPACK"]
["047N","ARANCINO ALLA 'NDUJA GR200X40PZ","TOSCANO"]
["0488","*E* TRANCIO CROCCANTINO 500G SAMMONTANA","MULTIPACK"]
["0490","TORTA ST. HONORE' (GR 750)","TORTAMULTIPACK"]
["0491B","MINI CONCHIGLIA CIOCCOLATO 60PZX40G","CROISSANT BINDI"]
["0492B","MINI CONCHIGLIA PANNALATTE 60PZX40G","CROISSANT BINDI"]
["0495","TORTA REGINA (GR 1000)","TORTAMULTIPACK"]
["0499","TRANCIO FRUTTI DI BOSCO (GR 500)","TRANCIOMULTIPACK"]
["0500","TRANCIO ST. HONORE' (GR 500)","TRANCIOMULTIPACK"]
["0502B","GRAN GELATO SORBETTO MIRTILLO 2,5LT BINDI","BINDI"]
["0504B","MINI KRAPFEN CACAO NOCCIOLA 24GX104PZ","CROISSANT BINDI"]
["0513B","SEMIFREDDO CAFFE' 12 PZ","BINDI"]
["0514","SEMIFREDDO TORRONCINO PZ 12","BINDI"]
["0515B","ANANAS RIPIENA 12PZX100G","BINDI"]
["0517B","TARTUFO BIANCO 12PZX75G","BINDI"]
["0521","6 GHIACCIOLO 6X400","MULTIPACK"]
["0524","8 ARLECCHINO 9X350","MULTIPACK"]
["0528B","TWITTY 12P - FIORDILATTE","BINDI IMPULSO"]
["0533B","TARTUFO CLASSICO 12PZX85G","BINDI"]
["0558","*E* 6 STECCO AMANDO PESCA/F.TTI ROSSI/MELA E KIWI 330X6","MULTIPACK"]
["0560","*E* 2 TARTUFO 3M BIANCO 180X8","MULTIPACK"]
["0565B","CUBO AI DUE CIOCCOLATI 6PZ","BINDI"]
["0567B","LIMONE BINDI 12PZX100G","BINDI"]
["0569B","SORBETTO POMPELMO ROSA 2,5","BINDI"]
["0572B","CHARLOTTE FARCITA 40PZX40G","CROISSANT BINDI"]
["0575B","CANNOLO SICILIANO (10X120 GR)","BINDI"]
["0576B","DELIZIA LIMONE MONOPORZIONE PZ6","BINDI"]
["0600","MINI CROISSANT 25GX150PZ","CROISSANT BINDI"]
["0601","MINI GIRELLA CREMA E UVETTA 150PZX30","CROISSANT BINDI"]
["0602","MINI PAIN AU CHOCOLAT BURRO 150 PZ","CROISSANT BINDI"]
["0608","INTRECCIO NOCI PECAN PZ60X95GR","CROISSANT BINDI"]
["0609","TRECCIA CREMA/CIOCC. 50PZX90G","CROISSANT BINDI"]
["0615","TORTA COMPLEANNO","BINDI"]
["0621B","COPPA MANDORLE TOSTATE E AMARETTO VETRO 9PZ","BINDI"]
["0623B","CROCCANTE ALL' AMARENA 9PZ 95G","BINDI"]
["0625B","CROCCANTE AL PISTACCHIO 9PZ","BINDI"]
["0626","6 PREZZEMOLO 8X348","MULTIPACK"]
["0630","COMODA E PRONTA PANNA 5L","IMPULSO"]
["0631","COMODA E PRONTA CREMA 5L","IMPULSO"]
["0632","COMODA E PRONTA CACAO 5L","IMPULSO"]
["0632B","PAIN AU CHOCOLAT BURRO 60X75GR","CROISSANT BINDI"]
["0633","COMODA E PRONTA CAFFE' 5L","IMPULSO"]
["0634","COMODA E PRONTA LIMONE 5L","IMPULSO"]
["0635","COMODA E PRONTA FRAGOLA 5L","IMPULSO"]
["0636","COMODA E PRONTA STRACCIATELLA 5L","IMPULSO"]
["0637","COMODA E PRONTA NOCCIOLA 5L","IMPULSO"]
["0638","COMODA E PRONTA PISTACCHIO 5L","IMPULSO"]
["0639","COMODA E PRONTA VANIGLIA GIALLA 5L","IMPULSO"]
["0640","COMODA E PRONTA VANIGLIA BIANCA 5L","IMPULSO"]
["0641","COMODA E PRONTA BANANA 5L","IMPULSO"]
["0642","COMODA E PRONTA COCCO 5L","IMPULSO"]
["0646","TORTA LUNGA MIRTILLI E RIBES MANZONI","MANZONI"]
["0650","COPPA CATALANA IN COCCIO 8 PZ","BINDI"]
["0654","FILLO CON PERE E CIOCC. 6PZ","BINDI"]
["0655","SCRIGNO MELE E MANDORLE 6 PZ","BINDI"]
["0657","MELANGE FRAGOLINE E RIBES PZ6","BINDI"]
["0658B","PASTICCIOTTO CREMA E AMARENA 20PZX115G","CROISSANT BINDI"]
["0662","COCCO BINDI 12PZX140G","BINDI"]
["0669B","SFOGLIATELLA BICOLORE AL CACAO 60PZX95G","CROISSANT BINDI"]
["0674B","GOCCIOLONE 90GX55PZ","CROISSANT BINDI"]
["0675","DONUTS FARCITI 80GX36PZ","CROISSANT BINDI"]
["0681B","CUPOLINA CIOCCOLATO CROCCANTE 6PZ.","BINDI"]
["0682","RICOTTA E PERE MONOPORZIONE 6PZ","BINDI"]
["0684B","SELVA NERA MONOPORZIONE 10PZ","BINDI"]
["0686","HIP POP 12PZ - FRAGOLA","BINDI IMPULSO"]
["0687","PAN DAN 12 PZ - VANIGLIA","BINDI IMPULSO"]
["0689","CIP CIOK 12 PZ - CIOCCOLATO","BINDI IMPULSO"]
["0691","CHOCO-NOCCIOLA","BINDI"]
["0713B","TORTA LAMPONI/PASSION FRUIT PCUT 12P","BINDI"]
["0717","COPPA FRAGOLA 55GX18PZ MANZONI","MANZONI"]
["0729B","COPPA TIRAMISU' 55GX18PZ MANZONI","MANZONI"]
["0731B","FROLLINI ALL'ALBICOCCA 1KG","BINDI"]
["0733B","SABBIOSINI 1KG","BINDI"]
["0735","CHOCOLATE","BINDI"]
["0737","ESSE MIGNON 1KG","BINDI"]
["0738","COPPA FIORDILATTE FRAGOLE E CARAMELLO 6PZX100G","BINDI"]
["0739B","COPPA CIOCCOLATO 55GX18PZ MANZONI","MANZONI"]
["0775B","COCCO NOCCIOLA","BINDI"]
["0789","SEMIFREDDO ALLE MANDORLE 12P","BINDI"]
["08000","PASTICCIOTTO CREMA 115GX48PZ FORNO D'ORO","CROISSANT"]
["0803","COPPA BISCOTTINO VT 6PZ","BINDI"]
["0814B","AGRUMI DI SICILIA MONOPORZIONE 9PZ","BINDI"]
["0820","COPPA CIOCCOLATO NOCCIOLA 6PZX100G","BINDI"]
["0821","COPPA CREMA PISTACCHIO 6PZX100G","BINDI"]
["0822","CUPOLA UNICORNO GELATO SFUSO","IMPULSO"]
["0825","CUPOLA COOKIES BURRO GELATO SFUSO","IMPULSO"]
["0827B","RED VELVET TORTA PRET. 16PZ (1,5KG)","BINDI"]
["0830B","COPPA AL MASCARPONE 9PZ","BINDI"]
["0839","CUPOLA INTRIGO DI VANIGLIA E CIOCCOLATO GELATO SFUSO","IMPULSO"]
["0842B","RONDO' COCCO E CIOCCOLATO 6PZX80G","BINDI"]
["0843","CUPOLA INTRIGO DI PANNA E CAFFE' GELATO SFUSO","IMPULSO"]
["0844","CUPOLA ARIA DI TOSCANA (VIN SANTO E CANTUCCI) GELATO SFUSO","IMPULSO"]
["0844B","RONDO' VANIGLIA E FRAGOLA 6PZX80G","BINDI"]
["0850","4 STECCO GRUVI STRACCIATELLA 8X240","GRUVIMULTIPACK"]
["0850B","TORTA RICOTTA E PERE GR 1100 PRT","BINDI"]
["0851","VASCHETTA 3 LT VAN/CAC/CAFFE' 4X1500","VASCHETTA1500G"]
["0853","VASCHETTA 3 LT. CAC/STRAC/NOC 4X1500","VASCHETTA1500G"]
["0854","VASCHETTA 3 LT PIS/VAN/CAC/NOC 4X1,5","VASCHETTA1500G"]
["0862","*E* 6 CONO 5 STELLE CIOCCOLATO DI MODICA 450GX6 SAMMONTANA","CONO5STMULTIPACK"]
["0862B","GRAN CROISSANT CREMA E AMARENA 50PZX95G","CROISSANT BINDI"]
["0866","4 COPPA ORO AMARENA FABBRI 8X360","MULTIPACK"]
["0867","4 COPPA ORO CIOCCOLATO DOMORI 8X360","MULTIPACK"]
["0868","4 BISCOTTO AMANDO CON FRUTTI DI BOSCO 8X208G","MULTIPACK"]
["0880","6 CONO 5 STELLE PANNA 450GX6 SAMMONTANA","CONO5STMULTIPACK"]
["0881","6 CONO 5 STELLE CROCCANTINO 450GX6  SAMMONTANA","CONO5STMULTIPACK"]
["0882","*E* 6 CONO 5 STELLE CILIEGIA 450GX6     SAMMONTANA","CONO5STMULTIPACK"]
["0884","*E* 6 CONO 5 STELLE CAFFE' 450GX6 SAMMONTANA","CONO5STMULTIPACK"]
["0885","*E* 6 CONO 5 STELLE STRACCIATELLA 450GX6 SAMMONTANA","CONO5STMULTIPACK"]
["0886","4 CONO AMANDO VANIGLIA SENZA GLUTINE 300GX6","MULTIPACK"]
["0891","*E* 4 STECCO GRUVI CAFFE' 8X240","GRUVIMULTIPACK"]
["0892","4 STECCO GRUVI PISTACCHIO 8X240","GRUVIMULTIPACK"]
["0893","4 STECCO GRUVI CROCCANTINO 8X240","GRUVIMULTIPACK"]
["0900","CUPOLA PANNA GELATO SFUSO","IMPULSO"]
["0902","CUPOLA CIOCCOLATO GELATO SFUSO","IMPULSO"]
["0903","CUPOLA CAFFE' GELATO SFUSO","IMPULSO"]
["0904","CUPOLA LIMONE SORBETTO GELATO SFUSO","IMPULSO"]
["0905","CUPOLA SORBETTO FRAGOLA GELATO SFUSO","IMPULSO"]
["0906","CUPOLA STRACCIATELLA GELATO SFUSO","IMPULSO"]
["0907","CUPOLA CROCCANTINO GELATO SFUSO","IMPULSO"]
["0908","CUPOLA NOCE GELATO SFUSO","IMPULSO"]
["0916","CUPOLA PISTACCHIO GELATO SFUSO","IMPULSO"]
["0918","CUPOLA NOCCIOLA GELATO SFUSO","IMPULSO"]
["0922","CUPOLA CREMA GELATO SFUSO","IMPULSO"]
["0923","CUPOLA TIRAMISU' GELATO SFUSO","IMPULSO"]
["0933","CUPOLA SPAGNOLA GELATO SFUSO","IMPULSO"]
["0935","CUPOLA PANNACOTTA GELATO SFUSO","IMPULSO"]
["0936","CUPOLA LIMONE GEL. GELATO SFUSO","IMPULSO"]
["0937","CUPOLA COCCO GELATO SFUSO","IMPULSO"]
["0940","CUPOLA FRUTTI DI BOSCO GELATO SFUSO","IMPULSO"]
["0942","CUPOLA BANANA GELATO SFUSO","IMPULSO"]
["0944","CUPOLA YOGURT GELATO SFUSO","IMPULSO"]
["0946","CUPOLA DELIZIA AZZURRA GELATO SFUSO","IMPULSO"]
["0947","CUPOLA MALAGA GELATO SFUSO","IMPULSO"]
["0952B","TIRAMISU' CON SAVOIARDI CLASSICO","BINDI"]
["0954B","TIRAMISU' CON SAVOIARDI (DOPPIO STRATO)","BINDI"]
["0976","CUPOLA VANIGLIA GELATO SFUSO","IMPULSO"]
["0985B","RABBIT 12PZ - FIORDILATTE","BINDI IMPULSO"]
["0988B","TARTUFO AL PISTACCHIO 12PZX75G","BINDI"]
["1000124","*E* BAGUETTE 280GX35PZ FORNO DELLA TORRE®","FORNODELLATORRE"]
["1005","BC FRITTINI MIX CLASSICO 2KG","BONCHEF"]
["1006","BC FRITTINI MIX SFIZIOSO 3KG","BONCHEF"]
["1007","BC FRITTINI MIX GOURMET 3KG","BONCHEF"]
["1010","RICOTTA E PERE INTERA 1,1KG","BINDI"]
["1015","TIRAMISU' BIG","BINDI"]
["1035","CASSATINA 12 PZ","BINDI"]
["10362","4 MAXISTECCO MANDORLE ABITUE' 320GX6","ESKIGEL"]
["10363","4 MAXISTECCO CLASSICO ABITUE' 320GX6","ESKIGEL"]
["104409","SNICKERS ICE STECCO 80GX20","MARS"]
["1052B","CROISSANT VEGANO ALBICOCCA 50PZX85G","CROISSANT BINDI"]
["1053","CROISSANT DRITTO CURCUMA 48PZX75G   VUOTO","CROISSANT BINDI"]
["1074","TORTA CIOCCOLATO E PERE 1,4KG","BINDI"]
["107502","CIABATTINA PRET. 100GX32PZ G.TENERO","VANDEMOORTELE"]
["1081B","CONCHIGLIA PANNA LATTE 40PZX90G","CROISSANT BINDI"]
["1082B","CONCHIGLIA AL CIOCCOLATO 40PZX90G","CROISSANT BINDI"]
["1083B","*E* CROISSANT BICOLORE AL CACAO 50PZX95G","CROISSANT BINDI"]
["1084B","*E* CROISSANT BICOLORE AL LAMPONE 50PZX95G","CROISSANT BINDI"]
["1085B","CROISSANT CEREALI E ARANCIA 50PZX90G","CROISSANT BINDI"]
["1086B","CROISSANT VEGANO VUOTO 48PZX75G","CROISSANT BINDI"]
["1087B","CROISSANT VEGANO ALBICOCCA 48PZX90G","CROISSANT BINDI"]
["1089B","CROISSANT ALBERGO VEGANO VUOTO 72PZX44G","CROISSANT BINDI"]
["1091","INTRECCIO NOCCIOLA PZ 60","CROISSANT BINDI"]
["1092","INTRECCI LAMPONE","CROISSANT BINDI"]
["1093B","KRAPFEN VUOTO 24PZX55G","CROISSANT BINDI"]
["1095B","KRAPFEN CREMA 24PZX75G","CROISSANT BINDI"]
["1097B","KRAPFEN NOCCIOLA CACAO 24PZX75G","CROISSANT BINDI"]
["1100","BC CANNELLONI RICOTTA E SPINACI IN TEGLIA 2,4KGx2","BONCHEF"]
["110002","ASPARAGI VERDI 8X300G P.VERDE","AGRIFOOD"]
["1102","BC LASAGNE ALLA BOLOGNESE IN TEGLIA 2,4KGx2","BONCHEF"]
["1103","BC MELANZANE ALLA PARMIGIANA IN TEGLIA 2,4KG","BONCHEF"]
["1106B","FAGOTTINO VEGANO CER./F.BOSC 60PZX85G","CROISSANT BINDI"]
["1108B","MINI FAGOTTINO VEGANO CER./F.BOSC 100PZX40G","CROISSANT BINDI"]
["1110B","GRAN CROISSANT ALBICOCCA 50PZX95G","CROISSANT BINDI"]
["1111","GRAN CROISSANT CREMA PASTICCERA 50PZX95G","CROISSANT BINDI"]
["1111C","TARTUFO DI PIZZO PZ 30 160G","TARTUFO DI PIZZO"]
["1111MPK","TARTUFO DI PIZZO MPK 110G 2PZX10 NONNO ENRICO","TARTUFO DI PIZZO"]
["1113B","GRAN CROISSANT VUOTO 50PZX80G","CROISSANT BINDI"]
["1115","INSALATA DI MARE CON VERDURE 1000G","FRESCO"]
["111552","LUTIANO INDONESIA 2000/3000 KG20(18) - GLASS. 10%","ITTICO"]
["1116B","GRAN CROISSANT CIOCCOLATO 50PZX95G","CROISSANT BINDI"]
["1117","INSALATA DI MARE SECCHIO KG3","FRESCO"]
["1123B","COPPA TIRAMISU' GLUTEN FREE 12PZX100G","BINDI"]
["1124B","COPPA FRUTTI DI BOSCO GLUTEN FREE 12PZX100G","BINDI"]
["113799","ORATA EVIS. 300/400 KG5 GLASS. 20%-OLANDA-TURCHIA","VAN DER LEE"]
["1140B","FOCACCINA CON OLIVE GIGANTI 50PZX50G","BUONI E PRONTI"]
["1141","FOCAC.CAPRESE 12X360","BUONI E PRONTI"]
["114440","RANA PESCATRICE 200/300 1KG(800G)X10 GLASS.20%","SURGELATI"]
["1147B","MORBIDA DI STELLE PRETAGLIATA 12PZ","BINDI"]
["114951","MERLUZZO FIORI VERI 90/110 5KG 0% - SUDAFRICA SEA HARVEST","SEA HARVEST"]
["1149B","MINI DONUTS CACAO 20GX135PZ","CROISSANT BINDI"]
["1154B","CROISSANT ALBERGO VUOTO 100PZX50G","CROISSANT BINDI"]
["1155B","CROISSANT ALBERGO CIOCCOLATO 100PZX55G","CROISSANT BINDI"]
["1156B","CROISSANT ALBERGO ALBICOCCA 100PZX55G","CROISSANT BINDI"]
["1157B","CROISSANT ALBERGO CREMA 100PZX55G","CROISSANT BINDI"]
["1163B","COCCO NOCCIOLA MONOPORZIONE NEW 9PZ","BINDI"]
["1164B","GEOMETRIA DI CIOCCOLATO E PERE 6PZ","BINDI"]
["1169B","GRAN CROISSANT MULTICEREALI 50PZX80G","CROISSANT BINDI"]
["1170B","GRAN CROISSANT MULTICEREALI AI FRUTTI DI BOSCO 50PZX95G","CROISSANT BINDI"]
["1172B","GRAN CROISSANT PISTACCHIO 50PZX95G","CROISSANT BINDI"]
["1177","MOUSSE STRACCIATELLA","BINDI"]
["1196","PANNA COTTA CARAMELLO 12PZ","BINDI"]
["12014","PUCCIA VUOTA 120GX25PZ","FORNODORO"]
["12072000","GIRELLA CON CREMA E UVETTA 100GX60PZ GOURMAND","GOURMAND"]
["1213B","MARENGO LUNGA","BINDI"]
["1214B","TORTA DI MELE PRET. 1,3KG 14PZ","BINDI"]
["1217B","FOCACCINA CON POMODORO AL FORNO 50PZX50G","BUONI E PRONTI"]
["1220B","KIT CANNOLO ALLA SICILIANA 12PZX143G","BINDI"]
["1222B","CROISSANT VUOTO BURRO 50PZX80G","CROISSANT BINDI"]
["1223B","CROISSANT CIOCCOLATO BURRO 48PZX90G","CROISSANT BINDI"]
["1228B","FAGOTTINO AI TRE CIOCCOLATI 60PZX95G","CROISSANT BINDI"]
["1230B","BELBELE' 70PZX10G","BINDI"]
["1231B","INTRECCIO NOCI PECAN PZ60X100GR","CROISSANT BINDI"]
["1232B","SFOGLIATELLA BICOLORE F.TTI DI BOSCO 60PZX95G","CROISSANT BINDI"]
["1251","TARTUFO LIMONCELLO 12PZX85GR","BINDI"]
["1258B","BLACK BISCUITS MONOPORZIONE 9PZ","BINDI"]
["1264","FOCACCIA PROS.FORM.12PZ","BUONI E PRONTI"]
["12671075","PAIN AU CHOCOLATE 75GRX60PZ GOURMAND","GOURMAND"]
["1268B","TORTA AL CROCCANTE 1200G","BINDI"]
["1270B","TORTA AL CROCCANTE PRETAGLIATA PZ12","BINDI"]
["1275","CHEESECAKE ALLE FRAGOLE 1,5KG","BINDI"]
["1281B","TIRAMISU' SAVOIARDI MONOPORZIONE 10PZ","BINDI"]
["1282B","LIMONE BINDI PZ 9","BINDI"]
["128384","LE COCCOLE (BROCCOLI E CAROTE) 300GX12 BONDUELLE","BONDUELLE"]
["1285B","CROISSANT CEREALI E MIELE 50PZX75G","CROISSANT BINDI"]
["1286B","CROISSANT 5 CEREALI E MIRTILLI 50PZX75G","CROISSANT BINDI"]
["1288B","CROISSANT CURVO ALBICOCCA 50PZX70G","CROISSANT BINDI"]
["1291","CHEESECAKE MONTEROSA","BINDI"]
["1292","TORTA MILLEFOGLIE GR1350","BINDI"]
["1297B","FOCACCINA MULTICEREALI 88PZX45G","BUONI E PRONTI"]
["1301B","STRUDEL DI MELE 40PZX70G","CROISSANT BINDI"]
["1305B","COPPA ISABEL 6PZX100G-GELATO MANDARINO DI CIACULLI VAR. LIMONE SORRENTO","BINDI"]
["1306B","MUFFIN NOCI PECAN E SCIROPPO D'ACERO 20PZX90G","CROISSANT BINDI"]
["1307B","TENTAZIONE DI RICOTTA E CIOCCOLATO MONOPORZIONE 9PZ","BINDI"]
["1308B","SAC A POCHE CREMA AL PISTACCHIO 4PZX500G","BINDI"]
["1309B","SAC A POCHE CREMA PASTICCIERA 6PZX700G","BINDI"]
["1310B","SAC A POCHE RICOTTA 4PZX500G","BINDI"]
["1311B","MINI INTRECCIO NOCI PECAN 80PZX50G","CROISSANT BINDI"]
["1312B","CIAMBELLONE YOGURT E FRUTTI DI BOSCO 20PZX50G","BINDI"]
["1314","TORTA FRUTTI DI BOSCO","BINDI"]
["1315B","CIAMBELLONE ALLE MELE 20PZX50G","BINDI"]
["1316B","CIAMBELLONE MARMORIZZATO 20PZX50G","BINDI"]
["1317B","CROISSANT ALBICOCCA BURRO 40PZX90G","CROISSANT BINDI"]
["1320B","ISPIRAZIONE AL CHEESECAKE MONOPORZIONE 9PZ","BINDI"]
["1322B","KRAPFEN TIRAMISU' 24PZX75G","CROISSANT BINDI"]
["1324B","WAFFELS 30PZX90G","CROISSANT BINDI"]
["1326B","PIRATA 12 PZ - CIOCCOLATO","BINDI IMPULSO"]
["1327B","PRINCIPESSA 12 PZ - FRAGOLA","BINDI IMPULSO"]
["1333","SELVA NERA CIOCC. GR 1150","BINDI"]
["1335","SORBETTO MANDARINO DI CIACULLI 2,5","BINDI"]
["13450090","TRECCIA AL BURRO CON CIOCCOLATO E CREMA 90GX50PZ GOURMAND","GOURMAND"]
["1345B","RUBINO CHEESECAKE 6PZ - MONOPORZIONE","BINDI"]
["1346B","GOCCIA TIRAMISU' 6PZ - MONOPORZIONE","BINDI"]
["1348B","NONNA 4.0 6PZ - MONOPORZIONE","BINDI"]
["1352","VONGOLE SGUSCIATE 12X250G OGGI PESCE","OGGI PESCE"]
["1371B","COPPA CREMA AMARENA 12PZ","BINDI"]
["1373B","COPPA MASCARPONE E FRAGOLE 12PZ","BINDI"]
["1375B","COPPA TRE CIOCCOLATI 12PZ","BINDI"]
["13767","*E* 6 MAXIBISCOTTO TRIGUSTO ABITUE' 480GX6","ESKIGEL"]
["1376B","COPPA MASCARPONE E LAMPONI 12PZ","BINDI"]
["1377B","COPPA MANDORLE TOSTATE E AMARETTO 12PZ","BINDI"]
["1381B","COPPA CREME BRULE` FRUTTI DI BOSCO 12PZ","BINDI"]
["1383B","COPPA CREMA CATALANA 12PZ","BINDI"]
["1385B","COPPA LIMONE DI SORRENTO IGP 12PZ","BINDI"]
["1392B","CREPES 40PZX55G","BUONI E PRONTI"]
["1393","FLUTE FRUTTI DI BOSCO 8PZX100G","BINDI"]
["1397","COPPA CAFFE' VETRO 6PZX95G","BINDI"]
["1398","FLUTE AL LIMONCELLO 8PZX100G","BINDI"]
["140002","CARCIOFI SPICCHI P.VERDE 12X450","AGRIFOOD"]
["140110","GAMBERO ROSSO MOZAMBICO 41/50 TAGLIA \"M\" 800G BORDO 0%","FRIP"]
["140111","GAMBERO ROSSO MOZAMBICO 31/40 TAGLIA \"L\" 800G BORDO 0%","FRIP"]
["140958","SNICKERS BARRA PZ24X48g","MARS"]
["1437","MOUSSE YOGURT FRUTTI DI BOSCO","BINDI"]
["1446B","SOUFFLE' ALLA NOCCIOLA 12PZX90G","BINDI"]
["1452","TORTA LIMONE","BINDI"]
["1454B","BLUEBERRY MUFFINS 20PZX85G","CROISSANT BINDI"]
["1457B","PASTIERA MONOPORZIONE 12PZX100G","BINDI"]
["1458B","ECLAIR AL CIOCCOLATO 14PZX75G","BINDI"]
["1459B","ECLAIR AL CAFFE' 14PZX75G","BINDI"]
["1460B","ECLAIR ALLA VANIGLIA 14PZX75G","BINDI"]
["1461B","ECLAIR MANGO E PASSION FRUIT 14PZX75G","BINDI"]
["1462B","MOCHI CIOCCOLATO 24PZX30G (MONOPORZIONE DI GELATO)","MANZONI"]
["1463B","MOCHI COCCO 24PZX30G (MONOPORZIONE DI GELATO)","MANZONI"]
["1464B","MOCHI TE VERDE 24PZX30G (MONOPORZIONE DI GELATO)","MANZONI"]
["1467","SOUFFLE' AL CIOCCOLATO 12PZ 100G","BINDI"]
["1468B","MOCHI MANGO 24PZX30G (MONOPORZIONE DI GELATO)","MANZONI"]
["1469B","MOCHI PISTACCHIO 24PZX30G (MONOPORZIONE DI GELATO)","MANZONI"]
["1470","TORTA PRET. ZAGARA/BEATRICE(GR 1","BINDI"]
["1471G7","G7 MINI AFFOGATO CIOCCOLATO 150MLX12PZ","G7"]
["1473B","RELIGIEUSE AL CIOCCOLATO 13PZX100G","BINDI"]
["1474","COPPA MANDORLE E CIOCCOLATO 6PZX100G","BINDI"]
["1474G7","G7 MINI SPAGNOLA 150MLX12PZ","G7"]
["1475G7","G7 MINI LIMONE 150MLX12PZ","G7"]
["1476","MOUSSE CIOCCOLATO","BINDI"]
["1476G7","G7 MINI TIRAMISU'150MLX12PZ","G7"]
["1478","MOUSSE LIMONE 1,15KG","BINDI"]
["1481G7","G7 MINI PISTACCHIO 150MLX12PZ","G7"]
["1482","COPPA STRACCIATELLA 6PZX100G","BINDI"]
["1485","FLUTE MELA VERDE CALVADOS 8PZX100G","BINDI"]
["1488B","GRAN GELATO SORBETTO MANGO 2,5LT BINDI","BINDI"]
["1489B","TRADITIONAL NY CHEESECAKE PRET. 16PZ","BINDI"]
["1491B","BONET 12PZX95G","BINDI"]
["1496B","COPPA TIRAMISU' 9PZ","BINDI"]
["1500","FOCACCIA MOZ.RUC. 12PZ","BUONI E PRONTI"]
["150001","CAROTINE BABY P.VERDE 12X450","AGRIFOOD"]
["1512B","PROFITEROL PISTACCHIO IN VASCHETTA KG1,3","BINDI"]
["1515","NEW YORK CHEESCAKE PCUT 16P","BINDI"]
["1516","TORTA PRET. NONNA/MACAO (GR 1200","BINDI"]
["1517","TORTA PRET. BIGUS. MELE/CIOC.(GR","BINDI"]
["1518B","FLUTE PINA COLADA 8PZX100G","BINDI"]
["1520","COPPA SPAGNOLA 6PZX100G","BINDI"]
["1522B","TORTA DELLA NONNA 4.0 PRECUT 14 PZ","BINDI"]
["1524","MG DOLCE CACAO 60PZX90GR","MONGELO"]
["1524B","CUORE D'ARANCIA 9PZX90G","BINDI"]
["1525B","NOTTE BIANCA 9PZX90G","BINDI"]
["1526B","ISPIRAZIONE AL MANDARINO 9PZ","BINDI"]
["1527B","KIT MILLEFOGLIE 15PZX96G","BINDI"]
["1528B","SFOGLIA MELE DELLA TRADIZIONE 45PZX100G","CROISSANT BINDI"]
["1543B","TARTUFO COCCO NOCCIOLA 12PZX80G","BINDI"]
["1560","PROFITEROL BIANCO IN VASCHETTA KG1,1","BINDI"]
["1565","DELIZIE AL LIMONE (GR 1300)","BINDI"]
["1571","COPPA YOGURT E FRUTTI DI BOSCO 6PZX100G","BINDI"]
["15830","LATTERINI 12X500G OGGI PESCE        GLASS.0%","OGGI PESCE"]
["1585","MG MEZZATONDA CREMA E AMARENA 50PZX100G","MONGELO"]
["1587B","CROISSANT VARIEGATO AL CACAO 50PZX95G","CROISSANT BINDI"]
["1588B","CROISSANT VARIEGATO AL LAMPONE 50PZX95G","CROISSANT BINDI"]
["15960595","TRECCINA ALLE NOCI PECAN 95GX48PZ GOURMAND","GOURMAND"]
["1604B","GRAN GELATO SORBETTO ANANAS 2,5LT BINDI","BINDI"]
["1607","MG SFOGLIA VUOTA 60PZX65G","MONGELO"]
["16078","*E* GELATO LIMONE VASC. 200GX8 ABITUE'","ESKIGEL"]
["16080","*E* GELATO TRIPLO CIOCC. VASC. 200GX8 ABITUE'","ESKIGEL"]
["16086","*E* GELATO PANNA COTTA VASC. 200GX8 ABITUE'","ESKIGEL"]
["16087","*E* GELATO FIORDILATATE VASC. 200GX8 ABITUE'","ESKIGEL"]
["16089","*E* GELATO CAFFE' VAR. TORRONCINO 200GX8 ABITUE'","ESKIGEL"]
["1612","MG CROISSANT BONJOUR VUOTO 60PZX60G","MONGELO"]
["1613","MG CROISSANT BONJOUR ALBICOCCA 60PZX70G","MONGELO"]
["1614","MG CROISSANT BONJOUR CREMA 60PZX70G","MONGELO"]
["1615","MG CROISSANT BONJOUR NOCCIOLA CACAO 60PZX70G","MONGELO"]
["1616","MG MIDI CROISSANT BONJOUR VUOTO 100PZX35G","MONGELO"]
["1617","BASTONCINI DI VERDURE 10X300G FROSTA","FROSTA"]
["1618","MG MIDI CROISSANT BONJOUR CREMA 80PZX40G","MONGELO"]
["1619","MG MIDI CROISSANT BONJOUR NOCCIOLA CACAO 80PZX40G","MONGELO"]
["1620","TORTA BIG.CAROTE/CROST.PESCHE","BINDI"]
["1621B","POKER DI FROLLE 47PZX60G","BINDI"]
["1658","COPPA TIRAMISU VETRO 12PZ","BINDI"]
["1659","COPPA PROFITEROL VETRO 12PZ","BINDI"]
["1669","COPPA MOUSSE CIOCCOLATO VETRO PZ12","BINDI"]
["1670","TARTUFO CAFFE'12PZX75G","BINDI"]
["1671","COPPA MOUSSE CHANTILLY CAFFE' VETRO 12PZ","BINDI"]
["16719","*E* 6 COPPETTE PANNA/CACAO ABITUE' 300GX6","ESKIGEL"]
["170002","FRIARIELLI \"CIME DI RAPA\" 10X750G PV","AGRIFOOD"]
["1701G7","G7 AFFOGATO AL CAFFE' 500GX6PZ","G7"]
["1702G7","G7 AFFOGATO AL CIOCCOLATO 500GX6PZ","G7"]
["1703G7","G7 BACIO 500GX6PZ","G7"]
["17041","4 CONI TORNADO (VORTICE) ABITUE' 280GX6","ESKIGEL"]
["1704G7","G7 CIOCCOLATISSIMO 500GX6PZ","G7"]
["1705B","PAIN AU CHOCOLAT 70PZX70G","CROISSANT BINDI"]
["1706G7","G7 CREMA FIORENTINA 500GX6PZ","G7"]
["17073","GAMBERI SGUSCIATI 30/50 10X1000 GLASS.35%","ITTICO"]
["1708","SFOGLIATELLA ALLA MELA PZ80X90GR","CROISSANT BINDI"]
["1708G7","G7 FIORDILATTE 500GX6PZ","G7"]
["1710G7","G7 LIMONE SORBETTO 500GX6PZ","G7"]
["1712G7","G7 PACIUGO 500GX6PZ","G7"]
["1713G7","G7 PANNA CON FRAGOLE 500GX6PZ","G7"]
["1716G7","G7 PANNA CON PESCA 500GX6PZ","G7"]
["1718G7","G7 PISTACCHIO 500GX6PZ","G7"]
["1720G7","G7 SPAGNOLA 500GX6PZ","G7"]
["1722G7","G7 TIRAMISU' 500GX6PZ","G7"]
["1723G7","G7 VANIGLIA DEL MADAGASCAR 500GX6PZ","G7"]
["1724G7","G7 YOGURT 500GX6PZ","G7"]
["1725G7","G7 LIMONE E FRAGOLA 500GX6PZ","G7"]
["1728G7","G7 NOCCIOLA 500GX6PZ","G7"]
["1733G7","G7 TARTUFO BIANCO A STRATI 500GX6PZ","G7"]
["1734G7","G7 TARTUFO NERO A STRATI 500GX6PZ","G7"]
["1738G7","G7 CARAMELLO SALATO 500GX6PZ","G7"]
["1763","KRAPFEN CREMA 70GX24PZ","CROISSANT BINDI"]
["1766","TORTA SACHER","BINDI"]
["1770","CAPRESE PRETAGLIATA 14 PZ","BINDI"]
["180001","FAGIOLI BORLOTTI P.VERDE 12X450","AGRIFOOD"]
["1809","KRAPFEN VUOTO 50GX24PZ","CROISSANT BINDI"]
["1826","FRUTTA TONDA (GR 1400)","BINDI"]
["1829","FOC.PROSC.EMMEN.PZ12X320GR","BUONI E PRONTI"]
["187381","GELATO 4 ROCHER CLASSICO FERRERO X7PZ","FERRERO"]
["187404","GELATO 4 RAFFAELLO FERRERO X6PZ","FERRERO"]
["1900","COPPA FIORLATTE E AMARENA 16PZ","BINDI IMPULSO"]
["1901","COPPA FIORLATTE E CIOCCOLATO 16PZ","BINDI IMPULSO"]
["1902","COPPA CAFFE 16PZ","BINDI IMPULSO"]
["19118","GRAN MINESTRONE 750GX12 BONDUELLE","BONDUELLE"]
["1937","TORTA ALLE FRAGOLE PRET. 24PZ","BINDI"]
["1943","CIAMBELLA PZ24X50G BINDI","CROISSANT BINDI"]
["195009","TWIX BARRA PZ24X39,6g","MARS"]
["1958B","SORBIFACILE LIMONE 900ML","BINDI"]
["1959","SORBIFACILE LIMONE 4,5 LT","BINDI"]
["195947","BOUNTY BARRA PZ24X40g","MARS"]
["1992","FOCACCIA PROS/POM/EMMENTH PZ12X320G","BUONI E PRONTI"]
["2","CORNETTI VUOTI D.L. 100PZX80G","SANTAROSA"]
["200033","*E* PANZEROTTINI POMODORO E MOZZARELLA 250GX12 SOAVEGEL","SOAVEGEL"]
["2001","*E* 4 FRUTTIAMO ALTERNATIVO FRUTTI DI BOSCO 280GX6","MULTIPACK"]
["200156","PASTA SFOGLIA 2 ROTOLI 500X12 SOAVEGEL","SOAVEGEL"]
["2002","*E* 4 FRUTTIAMO VIVACE KIWI 280GX6","MULTIPACK"]
["200237","ARANCINI ALLA SICILIANA 250GX10PZ SOAVEGEL \"AL VOLO\"","SOAVEGEL"]
["200245","OLIVE ASCOLANE 235GX10PZ SOAVEGEL \"AL VOLO\"","SOAVEGEL"]
["2003","*E* 4X2 RINGO VANIGLIA 280GX6","MULTIPACK"]
["2004","*E* 4X2 RINGO CACAO 280GX6","MULTIPACK"]
["200426","TRANCE DI MARLIN 8KG(6KG) GLASS.25%","BRASMAR"]
["2008","STECCO FRUTTIAMO SERENO AL MANGO PZ14","IMPULSO"]
["2010","4 STECCO GRUVI NOCCIOLA 8X240","GRUVIMULTIPACK"]
["2011","4 STECCO GRUVI MIRTILLO 8X240","GRUVIMULTIPACK"]
["2014","6 CONO 5 STELLE FIORDILATTE E BISCOTTI 450GX6 SAMMONTANA","CONO5STMULTIPACK"]
["2020","GRUVI MIRTILLO INASPETTATO 24PZ","IMPULSO"]
["2021","COPPA ORO S'ORU DE SARDIGNA 16PZ","IMPULSO"]
["2022","CONO 5 STELLE FRESCO LAMPONE 24PZ","IMPULSO"]
["2023","TANDEM (BISCOTTO 5 STELLE) PZ24","IMPULSO"]
["2027","4X2 LOACKER LATTE ALPINO 264GX6","LOACKERMULTIPACK"]
["2028","4X2 LOACKER NAPOLITANER 264GX6","LOACKERMULTIPACK"]
["2029","4X2 LOACKER TORTINA GELATO 264GX6","LOACKERMULTIPACK"]
["2030","BISCOTTO LOACKER NAPOLITANER  PZ24","IMPULSO"]
["2031","STECCO METEOHEROES PZ20","IMPULSO"]
["2033","CUPOLA INTRIGO DI CREMA E FRAGOLA GELATO SFUSO","IMPULSO"]
["2035","CUPOLA STRACCIATELLA MAI VISTA GELATO SFUSO","IMPULSO"]
["2036","CUPOLA FIOR DI LATTE GELATO SFUSO","IMPULSO"]
["2038","BISCOTTO ME CONTRO TE PZ24","IMPULSO"]
["2039","SORBETTIERA NOCCIOLA/VANIGLIA/CREMA/CAFFE' 6X1KG","SORBETTIERA"]
["2040","SORBETTIERA TIRAMISU'/VANIGLIA/CACAO/PANNA 6X1KG","SORBETTIERA"]
["2054","STECCO AMANDO CACAO E LAMPONE 21PZ","IMPULSO"]
["2055","COPPA ORO SA DI BONET 16PZ","IMPULSO"]
["2056","CONO 5 STELLE FRESCO LIMONE 24PZ","IMPULSO"]
["2059","6 CONO 5 STELLE CILIEGIA 360GX6 SAMMONTANA","CONO5STMULTIPACK"]
["2060","6 CONO 5 STELLE CIOCCOLATO DI MODICA 360GX6 SAMMONTANA","CONO5STMULTIPACK"]
["2062","6 CONO 5 STELLE STRACCIATELLA 360GX6 SAMMONTANA","CONO5STMULTIPACK"]
["2068","BARATTOLINO DELIZIE CARAMELLO SALATO 6X500G","BARATTOLINODELIZ"]
["2069","CUPOLA INTRIGO DI CIOCCOLATO E CAFFE' GELATO SFUSO","IMPULSO"]
["2070","CUPOLA SA DI BONET GELATO SFUSO","IMPULSO"]
["2071","STECCO MIRACOULOS PZ20","IMPULSO"]
["2072","BISCOTTO LYON PZ24","IMPULSO"]
["2073","*E* STECCO DONNY PZ24","IMPULSO"]
["2074","GRUVI ARACHIDE SAGACE 24PZ","IMPULSO"]
["2075","4 CONO 5 STELLE NOCCIOLA 240GX6 SAMMONTANA","CONO5STMULTIPACK"]
["2076","8 GELATO BISCOTTO MERENDA 9PZX360G","GELATOMERENDA"]
["2077","4 CONO 5 STELLE PISTACCHIO 240GX6 SAMMONTANA","CONO5STMULTIPACK"]
["2078","4 STECCO GRUVI ARACHIDE 8X240","GRUVIMULTIPACK"]
["2094","CUPOLA PISTACCHIO SINCERO GELATO SFUSO","IMPULSO"]
["2095","CUPOLA NOCCIOLA RISOLUTA GELATO SFUSO","IMPULSO"]
["2096","COMODA E PRONTA MANDARINO 5L","IMPULSO"]
["2097","COMODA E PRONTA MARACUJA 5L","IMPULSO"]
["2098","COMODA E PRONTA ANGURIA 5L","IMPULSO"]
["2099","COMODA E PRONTA PESCA E MANGO 5L","IMPULSO"]
["210001","FUNGHI CHAMPIGNON P.VERDE 450X12","AGRIFOOD"]
["2101B","CASSATA 16PZX100G","BINDI"]
["2104","STECCO DONNY PZ20","IMPULSO"]
["21121","MISTO GAMBERI E ZUCCHINE 5KG(2x2,25KG) GLASS.10%","ITTITALIA"]
["211698","MARS BARRA PZ24X41,8g","MARS"]
["211991","GAMBERI ARGENTINI L1 BORDO 10/20 2KG \"NOS\"","NOS"]
["213750","SCAMPI 21-30 6X1KG(700G) GLASS.30% SFO - SCOZIA","SFO"]
["214","18 BASTONCINI MERLUZZO 10X450G OGGIP","OGGI PESCE"]
["214346","GAMBERI SGUSCIATI INDIA 100/200 10X1000(700) GLASS.30%-BUSTA BRASMAR","BRASMAR"]
["220005","ZUPPA AI CEREALI P.VERDE 12X600","AGRIFOOD"]
["2222B","NOCCIOLA IMBOTTITA PZ18","TARTUFO DI PIZZO"]
["2283","MG KRAPFEN VUOTO 48PZX70G","MONGELO"]
["2285","MG BOMBOLONE VUOTO 36PZX55G","MONGELO"]
["2286","MG BOMBOLONE ALLA CREMA 36PZX85G","MONGELO"]
["2289B","TORTA BIGUSTO MELE-MANDOR./CROST.PERE 14PZ-1175G","BINDI"]
["2291","MG OBLO' 50PZX50G","MONGELO"]
["2292","MG MAXI CIAMBELLA 35PZX100G","MONGELO"]
["2295","MG KRAPFEN NOC/CACAO 24PZX85G","MONGELO"]
["2296","MG KRAPFEN CREMA 24PZX85G","MONGELO"]
["230001","PATATE SPICCHI CON ROSMARINO 12X600GR P.VERDE","AGRIFOOD"]
["230004","CROCCHETTE DI PATATE P.VERDE 12X600","AGRIFOOD"]
["2328","G GELATO CIOCCOLATO 4,8LT MANZONI","MANZONI"]
["2329","G GELATO LIMONE 4,8LT MANZONI","MANZONI"]
["2330","G GELATO FRAGOLA 4,8LT MANZONI","MANZONI"]
["2332","G GELATO FIORDILATTE 4,8LT MANZONI","MANZONI"]
["2333","G GELATO CAFFE' 4,8LT MANZONI","MANZONI"]
["2335","G GELATO NOCCIOLA 4,8LT MANZONI","MANZONI"]
["2340","TORTA SOFFICE AL CACAO MANZONI","MANZONI"]
["2341","TORTA SOFFICE ALLE MELE MANZONI","MANZONI"]
["2342","TORTA SOFFICE ALLO YOGURT MANZONI","MANZONI"]
["2347","MINI CROISSANT CEREALI 150PZX25G","CROISSANT BINDI"]
["2350","BISCOTTI ASSORTITI 1KG","BINDI"]
["2356","PANCAKES 40PZX40G","CROISSANT BINDI"]
["2369","MINI CROISSANT BURRO CREMA 108PX45G","CROISSANT BINDI"]
["2371","PLATESSA FILETTI IMPAN. 9X300G OGGI PESCE","OGGI PESCE"]
["2372","MINI CROISSSANT BURRO CIOCCOLATO 108PZX45G","CROISSANT BINDI"]
["2373","MINI CROISSANT BURRO ALBICOCCA 108PZX40G","CROISSANT BINDI"]
["2374B","CROISSANT ALBERGHI BURRO VUOTO 42GX90PZ","CROISSANT BINDI"]
["2375","CROISSANT ALBERGHI BURRO CEREALI 90P","CROISSANT BINDI"]
["2445","G GELATO VANIGLIA 4,8LT MANZONI","MANZONI"]
["2449B","APRICOT MUFFINS 15PZX95G - MUFFIN ALBICOCCA","CROISSANT BINDI"]
["2450B","CHOCOLATE CHIPS MUFFINS 15PZX95G - MUFFIN GOCCE DI CIOCCOLATO","CROISSANT BINDI"]
["2451B","DOUBLE CHOCOLATE MUFFIN 15PZX90G","CROISSANT BINDI"]
["2456","CROISSANT MULTI CEREALI BURRO 60PZX80G","CROISSANT BINDI"]
["2467","RICOTTA E CIOCCOLATO MONOPORZIONE 9PZ","BINDI"]
["2473","CROSTATA ALL' ALBICOCCA MANZONI","MANZONI"]
["2475","CROSTATA AL CIOCCOLATO MANZONI","MANZONI"]
["2481","CROSTATA ALLA CILIEGIA MANZONI","MANZONI"]
["2483","TORTA LUNGA CREMA FRAGOLA MANZONI","MANZONI"]
["2484","TORTA LUNGA CACAO ARANCIA MANZONI","MANZONI"]
["2485","TORTA LUNGA PISTAC. MANDORLA MANZONI","MANZONI"]
["248502","RABAS FETTUCCINE DI TOTANO IMPANATE 1KGX6 MARNATURA","MARNATURA"]
["2516","CARROT CAKE MONOPORZIONE 6PZ","BINDI"]
["2517","RED VELVET MONOPORZIONE 6PZ","BINDI"]
["2522","CHOCOLATE BROWNIES PCUT 25PZ","BINDI"]
["2528","COPPA LIMONCELLO 16PZ","BINDI IMPULSO"]
["2529","COPPA CREMA PISTACCHIO 16PZ","BINDI IMPULSO"]
["2534","SQUEEZY COLA 26PZ","BINDI IMPULSO"]
["2535","SQUEEZY LEMON 26PZ","BINDI IMPULSO"]
["2536","VIP PISTACCHIO 24PZ","BINDI IMPULSO"]
["2542","MAN IN BLACK 12PZ - VANIGLIA","BINDI IMPULSO"]
["2543","STRAWBERRY CHEESCAKE 6PZ","BINDI"]
["2544","PROFITEROL SCURO MONTAGNETTA KG1,15","BINDI"]
["2578","CREMOSO AL PISTACCHIO 9PZ","BINDI"]
["2579","CREMOSO AI FRUTTI ROSSI 9PZ","BINDI"]
["2583","COPPA YOGURT FRUTTI DI BOSCO 16PZ","BINDI IMPULSO"]
["2591","TORTA SOFFICE AL LIMONE MANZONI","MANZONI"]
["260001","VERDURE IN PASTELLA 12X450G P.VERDE","AGRIFOOD"]
["2618","CHOCOLATE TEMPTATION (7 VELI) BINDI","BINDI"]
["2621","TORTA SOFFICE ALLE CAROTE MANZONI","MANZONI"]
["2622","TORTA SOFFICE MARMORIZZATA MANZONI","MANZONI"]
["2641","TORTA PASTICIOTTO KG 1,6","BINDI"]
["2642","COPPA TIRAMISU' PLASTICA 12PZ","BINDI"]
["2643","COPPA PROFITEROLE PLASTICA 12PZ","BINDI"]
["2644","COPPA ZUPPA INGLESE PLASTICA 12PZ","BINDI"]
["2645","COPPA CHEESCAKE FRAGOLA PLASTICA 12PZ","BINDI"]
["2646","TORTA DI NOCI (CREMA DI NOCI)","BINDI"]
["2680","G GELATO PISTACCHIO 4,8LT MANZONI","MANZONI"]
["270001","BASILICO ASTUCCIO 12X50GR","AGRIFOOD"]
["270002","CIPOLLA ASTUCCIO 12X150GR","AGRIFOOD"]
["270003","MISTO PER SOFFRITTO ASTUCCIO 12X150G","AGRIFOOD"]
["270004","PREZZEMOLO ASTUCCIO 12X50GR","AGRIFOOD"]
["270005","AGLIO ASTUCCIO 12X75GR","AGRIFOOD"]
["2732","TORTA SOFFICE SARACENO MIRTILL/RIBES","MANZONI"]
["2740","CASSATA AL FORNO (RICOT-CIOC)","BINDI"]
["2747","CROSTATA INTEGRALE AI MIRTILLI MANZONI","MANZONI"]
["2770","SOUFFLE BLACK & WHITE 12PZ 100G","BINDI"]
["280300","PASSERA FILETTI S/P 200/400 KG__  PACIFICO GLASS.20%","ITTICO"]
["2817B","TIRAMISU' DELLA TRADIZIONE PRECUT 15PZX137G","BINDI"]
["282501","TRANCE DI RICCIOLA 8KG(6,4KG) GLASS.20%","BRASMAR"]
["300056","GRAN CROCCHE' 315X12 SOAVEGEL","SOAVEGEL"]
["300057","GRAN SUPPLI' 315X12 SOAVEGEL","SOAVEGEL"]
["30041","CODE GAMBERO 31/40 10X500(375) FORSTAR - GLASS.25%","FORSTAR"]
["30473","CROISSANT DOLCI STELLE 110GX56PZ BIGUSTO P.DI STELLE - BRUNO CROISSANT","BUONINI"]
["30474","FAGOTTINO DOLCI STELLE 100GX56PZ BIGUSTO P.DI STELLE FDT","FORNODELLATORRE"]
["30820","CHICKEN WINGS (Alette di Pollo) 2,5 KG AMADORI","AMADORI"]
["30825","COTOLETTA BIG PREMIUM 130G AMADORI 2,5KG","AMADORI"]
["30930S","FILETTO DI PANGASIO SFUSO",""]
["30931S","FILETTO DI MERLUZZO SFUSO",""]
["312171","CALAMARI DEL PACIFICO IQF 22-29 KG7(6,3) - GLASS.10%","DEMAR"]
["31412","PATATE CRISPY CHIPS SLICED 2KGX5    Sfoglie di patate con buccia","LAMBWESTON"]
["31441","MISTO INSALATA DI MARE 1KG(800g)X5-GLASS.20%-LA CIURMA","ITTITALIA"]
["315741","POLPO 2000/3000 INDOPACIFICO(T3)KG___GLASS. 10% (INDONESIA FAO57)","ITTICO"]
["316582","TOTANI ATLANTICI IQF 200/300(15-18) 11KG(10KG) - GLASS. 10%","BRASMAR"]
["317001","TOTANI ATLANTICI \"S\" (18-22) BLOCCO KG__ - ILLEX ARGENTINUS","WOFCO"]
["317002","TOTANI ATLANTICI \"M\" (22-25) BLOCCO KG___ - 0% ILLEX ARGENTINUS","ITTICO"]
["317003","TOTANI ATLANTICI \"SS\" BLOCCO KG__ - ILLEX ARGENTINUS","ITTICO"]
["317117","COZZE SGUSCIATE 200/300 1KG(900G)X10 - GLASS.10% GALIZIA","ITTICO"]
["317215","TOTANO TUBI U5 10X1KG(700) (ILLEX ARGENTINUS)GLASS.30%","ISEA"]
["317511","VONGOLE DEL PACIFICO C/GUSCIO KG1X10 PANAPESCA","PANAPESCA"]
["317526","VONGOLE DEL PACIFICO C/GUSCIO 10X500 PANAPESCA","PANAPESCA"]
["33490","ALICI FILETTI IQF 1KG(900G)X5-GLASS.10%","ITTICO"]
["3364","TIRAMISU` TONDO PRETAGLIATO 12 PZ","BINDI"]
["3456","PROFITEROL SCURO IN VASCHETTA KG1,3","BINDI"]
["34632","JALAPENOS RED HOT 1000GX6 LW  Jalapeños piccanti, 28-32 pezzi/kg","LAMBWESTON"]
["3538","CHEESECAKE FRAGOLE PRET. 16 PZ","BINDI"]
["35634","ANELLI CIPOLLA BEER BETTERED 1KGX6 LW-Anelli di cipolla int.32-45/kg","LAMBWESTON"]
["3666","CHEESECAKE MONTEROSA PRET. 12PZ","BINDI"]
["36779","PATATE DIPPING STRIPS 2500GX4 LW Aromatizzate al pepe nero e cipolla","LAMBWESTON"]
["3681","PAELLA 6X1.5KG FROSTA","FROSTA"]
["3685","MOUSSE YOGURT F.DI BOSCO PCUT 12PZ","BINDI"]
["371361","M&M'S ICE STECCO PEANUT 62GX25","MARS"]
["371387","M&M'S ICE STECCO CHOCOLATE 63GX25","MARS"]
["3728","COPPA CIOCCOLATO 6PZX100G","BINDI"]
["37359","CROISSANT BAKE UP 80GX70PZ VUOTO (25.5% BURRO) VANDEMOORTELE","VANDEMOORTELE"]
["37515","CROISSANT BURRO ALBICOCCA 90GX44PZ","VANDEMOORTELE"]
["38019","CROISSANT MULTICEREALI F.BOSCO E SAMBUCO 90GX44PZ VANDEMOORTELE","VANDEMOORTELE"]
["38890","PATATE KID SMILE MCCAIN 650GX12","MCCAIN"]
["39542","DONUT TRIPLE CHOCOLATE FARCITO 36PZX70G VANDEMOORTELE","VANDEMOORTELE"]
["3980","BUSTA TERMICA",""]
["405060","VIS COTOLETTA DI MERLUZZO 8X400G ONDA AZZURRA","VIS"]
["405140","SALMONE KETA PORZIONI S/P 80/140 5KG GLASS.20%","ITTICO"]
["406161","FRITTO MISTO PESCE 8X1KG VIS","VIS"]
["4089","TORTA DI NATALE","DESSERT"]
["410106","FRITTELLE DI BACCALA' (BOCC.MERL) 8X500 ALFRIO","ALFRIO"]
["4102","BC PIZZA MARGHERITA AL TRANCIO 8X600G","BONCHEF"]
["411233","MERLUZZO/BACCALA' PASTELLATO 8X500 ALFRIO","ALFRIO"]
["411739B","BACCALA' FILETTI 500/1000/UP PV KG__   GLASS.30% (MERLUZZO NORDICO)","BRASMAR"]
["412028","VIS CUORE DI FILETTO DI MERLUZZO 10X400G GENEPESCA","VIS"]
["412099","VIS NASELLO CUORE 10X300G GENEPESCA","VIS"]
["412855","BRANZINO (SPIGOLA) EV.300/400 KG5   GLASS.20%-OLANDA-TURCHIA","VAN DER LEE"]
["413201","SALPESCA® MERLUZZO ATLANTICO HG PELL. 5KG(4,5KG) €7,49(8,32) GLASS.10%","SALPESCA"]
["4151G7","G7 GELATO SPALMABILE PISTACCHIO 350GRX6PZ","G7"]
["4153G7","G7 GELATO SPALMABILE CARAMELLO SALATO 350GRX6PZ","G7"]
["4154G7","G7 GELATO SPALMABILE NOCCIOLA 350GRX6PZ","G7"]
["4168","KEB'S KEBAB DI TACCHINO AIA 6X500G","AIA"]
["4183","*E* CHICKEN CHIPS AIA 4X1000G","AIA"]
["420001","MINESTRONE GUSTO & LINEA 10X750GR","AGRIFOOD"]
["4201","*E* BOCCONCINI DI POLLO AIA 4X1000G","AIA"]
["422701","PREPARATO PER FRITTURA 4KG - BRASMAR","SURGELATI"]
["430125","MINI CONI 9PZX190G(10x19g) SOMOSIERRA","SOMOSIERRA"]
["440004","VERDURE GRIGLIATE MEDITERRANEA 12X450GR GUSTO & LINEA","AGRIFOOD"]
["443438","VIS MERLUZZO CROCCANTE 6X400G","VIS"]
["450104","BISCOTTO PANNA 9PZX300G(6X50g)      SOMOSIERRA","SOMOSIERRA"]
["450125","BISCOTTO PANNA/CACAO 9PZX300G(6X50g)SOMOSIERRA","SOMOSIERRA"]
["45785","ZUCCHINE A RONDELLE 1KGX6 BONDUELLE (MINUTE)","BONDUELLE"]
["460001","MELANZANE GRIGLIATE  10X450 G&L","AGRIFOOD"]
["460002","PEPERONI GRIGLIATI 10X450 G&L","AGRIFOOD"]
["460003","ZUCCHINE GRIGLIATE 10X450 G&L","AGRIFOOD"]
["46126","FAGIOLINI FINISSIMI 1KGX6 BONDUELLE (MINUTE)","BONDUELLE"]
["46128","CAROTE A RONDELLE 1KGX6 BONDUELLE (MINUTE)","BONDUELLE"]
["470108","CHIQUIBOM 9PZX348G(6x58g) SOMOSIERRA","SOMOSIERRA"]
["4751","AIA NAGGHY 1KGX4","AIA"]
["47959","MINIFRUSTINO 35GX115PZ","VANDEMOORTELE"]
["4800","PLATESSA FILETTI 400GX12 OGGIPESCE  GLASS.0%","OGGI PESCE"]
["480284","VIS VONGOLE SGUSCIATE SKIN 12X200G GENEPESCA","VIS"]
["480285","VIS COZZE SGUSCIATE SKIN 12X300G(270G) GENEPESCA","VIS"]
["4802871","VIS MISTO SCOGLIO SKIN 12X300G GENEPESCA","VIS"]
["480288","VIS GAMBERETTI SGUSCIATI SKIN 12X200G GENEPESCA","VIS"]
["480291","VIS CALAMARI PULITI SKIN 8X450G GENEPESCA","VIS"]
["4802941","VIS SEPPIE PULITE SKIN 8X450G GENEPESCA","VIS"]
["480304","VIS PREPARATO PER RISOTTO SKIN C/POMODORINI 12X250G GENEPESCA","VIS"]
["4803141","VIS TENTAZIONE DI MARE CON CROSTACEI 12X300G GENEPESCA","VIS"]
["4803161","VIS TENTAZIONE DI COZZE 12X300G GENEPESCA","VIS"]
["4803181","VIS TENTAZIONE DI VONGOLE 12X300G GENEPESCA","VIS"]
["48392","CROISSANT MULTICEREALI DRITTO 80GX54PZ VUOTO VANDEMOORTELE","VANDEMOORTELE"]
["49111","BAGUETTINO 150GX40PZ","VANDEMOORTELE"]
["49713","GIRELLA CREMA E PERLE ZUCC. 36PZX120G","VANDEMOORTELE"]
["5001295","PLATESSA FILETTI IMPANATO KG5       OLANDA GLASS.0%","SURGELATI"]
["502004","PATASNELLA FRITTE 1KGX10 PIZZOLI","PIZZOLI"]
["505002","PATATE A SPICCHI C/BUCCIA 600GX12 WE LOVE CON BUCCIA","PIZZOLI"]
["505003","PATATE TAGLIO RUSTICO 600GX8 WE LOVE CON GUSTOSE","PIZZOLI"]
["505004","CROCCHETTE MOZZARELLA 450GX10 WE LOVE CROCCHE'","PIZZOLI"]
["505007","FRITTE\"VIVA LE PATATINE\"10X750 PIZZO - WE LOVE CROCCANTI","PIZZOLI"]
["505046","MERLUZZO FILETTI 5KG C/PELLE IQF 120/170(NET)-GLASS.20%-NAMIBIA/SUDAFRIC","ITTICO"]
["505061","FIAMMIFERI 10X750 PIZZOLI - WE LOVE EXTRAFINI","PIZZOLI"]
["505107","\"LE ALLEGRE CASALINGHE\" 10X750 PIZZOLI - WE LOVE RUSTICHE","PIZZOLI"]
["5073","FRUTTI DI MARE 300GX6 ARBI DARIO","ARBIDARIO"]
["510140","GRAN BLANC 9PZX304G(4x76g) STECCO BIANCO SOMOSIERRA","SOMOSIERRA"]
["51424","TRECCIA SFOGLIA ALBICOCCA 48PZX95G VANDEMOORTELE","VANDEMOORTELE"]
["515015","PATATE NOVELLE FRITTE 10X1KG PIZZOLI","PIZZOLI"]
["516044","FUNGHI PORCINI A CUBO 1a SCELTA KG10","FUNGHI"]
["51887","TRECCIA SFOGLIA CARAMELLO SALATO E MANDORLE 48PZX95G VANDEMOORTELE","VANDEMOORTELE"]
["520110","ICE SANDI 10PZX201G(3x67g) SOMOSIERRA","SOMOSIERRA"]
["520155","ICE TORNADO 9PZX540G(6x90g) SOMOSIERRA","SOMOSIERRA"]
["520158","CICLON 12PZX390G(6x65g) SOMOSIERRA","SOMOSIERRA"]
["52956","DONUT CIOCCOLATO CON CREMA DI NOCCIOLE 36PZX65G VANDEMOORTELE","VANDEMOORTELE"]
["53202","*E* ABITUE' VAS.GELATO LIMONE 1KGX4","ESKIGEL"]
["54135","PARTY MIX 32GX125PZ","VANDEMOORTELE"]
["5482","DURANGO ALI 5X1000","AIA"]
["550151","GELATI MISTI ASSORTITI 17PZ SOMOSIERRA (4coni65g/4bisc50g/9stecchi80g)","SOMOSIERRA"]
["55035","CIABATTINA AI CEREALI 120GX25PZ 3KG","VANDEMOORTELE"]
["55385","BAGUETTE AI CEREALI 250GX40PZ","VANDEMOORTELE"]
["569060S","PATATE SPICCHI 600G                 DISATTIVATO A PALMARI",""]
["571006","PATATE \"TOPOLINO\" 12X600 PIZZOLI","PIZZOLI"]
["574","PANDORO GELATO(NOCC/CIOC) 1400G","DESSERT"]
["5808","GHIACCIOLO DADAUMPA 4 GUSTI 496X6","MULTIPACK"]
["6003","TM 3CHIC VUOTO 50PZX75G","TRE MARIE"]
["6004","TM 3CHIC ALBICOCCA 50PZX90G","TRE MARIE"]
["6006","TM 3CHIC NOCCIOLA CACAO 50PZX90G","TRE MARIE"]
["601010","BACCALA' TRANCIO (no code) 11KG(10KG)     FIL.1000UP-GLASS.10%","MONTI"]
["6014","TM GIOSTRINA AL BURRO CREMA E UVETTA 50PZX95G","TRE MARIE"]
["6036","TM CORNETTO 5 CEREALI CURVO 50PZX65G","TRE MARIE"]
["6037","TM CROISSANT 5 CEREALI E MIELE 50PZX75G","TRE MARIE"]
["6038","TM RODRIGO MORO(NOCC/CAC) 50PZX95G","TRE MARIE"]
["6039","TM RODRIGO BOSCO(FRUTTI DI BOSCO) 50PZX95G","TRE MARIE"]
["6041","TM RISVEGLIO CREMA NOCCIOLA 60PZX90G","TRE MARIE"]
["6042G7","G7 TORTA GELATO BACIONE 1,1KGX4","G7"]
["6045G7","G7 TORTA GELATO PANNA/FRAGOLINE 1,1KGX4","G7"]
["6046G7","G7 TORTA GELATO SPAGNOLA  1,1KGX4","G7"]
["6047G7","G7 TORTA GELATO F.DI LATTE/CREMA NOCCIOLA  1,1KGX4","G7"]
["6060","TM CANNOLO NOCCIOLA CACAO 70PZX70G","TRE MARIE"]
["6074","TM RODRIGO BIONDO(CREMA PASTICCERA) 50PZX95G","TRE MARIE"]
["60789","PISELLI NOVELLI FINI 1KGX6 BONDUELLE (MINUTE)","BONDUELLE"]
["6083","TM CORNETTO DRITTO 5 CEREALI FRUTTI ROSSI 50PZX75G","TRE MARIE"]
["6085","TM GRANCROISSANT VUOTO(ZUCCHERATO) 53PZX75G","TRE MARIE"]
["6086","TM GRANCROISSANT ALBICOCCA 53PZX90G","TRE MARIE"]
["6088","TM GRANCROISSANT CREMA 53PZX90G","TRE MARIE"]
["6089","TM GRANCROISSANT CIOCCOLATO 53PZX90G","TRE MARIE"]
["6090","TM GRANCROISSANT ALBICOCCA OVERSIZE 64PZX90G","TRE MARIE"]
["6091","TM GRANCROISSANT CREMA OVERSIZE 64PZX90G","TRE MARIE"]
["6092","TM GRANCROISSANT NOCC/CACAO OVERSIZE 64PZX90G","TRE MARIE"]
["6093","TM GRANCROISSANT VUOTO OVERSIZE(ZUCCHERATO) 64PZX75G","TRE MARIE"]
["6097","TM MIDI CROISSANT HOTEL VUOTO 130PZX43G","TRE MARIE"]
["6100","TM IDILLIO CREMA E MELA 60PZX80G","TRE MARIE"]
["6106","TM BABY PAIN CHOCOLAT 90PZX40G","TRE MARIE"]
["6109","TM INTRECCIO CREMA 70PZX90G","TRE MARIE"]
["6112","TM PAIN AU CHOCOLATE 106PZX70G","TRE MARIE"]
["6113","TM TRECCIOLA CREMA E AMARENA 70PZX85G","TRE MARIE"]
["6115","TM RISVEGLIO FIORFILATTE 60PZX90G","TRE MARIE"]
["6124","TM MITO AL BURRO 70PZX70G","TRE MARIE"]
["6127","TM PAIN A LA CREME 85PZX80G","TRE MARIE"]
["6132","TM 3CHIC 5 CEREALI ALLE MORE 50PZX90G","TRE MARIE"]
["6162","TM PANCROISSANT SALATO 60PZX70G","TRE MARIE"]
["6175","MG CROISSANT DIR. VUOTO 63GX182 D.L.","MONGELO"]
["6186","COTOLETTE DI MARE 6KG(80PX75G)","FROSTA"]
["6205","TM BABY KRAPFEN CREMA 100PZX25G","TRE MARIE"]
["6206","TM CIAMBELLA 40PZX49G","TRE MARIE"]
["6220","TM CROISSANT CREMA E AMARENA 50PZX95G","TRE MARIE"]
["6222","TM CROISSANT BURRO ALLE MANDORLE 40PZX85G","TRE MARIE"]
["6223","TM 3CHIC CREMA PASTICCERA 50PZX90G","TRE MARIE"]
["6269","TM KRAPFEN CREMA 24PZX85G","TRE MARIE"]
["6270","TM KRAPFEN VUOTO 24PZX70G","TRE MARIE"]
["6271","TM GRECA ALLA CREMA CHANTILLY 60PZX80G","TRE MARIE"]
["6276","TM DONUTS MIX SEMPLICI 36PZX57G","TRE MARIE"]
["6277","MG MAXI CROISSANT CURVO VUOTO 85GX110PZ D.L.","MONGELO"]
["6278","TM DONUTS MIX FARCITI 36PZX68G","TRE MARIE"]
["6280","TM CROISSANT MIGNON MIX(3 GUSTI) 90PZX25G","TRE MARIE"]
["6281","TM MELANIA CREMA E MELA 60PZX90G","TRE MARIE"]
["6293","TM MUFFIN CACAO 20PZX90G","TRE MARIE"]
["6294","TM MUFFIN ALBICOCCA 20PZX90G","TRE MARIE"]
["6296","TM TRECCIA BURRO CREMA E PEPITE DI CIOCC. 50PZX80G","TRE MARIE"]
["6302","TM TRECCIA 5 CEREALI YOGURT E MIELE 50PZX85G","TRE MARIE"]
["6303","TM PANCROISSANT SALATO ARRICCHITO 60PZX65G","TRE MARIE"]
["6313","TM DOLCEVITA ALLA CREMA 40PZX87G","TRE MARIE"]
["6316","TM CROISSANT MIGNON BURRO VUOTO 100PZX25G","TRE MARIE"]
["6317","TM PARIGINA 50PZX50G","TRE MARIE"]
["6325","TM CROISSANT CURVO EXTRA PISTACCHIO 50PZX80G","TRE MARIE"]
["6329","TM MIDI 3CHIC ALBICOCCA 80PZX42G","TRE MARIE"]
["6332","TM CROISSANT MIGNON BURRO SALATO ARR. 100PZX25G","TRE MARIE"]
["63367","NUGGET DI PETTO DI POLLO 1KGX5 FRIPOZO","FRIPOZO"]
["6351","TM MIDI RODRIGO MORO(NOCC/CAC) 80PZX45G","TRE MARIE"]
["6355","TM GHIOTTO CREMA E CIOCCOLATO 50PZX90G","TRE MARIE"]
["6356","TM CROISSANT L'AURORA 50PZX65G","TRE MARIE"]
["6358","TM MIDI 3CHIC CREMA 80PZX42G","TRE MARIE"]
["6365","TM MUFFIN AL CIOCCOLATO SENZA GLUTINE 8PZX75G","TRE MARIE"]
["6370","TM MUFFIN ALLE MELE SENZA GLUTINE 8PZX75G","TRE MARIE"]
["6376","TM CROISSANT INTEGRALE MELA E CANNELLA 50PZX80G","TRE MARIE"]
["6378","TM GHIOTTO CIOCCOLATO BIANCO E LAMPONE 50PZX85G","TRE MARIE"]
["6380","TM TRECCIA NOCI PECAN 60PZX98G","TRE MARIE"]
["6386","TM GHIOTTO 3 CIOCCOLATI 50PZX95G","TRE MARIE"]
["6390","TM MIDI 3CHIC NOCCIOLA CACAO 80PZX42G","TRE MARIE"]
["6392","TM CROISSANT VEGANO VUOTO 50PZX65G","TRE MARIE"]
["6393","TM CROISSANT VEGANO RIBES E MELOGRANO 50PZX75G","TRE MARIE"]
["6397","TM CORNETTO AVENA E FARRO(CON LIM. E ZENZERO) 50PZX80G","TRE MARIE"]
["6398","TM GRANFARCITO CREMA 60PZX105G","TRE MARIE"]
["6402","TM GRANFARCITO CREMA/AMARENA 60PZX105G","TRE MARIE"]
["6405","TM STRUDEL ALLE MELE 60PZX85G","TRE MARIE"]
["6406","TM BABY TRECCIA NOCI PECAN 96PZX40G","TRE MARIE"]
["6407","TM BABY MIX NEW (5 GUSTI) 125PZX40G","TRE MARIE"]
["6413","TM GHIOTTO RIBELLE 50PZX85G","TRE MARIE"]
["6414","TM BABY MUFFIN ALBICOCCA 50PZX30G","TRE MARIE"]
["6415","TM RODRIGO PISTACCHIO 50PZX95G","TRE MARIE"]
["6416","TM GHIOTTO CIOCCO COCCO 50PZX85G","TRE MARIE"]
["6420","TM BABY MUFFIN CACAO 50PZX30G","TRE MARIE"]
["6421","TM MIDI CROISSANT NOCC./CACAO 80PZX45G","TRE MARIE"]
["6445","TM CROISSANT 5 CEREALI NOCCIOLA 50PZX75G","TRE MARIE"]
["6447","TM GHIOTTO CREMA 50PZX95G","TRE MARIE"]
["6448","TM GHIOTTO CIOCCOLATO 50PZX90G","TRE MARIE"]
["6449","TM PARIGINA AMOR DI NOCCIOLA 50PZX65G","TRE MARIE"]
["6454","TM CROISSANT BRIO 50PZX75G","TRE MARIE"]
["6455","TM FAGOTTO VEGANO CON CREMA AL LATTE DI MANDORLA 50PZX85G","TRE MARIE"]
["6457","TM MIDI RODRIGO PISTACCHIO 80PZX45G","TRE MARIE"]
["6467","TM INGRID MARISOL E PINAR 45PZX65G","TRE MARIE"]
["6468","TM CORNETTO SEMPLICE SENZA GLUTINE 10PZX65G","TRE MARIE"]
["6469","TM CORNETTO ALBICOCCA SENZA GLUTINE 10PZX80G","TRE MARIE"]
["652090","RISOTTO AI FUNGHI 8X500","GELIT"]
["652091","PAELLA DI PESCE 8X500 GELIT","GELIT"]
["652657","SPAGHETTI ALLE VONGOLE 8X550","GELIT"]
["652668","PAPPARDELLE RAGU' CINGHIALE 550X8   GELIT","GELIT"]
["652999","GELIT SOFTICROC FORNO MOZZARELLA E FORMAGGIO 250GX9","GELIT"]
["653000","GELIT SOFTICROC FORNO POMODORO E MOZZARELLA 250GX9","GELIT"]
["653001","GELIT SOFTICROC FORNO PROSCIUTTO E MOZZARELLA 250GX9","GELIT"]
["653093","GELIT SOFTICROC FORNO FUNGHI E MOZZARELLA 250GX9","GELIT"]
["6543","BASTONCINI MERLUZZO 300GX10 OCEAN BLU","FROSTA"]
["6570","CROCCOLE AL POMODORO 5KG FROSTA","FROSTA"]
["6578","BASTONCINI DI MERLUZZO 6KG(30gx200) TIKO","FROSTA"]
["6677","FISH BURGER FROSTA 6KG","FROSTA"]
["67003","FRIPOZO NUGGETS DI PETTO DI POLLO 300GX12PZ CON SALSA BBQ","FRIPOZO"]
["67671","FRIPOZO CRUNCH DI GOUDA 300GX15PZ CON MARMELLATA DI PESCHE","FRIPOZO"]
["67681","FRIPOZO TENDER DI POLLO BBQ 250GX15PZ CON MIELE","FRIPOZO"]
["6776","FILETTONE MERLUZZO IMP. 6KG(60X100)","FROSTA"]
["67947","FRIPOZO CRUNCH DI POLLO 300GX15PZ CON SALSA BBQ","FRIPOZO"]
["67963","FRIPOZO FILETTO DI POLLO ALLA KENTUCKY 250GX15PZ","FRIPOZO"]
["68","LEMONCREMA P.F. 60PZX80G","SANTAROSA"]
["6844","BASTONCINI 100% MERLUZZO 300X10 FROSTA","FROSTA"]
["6878","BASTONCINI CUORE MERLUZZO FROSTA 6KG(30gx200)","FROSTA"]
["69002","FRIPOZO CHEDDAR E JALAPENO 250GX15PZ","FRIPOZO"]
["69021","FRIPOZO STRISCIOLINE DI POLLO 250GX15PZ","FRIPOZO"]
["69106","FILETTO DI POLLO ALLA KENTUCKY 1KGX5 FRIPOZO","FRIPOZO"]
["6949","BASTONCINI MERLUZZO 900GX5 OCEAN BLU","FROSTA"]
["7001","CONDISCOGLIO 450X6 ARBI(SENZA POMOD)","ARBIDARIO"]
["700110","CODE DI MAZZANCOLLE IN PASTELLA 500GX8 GR ALFRIO","ALFRIO"]
["7002","CONDISCOGLIO 450X6 ARBI(CON POMODO)","ARBIDARIO"]
["700233","MOZZARELLINE PANATE 225GX10PZ SOAVEGEL \"AL VOLO\"","SOAVEGEL"]
["7006","CONDISCAMPI 300X6 ARBI","ARBIDARIO"]
["7007","CONDIVONGOLA 6X450 ARBI","ARBIDARIO"]
["7070","PASTA FRESCA VARI FORMATI","FRESCO"]
["7077","SEPPIA PULITA IQF U1 INDIA KG10(7,5)-GLASS.25%","ITTICO"]
["7080","ARROSTICINI DI TOTANO 3KG","MAREPIU"]
["7082","VENTAGLI GRATINATI 1KGX4","MAREPIU"]
["7087","MISTO PREPARATO PER RISOTTO 1KG(800g)X5-GLASS.20%-LA CIURMA","ITTITALIA"]
["7088","MISTO SCOGLIO TOP QUALITY 5KGX1 GLASS.20%","ITTITALIA"]
["7091B","MISTO MARI E MONTI 5KG(4,5KG) GLASS.10%","ITTITALIA"]
["7103","VONGOLE SGUSCIATE 700/1000 10X1KG(800)   GLASS.20% - VIETNAM","BLUEWAVE"]
["721022","PASTA ALL' UOVO LASAGNA 4X2,5KG","ZINI"]
["7240","POLLO FUSI AIA 430X7 - KG.3 E6,90","AIA"]
["7247","POLLO BUSTO HALAL 1300GX7 AIA","AIA"]
["7301","POLLO A BUSTO 975X8","AIA"]
["7310","POLLO COSCE AIA - KG.3 E6,90","AIA"]
["7315","POLLO ALI AIA 600X6 - KG. 3.6 E6,06","AIA"]
["7559","NAGGHY 300X10 AIA","AIA"]
["7564","*E* POLLO FILETTO PETTO A FETTE BUSTA 800GX4","AIA"]
["7574","POLLO PETTO FETTE VASCHETTA 300X10-KG.3 E14,80","AIA"]
["7575","KEBAB DI TACCHINO AIA KEB'S 4X1000G","AIA"]
["7581","CORDON BLEU AIA 480X8","AIA"]
["7583","COTOLETTE DI POLLO AIA 500X8","AIA"]
["7584","SPINACINE AIA 500X8","AIA"]
["77","CORNETTI MARMELLATA D.L. 100PZX80G","SANTAROSA"]
["78299","FAGIOLINI E PATATE 450GX12 BONDUELLE","BONDUELLE"]
["8000980","ANELLI ALLA ROMANA 16X500 ALFRIO","ALFRIO"]
["8001070","RABAS FETTUCCINE DI TOTANO IMPANATE 1KGX4 ALFRIO","SURGELATI"]
["80015","6 CONI VANIGLIA ABITUE' 420GX6","ESKIGEL"]
["80022","8 BISCOTTI VANIGLIA ABITUE' 360GX6","ESKIGEL"]
["80046","DESSERT VAN/CAC ABITUE' 320GX9","ESKIGEL"]
["8006","HAMBURGER BOVINO 320GX5","ALCASS"]
["80084","6 CONI VANIGL/CACAO ABITUE'420GX6","ESKIGEL"]
["8009","COSTINE MAIALIE COTTE SURG 5X1KG AIA","AIA"]
["80121","6 BARRETTE CARAMELLO ABITUE' 250GX7","ESKIGEL"]
["80138","9 MINIMIX ABITUE' 300GX6","ESKIGEL"]
["80139","6 STECCO LIMONE 480GX6 ABITUE'","ESKIGEL"]
["80148","*E* 10 GHIACCIOLI ABITUE' 650GX6","ESKIGEL"]
["80152","6 RICOPERTI CACAO ABITUE' 300GX6","ESKIGEL"]
["8016","HAMBURGER BOVINO AMICA NATURA 750GX5","ALCASS"]
["80169","*E* ABITUE' VAS.GELATO NOCCIOLATO 1KGX4","ESKIGEL"]
["80176","*E* ABITUE' VAS.GELATO STRACC. VAR. AMARENA 1KGX4","ESKIGEL"]
["80183","*E* ABITUE' VAS.GELATO SPAGNOLA 1KGX4","ESKIGEL"]
["80190","*E* ABITUE' VAS.GELATO VAR.CAFFE' 1KGX4","ESKIGEL"]
["80213","*E* ABITUE' VAS.GELATO TIRAMISU' 1KGX4","ESKIGEL"]
["80220","*E* ABITUE' VAS.GELATO ZUPPA INGLESE 1KGX4","ESKIGEL"]
["80237","*E* ABITUE' VAS.GELATO VAN/NOC/CAC 1KGX4","ESKIGEL"]
["80244","*E* ABITUE' VAS.GELATO CAC/STRA/CAF 1KGX4","ESKIGEL"]
["80251","*E* ABITUE' VAS.GELATO ZAB/NOC/TORR. 1KGX4","ESKIGEL"]
["80268","*E* ABITUE' VAS.GELATO FRAG/LIM/PESCA 1KGX4","ESKIGEL"]
["80312","6 PRALINATI AMARENA ABITUE'360GX6","ESKIGEL"]
["80329","6 CONI AMARENA ABITUE'420GX6","ESKIGEL"]
["8036","HAMBURGER BOVINO GRIGLIATO 180GX12  ALCASS","ALCASS"]
["80411","8 MINISTECCHI ABITUE' 250GX6","ESKIGEL"]
["80473","6 RICOPERTI FRAGOLA ABITUE' 300GX6","ESKIGEL"]
["8053","BC PANE BUN RUSTICO CON GRANO SARACENO 80G 5PZX6","BONCHEF"]
["8057","BC HAMBURGER GRIGLIATO DI BLACK ANGUS 12PZX150G","BONCHEF"]
["8058","BC HAMBURGER GRIGLIATO DI POLLO 32PZX80G","BONCHEF"]
["8065","BC FOCACCIA CON POMODORINI TEGLIA 8PZX750G","BONCHEF"]
["8066","BC FOCACCIA ALLA GENOVESE TEGLIA 8PZX600G","BONCHEF"]
["8073","NUGGET DI POLLO 1KGX4 GPODERE","AIA"]
["8074","CORDON BLUE 1KGX4 GPODERE","AIA"]
["8075","COTOLETTA AGLI SPINACI 1KGX4 GPODERE","AIA"]
["8076","COTOLETTA TACCH/POLLO 1KGX4 GPODERE","AIA"]
["8077","FUSI DI POLLO COTTI 1KGX5 AIA","AIA"]
["8101V","VASCHETTA PROFITEROLES CACAO 1200G","MERIDIANA"]
["8102","BC MIX PANINI MIGNON 35GX120PZ","BONCHEF"]
["8102V","VASCHETTA PROFITEROLES BIANCO 1200G","MERIDIANA"]
["8103","IP SUPERFARCITO ALBICOCCA 60PZX105G","IL PASTICCERE"]
["8104","IP SUPERFARCITO CREMA 60PZX105G","IL PASTICCERE"]
["8106","IP SUPERFARCITO CREMA/AMARENA 60PZX105G","IL PASTICCERE"]
["8107","IP CORNETTO AVENA/FARRO CON LIMONE E ZENZERO 50PZX80G","IL PASTICCERE"]
["8107V","VASCHETTA TIRAMISU' 1100G","MERIDIANA"]
["8108","IP INTRECCIO CREMA E AMARENA 70PZX85G","IL PASTICCERE"]
["8109","IP SUPERFARCITO NOCC./CACAO 60PZX105G","IL PASTICCERE"]
["811890","SEPPIE PULITE 20/40 1KG(800G)X10 - GLASS.20% INDIA","BLUEWAVE"]
["8129B","*E* TRONCHETTO DI NATALE AL CIOCCOLATO 1200G FORNO DELLA TORRE","FORNODELLATORRE"]
["8133","IP STRUDEL ALLE MELE 60PZX85G","IL PASTICCERE"]
["8140","IP BOMBOLO RIBELLE 50PZX85G","IL PASTICCERE"]
["8155","IP BABY MUFFIN ALBICOCCA 50PZX30G","IL PASTICCERE"]
["8156","IP SUPER SUPREME PISTACCHIO 50PZX95G","IL PASTICCERE"]
["8161","BC CIABATTINA 36PZX100G","BONCHEF"]
["8165","IP BABY MUFFIN CACAO 50PZX30G","IL PASTICCERE"]
["8166","BC BAGUETTE MIGNON","BONCHEF"]
["8167","BC BAGUETTE MIGNON MULTICEREALI 105PZX35G","BONCHEF"]
["8168","BC BAGUETTE 50PZX110G","BONCHEF"]
["8172","BC TRECCIA CON SEMI 30PZX100G","BONCHEF"]
["8173","*E* BC FOCACCIOTTO 32PZX80G","BONCHEF"]
["8174","BC FOCACCIA CON CEREALI 72PZX90G","BONCHEF"]
["8175","BC FOCACCIA ALLA GENOVESE 30PZX180G","BONCHEF"]
["8176","BC ORECCHIETTE ALLE CIME DI RAPA 4PZX300G","BONCHEF"]
["8179","BC PANE BUN SESAMO PRETAGLIATO 75G 6X5PZ","BONCHEF"]
["8180","BC PINSA ALLA ROMANA 16PZX210G","BONCHEF"]
["8181","BC BURGER VEGETALE CON MELANZANE 12PZX100G","BONCHEF"]
["8182","BC BURGER VEGETALE CON CECI 12PZX100G","BONCHEF"]
["8183","BC PANE BUN BRIOSCIATO PRETAGLIATO 30PZX70G","BONCHEF"]
["8184","BC MEZZE PENNE AL POMODORO 600G","BONCHEF"]
["82001","CALZONE AL FORNO PIZZAIOLA 30PZX130G","FORNODORO"]
["8213","BC TRAMEZZONE 1300G","BONCHEF"]
["8215","IP MIDI JOLI' VUOTO 100PZX37G","IL PASTICCERE"]
["8216","IP MIDI JOLI' ALBICOCCA 42GX80PZ","IL PASTICCERE"]
["8220","IP MIGNON BURRO SALATO ARR. 25GX100P","IL PASTICCERE"]
["8221","IP MIDI CORN 5 CER MIELE 45GX80PZ","IL PASTICCERE"]
["8226","IP MIDI CORN. VUOTO 35GX100PZ","IL PASTICCERE"]
["8227","IP MIDI CORN. ALBICOCCA 40X80PZ","IL PASTICCERE"]
["8233","IP MIDI SUPER SUPR. NOC/CAC 45GX80PZ","IL PASTICCERE"]
["8237","IP BOMBOLO 50PZX90G","IL PASTICCERE"]
["8239","BC CIABATTINA PRETAGLIATA 36PZX100G","BONCHEF"]
["8241","IP MIDI JOLI' CREMA 80X42G","IL PASTICCERE"]
["8244","BC SCHIACCIATA PRETAGLIATA 32PZX100G","BONCHEF"]
["8253","BC PANINO RUSTICO PRETAGLIATO 32PZX100G","BONCHEF"]
["825949","COZZE CILENE C/GUSCIO 10X500 PANAPESCA","PANAPESCA"]
["825958","COZZE CILENE C/GUSCIO 50/80 KG1X5 PANAPESCA","PANAPESCA"]
["8260","IP CORNETTO INTEG.MELE E CANN.80GX50","IL PASTICCERE"]
["8263","IP BOMBOLO CIOC.BIANCO/LAMPON 50X85G","IL PASTICCERE"]
["8266","IP CORNETTO VEGANO RIBES/MELOGR. 75GX50PZ","IL PASTICCERE"]
["8267","IP TRECCIA NOCI PECAN 98GX60","IL PASTICCERE"]
["8270","IP BOMBOLO 3CIOCCOLATI 50X95G","IL PASTICCERE"]
["8271","IP INTRECCIO 5CER. YOG/MIELE85GX50PZ","IL PASTICCERE"]
["8298","IP CORNETTO VEGANO ALBICOCCA 75GX50PZ","IL PASTICCERE"]
["8299","IP CORNETTO VEGANO 65GX50PZ","IL PASTICCERE"]
["8309","IP CROISSANT MIGNOM BABY MIX 25GX90PZ","IL PASTICCERE"]
["8321","BC FOCACCIOTTO 32PZX80G","BONCHEF"]
["83269","6 BARRETTE COCCO ABITUE' 250GX7","ESKIGEL"]
["83275","SPINACI FOGLIA INTEGRA 1KGX6 PRZ 83G BONDUELLE","BONDUELLE"]
["8333","BC PAN CARRE' MAXI (15X15) 2,5KGX4","BONCHEF"]
["8334","IP MUFFIN ALBICOCCA 20X90G","IL PASTICCERE"]
["8335","IP MUFFIN CACAO 20X90G","IL PASTICCERE"]
["8357","IP SFOGLIA CHANTILLY 80GX60","IL PASTICCERE"]
["8358","IP CORNETTO 5 CER F.TTI BOSCO 70X75G","IL PASTICCERE"]
["8359","IP CORNETTO 5 CER MIELE 70X75G","IL PASTICCERE"]
["8375","IP CUOR DI CREMA 87GX40","IL PASTICCERE"]
["8384","IP CROISSANT MIGNON BURRO 25GX100","IL PASTICCERE"]
["8385","IP PAN DI ZUCCHERO 50PZX50G","IL PASTICCERE"]
["8386","IP CROISSANT JOLI CREMA 85GX50","IL PASTICCERE"]
["8387","IP CROISSANT JOLI NOCC/CACAO 85GX50","IL PASTICCERE"]
["8388","IP CROISSANT JOLI VUOTO 70GX50","IL PASTICCERE"]
["8389","IP CROISSANT JOLI ALBICOCCA 85GX50","IL PASTICCERE"]
["8390","BC TROFIE AL PESTO 4PZX300G","BONCHEF"]
["8391","BC SPAGHETTI CACIO E PEPE 4PZX300G","BONCHEF"]
["8392","BC MACCHERONI ALLA SALSICCIA 4PZX300G","BONCHEF"]
["8393","IP CROISSANT JOLI ARANCIA 85GX50","IL PASTICCERE"]
["8394","IP MAXI CORN. SFOGLIATO VUOTO 80GX60","IL PASTICCERE"]
["8395","IP MAXI CORN. SFOGLIATO ALBIC 95GX60","IL PASTICCERE"]
["8396","IP MAXI CORN. SFOGLIATO CREMA 95GX60","IL PASTICCERE"]
["8397","IP MAXI CORN. SFOGLIATO CIOCC 95GX60","IL PASTICCERE"]
["8402","BC TORTELLINI PANNA E PROSCIUTTO 8PZX300G","BONCHEF"]
["8403","BC SPAGHETTI POMODORINI E BASILICO 4PZX300G","BONCHEF"]
["8406","BC TAGLIATELLE BOLOGNESE 4PZX300G","BONCHEF"]
["8408","BC GNOCCHI VERDI AL PESTO ROSSO 4PZX300G","BONCHEF"]
["8413","BC RISOTTO DI MARE 4PZX300G","BONCHEF"]
["8421","BC GNOCCHI AI FORMAGGI 4PZX300G","BONCHEF"]
["8430","BC PANINO HOT DOG 36PZX78G","BONCHEF"]
["8437","IP CORNETTO AL BURRO VUOTO 75X55","IL PASTICCERE"]
["8454","BC SPAGHETTI ALLA CHITARRA ALLA CARBONARA 8PZX300G","BONCHEF"]
["8467","*E* IP CORNETTO AI CEREALI 60GX65PZ","IL PASTICCERE"]
["8468","IP CORNETTO ELITE VUOTO 50PZX75G","IL PASTICCERE"]
["8472","BC LASAGNE RICCHE ALL'EMILIANA 8PZX350G","BONCHEF"]
["8474","IP CORNETTO BURRO ALLE MANDORLE 40x85g","IL PASTICCERE"]
["8485","IP COLOMBINA CREMA  70PZX80G","IL PASTICCERE"]
["8493","IP KRAPFEN VUOTO 70GX24PZ","IL PASTICCERE"]
["8494","IP KRAPFEN CREMA 85GX24PZ","IL PASTICCERE"]
["8496","IP SUPER SUPREME NOCC./CACAO 95GX50PZ","IL PASTICCERE"]
["8497","IP SUPER SUPREME F.TTI BOSCO 50PZX95G","IL PASTICCERE"]
["85007","PISELLI EXTRA FINI 600GX10 BONDUELLE","BONDUELLE"]
["8504","IP GUANCIALINO CIOCCOLATO (70X70 GR","IL PASTICCERE"]
["8526","IP GOCCIOLATISSIMO GR90X60PZ","IL PASTICCERE"]
["8531","IP KRAPFEN CREMA MIGNON 100X25 GR","IL PASTICCERE"]
["8559","IP \"NUOVA\" VELA PZ 60X85GR","IL PASTICCERE"]
["8561","IP CORNETTO SALATO ARRICCHITO PZ60X65GR","IL PASTICCERE"]
["8568","IP MAXI CRN.ART.VUOTO PROMO PZ50X80G","IL PASTICCERE"]
["8575","BC PIZZA GIG GR 780X8 PZ","BONCHEF"]
["8577","IP CORNETTO ELITE ALBI.GR85 PZ50","IL PASTICCERE"]
["8578","IP CORNETTO ELITE CREMA PZ50X90G","IL PASTICCERE"]
["8579","IP CORNETTO ELITE CIOCC.GR85 PZ50","IL PASTICCERE"]
["8587","BC PIADINA SFOGLIATA 50PZX120G","BONCHEF"]
["8598","IP CORNETTO ELITE A F.DI BOSCO GR85 50P","IL PASTICCERE"]
["8648","*E* BC CIABATTINA PRETAGLIATA 36PZX100G","BONCHEF"]
["8649","BC CIABATTA GRANDE GR 265 PZ10","BONCHEF"]
["8685","IP NUTTINO (70X70 GR)","IL PASTICCERE"]
["8690","IP LUNA DI MELE 60PZX90G","IL PASTICCERE"]
["8691","IP SFOGLIATELLA TOSCANA CREMA 60PZX90G","IL PASTICCERE"]
["8699","IP TRIFOGLIO CREMA DI LATTE (50X90)","IL PASTICCERE"]
["8739","IP MINI CORNETTO VUOTO (100X40 GR)","IL PASTICCERE"]
["8853","IP CIAMBELLA (40X49 GR)","IL PASTICCERE"]
["8892","BC DEMI BAGUETTE CEREALI 50PZX140G","BONCHEF"]
["8893","BC DEMI BAGUETTE 50PZX140G","BONCHEF"]
["8896","IP CORNETTO VEGANO NOCCIOLA CACAO 50PZX75G","IL PASTICCERE"]
["8897","BC CIABATTINA MULTICEREALI 40PZX110G","BONCHEF"]
["8908","BC RISOTTO AGLI ASPARAGI 300G","BONCHEF"]
["8910","BC VELLUTATA ALLA ZUCCA 300G","BONCHEF"]
["8916","RIGONI MIX NOC/ALB/FB - 3X2PZ",""]
["8921","BC MINI CROSTINI ALL'OLIO DI OLIVA 40PZX30G","BONCHEF"]
["8924","BC PANE DA TRAMEZZINO TOP S/CROSTA 4X1400G","BONCHEF"]
["8925","BC PANE DA TRAMEZZINO TOP S/CROSTA CON CEREALI 4X1400G","BONCHEF"]
["8926","BC PANE DA TRAMEZZINO TOP S/CROSTA CON CURCUMA 4X1400G","BONCHEF"]
["8929","BC CIAMBELLONE YOGURT PRET. 2X1450G","BONCHEF"]
["8930","BC CIAMBELLONE MARMORIZZATO CACAO 2X1450G","BONCHEF"]
["8931","IP LARS PREDRO E ISMAIL - CORNETTI SALATI 45PZX65G","IL PASTICCERE"]
["8933","BC PINSA ALLA ROMANA RUSTICA 16PZX230G","BONCHEF"]
["8941","BC PIZZETTA MARGHERITA NEW 12PZX105G","BONCHEF"]
["8942","BC FOCACCIOTTO FORMATO TEGLIA 400G 4PZX4","BONCHEF"]
["8944","BC PANE BUN BRIOSCIATO PRETAGLIATO NEW 90G 6PZX6","BONCHEF"]
["8945","BC BASE PIZZA ROSSA STILE NAPOLI 10PZX340G","BONCHEF"]
["8946","BC PIZZA MARGHERITA FORMATO TEGLIA 5PZX640G","BONCHEF"]
["8953","BC BASE PIZZA BIANCA STILE NAPOLI 10PZX255G","BONCHEF"]
["8954","BC PIZZA MARGHERITA AL PIATTO STILE NAPOLI 6PZX420G","BONCHEF"]
["8955","BC TRANCIOTTO MARGHERITA 145G 8PZX16","BONCHEF"]
["8956","BC TRANCIOTTO SALSICCIA E FRIARIELLI 160G 8PZX16","BONCHEF"]
["8957","BC TRANCIOTTO VEGETARIANO 160G 8PZX16","BONCHEF"]
["8958","BC CALZONE POMODORO E MOZZARELLA 24PZX160G","BONCHEF"]
["8959","IP BOMBOLO CREMA 50X95G","IL PASTICCERE"]
["8961","IP BOMBOLO CIOCCOLATO 50X90G","IL PASTICCERE"]
["8962","BC PAVE' CON SEMI 35PZX90G","BONCHEF"]
["8964","BC SALSICCIA DI SUINO GRIGLIATA 20PZX100G","BONCHEF"]
["8968","BC HAMBURGER BOVINO GRIGLIATO GIGA 12PZX185G","BONCHEF"]
["8969","BC HAMBURGER BOVINO GRIGLIATO MAXI 16PZX135G","BONCHEF"]
["8991","BC PANINO AL LATTE 32PZX45G","BONCHEF"]
["8999","BC MINI PANINO AL LATTE 75PZX25G","BONCHEF"]
["90585","CAVOLFIORI 1KGX6 BONDUELLE (MINUTE)","BONDUELLE"]
["92841","MINESTRONE CLASSICO 450GX12 BONDUELLE","BONDUELLE"]
["9864","BC CROSTATA VEGANA ALLE ARANCE PRET. 12PZ","BONCHEF"]
["9865","BC TORTA ALLE NOCI PRET. 16PZ","BONCHEF"]
["9874","BC TORTA RICOTTA E GOCCE DI CIOCCOLATO PRET. 14PZ","BONCHEF"]
["9875","BC TORTA DELLA NONNA PRET. 14PZ (NUOVA RICETTA)","BONCHEF"]
["9876","BC CHEESECAKE PRET. 14PZ","BONCHEF"]
["9877","BC CHEESECAKE FRUTTI ROSSI E NERI PRET. 14PZ","BONCHEF"]
["9878","BC CROSTATA ALLE ALBICOCCHE XL KG2","BONCHEF"]
["9879","BC CROSTATA AI FRUTTI DI BOSCO XL KG2","BONCHEF"]
["9880","BC CROSTATA ALLA GIANDUIA XL KG2","BONCHEF"]
["9882","BC SOUFFLE' AL CIOCCOLATO 12PZX100G","BONCHEF"]
["9883","BC SOUFFLE' AL CIOCCOLATO E PISTACCHIO 12PZX100G","BONCHEF"]
["9884","BC SOUFFLE' AL CIOCCOLATO E CIOCCOLATO BIANCO 12PZX100G","BONCHEF"]
["AAR000","AGNOLOTTI ALL' ARAGOSTA 1KGX3","ZINI"]
["AHT185","FRIGORIFERO AHT 185 \"MIAMI\" - DOPPIO LED - SBRINAMENTO AUTOMATICO","FRIGO"]
["AHT210","FRIGORIFERO AHT 210 \"MIAMI\" - SBRINAMENTO AUTOMATICO","FRIGO"]
["AHT250","FRIGORIFERO AHT 250 \"MIAMI-PARIS\" - SBRINAMENTO AUTOMATICO","FRIGO"]
["AMN001","ACQUISTI MERCE NEGOZI PER RIVENDITA IVA22",""]
["AMN002","ACQUISTI MERCE NEGOZI PER RIVENDITA IVA10",""]
["AMN003","ACQUISTI MERCE NEGOZI PER RIVENDITA IVA04",""]
["ARA2038","ARANCINO MIGNON AL SUGO 25G  5KG","RISPO"]
["ARR002","AGNELLO 40 ARROSTICINI X 8PZ","CARNE"]
["ART.",".",""]
["ASS3KG","STELLE AL SALMONE 3X1KG ZINI","ZINI"]
["ATT00001","VETRINA VERT. FROST 350 NS BINDI 5R 3 VETRI","VETRINA VERTICAL"]
["ATT00002","VETRINA VERT. FROST 350 NS BINDI 5R 3 VETRI","VETRINA VERTICAL"]
["ATT00003","VETRINA VERT. SILVER STAR 43 SAMMONTANA","VETRINA VERTICAL"]
["ATT00004","VETRINA VERT. SILVER STAR 43 SAMMONTANA","VETRINA VERTICAL"]
["ATT00005","VETRINA VERT. SILVER STAR 43 SAMMONTANA","VETRINA VERTICAL"]
["ATT00006","VETRINA VERT. SILVER STAR 43 SAMMONTANA","VETRINA VERTICAL"]
["ATT00007","VETRINA VERT. FROST 400NS SAMMONTANA NEGA.","VETRINA VERTICAL"]
["ATT00008","VETRINA VERT. FROST 400NS SAMMONTANA","VETRINA VERTICAL"]
["ATT00009","VETRINA VERT. FROST 400NS SAMMONTANA NEGA.","VETRINA VERTICAL"]
["ATT00010","VETRINA VERT. SHOW 400NS CON TELEMETRIA SAM.","VETRINA VERTICAL"]
["ATT00011","GLOBO 700.3 AT SAMMONTANA","FRIGORIFERO"]
["ATT00012","GLOBO 700.3 AT SAMMONTANA","FRIGORIFERO"]
["ATT00013","LIEBHERR 460 AT SAMMONTANA","FRIGORIFERO"]
["ATT00014","LIEBHERR 460 AT SAMMONTANA","FRIGORIFERO"]
["ATT00015","LIEBHERR 460 AT SAMMONTANA","FRIGORIFERO"]
["ATT00016","GLOBO 700 AT LED GREEN SAMMONTANA","FRIGORIFERO"]
["ATT00017","GLOBO 700 AT LED GREEN SAMMONTANA","FRIGORIFERO"]
["ATT00018","GLOBO GL 700 CS SAMMONTANA","FRIGORIFERO"]
["ATT00019","GLOBO GL 700 CS SAMMONTANA","FRIGORIFERO"]
["ATT00020","GLOBO GL 700 CS SAMMONTANA","FRIGORIFERO"]
["ATT00021","GLOBO GL 700 CS SAMMONTANA","FRIGORIFERO"]
["ATT00022","VIC 330 4SK LED SAMMONTANA","FRIGORIFERO"]
["ATT00023","VETRINA VERT. SLIM SILVER MIRAN FLAT SAMM.","VETRINA VERTICAL"]
["ATT00024","VETRINA VERT. SLIM SILVER MIRAN FLAT SAMM.","VETRINA VERTICAL"]
["ATT00025","VIC 150 CSV SAMMONTANA","FRIGORIFERO"]
["ATT00026","VIC 220 4SKT SILVER SAMMONTANA","FRIGORIFERO"]
["ATT00027","VIC 220 4SKT SILVER SAMMONTANA","FRIGORIFERO"]
["ATT00028","VIC 220 4SK AT SAMMONTANA","FRIGORIFERO"]
["ATT00029","VIC 220 4SK AT SAMMONTANA","FRIGORIFERO"]
["ATT00030","VIC 220 4SK AT SAMMONTANA","FRIGORIFERO"]
["ATT00031","ISETTA 6R R290 SAMMONTANA (R6)","VETRINA ORIZZONT"]
["ATT00032","BERMUDA 10 LX RV TB SAMMONTANA (R10)","VETRINA ORIZZONT"]
["ATT00033","BERMUDA 10 LX RV TB SAMMONTANA (R10)","VETRINA ORIZZONT"]
["ATT00034","ISABELLA 13 2013R290 SAMMONTANA (R13)","VETRINA ORIZZONT"]
["ATT00035","GRANITORE SAMMONTANA","GRANITORE"]
["ATT00036","SCALDINO 3 PIANI \"IL PASTICCERE\" (VETRO)","SCALDINO"]
["ATT00037","SCALDINO 3 PIANI \"IL PASTICCERE\" (VETRO)","SCALDINO"]
["ATT00038","SCALDINO 3 PIANI \"IL PASTICCERE\" (VETRO)","SCALDINO"]
["ATT00039","SCALDINO 3 PIANI \"IL PASTICCERE\" (VETRO)","SCALDINO"]
["ATT00040","SCALDINO 3 PIANI \"IL PASTICCERE\" (VETRO)","SCALDINO"]
["ATT00041","SCALDINO 2 PIANI \"IL PASTICCERE\" (VETRO)","SCALDINO"]
["ATT00042","SCALDINO 2 PIANI \"IL PASTICCERE (VETRO)","SCALDINO"]
["ATT00043","FORNO SMEG ALFA43X SAMMONTANA","FORNO"]
["ATT00044","FORNO SMEG ALFA43X SAMMONTANA","FORNO"]
["ATT00045","ICC 150 MARS","FRIGORIFERO"]
["ATT00046","CARRELLO REFRIGERATO BINDI","CARRELLO"]
["ATT00047","CARRELLO REFRIGERATO BINDI","CARRELLO"]
["ATT00048","FORNO UNOX XF023 VANDEMOORTELE","FORNO"]
["ATT00049","FORNO UNOX XF023 VANDEMOORTELE","FORNO"]
["ATT00050","FORNO UNOX XF023 VANDEMOORTELE","FORNO"]
["ATT00051","VETRINA FREEZER DA BANCO FR55VGST","VETRINA"]
["ATT00052","VETRINA FREEZER DA BANCO FR55VGST","VETRINA"]
["ATT00053","VETRINA FREEZER DA BANCO FR55VGST","VETRINA"]
["ATT00054","VETRINA FREEZER DA BANCO FR55VGST","VETRINA"]
["ATT00055","VETRINA FREZZER DA BANCO FR55VGST","VETRINA"]
["ATT00056","VETRINA FREEZER DA BANCO FR55VGST","VETRINA"]
["ATT00057","VETRINA FREEZER DA BANCO FR55VGST","VETRINA"]
["ATT00058","VETRINA FREEZER DA BANCO FR55VGST","VETRINA"]
["ATT00059","VETRINA FREEZER DA BANCO FR55VGST","VETRINA"]
["ATT00060","VETRINA FREEZER DA BANCO FR55VGST","VETRINA"]
["ATT00061","FORNO EKA EKF423P BINDI","FORNO"]
["ATT00062","FORNO EKA EKF423P BINDI","FORNO"]
["ATT00063","FORNO SMEG ALFA43X BINDI","FORNO"]
["ATT00064","SCALDINO NEUTRO BINDI","SCALDINO"]
["ATT00065","SCALDINO 2 PIANI BINDI","SCALDINO"]
["ATT00066","SCALDINO 2 PIANI BINDI","SCALDINO"]
["ATT00067","SCALDINO 2 PIANI BINDI","SCALDINO"]
["ATT00068","SCALDINO 2 PIANI BINDI","SCALDINO"]
["ATT00069","SCALDINO 2 PIANI BINDI","SCALDINO"]
["ATT00070","SCALDINO 2 PIANI BINDI","SCALDINO"]
["ATT00071","SCALDINO 2 PIANI BINDI","SCALDINO"]
["ATT00072","SCALDINO 2 PIANI BINDI","SCALDINO"]
["ATT00073","SCALDINO 2 PIANI BINDI","SCALDINO"]
["ATT00074","FORNO UNOX XF023 BINDI","FORNO"]
["ATT00075","FORNO UNOX XF023 BINDI","FORNO"]
["ATT00076","FORNO UNOX XF023 BINDI","FORNO"]
["ATT00077","FORNO UNOX XF023 BINDI","FORNO"]
["ATT00078","SCALDINO 3 PIANI","SCALDINO"]
["ATT00079","VETRINA VERT. RODI 33 BINDI","VETRINA VERTICAL"]
["ATT00080","VETRINA VERT. RODI 33 BINDI","VETRINA VERTICAL"]
["ATT00081","VETRINA VERT. RODI 33 BINDI","VETRINA VERTICAL"]
["ATT00082","VETRINA VERT. RODI 33 BINDI","VETRINA VERTICAL"]
["ATT00083","VETRINA VERT. RODI 33 BINDI","VETRINA VERTICAL"]
["ATT00084","VETRINA VERT. MISTRAL 40RS BINDI","VETRINA VERTICAL"]
["ATT00085","VETRINA VERT. MISTRAL 40RS BINDI","VETRINA VERTICAL"]
["ATT00086","VETRINA VERT. STAR 43 CA LUX BINDI","VETRINA VERTICAL"]
["ATT00087","VETRINA VERT. MISTRAL 40RS BINDIINDI","VETRINA VERTICAL"]
["ATT00088","VETRINA VERT. MISTRAL 40RS BINDIINDI","VETRINA VERTICAL"]
["ATT00089","VETRINA VERT. MISTRAL 40RS BINDIINDI","VETRINA VERTICAL"]
["ATT00090","VETRINA VERT. MISTRAL 40RS BINDIINDI","VETRINA VERTICAL"]
["ATT00091","VETRINA VERT. MISTRAL 40RS BINDIINDI","VETRINA VERTICAL"]
["ATT00092","VETRINA VERT. STAR 43 2T BINDI  DI","VETRINA VERTICAL"]
["ATT00093","VETRINA VERT. STAR 43 2T BINDI  DI","VETRINA VERTICAL"]
["ATT00094","VETRINA VERT. STAR 43 2T BINDI  DI","VETRINA VERTICAL"]
["ATT00095","VETRINA VERT. STAR 41 POSITIVA BINDI","VETRINA VERTICAL"]
["ATT00096","VETRINA VERT. FROST 350 NS BINDI 5R 3 VETRI","VETRINA VERTICAL"]
["ATT00097","VETRINA VERT. FROST 350 NS BINDI 5R 3 VETRI","VETRINA VERTICAL"]
["ATT00098","VETRINA VERT. FROST 350 NS BINDI 5R 3 VETRI","VETRINA VERTICAL"]
["ATT00099","VIC 440 4SK LED BINDI","FRIGORIFERO"]
["ATT00100","VIC 440 4SK LED BINDI","FRIGORIFERO"]
["ATT00101","VIC 440 4SK CC5 BINDI","FRIGORIFERO"]
["ATT00102","CIS 460 AT LED BINDI","FRIGORIFERO"]
["ATT00103","CIS 460 AT LED BINDI","FRIGORIFERO"]
["ATT00104","GALAXY 500CC BINDI","FRIGORIFERO"]
["ATT00105","GALAXY 500CC BINDI","FRIGORIFERO"]
["ATT00106","FORNO SMEG ALFA41 SAMMONTANA","FORNO"]
["ATT00107","SCALDINO 3 PIANI \"IL PASTICCERE\" (VETRO)","SCALDINO"]
["ATT00108","GLOBO 700.3 CCS SAMMONTANA","FRIGORIFERO"]
["ATT00109","GLOBO 700.3 CCS SAMMONTANA","FRIGORIFERO"]
["ATT00110","GLOBO 700 CSV SAMMONTANA","FRIGORIFERO"]
["ATT00111","VETRINA VERT. ICE 28 SAMMONTANA ANA","VETRINA VERTICAL"]
["ATT00112","VETRINA VERT. ICE 28.3 SAMMONTANA","VETRINA VERTICAL"]
["ATT00113","ISABELLA 10 R290 SAMMONTANA (R10)","VETRINA ORIZZONT"]
["ATT00114","ISETTA 6R R290 SAMMONTANA (R6)","VETRINA ORIZZONT"]
["ATT00115","VETRINA VERT. MISTRAL 40RS SAMMONTANA","VETRINA VERTICAL"]
["ATT00116","VETRINA VERT. MISTRAL 40RS SAMMONTANA","VETRINA VERTICAL"]
["ATT00117","VETRINA VERT. STAR 43.3 SILVER SAMMONTANA","VETRINA VERTICAL"]
["ATT00118","VETRINA VERT. STAR 43.3 SILVER SAMMONTANA","VETRINA VERTICAL"]
["ATT00119","VETRINA VERT. MISTRAL 40RS SAMMONTANA","VETRINA VERTICAL"]
["ATT00120","VETRINA VERT. STAR 43.3 SILVER SAMMONTANA","VETRINA VERTICAL"]
["ATT00121","VETRINA VERT. ASTRA 43 SAMMONTANA","VETRINA VERTICAL"]
["ATT00122","VETRINA VERT. ASTRA 43 SAMMONTANA","VETRINA VERTICAL"]
["ATT00123","VETRINA VERT. MISTRAL 40RS SAMMONTANA","VETRINA VERTICAL"]
["ATT00124","VETRINA VERT. STAR 43 LUX 2T BINDI","VETRINA VERTICAL"]
["ATT00125","VETRINA VERT. STAR 43.2 CA LUX SAMMONTANA","VETRINA VERTICAL"]
["ATT00126","VETRINA VERT.MISTRAL 40RS SAMMONTANA","VETRINA VERTICAL"]
["ATT00127","VETRINA VERT. STAR 43 SILVER SAMMONTANA","VETRINA VERTICAL"]
["ATT00128","VETRINA VERT. RODI 33 CA BINDI","VETRINA VERTICAL"]
["ATT00129","ISABELLA 180 LX (R13) SAMMONTANA","VETRINA ORIZZONT"]
["ATT00130","CIS 360 AT LED BINDI","FRIGORIFERO"]
["ATT00131","GLOBO 700N CCS SAMMONTANA","FRIGORIFERO"]
["ATT00132","GLOBO 700N CSV SAMMONTANA","FRIGORIFERO"]
["ATT00133","ISETTA 6R R290 (R6) SAMMONTANA","VETRINA ORIZZONT"]
["ATT00134","VETRINA VERT. STAR43 CA LUX SAMMONTANA","VETRINA VERTICAL"]
["ATT00135","GLOBO 700 CCS SAMMONTANA","FRIGORIFERO"]
["ATT00136","FORNO SMEG ALFA31","FORNO"]
["ATT00137","FORNO SMEG ALFA41 BINDI","FORNO"]
["ATT00138","FORNO SMEG ALFA41 BINDI","FORNO"]
["ATT00139","FORNO SMEG ALFA41 \"IL PASTICCERE\"","FORNO"]
["ATT00140","FORNO SMEG ALFA 43 SAMMONTANA","FORNO"]
["ATT00141","FORNO SMEG ALFA31","FORNO"]
["ATT00142","FORNO SMEG ALFA41A","FORNO"]
["ATT00143","FORNO SMEG ALFA41 \"IL PASTICCERE\"","FORNO"]
["ATT00144","FORNO SMEG ALFA41 \"IL PASTICCERE\"","FORNO"]
["ATT00145","FORNO SMEG ALFA10 XA","FORNO"]
["ATT00146","FORNO ROSSELLA MANUAL 4 600X400 LAG","FORNO"]
["ATT00147","VIC 330 4SK CCS(7) BINDI","FRIGORIFERO"]
["ATT00148","VIC 330 4SK CCS (7) BINDI","FRIGORIFERO"]
["ATT00149","VIC 330 4SK CCS (7) BINDI","FRIGORIFERO"]
["ATT00150","VIC 330 4SK CCS (7) BINDI","FRIGORIFERO"]
["ATT00151","VETRINA VERT. STAR 43.2 CA LUX SAMMONTANA","VETRINA VERTICAL"]
["ATT00152","VETRINA ORIZ. ISABELLA R10 SAMMONTANA","VETRINA ORIZZONT"]
["ATT00153","VIC 440 4SK CSV SAMMONTANA","FRIGORIFERO"]
["ATT00154","GLOBO 700 NTR CCS HC SAMMONTANA","FRIGORIFERO"]
["ATT00155","FORNO SMEG ALFA 43 \"IL PASTICCERE\"","FORNO"]
["ATT00156","SCALDINO 3 PIANI \"IL PASTICCERE\"","SCALDINO"]
["ATT00157","GLOBO 700 NCA CSV SAMMONTANA","FRIGORIFERO"]
["ATT00158","VETRINA VERT. STAR 43 CA LUX BINDI","VETRINA VERTICAL"]
["ATT00159","FORNO SMEG ALFA 43 \"IL PASTICCERE\"","FORNO"]
["ATT00160","VETRINA VERT. STAR 43.3 MCF LUX SAMMONTANA","VETRINA VERTICAL"]
["ATT00161","VETRINA VERT. MISTRAL 40 RS TB TP R290 SAMM.","VETRINA VERTICAL"]
["ATT00162","SCALDINO CTR583PS \"IL PASTICCERE\"","SCALDINO"]
["ATT00163","GLOBO 700 SAMMONTANA","FRIGORIFERO"]
["ATT00164","ISETTA 6R SAMMONTANA","VETRINA ORIZZONT"]
["ATT00165","GLOBO 700 NTR CCS SAMMONTANA","FRIGORIFERO"]
["ATT00166","GLOBO 700 NTR CCS HC SAMMONTANA","FRIGORIFERO"]
["ATT00167","FORNO SMEG ALFA 43B BINDI","FORNO"]
["ATT00168","SCALDINO CTR583PS \"IL PASTICCERE\"","SCALDINO"]
["ATT00169","VETRINA VERT. RODI 33.3 BINDI   NDI","VETRINA VERTICAL"]
["ATT00170","VETRINA VERT. STAR 43.2 CA LUX SAMMONTANA","VETRINA VERTICAL"]
["ATT00171","SCALDINO \"IL PASTICCERE\"","SCALDINO"]
["ATT00172","SL68 CS SAMMONTANA","FRIGORIFERO"]
["ATT00173","GLOBO 700 NTR CCS SAMMONTANA","FRIGORIFERO"]
["ATT00174","VIC 220 4SK LED SILVER SAMMONTANA","FRIGORIFERO"]
["ATT00175","SL68 CS SAMMONTANA","FRIGORIFERO"]
["ATT00176","GL 200 INDEX 40C/D66 SAMMONTANA","FRIGORIFERO"]
["ATT00177","CARRELLO REFRIGERATO BINDI","CARRELLO"]
["ATT00178","VETRINA VERT. ASTRA 43 SAMMONTANA","VETRINA VERTICAL"]
["ATT00179","SCALDINO 3 PIANI \"IL PASTICCERE\" VETRO","SCALDINO"]
["ATT00180","GLOBO 330 SAMMONTANA","FRIGORIFERO"]
["ATT00181","GLOBO 700 SAMMONTANA","FRIGORIFERO"]
["ATT00182","FORNO SMEG ALFA 43 BINDI","FORNO"]
["ATT00183","FORNO SMEG ALFA 43 BINDI","FORNO"]
["ATT00184","VETRINA VERT. MISTRAL 40 BINDI","VETRINA VERTICAL"]
["ATT00185","FORNO SMEG ALFA 43 SAMMONTANA","FORNO"]
["ATT00186","VETRINA VERT. MIRA FLAT SAMMONTANA","VETRINA VERTICAL"]
["ATT00187","SCALDINO 2 PIANI BINDI","SCALDINO"]
["ATT00188","GLOBO 700 SAMMONTANA","FRIGORIFERO"]
["ATT00189","SCALDINO 3 PIANI \"IL PASTICCERE\" VETRO","SCALDINO"]
["ATT00190","GLOBO 700 SAMMONTANA","FRIGORIFERO"]
["ATT00191","VIC 330 LED BINDI","FRIGORIFERO"]
["ATT00192","VETRINA VERT. ISA DECO' SAMMONTANA","VETRINA VERTICAL"]
["ATT00193","VETRINA VERT. STAR 43 SILVER SAMMONTANA","VETRINA VERTICAL"]
["ATT00194","FORNO SMEG ALFA 41 \"IL PASTICCERE\"","FORNO"]
["ATT00195","FORNO SMEG ALFA 43 \"IL PASTICCERE\"","FORNO"]
["ATT00196","GLOBO 700 SAMMONTANA","FRIGORIFERO"]
["ATT00197","SCALDINO 3 PIANI \"IL PASTICCERE\" VETRO","SCALDINO"]
["ATT00198","FORNO SMEG ALFA 43 SAMMONTANA","FORNO"]
["ATT00199","VETRINA VERT. STAR 43 SAMMONTANA","VETRINA VERTICAL"]
["ATT00200","GLOBO 700 CCS SAMMONTANA","FRIGORIFERO"]
["ATT00201","VIC 330 4SK CCS BINDI","FRIGORIFERO"]
["ATT00202","FORNO GEMINI BINDI","FORNO"]
["ATT00203","SCALDINO VLX B250 W BINDI","SCALDINO"]
["ATT00204","SCALDINO VIENNETTA R2U BINDI","SCALDINO"]
["ATT00205","FORNO SMEG ALFA 43B BINDI","FORNO"]
["ATT00206","GLOBO 330 NCF CCS BINDI","FRIGORIFERO"]
["ATT00207","VETRINA VERT. STAR 43.2 CA LUX 2T LED BINDI","VETRINA VERTICAL"]
["ATT00208","CARRELLO REFRIGERATO BINDI","CARRELLO"]
["ATT00209","VIC 330 4SK LED L&G AT R600 SAMMONTANA","FRIGORIFERO"]
["ATT00210","VETRINA VERT. STAR 43.3M CF LUX BINDI","VETRINA VERTICAL"]
["ATT00211","CARRELLO REFRIGERATO BINDI","CARRELLO"]
["ATT00212","VETRINA VERT. 43.2 CA LUX SAMMONTANA","VETRINA VERTICAL"]
["ATT00213","SL45 CSV SAMMONTANA","FRIGORIFERO"]
["ATT00214","SCALDINO VIENNETTA RZU BINDI","SCALDINO"]
["ATT00215","VETRINA VERT. MISTRAL SAMMONTANA","VETRINA VERTICAL"]
["ATT00216","BANCO CONGELATORE SANSON","FRIGORIFERO"]
["ATT00217","SCALDINO VIENNETTA RZU BINDI","SCALDINO"]
["ATT00218","CARRELLO REFRIGERATO BINDI","CARRELLO"]
["ATT00219","GLOBO 700 CCS SAMMONTANA","FRIGORIFERO"]
["ATT00220","FORNO SMEG ALFA43 SAMMONTANA",""]
["ATT00221","VETRINA VERT. MISTRAL 40 RS TBTP SAMMONTANA","VETRINA VERTICAL"]
["ATT00222","GLOBO 680 SAMMONTANA","FRIGORIFERO"]
["ATT00223","SCALDINO 2 PIANI BINDI","SCALDINO"]
["ATT00224","NORDIC 260 ST SAMMONTANA","FRIGORIFERO"]
["ATT00225","NORDIC 360 ST SAMMONTANA","FRIGORIFERO"]
["ATT00226","VETRINA VERT. STAR 43 CA LUX SAMMONTANA","VETRINA VERTICAL"]
["ATT00227","VETRINA VERT. STAR 43 LUX BINDI","VETRINA VERTICAL"]
["ATT00228","VETRINA VERT. STAR 43 LUX 2T BINDI","VETRINA VERTICAL"]
["ATT00229","GLOBO 700 NCA CC SAMMONTANA","FRIGORIFERO"]
["ATT00230","SL68 CS SAMMONTANA","FRIGORIFERO"]
["ATT00231","SL45 CS SAMMONTANA","FRIGORIFERO"]
["ATT00232","GLOBO 700 NTR FF SAMMONTANA","FRIGORIFERO"]
["ATT00233","FORNO SMEG ALFA 41B BINDI","FORNO"]
["ATT00234","SL45 CS SAMMONTANA","FRIGORIFERO"]
["ATT00235","VETRINA VERT. MISTRAL 40 RS TBTP SAMMONTANA","VETRINA VERTICAL"]
["ATT00236","GLOBO 440 CCS BINDI","FRIGORIFERO"]
["ATT00237","SL27 CS SAMMONTANA","FRIGORIFERO"]
["ATT00238","FORNO SMEG ALFA 43B BINDI","FORNO"]
["ATT00239","VETRINA VERT. SAMMONTANA","VETRINA VERTICAL"]
["ATT00240","FORNO SMEG ALFA 43 BINDI","FORNO"]
["ATT00241","VETRINA VERT. STAR 43.3 MCF SILVER SAMMON.","VETRINA VERTICAL"]
["ATT00242","VIC 330 CF CCS BINDI","FRIGORIFERO"]
["ATT00243","SCALDINO VIENNETTA RZU BINDI","SCALDINO"]
["ATT00244","C SLANT 745 CG SAMMONTANA","FRIGORIFERO"]
["ATT00245","VETRINA VERT. STAR LUX 43.2 CA SAMMONTANA","VETRINA VERTICAL"]
["ATT00246","FORNO SMEG ALFA 41B BINDI","FORNO"]
["ATT00247","FORNO SMEG ALFA 43 SAMMONTANA","FORNO"]
["ATT00248","FORNO SMEG ALFA 43 SAMMONTANA","FORNO"]
["ATT00249","VETRINA VERT. STAR 43.3 SILVER SAMMONTANA","VETRINA VERTICAL"]
["ATT00250","GLOBO 700.3 CCS MCF SAMMONTANA","FRIGORIFERO"]
["ATT00251","GLOBO 700.3 SAMMONTANA","FRIGORIFERO"]
["ATT00252","FORNO SMEG ALFA 43B BINDI","FORNO"]
["ATT00253","GLOBO 440 NCF CSV BINDI","FRIGORIFERO"]
["ATT00254","GLOBO 700 NCA CCS SAMMONATANA","FRIGORIFERO"]
["ATT00255","GLOBO 330 AT SAMMONTANA","FRIGORIFERO"]
["ATT00256","FORNO SMEG ALFA 43 BINDI","FORNO"]
["ATT00257","FORNO SMEG ALFA 43 \"IL PASTICCERE\"","FORNO"]
["ATT00258","BANCHETTO MARS","FRIGORIFERO"]
["ATT00259","FORNO SMEG ALFA 43 BINDI","FORNO"]
["ATT00260","SCALDINO BINDI","SCALDINO"]
["ATT00261","FORNO SMEG ALFA 43 SAMMONTANA","FORNO"]
["ATT00262","BANCHETTO MARS","FRIGORIFERO"]
["ATT00263","VIC 440 4SK CCS BINDI","FRIGORIFERO"]
["ATT00264","BANCO FRIGO LIEBHER SAMMONTANA","FRIGORIFERO"]
["ATT00265","VETRINA VERT. ISA SAMMONTANA","VETRINA VERTICAL"]
["ATT00266","ISA RIO SAMMONTANA","VETRINA ORIZZONT"]
["ATT00267","GLOBO 700.3 CCS SAMMONTANA","FRIGORIFERO"]
["ATT00268","VETRINA VERT. STAR 43.3 MCF LUX BINDI","VETRINA VERTICAL"]
["ATT00269","GLOBO 700 SAMMONTANA","FRIGORIFERO"]
["ATT00270","VIC 330 4SK CCS BINDI","FRIGORIFERO"]
["ATT00271","VIC 330 CF CCS BINDI","FRIGORIFERO"]
["ATT00272","SCALDINO 3 PIANI \"IL PASTICCERE\"","SCALDINO"]
["ATT00273","FORNO SMEG ALFA 43S SAMMONTANA","FORNO"]
["ATT00274","VETRINA VERT. STRA 43 SILVER SAMMONTANA","VETRINA VERTICAL"]
["ATT00275","BANCO FRIGO SAMMONTANA","FRIGORIFERO"]
["ATT00276","GLOBO 550 NCSV SAMMONTANA","FRIGORIFERO"]
["ATT00277","ISA SAMMONTANA","VETRINA ORIZZONT"]
["ATT00278","FORNO ALFA 41 \"IL PASTICCERE\"","FORNO"]
["ATT00279","FORNO SMEG ALFA 41A","FORNO"]
["ATT00280","SCALDINO 4 PIANI \"IL PASTICCERE\"",""]
["ATT00281","VIC 220 AT SAMMONTANA","FRIGORIFERO"]
["ATT00282","FORNO SMEG ALFA41 \"IL PASTICCERE\"","FORNO"]
["ATT00283","VETRINA VERT. STAR 43.3 MCF SILVER SAMMON.","VETRINA VERTICAL"]
["ATT00284","GLOBO 440 NCA CCS BINDI","FRIGORIFERO"]
["ATT00285","SCALDINO 3 PIANI \"IL PASTICCERE\" VETRO","SCALDINO"]
["ATT00286","VIC330 4SK AT SAMMONTANA","FRIGORIFERO"]
["ATT00287","ICE 28 CA SAMMONTANA","FRIGORIFERO"]
["ATT00288","SCALDINO 4 PIANI","SCALDINO"]
["ATT00289","FORNO SMEG ALFA 41","FORNO"]
["ATT00290","VETRINA VERT. MISTRAL 40RS TBTP SAMMONTANA","VETRINA VERTICAL"]
["ATT00291","GLOBO 700 SAMMONTANA","FRIGORIFERO"]
["ATT00292","ISA 10 2013 R290 VASCHETTA SAMMONTANA","VETRINA ORIZZONT"]
["ATT00293","FORNO SMEG ALFA 31","FORNO"]
["ATT00294","SCALDINO VIENNETTA 2 PIANI BINDI","SCALDINO"]
["ATT00295","VETRINA VERT. MISTRAL 40 RS TBTP SAMMON.","VETRINA VERTICAL"]
["ATT00296","VIC 330 CCS BINDI","FRIGORIFERO"]
["ATT00297","FORNO SMEG ALFA 31S","FORNO"]
["ATT00298","GLOBO 700 SAMMONTANA","FRIGORIFERO"]
["ATT00299","GLOBO 700 CCS HCC CESTINI SAMMONTANA","FRIGORIFERO"]
["ATT00300","VETRINA VERT. MISTRAL 40RS TP SAMMONTANA","VETRINA VERTICAL"]
["ATT00301","SCALDINO VIENNETTE RZU 2 PIANI","SCALDINO"]
["ATT00302","ISABELLA 140X*P SAMMONTANA","VETRINA ORIZZONT"]
["ATT00303","FORNO SMEG ALFA 41 \"IL PASTICCERE\"","FORNO"]
["ATT00304","SL 450 SAMMONTANA","FRIGORIFERO"]
["ATT00305","GLOBO 700 VT 68","FRIGORIFERO"]
["ATT00306","SL 45 CSV SAMMONTANA","FRIGORIFERO"]
["ATT00307","FORNO SMEG ALFA 43 BINDI","FORNO"]
["ATT00308","LIEBHER 460 CSV INDEX SAMMONTANA","FRIGORIFERO"]
["ATT00309","SCALDINO 2 PIANI BINDI","SCALDINO"]
["ATT00310","SLANT 735 SAMMONTANA","FRIGORIFERO"]
["ATT00311","GLOBO 550 CSV SAMMONTANA","FRIGORIFERO"]
["ATT00312","FORNO SMEG ALFA 43 \"IL PASTICCERE\"","FORNO"]
["ATT00313","SCALDINO 3 PIANI \" IL PASTICCERE\" VETRO","SCALDINO"]
["ATT00314","VETRINA VERT. RODI 33.3 MESCA BINDI","VETRINA VERTICAL"]
["ATT00315","VETRINA VERT. MISTRAL 40 RS SAMMONTANA","VETRINA VERTICAL"]
["ATT00316","SL 320 CCS SAMMONTANA","FRIGORIFERO"]
["ATT00317","GLOBO 300 CS BINDI","FRIGORIFERO"]
["ATT00318","VETRINA VERT. STAR 43.3 SILVER SAMMONTANA","VETRINA VERTICAL"]
["ATT00319","SL 450 CSV SAMMONTANA","FRIGORIFERO"]
["ATT00320","VETRINA VERT. MISTRAL 40 BINDI","VETRINA VERTICAL"]
["ATT00321","GLOBO 700.3 CCS SAMMONTANA","FRIGORIFERO"]
["ATT00322","SCALDINO 3 PIANI CTR583PS VETRO","SCALDINO"]
["ATT00323","FROST 350 NS SR 3 VETRI BINDI","VETRINA VERTICAL"]
["ATT00324","FORNO SMEG ALFA 43B BINDI","FORNO"]
["ATT00325","GLOBO 550 CCS SAMMONTANA","FRIGORIFERO"]
["ATT00326","GLOBO 700.3 CSV SAMMONTANA","FRIGORIFERO"]
["ATT00327","FORNO SMEG ALFA 43B BINDI","FORNO"]
["ATT00328","SCALDINO VLCX B250N","SCALDINO"]
["ATT00329","VETRINA VERT. STAR 43.3 SILVER SAMMONTANA","VETRINA VERTICAL"]
["ATT00330","VETRINA VERT. ICE 28.3 SAMMONTANA","VETRINA VERTICAL"]
["ATT00331","FORNO SMEG ALFA 41","FORNO"]
["ATT00332","FORNO SMEG ALFA 41 \"IL PASTICCERE\"","FORNO"]
["ATT00333","SLANT 735 SAMMONTANA","FRIGORIFERO"]
["ATT00334","GLOBO 700N CSV SAMMONTANA","FRIGORIFERO"]
["ATT00335","VETRINA VERT. STAR 43.3 CA LUX SILVER SAMMO","VETRINA VERTICAL"]
["ATT00336","GLOBO 700.3 AT SAMMONTANA","FRIGORIFERO"]
["ATT00337","BERMUDA RIO R10 SAMMONTANA","VETRINA ORIZZONT"]
["ATT00338","GLOBO 700.3 CSV SAMMONTANA","FRIGORIFERO"]
["ATT00339","GTI 2403 INDEX 40E SAMMONTANA","FRIGORIFERO"]
["ATT00340","FORNO SMEG ALFA 43B BINDI","FORNO"]
["ATT00341","VIC 440 CSV SAMMONTANA","FRIGORIFERO"]
["ATT00342","GLOBO 700 CCS SAMMONTANA","FRIGORIFERO"]
["ATT00343","FORNO SMEG ALFA 41 \"IL PASTICCERE\"","FORNO"]
["ATT00344","FORNO SMEG ALFA 43X SAMMONTANA","FORNO"]
["ATT00345","SL 450 CCS","FRIGORIFERO"]
["ATT00346","GLOBO 700.3 CCS SAMMONTANA","FRIGORIFERO"]
["ATT00347","VETRINA VERT. STAR 43.2 CA LUX SAMMONTANA","VETRINA VERTICAL"]
["ATT00348","GLOBO 440 NCF CCS BINDI","FRIGORIFERO"]
["ATT00349","FORNO SMEG ALFA 43 BINDI","FORNO"]
["ATT00350","SCALDINO 3 PIANI \"IL PASTICCERE\"","SCALDINO"]
["ATT00351","SL 32 CS SAMMONTANA","FRIGORIFERO"]
["ATT00352","VETRINA VERT. STAR 43.2 CA LUX SAMMONTANA","VETRINA VERTICAL"]
["ATT00353","SCALDINO VIENNETTA 2 PIANI BINDI","SCALDINO"]
["ATT00354","GLOBO 700.3 CCS SAMMONTANA","FRIGORIFERO"]
["ATT00355","FORNO SMEG ALFA 43 SAMMONTANA   E\"","FORNO"]
["ATT00356","VETRINA VERT. STAR 43 CA LUX 2T BINDI","VETRINA VERTICAL"]
["ATT00357","GLOBO 440 NCF CCS BINDI","FRIGORIFERO"]
["ATT00358","FORNO SMEG ALFA 41 \"IL PASTICCERE\"","FORNO"]
["ATT00359","GLOBO N SAMMONTANA","FRIGORIFERO"]
["ATT00360","VIC 330 CCS SAMMONTANA","FRIGORIFERO"]
["ATT00361","SLANT 735 CGS R 507 SAMMONTANA","FRIGORIFERO"]
["ATT00362","SCALDINO VLC635GR BINDI","SCALDINO"]
["ATT00363","VETRINA VERT. STAR 43.3 MCF SILVER SAMMONT.","VETRINA VERTICAL"]
["ATT00364","VIC 320 4SK LED SAMMONTANA","FRIGORIFERO"]
["ATT00365","GLOBO 700.3 CCS SAMMONTANA","FRIGORIFERO"]
["ATT00366","FORNO SMEG ALFA 43 SAMMONTANA","FORNO"]
["ATT00367","VS JS 750 SAMMONTANA","FRIGORIFERO"]
["ATT00368","GLOBO 700 NTR  SAMMONTANA","FRIGORIFERO"]
["ATT00369","FORNO SMEG ALFA 43B BINDI","FORNO"]
["ATT00370","VERINA VERT. ICE CA PICCOLA SAMMONTANA","VETRINA VERTICAL"]
["ATT00371","VIC 330 CCS SAMMONTANA","FRIGORIFERO"]
["ATT00372","FORNO SMEG ALFA 41 SAMMONTANA","FORNO"]
["ATT00373","SCALDINO VIENNETTA RZU","SCALDINO"]
["ATT00374","SLANT 745 CG SAMMONTANA","FRIGORIFERO"]
["ATT00375","SCALDINO MAXI-RX 4 PIANI","SCALDINO"]
["ATT00376","ISABELLA 140 LX SAMMONTANA","VETRINA ORIZZONT"]
["ATT00377","FORNO SMEG ALFA 41 \"IL PASTICCERE\"","FORNO"]
["ATT00378","VETRINA VERT. STAR 43.2 CA LUX 2T BINDI","VETRINA VERTICAL"]
["ATT00379","VETRINA VERT. SAMMONTANA","VETRINA VERTICAL"]
["ATT00380","SL 270 CS SAMMONTANA","FRIGORIFERO"]
["ATT00381","GLOBO 550 N CSV SAMMONTANA","FRIGORIFERO"]
["ATT00382","FORNO SMEG ALFA 41 BINDI","FORNO"]
["ATT00383","SCALDINO VIENNETTA RZU BINDI","SCALDINO"]
["ATT00384","VETRINA VERT. MISTRAL 40 BINDI","VETRINA VERTICAL"]
["ATT00385","VETRINA VERT. RODI 33 BINDI","VETRINA VERTICAL"]
["ATT00386","VETRINA VERT. STAR 43.2 CA LUX SAMMONTANA","VETRINA VERTICAL"]
["ATT00387","FORNO SMEG ALFA 41 DA","FORNO"]
["ATT00388","SLANT 735 CG R507 SAMMONTANA","FRIGORIFERO"]
["ATT00389","VETRINA VERT. STAR 430CA LUX 2T BINDI","VETRINA VERTICAL"]
["ATT00390","VETRINA VERT. E/S 43.3 CF","VETRINA VERTICAL"]
["ATT00391","CONGELATORE OFT 508S BINDI","FRIGORIFERO"]
["ATT00392","FORNO SMEG ALFA 43B BINDI","FORNO"]
["ATT00393","VETRINA VERT. ICE A6 SANSON","VETRINA VERTICAL"]
["ATT00394","SCALDINO 3 PIANI \"IL PASTICCERE\" VETRO","VETRINA VERTICAL"]
["ATT00395","SL 32 CS SAMMONTANA","FRIGORIFERO"]
["ATT00396","VETRINA VERT. MISTRAL 40 RS SAMMONTANA","VETRINA VERTICAL"]
["ATT00397","GLOBO N SAMMONTANA","FRIGORIFERO"]
["ATT00398","CARRELLO ESPOSITORE NON REFRIGERATO BINDI","CARRELLO"]
["ATT00399","VETRINA VERT. ASTRA 43 SAMMONTANA","VETRINA VERTICAL"]
["ATT00400","SCALDINO 4 PIANI","SCALDINO"]
["ATT00401","SLANT 47040012 SAMMONTANA","FRIGORIFERO"]
["ATT00402","SLANT 4704040012 SAMMONTANA","FRIGORIFERO"]
["ATT00403","SL 68 CS SAMMONTANA","FRIGORIFERO"]
["ATT00404","VIC 440 4SK CSV SAMMONTANA","FRIGORIFERO"]
["ATT00405","SCALDINO CTR583PS \"IL PASTICCERE\"","SCALDINO"]
["ATT00406","VETRINA VERT. MISTRAL 40RS DECO SAMMONTANA","VETRINA VERTICAL"]
["ATT00407","FORNO EFFEUNO PI 50 RT","FORNO"]
["ATT00408","FORNO SMEG ALFA 41 \"IL PASTICCERE\"","FORNO"]
["ATT00409","ISA 220 13/2010 SAMMONTANA","VETRINA ORIZZONT"]
["ATT00410","GLOBO 700 CSV SAMMONTANA","FRIGORIFERO"]
["ATT00411","SCALDINO VLC 8250 BINDI","SCALDINO"]
["ATT00412","FORNO SMEG ALFA 43 \"IL PASTICCERE\"","FORNO"]
["ATT00413","GLOBO 700 CSV SAMMONTANA","FRIGORIFERO"]
["ATT00414","VETRINA VERT. STAR 43.3 SILVER SAMMONTANA","VETRINA VERTICAL"]
["ATT00415","ISA 10/2010 SAMMONTANA","VETRINA ORIZZONT"]
["ATT00416","GLOBO 700 CCS SAMMONTANA","FRIGORIFERO"]
["ATT00417","FORNO SMEG ALFA 43 \"IL PASTICCERE\"","FORNO"]
["ATT00418","SCALDINO \"IL PASTICCERE\"","SCALDINO"]
["ATT00419","GLOBO 700 NCA SAMMONTANA","FRIGORIFERO"]
["ATT00420","VETRINA VERT. STAR 43.3 SILVER SAMMONTANA","VETRINA VERTICAL"]
["ATT00421","FORNO SMEG ALFA 43B BINDI","FORNO"]
["ATT00422","SCALDINO 2 PIANI BINDI","SCALDINO"]
["ATT00423","VETRINA VERT. FROST 400 SAMMONTANA","VETRINA VERTICAL"]
["ATT00424","VETRINA VERT. STAR 43 LUX SAMMONTANA","VETRINA VERTICAL"]
["ATT00425","GLOBO 700 CCS SAMMONTANA","FRIGORIFERO"]
["ATT00426","SCALDINO \"IL PASTICCERE\"","SCALDINO"]
["ATT00427","FORNO SMEG ALFA 43B BINDI","FORNO"]
["ATT00428","ISA 10/2013 R290 SAMMONTANA","VETRINA ORIZZONT"]
["ATT00429","SL 45 CSV SAMMONTANA","FRIGORIFERO"]
["ATT00430","SCALDINO VLCXB 250N","SCALDINO"]
["ATT00431","FORNO SMEG ALFA 41 \"IL PASTICCERE\"","FORNO"]
["ATT00432","SCALDINO 3 PIANI \"IL PASTICCERE\"","SCALDINO"]
["ATT00433","GLOBO 700.3 CCS SAMMONTANA","FRIGORIFERO"]
["ATT00434","FORNO SMEG ALFA 43B BINDI","FORNO"]
["ATT00435","LIEBHERR 460 CSV SAMMONTANA","FRIGORIFERO"]
["ATT00436","GLOBO 700.3 CSV SAMMONTANA","FRIGORIFERO"]
["ATT00437","FORNO SMEG ALFA 41F","FORNO"]
["ATT00438","SCALDINO VLCX B250N","SCALDINO"]
["ATT00439","VETRINA VERT. STAR 43.3 CA LUX SILVER SAMMO","VETRINA VERTICAL"]
["ATT00440","GLOBO 700.3 CSV SAMMONTANA","FRIGORIFERO"]
["ATT00441","SCALDINO 3 PIANI \"IL PASTICCERE\" VETRO","SCALDINO"]
["ATT00442","FORNO SMEG ALFA 43 \" IL PASTICCERE\"","FORNO"]
["ATT00443","SL 32 CS SAMMONTANA","FRIGORIFERO"]
["ATT00444","VETRINA VERT. 40 RS EXPO SAMMONTANA","VETRINA VERTICAL"]
["ATT00446","FORNO SMEG ALFA 43 BINDI","FORNO"]
["ATT00447","SCALDINO 3 PIANI \"IL PASTICCERE\"","SCALDINO"]
["ATT00448","GLOBO 700 SAMMONTANA","FRIGORIFERO"]
["ATT00449","NORDIK 460 ST SAMMONTANA","FRIGORIFERO"]
["ATT00450","VETRINA VERT. DECO' SAMMONTANA  NTANA","VETRINA VERTICAL"]
["ATT00451","SCALDINO VIENNETTA RZU 2 PIANI","SCALDINO"]
["ATT00452","FORNO SMEG ALFA 43 \"IL PASTICCERE\"","FORNO"]
["ATT00453","VETRINA VERT. RODI 31 BINDI","VETRINA VERTICAL"]
["ATT00454","GLOBO 700 SAMMONTANA","FRIGORIFERO"]
["ATT00455","GLOBO 550N SAMMONTANA","FRIGORIFERO"]
["ATT00456","ISABELLA R13 SAMMONTANA         NTANA","VETRINA ORIZZONT"]
["ATT00457","GLOBO 700.3 ATGL L&G SAMMONTANA","FRIGORIFERO"]
["ATT00458","SCALDINO 3 PIANI \"IL PASTICCERE\"","SCALDINO"]
["ATT00459","FORNO SMEG ALFA 43X","FORNO"]
["ATT00460","FORNO SMEG ALFA 41 \"IL PASTICCERE\"","FORNO"]
["ATT00461","GLOBO 700 SAMMONTANA","FRIGORIFERO"]
["ATT00462","GLOBO 440 A AT SAMMONTANA","FRIGORIFERO"]
["ATT00463","GLOBO 700 SAMMONTANA","FRIGORIFERO"]
["ATT00464","CARRELLO BINDI","CARRELLO"]
["ATT00465","SCALDINO 3 PIANI \"IL PASTICCERE\"","SCALDINO"]
["ATT00466","FORNO SMEG ALFA 43 \"IL PASTICCERE\"","FORNO"]
["ATT00467","SL 680 CCS SAMMONTANA","FRIGORIFERO"]
["ATT00468","SN 440 CS BINDI","FRIGORIFERO"]
["ATT00469","SCALDINO 3 PIANI \"IL PASTICCERE\" VETRO","SCALDINO"]
["ATT00470","VETRINA VERT. MISTRAL 40RS SAMMONTANA","VETRINA VERTICAL"]
["ATT00471","FORNO SMEG ALFA 41","FORNO"]
["ATT00472","GLOBO 700.3 CSV SAMMONTANA","FRIGORIFERO"]
["ATT00473","GLOBO 700.3 AT SAMMONTANA","FRIGORIFERO"]
["ATT00474","SCALDINO \"IL PASTICCERE\"","SCALDINO"]
["ATT00475","FORNO SMEG ALFA 43 \"IL PASTICCERE\"","FORNO"]
["ATT00476","GLOBO 700.3 CSV SAMMONTANA","FRIGORIFERO"]
["ATT00477","GLOBO 700 TR CCS SAMMONTANA","FRIGORIFERO"]
["ATT00478","VETRINA VERT. VIC 330 4SK LED SAMM0NTANA","VETRINA VERTICAL"]
["ATT00479","SCALDINO 3 PIANI \"IL PASTICCERE\"","SCALDINO"]
["ATT00480","FORNO SMEG ALFA 43 BINDI","FORNO"]
["ATT00481","GLOBO 700.3 AT SAMMONTANA","FRIGORIFERO"]
["ATT00482","VETRINA VERT. MISTRAL SAMMONTANA","VETRINA VERTICAL"]
["ATT00483","GLOBO 700 SANSON","FRIGORIFERO"]
["ATT00484","FORNO SMEG ALFA 31A","FORNO"]
["ATT00485","SCALDINO VIENETTA BINDI","SCALDINO"]
["ATT00486","VETRINA VERT. STAR 43 CA LUX ST BINDI","VETRINA VERTICAL"]
["ATT00487","GLOBO 700.3 AT SAMMONTANA","FRIGORIFERO"]
["ATT00488","VETRINA VERT. RODI 33 CA BINDI","VETRINA VERTICAL"]
["ATT00489","GLOBO 700.3 CCS SAMMONTANA","FRIGORIFERO"]
["ATT00490","BERMUDA 10 LX RVTB SAMMONTANA","VETRINA ORIZZONT"]
["ATT00491","GLOBO 440 NCF CSV BINDI","FRIGORIFERO"]
["ATT00492","LIENHERR 460 AT SAMMONTANA","FRIGORIFERO"]
["ATT00493","GLOBO 700.3 AT C/CEST.SAMMONTANAA","FRIGORIFERO"]
["ATT00494","GLOBO 700.3 AT C/CEST. SAMMONTANA","FRIGORIFERO"]
["ATT00495","GLOBO 700.3 AT C/CEST. SAMMONTANA","FRIGORIFERO"]
["ATT00496","GLOBO 700.3 AT C/CEST. SAMMONTANA","FRIGORIFERO"]
["ATT00497","GLOBO 700.3 AT C/CEST. SAMMONTANA","FRIGORIFERO"]
["ATT00498","GLOBO 700.3 AT C/CEST. SAMMONTANA","FRIGORIFERO"]
["ATT00499","GLOBO 700.3 AT C/CEST. SAMMONTANA","FRIGORIFERO"]
["ATT00500","GLOBO 700.3 AT C/CEST SAMMONTANA","FRIGORIFERO"]
["ATT00501","GLOBO 700.3 AT C/CEST SAMMONTANA","FRIGORIFERO"]
["ATT00502","GLOBO 700.3 AT C/CEST SAMMONTANA","FRIGORIFERO"]
["ATT00503","VETRINA VERT. MIRA N FLAT SLIM SILVER SAMMO.","VETRINA VERTICAL"]
["ATT00504","VETRINA VERT. MIRA N FLAT SLIM SILVER SAMMO.","VETRINA VERTICAL"]
["ATT00507","GLOBO 700 SAMMONTANA","FRIGORIFERO"]
["ATT00508","GLOBO 700 NCA CCS SAMMONTANA","FRIGORIFERO"]
["ATT00509","SCALDINO CTR583PS SAMMONTANA","SCALDINO"]
["ATT00510","SCALDINO CTR583PS SAMMONTANA","SCALDINO"]
["ATT00511","SCALDINO VIENNETTA 32U","SCALDINO"]
["ATT00512","FORNO ROSSELLA CLASSIC 4 600X400","FORNO"]
["ATT00513","SL 680 SAMMONTANA","FRIGORIFERO"]
["ATT00514","FORNO SMEG ALFA 43 BINDI","FORNO"]
["ATT00515","GLOBO 700.3 CCS SAMMONTANA","FRIGORIFERO"]
["ATT00516","GLOBO 700.3 CCS SAMMONTANA","FRIGORIFERO"]
["ATT00517","GLOBO 700.3 CCS SAMMONTANA","FRIGORIFERO"]
["ATT00518","GLOBO 700.3 CCS SAMMONTANA","FRIGORIFERO"]
["ATT00519","GLOBO 700.3 CCS SAMMONTANA","FRIGORIFERO"]
["ATT00520","GLOBO 700.3 CCS SAMMONTANA","FRIGORIFERO"]
["ATT00521","GLOBO 700.3 CCS SAMMONTANA","FRIGORIFERO"]
["ATT00522","GLOBO 700.3 CCS SAMMONTANA","FRIGORIFERO"]
["ATT00523","GLOBO 700.3 CCS SAMMONTANA","FRIGORIFERO"]
["ATT00524","GLOBO 700.3 CCS SAMMONTANA","FRIGORIFERO"]
["ATT00525","GLOBO 700.3 CCS SAMMONTANA","FRIGORIFERO"]
["ATT00526","GLOBO 700.3 CCS SAMMONTANA","FRIGORIFERO"]
["ATT00527","GLOBO 700.3 CCS SAMMONTANA","FRIGORIFERO"]
["ATT00528","GLOBO 700.3 CCS SAMMONTANA","FRIGORIFERO"]
["ATT00529","GLOBO 700.3 CCS SAMMONTANA","FRIGORIFERO"]
["ATT00530","GLOBO 700.3 CCS SAMMONTANA","FRIGORIFERO"]
["ATT00531","GLOBO 700.3 CCS SAMMONTANA","FRIGORIFERO"]
["ATT00532","GLOBO 700.3 CCS SAMMONTANA","FRIGORIFERO"]
["ATT00533","GLOBO 700.3 CCS SAMMONTANA","FRIGORIFERO"]
["ATT00534","GLOBO 700.3 CCS SAMMONTANA","FRIGORIFERO"]
["ATT00535","GLOBO 700.3 CCS CIECO SAMMONTANA","FRIGORIFERO"]
["ATT00536","VETRINA BERMUDA SAMMONTANA","VETRINA ORIZZONT"]
["ATT00537","FORNO SMEG ALFA 43X SAMMONTANA","FORNO"]
["ATT00538","BANCO GALAXY 500 BINDI","FRIGORIFERO"]
["ATT00539","VETRINA VERT. SLIM SILVER SAMMONTANA","VETRINA VERTICAL"]
["ATT00540","FORNO UNOX ROSSELLA 190 VANDEMOORTELE","FORNO"]
["ATT00541","BANCO CSV LED VETRI BINDI","FRIGORIFERO"]
["ATT00542","VETRINA VERT. BINDI","VETRINA VERTICAL"]
["ATT00543","BANCO CSV VETRI LED BINDI","FRIGORIFERO"]
["ATT00544","BANCO CSV LED VETRI BINDI","FRIGORIFERO"]
["ATT00545","VETRINA VERT. PICCOLA BINDI","VETRINA VERTICAL"]
["ATT00546","VETRINA VERT. BINDI","VETRINA VERTICAL"]
["ATT00547","VETRINA VERT. BINDI","VETRINA VERTICAL"]
["ATT00548","BANCO CSV LED VETRI BINDI","FRIGORIFERO"]
["ATT00549","VETRINA VERT. BINDI","VETRINA VERTICAL"]
["ATT00550","VETRINA VERT. BINDI","VETRINA VERTICAL"]
["ATT00551","VETRINA VERT. MISTRAL 40RS BINDI","VETRINA VERTICAL"]
["ATT00552","VETRINA VERT. RODI 31 BINDI","VETRINA VERTICAL"]
["ATT00553","VETRINA VERT. MISTAL 40 RC SAMMONTANA","VETRINA VERTICAL"]
["ATT00554","BANCO SL 68 CS SAMMONTANA","FRIGORIFERO"]
["ATT00555","SCALDINO 3 PIANI \"IL PASTICCERE\"","SCALDINO"]
["ATT00556","SCALDINO 4 PIANI \"IL PASTICCERE\"","SCALDINO"]
["ATT00557","FORNO SMEG ALFA 43 \"IL PASTICCERE\"","FORNO"]
["ATT00558","VETRINA VERT. ISA DECO' SAMMONTANA","VETRINA VERTICAL"]
["ATT00559","VETRINA VERT. ISA SAMMONTANA","VETRINA VERTICAL"]
["ATT00560","VETRINA VERT. MISTRAL 40 RS SAMMONTANA","VETRINA VERTICAL"]
["ATT00561","VETRINA VERT. ISA SAMMONTANA","VETRINA VERTICAL"]
["ATT00562","BANCO SL 450 CCS SAMMONTANA","FRIGORIFERO"]
["ATT00563","VETRINA VERT. RODI 33 CA BINDI","VETRINA VERTICAL"]
["ATT00564","VETRINA VERT. MISTRAL 40RS SAMMONTANA","VETRINA VERTICAL"]
["ATT00565","SCALDINO VIENNETTA R2U 2 PIANI BINDI","SCALDINO"]
["ATT00566","VETRINA VERT. STAR 43.2 CA LUX SAMMONTANA","VETRINA VERTICAL"]
["ATT00567","FORNO SMEG ALFA 43 SAMMONTANA","FORNO"]
["ATT00568","SCALDINO VETRO","SCALDINO"]
["ATT00569","VETRINA VERT. MARIN 470 RS SAMMONTANA","VETRINA VERTICAL"]
["ATT00570","VETRIINA VERT. MARIN 470 RS SAMMONTANA","VETRINA VERTICAL"]
["ATT00571","BERMUDA SHOW 10 RV SAMMONTANA","FRIGORIFERO"]
["ATT00572","BERMUDA SHOW 10 RV SAMMONTANA","FRIGORIFERO"]
["ATT00573","BERMUDA SHOW 10 RV SAMMONTANA","FRIGORIFERO"]
["ATT00574","VETRINA VERTICALE DECO' 40RS","VETRINA VERTICAL"]
["ATT00575","VETRINA VERT. STAR 43 LUX BINDI","VETRINA VERTICAL"]
["ATT00576","GALAXY 500 BINDI","FRIGORIFERO"]
["ATT00577","VETRINA VERT. STAR 43.3 CF LUX BINDI","VETRINA VERTICAL"]
["ATT00578","VETRINA VERT. STAR 43.3 CF LUX BINDI","VETRINA VERTICAL"]
["ATT00579","VETRINA VERT. STAR 43.3 CF LUX BINDI","VETRINA VERTICAL"]
["ATT00580","VETRINA VERT. STAR 43.3 CF LUX BINDI","VETRINA VERTICAL"]
["ATT00581","VETRINA VERT. STAR 43.3 CF LUX BINDI","VETRINA VERTICAL"]
["ATT00582","VETRINA VERT. STAR 43.3 CF LUX BINDI","VETRINA VERTICAL"]
["ATT00583","VETRINA VERT. STAR 43.3 CF LUX BINDI","VETRINA VERTICAL"]
["ATT00584","VETRINA VERT. STAR 43.3 CF LUX BINDI","VETRINA VERTICAL"]
["ATT00585","VETRINA VERT. STAR 43.3 CF LUX BINDI","VETRINA VERTICAL"]
["ATT00586","VETRINA VERT. STAR 43.3 CF LUX BINDI","VETRINA VERTICAL"]
["ATT00587","VIC 330 4SK LED AT BINDI","FRIGORIFERO"]
["ATT00588","VIC 330 4SK LED AT BINDI","FRIGORIFERO"]
["ATT00589","VIC 330 4SK LED AT BINDI","FRIGORIFERO"]
["ATT00590","VIC 330 4SK LED AT BINDI","FRIGORIFERO"]
["ATT00591","VIC 330 4SK LED AT BINDI","FRIGORIFERO"]
["ATT00592","VETRINA VERT. MISTRAL 40RS SAMMONTANA","VETRINA VERTICAL"]
["ATT00593","FORNO SMEG ALFA 43 BINDI","FORNO"]
["ATT00594","VETRINA VERT. MISTRAL 40RS DECO SAMMONTANA","VETRINA VERTICAL"]
["ATT00595","VETRINA VERT. MISTRAL 40 RS SAMMONTANA","VETRINA VERTICAL"]
["ATT00596","VETRINA VERT. STAR 43.3 SILVER SAMMONTANA","VETRINA VERTICAL"]
["ATT00597","VETRINA VERT. SHOW 400 NS SAMMONTANA","VETRINA VERTICAL"]
["ATT00598","VETRINA VERT. ICE 28.3 SAMMONTANA","VETRINA VERTICAL"]
["ATT00599","BANCO SLANT 450 SAMMONTANA","FRIGORIFERO"]
["ATT00600","ISABELLA R10 140LX SAMMONTANA","VETRINA ORIZZONT"]
["ATT00601","VETRINA VERT. MISTRAL 40RS SAMMONTANA","VETRINA VERTICAL"]
["ATT00602","VETRINA VERT. RODI 31 CA BEIGE BINDIPOSITIVA","VETRINA VERTICAL"]
["ATT00603","VETRINA VERT. RODI 31 CA BEIGE BINDIPOSITIVA","VETRINA VERTICAL"]
["ATT00604","VETRINA VERT. RODI 33.3 CA BRIGE BINDI","VETRINA VERTICAL"]
["ATT00605","VETRINA VERT. RODI 33.3 CA BEIGE BINDI","VETRINA VERTICAL"]
["ATT00606","VETRINA VERT. RODI 33.3 CA BEIGE BINDI","VETRINA VERTICAL"]
["ATT00607","VETRINA VERT. RODI 33.3 CA BRIGE BINDI","VETRINA VERTICAL"]
["ATT00608","VETRINA VERT. RODI 33.3 CA BRIGE BINDI","VETRINA VERTICAL"]
["ATT00609","SCALDINO ARTEK","SCALDINO"]
["ATT00610","VETRINA VERT. DECO' SAMMONTANA","VETRINA VERTICAL"]
["ATT00611","FORNO SMEG ALFA 43 \"IL PASTICCERE\"","FORNO"]
["ATT00612","GLOBO 700 CCS SAMMONTANA","FRIGORIFERO"]
["ATT00613","VETRINA VERT. MISTRAL 40 RS SAMMONTANA","VETRINA VERTICAL"]
["ATT00614","SCALDINO ARTEK 4 PIANI","SCALDINO"]
["ATT00615","GLOBO 700 CCS SAMMONTANA","FRIGORIFERO"]
["ATT00616","SL 745 INDEX 41B/D66 SAMMONTANA","FRIGORIFERO"]
["ATT00617","SCALDINO 2 PIANI SAMMONTANA","SCALDINO"]
["ATT00618","FORNO EFFEUNO PI503M","FORNO"]
["ATT00619","VIC 220 4SK LED SILVER SAMMONTANA","FRIGORIFERO"]
["ATT00620","GLOBO 700.3 CCS BINDI","FRIGORIFERO"]
["ATT00621","SCALDINO \"IL PASTICCERE\"","SCALDINO"]
["ATT00622","VETRINA VERT. STAR 43.3 CF LUX BINDI","VETRINA VERTICAL"]
["ATT00623","SCALDINO 2 PIANI \"IL PASTICCERE\" VETRO","SCALDINO"]
["ATT00624","SCALDINO CBIA BINDI","SCALDINO"]
["ATT00625","VETRINA VERT. MISTRAL 40RS SAMMONTANA","VETRINA VERTICAL"]
["ATT00626","FORNO SMEG ALFA 43B BINDI","FORNO"]
["ATT00627","VETRINA VERT. FROST 400 SAMMONTANA","VETRINA VERTICAL"]
["ATT00628","VIC 330 4SK SAMMONTANA","FRIGORIFERO"]
["ATT00629","FORNO EKA F423P BINDI","FORNO"]
["ATT00630","FORNO SMEG ALFA 41 SAMMONTANA   E\"","FORNO"]
["ATT00631","VETRINA VERT. ASTRA 43 SAMMONTANA","VETRINA VERTICAL"]
["ATT00632","SL 45 CSV SAMMONTANA","FRIGORIFERO"]
["ATT00633","SL 68 CS SAMMONTANA","FRIGORIFERO"]
["ATT00634","FORNO SMEG ALFA 43B BINDI","FORNO"]
["ATT00635","SCALDINO \"IL PASTICCERE\"","SCALDINO"]
["ATT00636","VIC 220 CCS SAMMONTANA","FRIGORIFERO"]
["ATT00637","VETRINA VERT. MISTRAL 40RS SAMMONTANA","VETRINA VERTICAL"]
["ATT00638","VETRINA VERT. DECO' SAMMONTANA","VETRINA VERTICAL"]
["ATT00639","VETRINA VERT. SILVER SAMMONTANA","VETRINA VERTICAL"]
["ATT00640","FORNO SMEG ALFA 43 \"IL PASTICCERE\"","FORNO"]
["ATT00641","BANCO 755 VS R507 SAMMONTANA","FRIGORIFERO"]
["ATT00642","SCALDINO 3 PIANI VETRO","SCALDINO"]
["ATT00643","BANCO SLANT","FRIGORIFERO"]
["ATT00644","GLOBO 700 SAMMONTANA","FRIGORIFERO"]
["ATT00645","VETRINA VERT. MISTRAL 40RS SAMMONTANA","VETRINA VERTICAL"]
["ATT00646","SCALDINO VLC 250","SCALDINO"]
["ATT00647","FORNO SMEG ALFA 41 \"IL PASTICCERE\"","FORNO"]
["ATT00648","GLOBO 440 CCS BINDI","FRIGORIFERO"]
["ATT00649","VETRINA VERT. ICE 28.3 SAMMONTANA","VETRINA VERTICAL"]
["ATT00650","SCALDINO 3 PIANI\"IL PASTICCERE\" VETRO","SCALDINO"]
["ATT00651","FORNO SMEG ALFA 43X","FORNO"]
["ATT00652","GLOBO 200N CSV SAMMONTANA","FRIGORIFERO"]
["ATT00653","FORNO SMEG ALFA 43B BINDI","FORNO"]
["ATT00654","GLOBO 700 CSV SAMMONTANA","FRIGORIFERO"]
["ATT00655","SCALDINO EP31 SAMMONTANA","SCALDINO"]
["ATT00656","SL 745 INDEX 41B/D66 SAMMONTANA","FRIGORIFERO"]
["ATT00657","VIC 440 CCS SAMMONTANA","FRIGORIFERO"]
["ATT00658","BANCO OFT 508S","FRIGORIFERO"]
["ATT00659","FORNO SMEG ALFA 41","FORNO"]
["ATT00660","SCALDINO 3 PIANI \"IL PASTICCERE\" VETRO","SCALDINO"]
["ATT00661","CARRELLO BINDI NON REFRIGERATO","CARRELLO"]
["ATT00662","VIC 220 4SK AT SAMMONTANA","FRIGORIFERO"]
["ATT00663","FORNO SMEG ALFA 43","FORNO"]
["ATT00664","CARRELLO REFRIGERATO BINDI","CARRELLO"]
["ATT00665","GLOBO 440 CCS BINDI","FRIGORIFERO"]
["ATT00666","SCALDINO SCALDA SOUFFLE BINDI","SCALDINO"]
["ATT00667","SCALDINO 3 PIANI \"IL PASTICCERE\"","SCALDINO"]
["ATT00668","SCALDINO 3 PIANI \"IL PASTICCERE\"","SCALDINO"]
["ATT00669","GLOBO 700 SAMMONTANA","FRIGORIFERO"]
["ATT00670","SL 45 CSV SAMMONTANA","FRIGORIFERO"]
["ATT00671","GLOBO 450 SAMMONTANA","FRIGORIFERO"]
["ATT00672","SCALDINO \"IL PASTICCERE\"","SCALDINO"]
["ATT00673","FORNO SMEG ALFA 43 \"IL PASTICCERE\"","FORNO"]
["ATT00674","LIEVITARORE LEV30RS TIPO C2","LIEVITATORE"]
["ATT00675","VIC 330 CCS BINDI","FRIGORIFERO"]
["ATT00676","FORNO SMEG \"IL PASTICCERE\"","FORNO"]
["ATT00677","FORNO SMEG ALFA 43","FORNO"]
["ATT00678","GLOBO 700 N SAMMONTANA","FRIGORIFERO"]
["ATT00679","VETRINA VERT. DECO' SAMMONTANA","VETRINA VERTICAL"]
["ATT00680","VETRINA VERT. SAMMONTANA","VETRINA VERTICAL"]
["ATT00681","FORNO SMEG ALFA 31","FORNO"]
["ATT00682","SCALDINO 2 PIANI BINDI","SCALDINO"]
["ATT00683","GLOBO N SAMMONTANA","FRIGORIFERO"]
["ATT00684","GLOBO 700 SAMMONTANA","FRIGORIFERO"]
["ATT00685","VETRINA VERT. STAR LUX 43 BINDI","VETRINA VERTICAL"]
["ATT00686","FORNO SMEG ALFA 43X BINDI","FORNO"]
["ATT00687","FORNO SMEG ALFA 43X BINDI","FORNO"]
["ATT00688","FORNO SMEG ALFA 43X BINDI","FORNO"]
["ATT00689","FORNO SMEG ALFA 43X BINDI","FORNO"]
["ATT00690","FORNO SMEG ALFA 43X BINDI","FORNO"]
["ATT00691","FORNO SMEG ALFA 43X BINDI","FORNO"]
["ATT00692","FORNO SMEG ALFA 43X BINDI","FORNO"]
["ATT00693","FORNO SMEG ALFA 43X BINDI","FORNO"]
["ATT00694","FORNO SMEG ALFA 43X BINDI","FORNO"]
["ATT00695","FORNO SMEG ALFA 43X BINDI","FORNO"]
["ATT00696","RONDO 45 SAMMONTANA","FRIGORIFERO"]
["ATT00697","LIEBHERR 460 AT SAMMONTANA","FRIGORIFERO"]
["ATT00698","LIEBHERR 460 AT SAMMONTANA","FRIGORIFERO"]
["ATT00699","LIEBHERR 460 AT SAMMONTANA","FRIGORIFERO"]
["ATT00700","LIEBHERR 460 AT SAMMONTANA","FRIGORIFERO"]
["ATT00701","VETRINA VERT. FROST 400NS SAMMONTANA","VETRINA VERTICAL"]
["ATT00702","VETRINA VERT. FROST 400NS SAMMONTANA","VETRINA VERTICAL"]
["ATT00703","VIC 220 4SK CCS SAMMONTANA","FRIGORIFERO"]
["ATT00704","VIC 220 4SK CCS SAMMONTANA","FRIGORIFERO"]
["ATT00705","VIC 220 4SK CCS SAMMONTANA","FRIGORIFERO"]
["ATT00706","VIC 220 4SK CCS SAMMONTANA","FRIGORIFERO"]
["ATT00707","VIC 440 4SK CCS SAMMONTANA","FRIGORIFERO"]
["ATT00708","VIC 440 4SK CCS SAMMONTANA","FRIGORIFERO"]
["ATT00709","VIC 440 4SK CCS SAMMONTANA","FRIGORIFERO"]
["ATT00710","VETRINA VERT. MIRA N FLAT SLIM SAMMONTANA","VETRINA VERTICAL"]
["ATT00711","VIC 440 4SK LED BINDI","FRIGORIFERO"]
["ATT00712","VIC 440 4SK LED BINDI","FRIGORIFERO"]
["ATT00713","VIC 440 4SK LED BINDI","FRIGORIFERO"]
["ATT00714","VIC 440 4SK LED BINDI","FRIGORIFERO"]
["ATT00715","VIC 440 4SK LED BINDI","FRIGORIFERO"]
["ATT00716","V.O. MILLENIUM ST 16 ISA SAMMONTANA","VETRINA ORIZZONT"]
["ATT00717","SCALDINO 2 PIANI BINDI","SCALDINO"]
["ATT00718","GLOBO 700.3 AT SAMMONTANA","FRIGORIFERO"]
["ATT00719","GLOBO 480.3 AT SAMMONTANA","FRIGORIFERO"]
["ATT00720","GLOBO 700.3 CSV SAMMONTANA","FRIGORIFERO"]
["ATT00721","CARRELLO REFRIGERATO POSITIVO BINDI","CARRELLO"]
["ATT00722","GELE' 400 CCS BINDI CHEST FREEZER","FRIGORIFERO"]
["ATT00723","GELE' 400 CCS BINDI CHEST FREEZER","FRIGORIFERO"]
["ATT00724","GELE' 400 CCS BINDI CHEST FREEZER","FRIGORIFERO"]
["ATT00725","GELE' 400 CCS BINDI CHEST FREEZER","FRIGORIFERO"]
["ATT00726","GELE' 400 CCS BINDI CHEST FREEZER","FRIGORIFERO"]
["ATT00727","VETRINA VERT. DECO' SAMMONTANA  ONTANA","VETRINA VERTICAL"]
["ATT00728","BANCO SL 45 CSV SAMMONTANA","FRIGORIFERO"]
["ATT00729","FORNO MOD. GEMINI 4N BINDI","FORNO"]
["ATT00730","BANCO SL 68 CS SAMMONTANA","FRIGORIFERO"]
["ATT00731","GLOBO 700 SAMMONTANA","FRIGORIFERO"]
["ATT00732","CONGELATORE ORIZ. COM 99 R507 VANDEMOORTELE","FRIGORIFERO"]
["ATT00733","CONGELATORE ORIZ. COM 99 R507 VANDEMOORTELE","FRIGORIFERO"]
["ATT00734","CONGELATORE ORIZ. COM 99 R507 VANDEMOORTELE","FRIGORIFERO"]
["ATT00735","FORNO SMEG ALFA 43X SAMMONTANA","FORNO"]
["ATT00736","FORNO SMEG ALFA 43X SAMMONTANA","FORNO"]
["ATT00737","FORNO SMEG ALFA 43X SAMMONTANA","FORNO"]
["ATT00738","FORNO SMEG ALFA 43X SAMMONTANA","FORNO"]
["ATT00739","FORNO SMEG ALFA 43X SAMMONTANA","FORNO"]
["ATT00740","FORNO SMEG ALFA 43X SAMMONTANA","FORNO"]
["ATT00741","FORNO SMEG ALFA 43X SAMMONTANA","FORNO"]
["ATT00742","FORNO SMEG ALFA 43X SAMMONTANA","FORNO"]
["ATT00743","VETRINA VERT. MARIN 470 RS SILVER SAMMONTANA","VETRINA VERTICAL"]
["ATT00744","VETRINA VERT. MARIN 470 RS SILVER SAMMONTANA","VETRINA VERTICAL"]
["ATT00745","VETRINA VERT. MARIN 470 RS SILVER SAMMONTANA","VETRINA VERTICAL"]
["ATT00746","VETRINA VERT. MARIN 470 RS SILVER SAMMONTANA","VETRINA VERTICAL"]
["ATT00747","VETRINA VERT. MARIN 470 RS SILVER SAMMONTANA","VETRINA VERTICAL"]
["ATT00748","GLOBO 700 SAMMONTANA","FRIGORIFERO"]
["ATT00749","GLOBO 330 SAMMONTANA","FRIGORIFERO"]
["ATT00750","LIEBHERR 460 SAMMONTANA","FRIGORIFERO"]
["ATT00751","FORNO SMEG ALFA 43 SAMMONTANA","FORNO"]
["ATT00752","GLOBO 700 SAMMONTANA","FRIGORIFERO"]
["ATT00753","VETRINA VERT. STAR 43.3 SILVER SAMMONTANA","VETRINA VERTICAL"]
["ATT00754","VIC 220 4SK CCS BINDI","FRIGORIFERO"]
["ATT00755","VETRINA VERT. FROST 350 NS 3 VETRI BINDI","VETRINA VERTICAL"]
["ATT00756","VETRINA VERT. FROST 350 NS 3 VETRI BINDI","VETRINA VERTICAL"]
["ATT00757","VETRINA VERT. ASTRA 43 SAMMONTANA","VETRINA VERTICAL"]
["ATT00758","VIC 440 SK LED BINDI","FRIGORIFERO"]
["ATT00759","FORNO SMEG ALFA 43X BINDI","FORNO"]
["ATT00760","SCALDINO 3 PIANI \"IL PASTICCERE\"","SCALDINO"]
["ATT00761","SCALDINO 3 PIANI \"IL PASTICCERE\"","SCALDINO"]
["ATT00762","SCALDINO 3 PIANI \"IL PASTICCERE\"","SCALDINO"]
["ATT00763","SCALDINO 3 PIANI \"IL PASTICCERE\"","SCALDINO"]
["ATT00764","GLOBO 700 SAMMONTANA","FRIGORIFERO"]
["ATT00765","VIC 440 4SK SAMMONTANA","FRIGORIFERO"]
["ATT00766","SCALDINO 3 PIANI \"IL PASTICCERE\"","SCALDINO"]
["ATT00767","GLOBO 700 SAMMONTANA","FRIGORIFERO"]
["ATT00768","FORNO SMEG ALFA 31","FORNO"]
["ATT00769","SCALDINO BINDI","SCALDINO"]
["ATT00770","VETRINA VERT. STAR 43.2 CA LUX 2T LED BINDI","VETRINA VERTICAL"]
["ATT00771","SCALDINO 2 PIANI NEUTRO BINDI","SCALDINO"]
["ATT00772","SCALDINO 2 PIANI NEUTRO BINDI","SCALDINO"]
["ATT00773","SCALDINO 2 PIANI NEUTRO BINDI","SCALDINO"]
["ATT00774","SCALDINO 2 PIANI NEUTRO BINDI","SCALDINO"]
["ATT00775","SCALDINO 3 PIANI IL PASTICCERE","SCALDINO"]
["ATT00776","SCALDINO 2 PIANI BINDI","SCALDINO"]
["ATT00777","SCALDINO 2 PIANI BINDI","SCALDINO"]
["ATT00778","SCALDINO 2 PIANI BINDI","SCALDINO"]
["ATT00779","SCALDINO 2 PIANI BINDI","SCALDINO"]
["ATT00780","SCALDINO 2 PIANI BINDI","SCALDINO"]
["ATT00781","SCALDINO 2 PIANI BINDI","SCALDINO"]
["ATT00782","SCALDINO 2 PIANI BINDI","SCALDINO"]
["ATT00783","SCALDINO 2 PIANI BINDI","SCALDINO"]
["ATT00784","SCALDINO 2 PIANI BINDI","SCALDINO"]
["ATT00785","FORNO SMEG ALFA 41","FORNO"]
["ATT00786","SCALDINO 2 PIANI BINDI","SCALDINO"]
["ATT00787","VETRINA ORIZZON.AFRIKA 157 SAMMONTANA","VETRINA ORIZZONT"]
["ATT00788","SCALDINO ESPOSITORE 4PIANI","SCALDINO"]
["ATT00789","VETRINA VERT. MISTRAL 40 RS SAMMONTANA","VETRINA VERTICAL"]
["ATT00790","FORNO SMEG ALFA 41 SAMMONTANA","FORNO"]
["ATT00791","FORNO SMEG ALFA 43 \"IL PASTICCERE\"","FORNO"]
["ATT00792","VETRINA ORIZ. PITAGORA 7R SAMMONTANA","VETRINA ORIZZONT"]
["ATT00793","GLOBO 550 CCS SAMMONTANA","FRIGORIFERO"]
["ATT00794","VETRINA VERT. RODI 33 BINDI","VETRINA VERTICAL"]
["ATT00795","VETRINA VERT. RODI 33 BINDI","VETRINA VERTICAL"]
["ATT00796","CARRELLO REFRIGERATO BINDI","CARRELLO"]
["ATT00797","ICC 150 MARS","FRIGORIFERO"]
["ATT00798","FORNO SMEG ALFA 31","FORNO"]
["ATT00799","ESPOSITORE SMEG RISCALDATO","SCALDINO"]
["ATT00800","GLOBO 700 SAMMONTANA","FRIGORIFERO"]
["ATT00801","SCALDINO 4 PIANI AIRTEK","SCALDINO"]
["ATT00802","VETRINA VERT. RODI 33.3 BEIGE BINDI","VETRINA VERTICAL"]
["ATT00803","VETRINA VERT. RODI 33.3 BEIGE BINDI","VETRINA VERTICAL"]
["ATT00804","VETRINA VERT. RODI 33.3 BEIGE BINDI","VETRINA VERTICAL"]
["ATT00805","VETRINA VERT. RODI 33.3 BEIGE BINDI","VETRINA VERTICAL"]
["ATT00806","VETRINA VERT. RODI 33.3 BEIGE BINDI","VETRINA VERTICAL"]
["ATT00807","FORNO GEMINI 4/N BINDI","FORNO"]
["ATT00808","FORNO GEMINI 4/N BINDI","FORNO"]
["ATT00809","FORNO GEMINI 4/N BINDI","FORNO"]
["ATT00810","FORNO GEMINI 4/N BINDI","FORNO"]
["ATT00811","FORNO GEMINI 4/N BINDI","FORNO"]
["ATT00812","GLOBO 700 CSV SAMMONTANA","FRIGORIFERO"]
["ATT00813","SL 450 IARP SAMMONTANA","FRIGORIFERO"]
["ATT00814","RONDO' 450 SAMMONTANA","FRIGORIFERO"]
["ATT00815","FORNO SMEG ALFA 43 \"IL PASTICCERE\"","FORNO"]
["ATT00816","SCALDINO 2 PIANI","SCALDINO"]
["ATT00817","SCALDINO 2 PIANI","SCALDINO"]
["ATT00818","FORNO SMEG ALFA 43","FORNO"]
["ATT00819","FORNO GEMINI BINDI","FORNO"]
["ATT00820","CIS 360 AT LED SAMMONTANA","FRIGORIFERO"]
["ATT00821","CIS 360 AT LED SAMMONTANA","FRIGORIFERO"]
["ATT00822","CIS 360 AT LED SAMMONTANA","FRIGORIFERO"]
["ATT00823","CARRELLO REFRIGERATO POSITIVO BINDI","CARRELLO"]
["ATT00824","CARRELLO REFRIGERATO POSITIVO BINDI","CARRELLO"]
["ATT00825","CARRELLO REFRIGERATO POSITIVO BINDI","CARRELLO"]
["ATT00826","VETRINA VERT. ISA SAMMONTANA","VETRINA VERTICAL"]
["ATT00827","VETRINA VERT. STAR 43.3 CA LUX BINDI","VETRINA VERTICAL"]
["ATT00828","GLOBO 440N CCS BINDI","FRIGORIFERO"]
["ATT00829","ISABELLA R13 SAMMONTANA","VETRINA ORIZZONT"]
["ATT00830","VETRINA VERT. SILVER SAMMONTANA","VETRINA VERTICAL"]
["ATT00831","CHIOSCO LEGNO 3X3 19MM","CHIOSCO"]
["ATT00832","VETRINA VERT. RODI 33 BINDI","VETRINA VERTICAL"]
["ATT00833","FORNO SMEG ALFA 43 BINDI","FORNO"]
["ATT00834","SCALDINO VIENNETTA BINDI","SCALDINO"]
["ATT00835","CONGELATORE MOD. OFT508","FRIGORIFERO"]
["ATT00836","VETRINA VERT. STAR 43.3 CF LUX BINDI","VETRINA VERTICAL"]
["ATT00837","VETRINA VERT. STAR 43.3 CF LUX BINDI","VETRINA VERTICAL"]
["ATT00838","VETRINA VERT. STAR 43.3 CF LUX BINDI","VETRINA VERTICAL"]
["ATT00839","VETRINA VERT. STAR 43.3 CF LUX BINDI","VETRINA VERTICAL"]
["ATT00840","VETRINA VERT. STAR 43.3 CF LUX BINDI","VETRINA VERTICAL"]
["ATT00841","VETRINA VERT. STAR43 CA LUX","VETRINA VERTICAL"]
["ATT00842","FORNO SMEG ALFA 43 BINDI","FORNO"]
["ATT00843","GLOBO 700 CCS BINDI","FRIGORIFERO"]
["ATT00844","GLOBO 700 SAMMONTANA","FRIGORIFERO"]
["ATT00845","FORNO SMEG ALFA 43 BINDI","FORNO"]
["ATT00846","FORNO SMEG ALFA 43 \"IL PASTICCERE\"","FORNO"]
["ATT00847","GLOBO 700 CSV SAMMONTANA","FRIGORIFERO"]
["ATT00848","GLOBO 700 SAMMONTANA","FRIGORIFERO"]
["ATT00849","VETRINA VERT. RODI 33 BINDI","VETRINA VERTICAL"]
["ATT00850","FORNO SMEG ALFA 43X SAMMONTANA","FORNO"]
["ATT00851","FORNO SMEG ALFA 43X SAMMONTANA","FORNO"]
["ATT00852","FORNO SMEG ALFA 43X SAMMONTANA","FORNO"]
["ATT00853","FORNO SMEG ALFA 43X SAMMONTANA","FORNO"]
["ATT00854","VETRINA VERT. STAR 43.2 CA LUX 2T BINDI","VETRINA VERTICAL"]
["ATT00855","VETRINA VERT. STAR 43.2 CA LUX 2T BINDI","VETRINA VERTICAL"]
["ATT00856","FORNO SMEG ALFA 43 \"IL PASTICCERE\"","FORNO"]
["ATT00857","VETRINA VERTICALE STAR 43 CA LUX BINDI","VETRINA VERTICAL"]
["ATT00858","VETRINA VERT. SAMMONTANA","VETRINA VERTICAL"]
["ATT00859","GLOBO 320 SAMMONTANA","FRIGORIFERO"]
["ATT00860","VETRINA VERT. STAR 43 BINDI","VETRINA VERTICAL"]
["ATT00861","LIEBHERR GTI 2403 SAMMONTANA","FRIGORIFERO"]
["ATT00862","VETRINA VERT. RODI 33 BINDI","VETRINA VERTICAL"]
["ATT00863","VETRINA VERT. RODI 33.3 BEIGE BINDI","VETRINA VERTICAL"]
["ATT00864","VETRINA VERT. RODI 33.3 BEIGE BINDI","VETRINA VERTICAL"]
["ATT00865","VETRINA VERT. STAR 43.3 CF LUX BINDI","VETRINA VERTICAL"]
["ATT00866","VETRINA VERT. STAR 43.3 CF LUX BINDI","VETRINA VERTICAL"]
["ATT00867","VETRINA VERT. SAMMONTANA","VETRINA VERTICAL"]
["ATT00868","SL 27 CS SAMMONTANA","FRIGORIFERO"]
["ATT00869","FORNO SMEG ALFA 43 BINDI","FORNO"]
["ATT00870","FORNO SMEG ALFA 43 BINDI","FORNO"]
["ATT00871","FORNOSMEG ALFA 43 BINDI","FORNO"]
["ATT00872","FORNO SMEG ALFA 43 BINDI","FORNO"]
["ATT00873","VETRINA VERT. SAMMONTANA","VETRINA VERTICAL"]
["ATT00874","VETRINA VERT. RODI 33 BINDI","VETRINA VERTICAL"]
["ATT00875","SCALDINO 3 PIANI \"IL PASTICCERE\"","SCALDINO"]
["ATT00876","GLOBO 700 NCF SAMMONTANA","FRIGORIFERO"]
["ATT00877","VETRINA VERT. SAMMONTANA","VETRINA VERTICAL"]
["ATT00878","LIEBHERR GTI 2403 SAMMONTANA","FRIGORIFERO"]
["ATT00879","FORNO EKA BINDI","FORNO"]
["ATT00880","VETRINA ORIZZ. R13 SAMMONTANA","VETRINA ORIZZONT"]
["ATT00881","CARRELLO REFRIGERATO BINDI","CARRELLO"]
["ATT00882","FORNO SMEG ALFA 41","FORNO"]
["ATT00883","FORNO SMEG ALFA 43B BINDI","FORNO"]
["ATT00884","VETRINA VERT. STAR 43.3 CF LUX BINDI","VETRINA VERTICAL"]
["ATT00885","VETRINA VERT. STAR 43.3 CF LUX BINDI","VETRINA VERTICAL"]
["ATT00886","VETRINA VERT. STAR 43.3 CF LUX BINDI","VETRINA VERTICAL"]
["ATT00887","FORNO SMEG ALFA 43 SAMMONTANA","FORNO"]
["ATT00888","SCALDINO 2 PIANI BINDI","SCALDINO"]
["ATT00889","FORNO SMEG ALFA 31","FORNO"]
["ATT00890","FORNO ROSSELLA GO 4 VANDEMOORTELE","FORNO"]
["ATT00891","SCALDINO 3 PIANI \"IL PASTICCERE\"","SCALDINO"]
["ATT00892","SCALDINO 3 PIANI \"IL PASTICCERE\"","SCALDINO"]
["ATT00893","SCALDINO 3 PIANI \"IL PASTICCERE\"","SCALDINO"]
["ATT00894","SCALDINO 3 PIANI \"IL PASTICCERE\"","SCALDINO"]
["ATT00895","VETRINA VERT. SAMMONTANA","VETRINA VERTICAL"]
["ATT00896","FORNO SMEG ALFA 43B BINDI","FORNO"]
["ATT00897","FORNO PIZZA GIG SAMMONTANA","FORNO"]
["ATT00898","FORNO SMEG ALFA 43X BINDI","FORNO"]
["ATT00899","FORNO SMEG ALFA 43X BINDI","FORNO"]
["ATT00900","FORNO SMEG ALFA 43X BINDI","FORNO"]
["ATT00901","FORNO SMEG ALFA 43X BINDI","FORNO"]
["ATT00902","FORNO SMEG ALFA 43X BINDI","FORNO"]
["ATT00903","FORNO UNOX ROSSELLA GO 4 600X400","FORNO"]
["ATT00904","SCALDINO AR-TECH 2 PIANI","SCALDINO"]
["ATT00905","GLOBO 700 SAMMONTANA","FRIGORIFERO"]
["ATT00906","FORNO SMEG ALFA 43 \"IL PASTICERE\"","FORNO"]
["ATT00907","VETRINA VERT. STAR 43 CA LUX BINDI","VETRINA VERTICAL"]
["ATT00908","FORNO EKA EF423P FORNO D'ASOLO","FORNO"]
["ATT00909","VETRINA VERT. STAR 43.3 CA LUX BINDI","VETRINA VERT."]
["ATT00910","GLOBO 700 CCS SAMMONTANA","FRIGORIFERO"]
["ATT00911","VETRINA VERT. STAR 43 2 LUX SAMMONTANA","VETRINA VERTICAL"]
["ATT00912","SCALDINO BISTEFANI","SCALDINO"]
["ATT00913","FORNO SMEG ALFA 41 \"IL PASTICCERE\"","FORNO"]
["ATT00914","GLOBO 700.3 CCS BINDI","FRIGORIFERO"]
["ATT00915","GLOBO 700.3 CCS BINDI","FRIGORIFERO"]
["ATT00916","GLOBO 700.3 CCS BINDI","FRIGORIFERO"]
["ATT00917","VIC 150 4SK LED AT BINDI","FRIGORIFERO"]
["ATT00918","VIC 150 4SK LED AT BINDI","FRIGORIFERO"]
["ATT00919","VIC 220 4SK LED AT BINDI","FRIGRIFERO"]
["ATT00920","VIC 220 4SK LED AT BINDI","FRIGORIFERO"]
["ATT00921","VIC 330 4SK LED AT BINDI","FRIGORIFERO"]
["ATT00922","VIC 330 4SK LED AT BINDI","FRIGORIFERO"]
["ATT00923","VIC 440 4SK LED AT BINDI","FRIGORIFERO"]
["ATT00924","VIC 440 4SK LED AT BINDI","FRIGORIFERO"]
["ATT00925","VIC 220 4SK AT SAMMONTANA","FRIGORIFERO"]
["ATT00926","SCALDINO 3 PIANI \"IL PASTICCERE\"","SCALDINO"]
["ATT00927","VETRINA VERT. SILVER STAR 43 SAMMONTANA","VETRINA VERTICAL"]
["ATT00928","FORNO SMEG ALFA 43X BINDI","FORNO"]
["ATT00929","FORNO SMEG ALFA 43X BINDI","FORNO"]
["ATT00930","FORNO SMEG ALFA 43X BINDI","FORNO"]
["ATT00931","FORNO SMEG ALFA 43X BINDI","FORNO"]
["ATT00932","FORNO SMEG ALFA 43X BINDI","FORNO"]
["ATT00933","FORNO SMEG ALFA 43X BINDI","FORNO"]
["ATT00934","FORNO SMEG ALFA 43X BINDI","FORNO"]
["ATT00935","FORNO SMEG ALFA 43X BINDI","FORNO"]
["ATT00936","FORNO SMEG ALFA 43X BINDI","FORNO"]
["ATT00937","FORNO SMEG ALFA 43X BINDI","FORNO"]
["ATT00938","VIC 440 4SK CCS SAMMONTANA","FRIGORIFERO"]
["ATT00939","VIC 440 4SK CCS SAMMONTANA","FRIGORIFERO"]
["ATT00940","GLOBO 700.3 CCS HC SAMMONTANA","FRIGORIFERO"]
["ATT00941","GLOBO 700.3 CCS HC SAMMONTANA","FRIGORIFERO"]
["ATT00942","GLOBO 700.3 CCS HC SAMMONTANA","FRIGORIFERO"]
["ATT00943","GLOBO 700.3 CCS HC SAMMONTANA","FRIGORIFERO"]
["ATT00944","GLOBO 700.3 CCS HC SAMMONTANA","FRIGORIFERO"]
["ATT00945","GLOBO 700.3 CCS HC SAMMONTANA","FRIGORIFERO"]
["ATT00946","GLOBO 700.3 CCS HC SAMMONTANA","FRIGORIFERO"]
["ATT00947","GLOBO 700.3 AT SAMMONTANA","FRIGORIFERO"]
["ATT00948","GLOBO 700.3 AT SAMMONTANA","FRIGORIFERO"]
["ATT00949","GLOBO 700.3 AT SAMMONTANA","FRIGORIFERO"]
["ATT00950","GLOBO 700.3 AT SAMMONTANA","FRIGORIFERO"]
["ATT00951","VETRINA VERT. GLEE 43 LITE V2 SAMMONTANA","VETRINA VERTICAL"]
["ATT00952","VETRINA VERT. GLEE 43 LITE V2 SAMMONTANA","VETRINA VERTICAL"]
["ATT00953","VETR. VERT. GLEE43 LITE V2 SILVER SAMMONTANA","VETRINA VERTICAL"]
["ATT00954","VETR. VERT. GLEE43 LITE V2 SILVER SAMMONTANA","VETRINA VERTICAL"]
["ATT00955","VETRINA VERT. RODI 33 BINDI","VETRINA VERTICAL"]
["ATT00956","FORNO SMEG ALFA 43 SAMMONTANA","FORNO"]
["ATT00957","GLOBO 700 SAMMONTANA","FRIGORIFERO"]
["ATT00958","FORNO SMEG ALFA 43X SAMMONTANA","FORNO"]
["ATT00959","FORNO SMEG ALFA 43X SAMMONTANA","FORNO"]
["ATT00960","FORNO SMEG ALFA 43X SAMMONTANA","FORNO"]
["ATT00961","FORNO SMEG ALFA 43X SAMMONTANA","FORNO"]
["ATT00962","FORNO SMEG ALFA 43XT SAMMONTANA","FORNO"]
["ATT00963","FORNO SMEG ALFA 43XT SAMMONTANA","FORNO"]
["ATT00964","FORNO SMEG ALFA 43XT SAMMONTANA","FORNO"]
["ATT00965","FORNO SMEG ALFA 43XT SAMMONTANA","FORNO"]
["ATT00966","SCALDINO 3 PIANI \"IL PASTICERE\"","SCALDINO"]
["ATT00967","SCALDINO 3 PIANI \"IL PASTICERE\"","SCALDINO"]
["ATT00968","SCALDINO 3 PIANI \"IL PASTICERE\"","SCALDINO"]
["ATT00969","SCALDINO 3 PIANI \"IL PASTICCERE\"","SCALDINO"]
["ATT00970","SCALDINO 3 PIANI \"TRE MARIE\"","SCALDINO"]
["ATT00971","SCALDINO 3 PIANI \"TRE MARIE\"","SCALDINO"]
["ATT00972","SCALDINO 3 PIANI \"TRE MARIE\"","SCALDINO"]
["ATT00973","SCALDINO 3 PIANI \"TRE MARIE\"","SCALDINO"]
["ATT00974","SCALDINO 3 PIANI \"TRE MARIE\"","SCALDINO"]
["ATT00975","SCALDINO 3 PIANI \"TRE MARIE\"","SCALDINO"]
["ATT00976","SCALDINO 3 PIANI \"TRE MARIE\"","SCALDINO"]
["ATT00977","SCALDINO 3 PIANI \"TRE MARIE\"","SCALDINO"]
["ATT00978","FORNO PIZZA GIG SAMMONTANA","FORNO"]
["ATT00979","VETRINA VERT. FROST 350 3 VETRI BINDI","VETRINA VERTICAL"]
["ATT00980","VETRINA VERT. FROST 350 3 VETRI BINDI","VETRINA VERTICAL"]
["ATT00981","VETRINA VERT. FROST 350 3 VETRI BINDI","VETRINA VERTICAL"]
["ATT00982","VETRINA VERT. STAR 43.2 CA LUX 2T BINDI","VETRINA VERTICAL"]
["ATT00983","VETRINA VERT. STAR 43.2 CA LUX 2T BINDI","VETRINA VERTICAL"]
["ATT00984","MARKET ISOLA","FRIGORIFERO"]
["ATT00985","GLOBO 440 AT SAMMONTANA","FRIGORIFERO"]
["ATT00986","VETRINA ORIZZONT. ISABELLA 140 LX SAMMONTANA","VETRINA ORIZZONT"]
["ATT00987","CARRELLO NON REFRIGERATO","CARRELLO"]
["ATT00988","CARRELLO REFRIGERATO POSITIVO BINDI","CARRELLO"]
["ATT00989","CARRELLO REFRIGERATO POSITIVO BINDI","CARRELLO"]
["ATT00990","VETRINA ORIZ. BERMUDA SHOW 10RV SAMMONTANA","VETRINA ORIZZONT"]
["ATT00991","VETRINA ORIZ. BERMUDA SHOW 10RV SAMMONTANA","VETRINA ORIZZONT"]
["ATT00992","VETRINA ORIZ. BERMUDA SHOW 10RV SAMMONTANA","VETRINA ORIZZONT"]
["ATT00993","VETRINA ORIZ. BERMUDA SHOW 13RV SAMMONTANA","VETRINA ORIZZONT"]
["ATT00994","VETRINA VERT. MARIN 340 RS SAMMONTANA","VETRINA VERTICAL"]
["ATT00995","VETRINA VERT. MARIN 340 RS SAMMONTANA","VETRINA VERTICAL"]
["ATT00996","VETRINA VERT. MARIN 340 RS SAMMONTANA","VETRINA VERTICAL"]
["ATT00997","VIC 440 CSV SAMMONTANA","FRIGORIFERO"]
["ATT00998","SCALDINO 4 PIANI \"IL PASTICCERE\" ARTECH","SCALDINO"]
["ATT00999","VETRINA VERT. SAMMONTANA","VETRINA VERTICAL"]
["ATT01000","GLOBO 550 CSV SAMMONTANA","FRIGORIFERO"]
["ATT01001","VETRINA VERT. STA 43.2 SAMMONTANA","VETRINA VERTICAL"]
["ATT01002","VETRINA VERT. STAR 43 CA LUX BINDI","VETRINA VERTICAL"]
["ATT01003","SCALDINO NEUTRO BINDI","SCALDINO"]
["ATT01004","VETRINA VERT. STAR 43.2 CA LUX BINDI","VETRINA VERTICAL"]
["ATT01005","GLOBO 700.3 SAMMONTANA","FRIGORIFERO"]
["ATT01006","GLOBO 700 NT2 BINDI","FRIGORIFERO"]
["ATT01007","VIC 220 BINDI","FRIGORIFERO"]
["ATT01008","LIEBHERR GT 4303 SAMMONTANA","FRIGORIFERO"]
["ATT01009","VETRINA VERT. STAR 43 BINDI","VETRINA VERTICAL"]
["ATT01010","VETRINA VERT. STAR 43 BINDI","VETRINA VERTICAL"]
["ATT01011","VIC 440 CCS BINDI","FRIGORIFERO"]
["ATT01012","VIC 440 CCS BINDI","FRIGORIFERO"]
["ATT01013","VIC 440 CCS BINDI","FRIGORIFERO"]
["ATT01014","VETRINA VERT. MARIN 470 RS SAMMONTANA","VETRINA VERTICAL"]
["ATT01015","VETRINA VERT. MARIN 470 RS SAMMONTANA","VETRINA VERTICAL"]
["ATT01016","VETRINA ORIZZ. ISETTA 6R R290 SAMMONTANA","VETRINA ORIZZONT"]
["ATT01017","FORNO SMEG ALFA 41 SAMMONTANA","FORNO"]
["ATT01018","VETRINA VERT. RODI 33.3 BEIGE BINDI","VETRINA VERTICAL"]
["ATT01019","VETRINA VERT. RODI 33.3 BEIGE BINDI","VETRINA VERTICAL"]
["ATT01020","VETRINA VERT. RODI 33.3 BEIGE BINDI","VETRINA VERTICAL"]
["ATT01021","VETRINA VERT. RODI 33.3 BEIGE BINDI","VETRINA VERTICAL"]
["ATT01022","VETRINA VERT. RODI 33.3 BEIGE BINDI","VETRINA VERTICAL"]
["ATT01023","VETRINA VERT. MISTRAL 40 RS BINDI","VETRINA VERTICAL"]
["ATT01024","VETRINA VERT. MISTRAL 40 RS BINDI","VETRINA VERTICAL"]
["ATT01025","VETRINA VERT. MISTRAL 40 RS BINDI","VETRINA VERTICAL"]
["ATT01026","VETRINA VERT. MISTRAL 40 RS BINDI","VETRINA VERTICAL"]
["ATT01027","VETRINA VERT. MISTRAL 40 RS BINDI","VETRINA VERTICAL"]
["ATT01030","SCALDINO RISCALDATO 2 PIANI BINDI","SCALDINO"]
["ATT01031","SCALDINO RISCALDATO 2 PIANI BINDI","SCALDINO"]
["ATT01032","SCALDINO RISCALDATO 2 PIANI BINDI","SCALDINO"]
["ATT01033","SCALDINO RISCALDATO 2 PIANI BINDI","SCALDINO"]
["ATT01034","SCALDINO RISCALDATO 2 PIANI BINDI","SCALDINO"]
["ATT01035","SCALDINO RISCALDATO 2 PIANI BINDI","SCALDINO"]
["ATT01036","SCALDINO RISCALDATO 2 PIANI BINDI","SCALDINO"]
["ATT01037","SCALDINO RISCALDATO 2 PIANI BINDI","SCALDINO"]
["ATT01038","SCALDINO RISCALDATO 2 PIANI BINDI","SCALDINO"]
["ATT01039","SCALDINO RISCALDATO 2 PIANI BINDI","SCALDINO"]
["ATT01040","VETRINETTA NEUTRA BINDI","SCALDINO"]
["ATT01041","VETRINETTA NEUTRA BINDI","SCALDINO"]
["ATT01042","VETRINETTA NEUTRA BINDI","SCALDINO"]
["ATT01043","VETRINETTA NEUTRA BINDI","SCALDINO"]
["ATT01044","CIS 260 AT LED SAMMONTANA","FRIGORIFERO"]
["ATT01045","CIS 260 AT LED SAMMONTANA","FRIGORIFERO"]
["ATT01046","CIS 360 AT LED SAMMONTANA","FRIGORIFERO"]
["ATT01047","CIS 360 AT LED SAMMONTANA","FRIGORIFERO"]
["ATT01048","GLOBO 700.3 CSV SAMMONTANA","FRIGORIFERO"]
["ATT01049","GLOBO 700.3 CSV SAMMONTANA","FRIGORFIERO"]
["ATT01050","GLOBO 700.3 CSV SAMMONTANA","FRIGORIFERO"]
["ATT01051","GLOBO 700.3 CSV SAMMONTANA","FRIGORIFERO"]
["ATT01052","GLOBO 700.3 CSV SAMMONTANA","FRIGORIFERO"]
["ATT01053","GLOBO 700.3 CSV SAMMONTANA","FRIGORIFERO"]
["ATT01054","GLOBO 700.3 CSV SAMMONTANA","FRIGORIFERO"]
["ATT01055","GLOBO 700.3 CSV SAMMONTANA","FRIGORIFERO"]
["ATT01056","GLOBO 700.3 CSV SAMMONTANA","FRIGORIFERO"]
["ATT01057","GLOBO 700.3 CSV SAMMONTANA","FRIGORIFERO"]
["ATT01058","GLOBO 700.3 CSV SAMMONTANA","FRIGORIFERO"]
["ATT01059","GLOBO 700.3 CSV SAMMONTANA","FRIGORIFERO"]
["ATT01060","GLOBO 700.3 CSV SAMMONTANA","FRIGORIFERO"]
["ATT01061","GLOBO 700.3 CSV SAMMONTANA","FRIGORIFERO"]
["ATT01062","GLOBO 700.3 CSV SAMMONTANA","FRIGORIFERO"]
["ATT01063","GLOBO 700.3 CSV SAMMONTANA","FRIGORIFERO"]
["ATT01064","GLOBO 700.3 CSV SAMMONTANA","FRIGORIFERO"]
["ATT01065","GLOBO 700.3 CSV SAMMONTANA","FRIGRIFERO"]
["ATT01066","GLOBO 700.3 CSV SAMMONTANA","FRIGORIFERO"]
["ATT01067","GLOBO 700.3 CSV SAMMONTANA","FRIGORIFERO"]
["ATT01068","VETRINA VERT. GLEE SILVER SAMMONTANA","VETRINA VERTICAL"]
["ATT01069","VETRINA VERT. GLEE SILVER SAMMONTANA","VETRINA VERTICAL"]
["ATT01070","GTI 4903 D66 SAMMONTANA","FRIGORIFERO"]
["ATT01071","GTI 4903 D66 SAMMONTANA","FRIGORIFERO"]
["ATT01072","GTI 4903 D66 SAMMONTANA","FRIGORIFERO"]
["ATT01073","GTI 4903 D66 SAMMONTANA","FRIGORIFERO"]
["ATT01074","GLOBO 700 SAMMONTANA","FRIGORIFERO"]
["ATT01075","GLOBO 700 SAMMONTANA","FRIGORIFERO"]
["ATT01076","GLOBO 700 SAMMONTANA","FRIGORIFERO"]
["ATT01077","GLOBO 700.3 CCS SAMMONTANA","FRIGORIFERO"]
["ATT01078","GLOBO 700.3 CCS SAMMONTANA","FRIGORIFERO"]
["ATT01079","GLOBO 700.3 CCS SAMMONTANA","FRIGORIFERO"]
["ATT01080","GLOBO 700.3 CCS SAMMONTANA","FRIGORIFERO"]
["ATT01081","GLOBO 700.3 CSV SAMMONTANA","FRIGORIFERO"]
["ATT01082","GLOBO 700.3 CSV SAMMONTANA","FRIGORIFERO"]
["ATT01083","VETRINA VERT. GLEE V2 SILVER SAMMONTANA","VETRINA VERTICAL"]
["ATT01084","VETRINA VERT. GLEE V2 SILVER SAMMONTANA","VETRINA VERTICAL"]
["ATT01085","VETRINA VERT. GLEE V2 SILVER SAMMONTANA","VETRINA VERTICAL"]
["ATT01086","VETRINA VERT. STAR 43 CA LUX BINDI","VETRINA VERTICAL"]
["ATT01087","FORNO SMEG ALFA 43 \"IL PASTICCERE\"","FORNO"]
["ATT01088","VETRINA VERT. STAR 43 CA LUX BINDI","VETRINA VERTICAL"]
["ATT01089","VIC 330 SAMMONTANA","FRIGORIFERO"]
["ATT01090","VETRINA VERT. RODI 33 BINDI","VETRINA VERTICAL"]
["ATT01091","FORNO SMEG ALFA 43 BINDI","FORNO"]
["ATT01092","CONGELATORE CFS 500 R660A","FRIGORIFERO"]
["ATT01093","CONGELATORE CFS 500 R660A","FRIGORIFERO"]
["ATT01094","FORNO UNOX ROSSELLA 03EU VANDEMOORTELE","FORNO"]
["ATT01095","GLOBO 700 NCA CCS SAMMONTANA","FRIGORIFERO"]
["ATT01096","VETRINE VERT. STAR 43 SAMMONTANA","VETRINA VERTICAL"]
["ATT01097","VETRINA VERT. STAR 43 SAMMONTANA","VETRINA VERTICAL"]
["ATT01098","VETRINA VERT. DECO' SAMMONTANA","VETRINA VERTICAL"]
["ATT01099","GLOBO 700 SAMMONTANA","FRIGORIFERO"]
["ATT01100","GLOBO 700 SAMMONTANA","FRIGORIFERO"]
["ATT01101","GLOBO 700 SAMMONTANA","FRIGORIFERO"]
["ATT01102","FORNO SMEG ALFA 43 SAMMONTANA","FORNO"]
["ATT01103","VETRINA VERT. MISTRAL 40 RS BINDI","VETRINA VERTICAL"]
["ATT01104","VETRINA VERT. FROST 350NS-3V BINDIR 43 BINDI","VETRINA VERTICAL"]
["ATT01105","SCALDINO 2 PIANI BINDI","SCALDINO"]
["ATT01106","GLOBO 700 SAMMONTANA","FRIGORIFERO"]
["ATT01107","FORNO SMEG ALFA 43 SAMMONTANA","FORNO"]
["ATT01108","VETRINA VERT. RODI 33.3 BINDI","VETRINA VERTICAL"]
["ATT01109","FORNO SMEG ALFA 43 XT SAMMONTANA","FORNO"]
["ATT01110","FORNO SMEG ALFA 43 XT SAMMONTANA","FORNO"]
["ATT01111","FORNO SMEG ALFA 43 XT SAMMONTANA","FORNO"]
["ATT01112","FORNO SMEG ALFA 43 XT SAMMONTANA","FORNO"]
["ATT01113","FORNO SMEG ALFA 43 XT SAMMONTANA","FORNO"]
["ATT01114","FORNO SMEG ALFA 43 XT SAMMONTANA","FORNO"]
["ATT01115","FORNO SMEG ALFA 43 XT SAMMONTANA","FORNO"]
["ATT01116","FORNO SMEG ALFA 43 XT SAMMONTANA","FORNO"]
["ATT01117","GLOBO 450 CSV SAMMONTANA","FRIGORIFERO"]
["ATT01118","GLOBO 700 SAMMONTANA","FRIGORIFERO"]
["ATT01119","BANCO CAFFE BREAK","FRIGORIFERO"]
["ATT01120","VETRINA VERT. STAR 43.3 LUX BINDI","VETRINA VERTICAL"]
["ATT01121","BMAX 680.2 LED SAMMONTANA","FRIGORIFERO"]
["ATT01122","VETRINA VERT. FROST 400 NS SAMMONTANA","VETRINA VERTICAL"]
["ATT01123","VETRINA VERT. FROST 400 NS SAMMONTANA","VETRINA VERTICAL"]
["ATT01124","VETRINA VERT. FROST 400 NS SAMMONTANA","VETRINA VERTICAL"]
["ATT01125","VETRINA VERT. FROST 400 NS SAMMONTANA","VETRINA VERTICAL"]
["ATT01126","VETRINA VERT. FROST 400 NS SAMMONTANA","VETRINA VERTICAL"]
["ATT01127","VETRINA VERT. FROST 400 NS SAMMONTANA","VETRINA VERTICAL"]
["ATT01128","VETRINA VERT. FROST 400 NS SAMMONTANA","VETRINA VERTICAL"]
["ATT01129","VETRINA VERT. MISTRAL 40 RS SAMMONTANA","VETRINA VERTICAL"]
["ATT01130","VIC 330 LED AT BINDI","FRIGORIFERO"]
["ATT01131","VETRINA VERT. RODI 33.3 BINDI","VETRINA VERTICAL"]
["ATT01132","VETRINA VERT. RODI 33.3 BINDI","VETRINA VERTICAL"]
["ATT01133","VETRINA VERT. RODI 33.3 BINDI","VETRINA VERTICAL"]
["ATT01134","VETRINA VERT. RODI 33.3 BINDI","VETRINA VERTICAL"]
["ATT01135","VETRINA VERT. RODI 33.3 BINDI","VETRINA VERTICAL"]
["ATT01136","CARRELLO REFRIGERATO POSITIVO BINDI","CARRELLO"]
["ATT01137","VETRINA VERT. TORNADO 40 RS LED BINDI","VETRINA VERTICAL"]
["ATT01138","VETRINA VERT. TORNADO 40 RS LED BINDI","VETRINA VERTICAL"]
["ATT01139","VETRINA VERT. TORNADO 40 RS LED BINDI","VETRINA VERTICAL"]
["ATT01140","VETRINA VERT. TORNADO 40 RS LED BINDI","VETRINA VERTICAL"]
["ATT01141","VETRINA VERT. TORNADO 40 RS LED BINDI","VETRINA VERTICAL"]
["ATT01142","VETRINA VERT. TORNADO 40 RS LED BINDI","VETRINA VERTICAL"]
["ATT01143","VETRINA VERT. TORNADO 40 RS LED BINDI","VETRINA VERTICAL"]
["ATT01144","VIC 330 4SK CCS BINDI","FRIGORIFERO"]
["ATT01145","VIC 330 4SK CCS BINDI","FRIGORIFERO"]
["ATT01146","VIC 330 4SK CCS BINDI","FRIGORIFERO"]
["ATT01147","VIC 330 4SK CCS BINDI","FRIGORIFERO"]
["ATT01148","FORNO SMEG ALFA 43 \"IL PASTICCERE\"","FORNO"]
["ATT01149","VETRINA VERT. MISTRAL 40 RS SAMMONTANA","VETRINA VERTICAL"]
["ATT01150","FORNO SMEG ALFA 43 SAMMONTANA","FORNO"]
["ATT01151","VETRINA VERT. RODI 33.3 BINDI","VETRINA VERTICAL"]
["ATT01152","FORNO SMEG ALFA 43 SAMMONTANA","FORNO"]
["ATT01153","VETRINA VERT. STAR 43 CA LUX BINDI","VETRINA VERTICAL"]
["ATT01154","SCALDINO DUE PIANI BINDI","SCALDINO"]
["ATT01155","VETRINA VERT. STAR 43 CA LUX BINDI","VETRINA VERTICAL"]
["ATT01156","VETRINA VERT. ASTRA 43 BINDI","VETRINA VERTICAL"]
["ATT01157","VETRINA VERT. FROST NS5T 3 VETRI BINDI","VETRINA VERTICAL"]
["ATT01158","VETRINA VERT. FROST NS5T 3 VETRI BINDI","VETRINA VERTICAL"]
["ATT01159","VETRINA VERT. FROST NS5T 3 VETRI BINDI","VETRINA VERTICAL"]
["ATT01160","GLOBO 700 SAMMONTANA","FRIGORIFERO"]
["ATT01161","VETRINA VERT. STAR 43 CA LUX BINDI","VETRINA VERTICAL"]
["ATT01162","VETRINA VERT. STAR 43 LUX 2T BINDI","VETRINA VERTICAL"]
["ATT01163","VIC 735 SAMMONTANA","FRIGORIFERO"]
["ATT01164","SCALDINO RISCALDATO 2 PIANI BINDI","SCALDINO"]
["ATT01165","SCALDINO RISCALDATO 2 PIANI BINDI","SCALDINO"]
["ATT01166","SCALDINO RISCALDATO 2 PIANI BINDI","SCALDINO"]
["ATT01167","SCALDINO RISCALDATO 2 PIANI BINDI","SCALDINO"]
["ATT01168","SCALDINO RISCALDATO 2 PIANI BINDI","SCALDINO"]
["ATT01169","SCALDINO RISCALDATO 2 PIANI BINDI","SCALDINO"]
["ATT01170","SCALDINO RISCALDATO 2 PIANI BINDI","SCALDINO"]
["ATT01171","SCALDINO RISCALDATO 2 PIANI BINDI","SCALDINO"]
["ATT01172","SCALDINO RISCALDATO 2 PIANI BINDI","SCALDINO"]
["ATT01173","SCALDINO RISCALDATO 2 PIANI BINDI","SCALDINO"]
["ATT01174","FORNO SMEG ALFA 43X BINDI","FORNO"]
["ATT01175","FORNO SMEG ALFA 43X BINDI","FORNO"]
["ATT01176","FORNO SMEG ALFA 43X BINDI","FORNO"]
["ATT01177","FORNO SMEG ALFA 43X BINDI","FORNO"]
["ATT01178","FORNO SMEG ALFA 43X BINDI","FORNO"]
["ATT01179","FORNO SMEG ALFA 43X BINDI","FORNO"]
["ATT01180","FORNO SMEG ALFA 43X BINDI","FORNO"]
["ATT01181","FORNO SMEG ALFA 43X BINDI","FORNO"]
["ATT01182","FORNO SMEG ALFA 43X BINDI","FORNO"]
["ATT01183","FORNO SMEG ALFA 43X BINDI","FORNO"]
["ATT01184","GLOBO 700 SAMMONTANA","FRIGORIFERO"]
["ATT01185","VETRINA VERT. SILVER SAMMONTANA","VETRINA VERTICAL"]
["ATT01186","FORNO SMEG ALFA 43 BINDI","SCALDINO"]
["ATT01187","SCALDINO 2 PIANI \"IL PASTICCERE\"","SCALDINO"]
["ATT01188","VIC 330 CCS BINDI","FRIGORIFERO"]
["ATT01189","GLOBO 700 SAMMONTANA","FRIGORIFERO"]
["ATT01190","FORNO SMEG ALFA 41 SAMMONTANA","FORNO"]
["ATT01191","LIEBHERR 460 AT SAMMONTANA","FRIGORIFERO"]
["ATT01192","FORNO SMEG ALFA 41 SAMMONTANA","FORNO"]
["ATT01193","SCALDINO 2 PIANI BINDI","SCALDINO"]
["ATT01194","VETRINA VERT. 2T BINDI","VETRINA VERTICAL"]
["ATT01195","VETRINA RISCALDATA \"SERIE Q\" SAMMONTANA","SCALDINO"]
["ATT01196","GLOBO 680 SL SAMMONTANA","FRIGORIFERO"]
["ATT01197","VETRINA VERT. ASTRA 43 BINDI","VETRINA VERTICAL"]
["ATT01198","VIC 150 SAMMONTANA","FRIGORIFERO"]
["ATT01199","GLOBO 700 SAMMONTANA","FRIGORIFERO"]
["ATT01200","CHIOSCO MARKET 330X220 LEGNO","CHIOSCO"]
["ATT01201","CHIOSCO MARKET 330X220 LEGNO","CHIOSCO"]
["ATT01202","VETRINA VERT. STAR 43 CA BINDI","VETRINA VERTICAL"]
["ATT01203","FORNO EKA BINDI","FORNO"]
["ATT01204","CARRELLO REFRIGERATO BINDI","CARRELLO"]
["ATT01205","SLANT 735 SAMMONTANA","FRIGORIFERO"]
["ATT01206","VETRINA VERT. STAR 43 SAMMONTANA","VETRINA VERTICAL"]
["ATT01207","VETRINA VERT. MISTRAL 40 RS BINDI","VETRINA VERTICAL"]
["ATT01208","VETRINA VERT. MISTRAL 40 RS BINDI","VETRINA VERTICAL"]
["ATT01209","VETRINA VERT. MISTRAL 40 RS BINDI","VETRINA VERTICAL"]
["ATT01210","GLOBO 700 SAMMONTANA","FRIGORIFERO"]
["ATT01211","GLOBO 700.3 CSV SAMMONTANA","FRIGORIFERO"]
["ATT01212","GLOBO 700.3 AT SAMMONTANA","FRIGORIFERO"]
["ATT01213","FORNO SMEG ALFA 43 \"IL PASTICCERE\"","FORNO"]
["ATT01214","VETRINA VERT. MISTRAL 40 RS SAMMONTANA","VETRINA VERTICAL"]
["ATT01215","GLOBO 700.3 CSV SAMMONTANA","FRIGORIFERO"]
["ATT01216","MAXI 70 R507 SAMMONTANA","FRIGORIFERO"]
["ATT01217","GLOBO 700.3 CSV SAMMONTANA","FRIGORIFERO"]
["ATT01218","VETRINA VERT. MISTRAL 40RS SAMMONTANA","VETRINA VERTICAL"]
["ATT01219","FORNO EKA BINDI","FORNO"]
["ATT01220","SCALDINO BISTEFANI","SCALDINO"]
["ATT01221","FORNO SMEG ALFA 31","FORNO"]
["ATT01222","VETRINA VERT. SAMMONTANA","VETRINA VERTICAL"]
["ATT01223","FORNO EKA F423P BINDI","FORNO"]
["ATT01224","FORNO SMEG ALFA 43 BINDI","FORNO"]
["ATT01225","FORNO SMEG ALFA 30 BINDI","FORNO"]
["ATT01226","VETRINA VERT. STAR 43 CA LUX BINDI","VETRINA VERTICAL"]
["ATT01227","VETRINA VERT. DECO SAMMONTANA","VETRINA VERTICAL"]
["ATT01228","FORNO SMEG ALBA 43 BINDI","FORNO"]
["ATT01229","FORNO GEMINI BINDI","FORNO"]
["ATT01230","CARRELLO REFRGERATO BINDI","CARRELLO"]
["ATT01231","VETRINA VERT. MISTRAL 40 RS SAMMONTANA","VETRINA VERTICAL"]
["ATT01232","SLANT 735 SAMMONTANA","FRIGORIFERO"]
["ATT01233","FORNO SMEG ALFA 41 SAMMONTANA","FORNO"]
["ATT01234","FORNO UNOX ROSSELLA VANDEMOORTELE","FORNO"]
["ATT01235","VETRINA VERT. RODI 33.3 BINDI","VETRINA VERTICAL"]
["ATT01236","GLOBO 700 SAMMONTANA","FRIGORIFERO"]
["ATT01237","GLOBO 700 CCS SAMMONTANA","FRIGORIFERO"]
["ATT01238","GLOBO 700 SAMMONTANA","FRIGORIFERO"]
["ATT01239","VETRINA VERT. RODI 33.3 BINDI","VETRINAVERTICAL"]
["ATT01240","VETRINA VERT. STAR 43 CA LUX 2T BINDI","VETRINAVERTICAL"]
["ATT01241","VIC 330 AT LED BINDI","FRIGORIFRO"]
["ATT01242","GLOBO 700 CCS SAMMONTANA","FRIGORIFERO"]
["ATT01243","LIEBHERR GTI 3003 SAMMONTANA","FRIGORIFERO"]
["ATT01244","GLOBO 700 SAMMONTANA","FRIGORIFERO"]
["ATT01248","VETRINA VERT. RODI 33 BEIGE BINDI","VETRINA VERTICAL"]
["ATT01249","GLOBO 700 SAMMONTANA","FRIGORIFERO"]
["ATT01250","VIC 220 4SK AT BINDI","FRIGORIFERO"]
["ATT01251","VETRINA VERT. RODI 33 BINDI","VETRINA VERTICAL"]
["ATT01252","VIC 440 AT LED BINDI","VETRINA VERTICAL"]
["ATT01253","FORNO SMEG ALFA 43X BINDI","FORNO"]
["ATT01254","FORNO SMEG ALFA 43X BINDI","FORNO"]
["ATT01255","FORNO SMEG ALFA 43X BINDI","FORNO"]
["ATT01256","FORNO SMEG ALFA 43X BINDI","FORNO"]
["ATT01257","VETRINA VERT. STAR 43.2 2T LED BINDI","VETRINA VERTICAL"]
["ATT01258","VETRINA VERT. RODI 33.3 BINDI","VETRINA VERTICAL"]
["ATT01259","VETRINA VERT. RODI 33.3 BINDI","VETRINA VERTICAL"]
["ATT01260","VETRINA VERT. MISTRAL 40 RS BINDI","VETRINA VERTICAL"]
["ATT01261","VETRINA VERT. MISTRAL 40 RS BINDI","VETRINA VERTICAL"]
["ATT01262","SCALDINO 2 PIANI RISCALDATO BINDI","SCALDINO"]
["ATT01263","SCALDINO 2 PIANI RISCALDATO BINDI","SCALDINO"]
["ATT01264","SCALDINO 2 PIANI RISCALDATO BINDI","SCALDINO"]
["ATT01265","SCALDINO 2 PIANI RISCALDATO BINDI","SCALDINO"]
["ATT01266","CARRELLO REFRIGERATO POSITIVO BINDI","CARRELLO"]
["ATT01267","SCALDINO 2 PIANI BINDI","SCALDINO"]
["ATT01268","SCALDINO 2 PIANI BINDI","SCALDINO"]
["ATT01269","SCALDINO 2 PIANI BINDI","SCALDINO"]
["ATT01270","FORNO SMEG ALFA 43 SAMMONTANA","FORNO"]
["ATT01271","FORNO SMEG ALFA 41 SAMMONTANA","FORNO"]
["ATT01272","FORNO GEMINI BINDI","FORNO"]
["ATT01273","FORNO GEMINI BINDI","FORNO"]
["ATT01274","VETRINA ORIZZ. ISETTA R6 SAMMONTANA","VETRINA ORIZZONT"]
["ATT01275","VETRINA VERT. RODI 33 BINDI","VETRINA VERTICAL"]
["ATT01276","FORNO SMEG ALFA 43XT SAMMONTANA","FORNO"]
["ATT01277","FORNO SMEG ALFA 43XT SAMMONTANA","FORNO"]
["ATT01278","FORNO SMEG ALFA 43XT SAMMONTANA","FORNO"]
["ATT01279","FORNO SMEG ALFA 43XT SAMMONTANA","FORNO"]
["ATT01280","FORNO SMEG ALFA 43XT SAMMONTANA","FORNO"]
["ATT01281","FORNO SMEG ALFA 43XT SAMMONTANA","FORNO"]
["ATT01282","FORNO SMEG ALFA 43XT SAMMONTANA","FORNO"]
["ATT01283","FORNO SMEG ALFA 43XT SAMMONTANA","FORNO"]
["ATT01284","FORNO SMEG ALFA 43XT SAMMONTANA","FORNO"]
["ATT01285","SCALDINO 3 PIANI \"TRE MARIE\"","SCALDINO"]
["ATT01286","SCALDINO 3 PIANI \"TRE MARIE\"","SCALDINO"]
["ATT01287","SCALDINO 3 PIANI \"TRE MARIE\"","SCALDINO"]
["ATT01288","SCALDINO 3 PIANI \"TRE MARIE\"","SCALDINO"]
["ATT01289","VETRINA ORIZZ. BERMUDA 13 SHOW SAMMONTANA","VETRINA ORIZZONT"]
["ATT01290","FORNO SMEG ALFA 43 SAMMONTANA","FORNO"]
["ATT01291","VETRINA VERT. RODI 33 BINDI","VETRINA VERTICAL"]
["ATT01292","GLOBO 680 SAMMONTANA","FRIGORIFERO"]
["ATT01293","VETRINA VERT. DECO' SAMMONTANA","VETRINA VERTICAL"]
["ATT01294","VIC 440 SAMMONTANA","FRIGORIFERO"]
["ATT01295","SLANT 745 SAMMONTANA","FRIGORIFERO"]
["ATT01296","SCALDINO CTR583PS \"IL PASTICCERE\"","SCALDINO"]
["ATT01297","SCALDINO 3 PIANI \"IL PASTICCERE\"","SCALDINO"]
["ATT01298","GLOBO 700.3 CSV SAMMONTANA","FRIGORIFERO"]
["ATT01299","GLOBO 700.3 CSV SAMMONTANA","FRIGORIFERO"]
["ATT01300","GLOBO 700.3 CSV SAMMONTANA","FRIGORIFERO"]
["ATT01301","GLOBO 700.3 CSV SAMMONTANA","FRIGORIFERO"]
["ATT01302","GLOBO 700.3 CSV SAMMONTANA","FRIGORIFERO"]
["ATT01303","GLOBO 700.3 AT C/CEST SAMMONTANA","FRIGORIFERO"]
["ATT01304","GLOBO 700.3 AT C/CEST SAMMONTANA","FRIGORIFERO"]
["ATT01305","VETRINA VERT. GLEE 43 LITE SILVER SAMMONTANA","VETRINA VERTICAL"]
["ATT01306","VETRINA VERT. GLEE 43 LITE SILVER SAMMONTANA","VETRINA VERTICAL"]
["ATT01307","VETRINA VERT. GLEE 43 LITE SILVER SAMMONTANA","VETRINA VERTICAL"]
["ATT01308","VETRINA VERT. GLEE 43 LITE SILVER SAMMONTANA","VETRINA VERTICAL"]
["ATT01309","VETRINA VERT. GLEE 43 LITE SILVER SAMMONTANA","VETRINA VERTICAL"]
["ATT01310","VETRINA VERT. MIRA N FLAT SAMMONTANA","VETRINA VERTICAL"]
["ATT01311","VETRINA VERT. MIRA N FLAT SAMMONTANA","VETRINA VERTICAL"]
["ATT01312","GLOBO 700.3 CCS SAMMONTANA","FRIGORIFERO"]
["ATT01313","GLOBO 700.3 CCS SAMMONTANA","FRIGORIFERO"]
["ATT01314","GLOBO 700.3 CCS SAMMONTANA","FRIGORIFERO"]
["ATT01315","GLOBO 700.3 CCS SAMMONTANA","FRIGORIFERO"]
["ATT01316","GLOBO 700.3 CCS SAMMONTANA","FRIGORIFERO"]
["ATT01317","GLOBO 700.3 CCS SAMMONTANA","FRIGORIFERO"]
["ATT01318","GLOBO 700.3 CCS SAMMONTANA","FRIGORIFERO"]
["ATT01319","GLOBO 700.3 CCS SAMMONTANA","FRIGORIFERO"]
["ATT01320","GLOBO 700.3 CSV SAMMONTANA","FRIGORIFERO"]
["ATT01321","GLOBO 700.3 CSV SAMMONTANA","FRIGORIFERO"]
["ATT01322","GLOBO 700.3 CSV SAMMONTANA","FRIGORIFERO"]
["ATT01323","GLOBO 700.3 CSV SAMMONTANA","FRIGORIFERO"]
["ATT01324","GLOBO 700.3 CSV SAMMONTANA","FRIGORIFERO"]
["ATT01325","VIC 330 4SK LED AT SAMMONTANA","FRIGORIFERO"]
["ATT01326","VIC 330 4SK LED AT SAMMONTANA","FRIGOIFERO"]
["ATT01327","VETRINA ORIZZ. BERMUDA SHOW 10 SAMMONTANA","VETRINA ORIZZONT"]
["ATT01328","VETRINA ORIZZ. BERMUDA SHOW 10 SAMMONTANA","VETRINA ORIZZONT"]
["ATT01329","VETRINA ORIZZ. BERMUDA SHOW 10 SAMMONTANA","VETRINA ORIZZONT"]
["ATT01330","VETRINA VERT. MARIN 470 RS SAMMONTANA","VETRINA VERTICAL"]
["ATT01331","VETRINA VERT. MARIN 470 RS SAMMONTANA","VETRINA VERTICAL"]
["ATT01332","VETRINA VERT. MARIN 470 RS SAMMONTANA","VETRINA VERTICAL"]
["ATT01333","VETRINA VERT. MARIN 470 RS SAMMONTANA","VETRINA VERTICAL"]
["ATT01334","VETRINA VERT. MARIN 470 RS SAMMONTANA","VETRINA VERTICAL"]
["ATT01335","VETRINA VERT. MARIN 470 RS SAMMONTANA","VETRINA VERTICAL"]
["ATT01336","VETRINA VERT. MARIN 470 RS SAMMONTANA","VETRINA VERTICAL"]
["ATT01337","VETRINA VERT. MARIN 470 RS SAMMONTANA","VETRINA VERTICAL"]
["ATT01338","VETRINA VERT. MARIN 340 RS SAMMONTANA","VETRINA VERTICAL"]
["ATT01339","VETRINA VERT. MARIN 340 RS SAMMONTANA","VETRINA VERTICAL"]
["ATT01340","VETRINA VERT. RODI 33.3 BINDI","VETRINA VERTICAL"]
["ATT01341","VETRINA VERT. RODI 33.3 BINDI","VETRINA VERTICAL"]
["ATT01342","VETRINA VERT. GLEE 40 BINDI","VETRINA VERTICAL"]
["ATT01343","VETRINA VERT. GLEE 40 BINDI","VETRINA VERTICAL"]
["ATT01344","VETRINA VERT. GLEE 40 BINDI","VETRINA VERTICAL"]
["ATT01345","FORNO SMEG ALFA 43X BINDI","FORNO"]
["ATT01346","FORNO SMEG ALFA 43X BINDI","FORNO"]
["ATT01347","FORNO SMEG ALFA 43X BINDI","FORNO"]
["ATT01348","FORNO SMEG ALFA 43X BINDI","FORNO"]
["ATT01349","FORNO SMEG ALFA 43X BINDI","FORNO"]
["ATT01350","SCALDINO 3 PIANI","SCALDINO"]
["ATT01351","VETRINA VERT. MISTRAL 40RS BINDI","VETRINA VERTICAL"]
["ATT01352","VETRINA VERT. FROST 350 3V BINDI","VETRINA VERTICAL"]
["ATT01353","VETRINA VERT. FROST 350 3V BINDI","VETRINA VERTICAL"]
["ATT01354","SCALDINO 3 PIANI \"IL PASTICCERE\"","SCALDINO"]
["ATT01355","FORNO SMEG ALFA 43 SAMMONTANA","FORNO"]
["ATT01356","FORNO SMEG ALFA 43 SAMMONTANA","FORNO"]
["ATT01357","SLANT 745 SAMMONTANA","FRIGORIFERO"]
["ATT01358","FORNO SMEG ALFA 41 SAMMONTANA","FORNO"]
["ATT01359","FORNO SMEG ALFA 41 SAMMONTANA","FORNO"]
["ATT01360","SCALDINO VIENNETTA BINDI","SCALDINO"]
["ATT01361","BASTIA UMBRIA ISA 700 XL SAMMONTANA","FRIGORIFERO"]
["ATT01362","VIC 330 4SK CCS BINDI","FRIGORIFERO"]
["ATT01363","VIC 330 4SK CCS BINDI","FRIGORIFERO"]
["ATT01364","VIC 330 4SK CCS BINDI","FRIGORIFERO"]
["ATT01365","GLOBO 700.3 CCS BINDI","FRIGORIFERO"]
["ATT01366","GLOBO 700.3 CCS BINDI","FRIGORIFERO"]
["ATT01367","VETRINA VERT. STAR 43 CA LUX BINDI","VETRINA VERTICAL"]
["ATT01368","FORNO ANNA VANDEMOORTELE","FONRO"]
["ATT01369","FORNO ANNA VANDEMOORTELE","FORNO"]
["ATT01370","FORNO ANNA VANDEMOORTELE","FORNO"]
["ATT01371","FORNO SMEG ALFA 43XT SAMMONTANA","FORNO"]
["ATT01372","FORNO SMEG ALFA 43XT SAMMONTANA","FORNO"]
["ATT01373","FORNO SMEG ALFA 43XT SAMMONTANA","FORNO"]
["ATT01374","FORNO SMEG ALFA 43XT SAMMONTANA","FORNO"]
["ATT01375","VETRINA VERT. DECO' SAMMONTANA","VETRINA VERTICAL"]
["ATT01376","VETRINA VERT. DECO' SAMMONTANA","VETRINA VERTICAL"]
["ATT01377","FORNO ANNA LINE MICRO BINDI","FORNO"]
["ATT01378","FORNO ANNA LINE MICRO BINDI","FORNO"]
["ATT01379","FORNO ANNA LINE MICRO BINDI","FORNO"]
["ATT01380","FORNO ANNA LINE MICRO BINDI","FORNO"]
["ATT01381","FORNO ANNA LINE MICRO BINDI","FORNO"]
["ATT01382","BMAX 680.3 LED SAMMONTANA","FRIGORIFERO"]
["ATT01383","BMAX 680.3 LED SAMMONTANA","FRIGORIFERO"]
["ATT01384","BMAX 680.3 LED SAMMONTANA","FRIGORIFERO"]
["ATT01385","BMAX 680.3 LED SAMMONTANA","FRIGORIFERO"]
["ATT01386","BMAX 680.3 LED SAMMONTANA","FRIGORIFERO"]
["ATT01387","CIS 260 AT LED SAMMONTANA","FRIGORIFERO"]
["ATT01388","CIS 260 AT LED SAMMONTANA","FRIGORIFERO"]
["ATT01389","CIS 260 AT LED SAMMONTANA","FRIGORIFERO"]
["ATT01390","GLOBO 700 SAMMONTANA","FRIGORIFERO"]
["ATT01391","SCALDINO 3 PIANI IL PASTICCERE","SCALDINO"]
["ATT01392","SCALDINO 3 PIANI IL PASTICCERE","SCALDINO"]
["ATT01393","SCALDINO 3 PIANI IL PASTICCERE","SCALDINO"]
["ATT01394","SCALDINO 3 PIANI IL PASTICCERE","SCALDINO"]
["ATT01395","SCALDINO 3 PIANI TRE MARIE","SCALDINO"]
["ATT01396","SCALDINO 3 PIANI TRE MARIE","SCALDINO"]
["ATT01397","SCALDINO 3 PIANI TRE MARIE","SCALDINO"]
["ATT01398","SCALDINO 3 PIANI TRE MARIE","SCALDINO"]
["ATT01399","SCALDINO RISCALDATO 2 PIANI BINDI","SCALDINO"]
["ATT01400","SCALDINO 3 PIANI SAMMONTANA","SCALDINO"]
["ATT01402","VETRINA VERT. STAR 43 SAMMONTANA","VETRINA VERTICAL"]
["ATT01403","GLOBO 700 SAMMONTANA","FRIGORIFERO"]
["ATT01404","SCALDINO VLCXB250N BINDI","SCALDINO"]
["ATT01405","SCALDINO VLCXB250N BINDI","SCALDINO"]
["ATT01406","VIC 220 BINDI (MARRONE)","FRIGORIFERO"]
["ATT01407","VETRINA VERT. DECO' SAMMONTANA","FRIGORIFERO"]
["ATT01408","GLOBO 700 SAMMONTANA","FRIGORIFERO"]
["ATT01409","FORNO SMEG ALFA 43 BINDI","FORNO"]
["ATT01410","FORNO SMEG ALFA 43 SAMMONTANA","FORNO"]
["ATT01411","VETRINA VERT. STAR 43.3 SAMMONTANA","VETRINA VERTICAL"]
["ATT01412","BMAX 680.2 AT LED SAMMONTANA","FRIGORIFERO"]
["ATT01413","BMAX 680.2 AT LED SAMMONTANA","FRIGORIFERO"]
["ATT01414","GLOBO 480.3 AT C/CEST. SAMMONTANA","FRIGORIFERO"]
["ATT01415","GLOBO 480.3 AT C/CEST. SAMMONTANA","FRIGORIFERO"]
["ATT01416","GLOBO 700.3 AT C/CEST. SAMMONTANA","FRIGORIFERO"]
["ATT01417","GLOBO 700.3 AT C/CEST. SAMMONTANA","FRIGORIFERO"]
["ATT01418","GLOBO 700.3 CSV SAMMONTANA","FRIGORIFERO"]
["ATT01419","VIC 440 AT LED BINDI","FRIGORIFERO"]
["ATT01420","VETRINA VERT. RODI 33.3 BINDI","VETRINA VERTICAL"]
["ATT01421","FORNO SMEG ALFA 43 BINDI","FORNO"]
["ATT01422","VIC 330 4SK CCS BINDI","FRIGORIFERO"]
["ATT01423","FORNO SMEG ALFA 43 SAMMONTANA","FORNO"]
["ATT01424","SCALDINO 3 PIANI \"IL PASTICCERE\"","SCALDINO"]
["ATT01425","SLANT 735 SAMMONTANA","FRIGORIFERO"]
["ATT01426","GLOBO 700 SAMMONTANA","FRIGORIFERO"]
["ATT01427","FORNO SMEG ALFA 41 SAMMONTANA","FORNO"]
["ATT01428","LIEBHERR 4303 GTI SAMMONTANA","FRIGORIFERO"]
["ATT01429","LIEBHERR 460 SAMMONTANA","FRIGORIFERO"]
["ATT01430","LIEBHERR GTI 4303 SAMMONTANA","FRIGORIFERO"]
["ATT01431","GLOBO 700.3 CSV SAMMONTANA","FRIGORIFERO"]
["ATT01432","GLOBO 700.3 CSV SAMMONTANA","FRIGORIFERO"]
["ATT01433","GLOBO 700.3 CSV SAMMONTANA","FRIGORIFERO"]
["ATT01434","FORNO SMEG ALFA 43 BINDI","FORNO"]
["ATT01435","GLOBO 700.3 CSV SAMMONTANA","FRIGORIFERO"]
["ATT01436","FORNO SMEG ALFA 43 SAMMONTANA","FORNO"]
["ATT01437","GLOBO 700 SAMMONTANA","FRIGORIFERO"]
["ATT01438","GLOBO 700 SAMMONTANA","FRIGORIFERO"]
["ATT01439","GLOBO 440 CCS BINDI","FRIGORIFERO"]
["ATT01440","VIC 330 AT LED BINDI","FRIGORIFERO"]
["ATT01441","SCALDINO VIENNETTE R2U BINDI","SCALDINO"]
["ATT01442","SCALDINO VIENNETTA R2U BINDI","SCALDINO"]
["ATT01443","TAHITI 2 250RS TB BASTIA UMBRA","FRIGORIFERO"]
["ATT01444","SCALDINO CTR583PS SAMMONTANA","SCALDINO"]
["ATT01445","GLOBO 700 SAMMONTANA","FRIGORIFERO"]
["ATT01447","GLOBO 700.3 CCS SAMMONTANA","FRIGORIFERO"]
["ATT01448","LIEBHERR 4303 GTI SAMMONTANA","FRIGORIFERO"]
["ATT01449","FORNO SMEG ALFA 43X SAMMONTANA","FORNO"]
["ATT01450","GLOBO 700.3 CCS SAMMONTANA","FRIGORIFERO"]
["ATT01451","GLOBO 700.3 CCS SAMMONTANA","FRIGORIFERO"]
["ATT01452","GLOBO 700.3 CCS SAMMONTANA","FRIGORIFERO"]
["ATT01453","BMAX 400.2 AT LED SAMMONTANA","FRIGORIFERO"]
["ATT01454","BMAX 680.3 CC LED SAMMONTANA","FRIGORIFERO"]
["ATT01455","BMAX 680.3 CC LED SAMMONTANA","FRIGORIFERO"]
["ATT01456","BMAX 680.3 CC LED SAMMONTANA","FRIGORIFERO"]
["ATT01457","BMAX 680.3 CC LED SAMMONTANA","FRIGORIFERO"]
["ATT01458","FORNO UNOX XF065 SAMMONTANA","FORNO"]
["ATT01459","CARRELLO REFRIGERATO POSITIVO BINDI","CARRELLO"]
["ATT01460","VETRINA VERT. SILVER SAMMONTANA","VETRINA VERTICAL"]
["ATT01461","GLOBO 700 SAMMONTANA","FRIGORIFERO"]
["ATT01462","GRANITORE B-FROZEN SAMMONTANA","GRANITORE"]
["ATT01463","SCALDINO 3 PIANI \"TRE MARIE\"","SCALDINO"]
["ATT01464","FORNO SMEG ALFA 43XT SAMMONTANA","FORNO"]
["ATT01465","VETRINA ORIZZ. ISABELLA 180LX SAMMONTANA","VETRINA ORIZZONT"]
["ATT01466","SLANT 440 SAMMONTANA","FRIGORIFERO"]
["ATT01467","VETRINA VERT. DECO' SAMMONTANA","VETRINA VERTICAL"]
["ATT01468","VETRINA VERT. STAR 43 CA LUX BINDI","VETRINA VERTICAL"]
["ATT01469","VETRINA ORIZZ. ISABELLA R6 SAMMONTANA","VETRINA ORIZZONT"]
["ATT01470","GTI 2500 SAMMONTANA","FRIGORIFERO"]
["ATT01471","GTI 2000 SAMMONTANA","FRIGORIFERO"]
["ATT01472","FORNO SMEG ALFA 43 BINDI","FORNO"]
["ATT01473","GLOBO 700 SAMMONTANA","FRIGORIFERO"]
["ATT01474","FORNO SMEG ALFA 31 SAMMONTANA","FORNO"]
["ATT01475","GLOBO 700.3 CCS SAMMONTANA","FRIGORIFERO"]
["ATT01476","GLOBO 700.3 CSV SAMMONTANA","FRIGORIFERO"]
["ATT01477","GLOBO 700.3 CSV SAMMONTANA","FRIGORIFERO"]
["ATT01478","GLOBO 700.3 CSV SAMMONTANA","FRIGORIFERO"]
["ATT01479","GLOBO 700.3 CSV SAMMONTANA","FRIGORIFERO"]
["ATT01480","GLOBO 700.3 CSV SAMMONTANA","FRIGORIFERO"]
["ATT01481","VETRINA VERT. STAR 43.3 CA LUX BINDI","VETRINA VERTICAL"]
["ATT01482","VETRINA VERT. STAR 43.3 CA LUX BINDI","VETRINA VERTICAL"]
["ATT01483","VETRINA VERT. STAR 43.3 CA LUX BINDI","VETRINA VERTICAL"]
["ATT01484","CHIOSCO MARKET 330X318 LEGNO","CHIOSCO"]
["ATT01485","GLOBO 700 SAMMONTANA","FRIGORIFERO"]
["ATT01486","SCALDINO 2 PIANI BINDI","SCALDINO"]
["ATT01487","SCALDINO 2 PIANI BINDI","SCALDINO"]
["ATT01488","GLOBO 700 CSV SAMMONTANA","FRIGORIFERO"]
["ATT01489","GLOBO 700 CCS SAMMONTANA","FRIGORIFERO"]
["ATT01490","FORNO SMEG ALFA 41 SAMMONTANA","FORNO"]
["ATT01491","VETRINA VERT. MISTRAL 40 BINDI","VETRINA VERTICAL"]
["ATT01492","SCALDINO 2 PIANI RISCALDATO BINDI","SCALDINO"]
["ATT01493","SCALDINO 2 PIANI RISCALDATO BINDI","SCALDINO"]
["ATT01494","SCALDINO 2 PIANI RISCALDATO BINDI","SCALDINO"]
["ATT01495","SCALDINO 2 PIANI RISCALDATO BINDI","SCALDINO"]
["ATT01496","SCALDINO 2 PIANI RISCALDATO BINDI","SCALDINO"]
["ATT01497","SCALDINO 2 PIANI RISCALDATO BINDI","SCALDINO"]
["ATT01498","GLOBO 700.3 CCS SAMMONTANA","FRIGORIFERO"]
["ATT01499","VETRINA VERT. MISTRAL 40RS DECO SAMMONTANA","VETRINA VERTICAL"]
["ATT01500","VETRINA VERT. STAR 43 CA LUX SAMMONTANA","VETRINA VERTICAL"]
["ATT01501","VETRINA VERT. STAR 43 BINDI","VETRINA VERTICAL"]
["ATT01502","VETR. VERTICALE STAR 43 BINDI","VETRINA VERTICAL"]
["ATT01503","VETRINA VERT. FROST 350NS-3V BINDI","VETRINA VERTICAL"]
["ATT01504","VETRINA VERT. FROST 350NS-3V BINDI","VETRINA VERTICAL"]
["ATT01505","VETRINA VERT. FROST 350NS-3V BINDI","VETRINA VERTICAL"]
["ATT01506","VETRINA VERT. TORNADO NEG. BINDI","VETRINA VERTICAL"]
["ATT01507","VETRINA VERT. TORNADO NEG. BINDI","VETRINA VERTICAL"]
["ATT01508","FORNO UNOX VANDEMOORTELE","FORNO"]
["ATT01509","VIC 330 BINDI","FRIGORIFERO"]
["ATT01510","VETRINA VERT. ICE SAMMONTANA","VETRINA VERTICAL"]
["ATT01511","VETRINA VERT. DECO SAMMONTANA","VETRINA VERTICAL"]
["ATT01512","MARKET ISOLA SAMMONTANA","FRIGORIFERO"]
["ATT01513","VETRINA VERT. MARIN 470 SAMMONTANA","VETRINA VERTICAL"]
["ATT01514","VETRINA VERT. MARIN 470 SAMMONTANA","VETRINA VERTICAL"]
["ATT01515","VETRINA VERT. MARIN 470 SAMMONTANA","VETRINA VERTICAL"]
["ATT01516","VETRINA VERT. MARIN 470 SAMMONTANA","VETRINA VERTICAL"]
["ATT01517","VETRINA VERT. MARIN 470 SAMMONTANA","VETRINA VERTICAL"]
["ATT01518","VETRINA VERT. MARIN 470 SILVER SAMMONTANA","VETRINA VERTICAL"]
["ATT01519","VETRINA VERT. MARIN 470 SILVER SAMMONTANA","VETRINA VERTICAL"]
["ATT01520","VETRINA VERT. MARIN 470 SILVER SAMMONTANA","VETRINA VERTICAL"]
["ATT01521","VETRINA VERT. MARIN 470 SILVER SAMMONTANA","VETRINA VERTICAL"]
["ATT01522","VETRINA VERT. MARIN 470 SILVER SAMMONTANA","VETRINA VERTICAL"]
["ATT01523","VETRINA VERT. MARIN 340 SAMMONTANA","VETRINA VERTICAL"]
["ATT01524","VETRINA VERT. MARIN 340 SAMMONTANA","VETRINA VERTICAL"]
["ATT01525","VETRINA VERT. MARIN 340 SAMMONTANA","VETRINA VERTICAL"]
["ATT01526","VETRINA VERT. MARIN 340 SAMMONTANA","VETRINA VERTICAL"]
["ATT01527","SCALDINO VIENNETTA R2U BINDI","SCALDINO"]
["ATT01528","SCALDINO 3 PIANI \"IL PASTICCERE\"","SCALDINO"]
["ATT01529","SCALDINO 3 PIANI \"IL PASTICCERE\"","SCALDINO"]
["ATT01530","SCALDINO 3 PIANI \"IL PASTICCERE\"","SCALDINO"]
["ATT01531","SCALDINO 3 PIANI \"IL PASTICCERE\"","SCALDINO"]
["ATT01532","SCALDINO 3 PIANI \"TRE MARIE\"","SCALDINO"]
["ATT01533","SCALDINO 3 PIANI \"TRE MARIE\"","SCALDINO"]
["ATT01534","SCALDINO 3 PIANI \"TRE MARIE\"","SCALDINO"]
["ATT01535","SCALDINO 3 PIANI \"TRE MARIE\"","SCALDINO"]
["ATT01536","VIC 220 SILVER 4SK LED SAMMONTANA","FRIGORIFERO"]
["ATT01537","VIC 220 SILVER 4SK LED SAMMONTANA","FRIGORIFERO"]
["ATT01538","VIC 220 SILVER 4SK LED SAMMONTANA","FRIGORIFERO"]
["ATT01539","VIC 330 4SK LED SAMMONTANA","FRIGORIFERO"]
["ATT01540","VIC 330 4SK LED SAMMONTANA","FRIGORIFERO"]
["ATT01541","VIC 330 4SK LED SAMMONTANA","FRIGORIFERO"]
["ATT01542","GLOBO 700.3 CCS SAMMONTANA","FRIGORIFERO"]
["ATT01543","GLOBO 700.3 CCS SAMMONTANA","FRIGORIFERO"]
["ATT01544","GLOBO 700.3 CCS SAMMONTANA","FRIGORIFERO"]
["ATT01545","GLOBO 700.3 CCS SAMMONTANA","FRIGORIFERO"]
["ATT01546","GLOBO 700.3 CCS SAMMONTANA","FRIGORIFERO"]
["ATT01547","GLOBO 700.3 CCS SAMMONTANA","FRIGORIFERO"]
["ATT01548","GLOBO 700.3 CCS SAMMONTANA","FRIGORFIERO"]
["ATT01549","GLOBO 700.3 CCS SAMMONTANA","FRIGORIFERO"]
["ATT01550","GLOBO 700.3 CCS SAMMONTANA","FRIGORIFERO"]
["ATT01551","GLOBO 700.3 CCS SAMMONTANA","FRIGORIFERO"]
["ATT01552","GLOBO 700.3 CCS SAMMONTANA","FRIGORIFERO"]
["ATT01553","GLOBO 700.3 CCS SAMMONTANA","FRIGORIFERO"]
["ATT01554","GLOBO 700.3 CCS SAMMONTANA","FRIGORIFERO"]
["ATT01555","GLOBO 700.3 CCS SAMMONTANA","FRIGORIFERO"]
["ATT01556","GLOBO 700.3 CCS SAMMONTANA","FRIGORIFERO"]
["ATT01557","VETRINA VERT. GLEE 43 SAMMONTANA","VETRINA VERTICAL"]
["ATT01558","VETRINA VERT. GLEE 43 SAMMONTANA","VETRINA VERTICAL"]
["ATT01559","VETRINA VERT. GLEE 43 SAMMONTANA","VETRINA VERTICAL"]
["ATT01560","VETRINA VERT. GLEE 43 SAMMONTANA","VETRINA VERTICAL"]
["ATT01561","VETRINA VERT. GLEE 43 SAMMONTANA","VETRINA VERTICAL"]
["ATT01562","VETRINA VERT. GLEE 43 SAMMONTANA","VETRINA VERTICAL"]
["ATT01563","VETRINA VERT. GLEE 43 SAMMONTANA","VETRINA VERTICAL"]
["ATT01564","VETRINA VERT. GLEE 43 SAMMONTANA","VETRINA VERTICAL"]
["ATT01565","VETRINA VERT. GLEE 43 SAMMONTANA","VETRINA VERTICAL"]
["ATT01566","VETRINA VERT. GLEE 43 SAMMONTANA","VETRINA VERTICAL"]
["ATT01567","VETRINA VERT. GLEE 43 SILVER SAMMONTANA","VETRINA VERTICAL"]
["ATT01568","VETRINA VERT. GLEE 43 SILVER SAMMONTANA","VETRINA VERTICAL"]
["ATT01569","GLOBO 700.3 CSV SAMMONTANA","FRIGORIFERO"]
["ATT01570","GLOBO 700.3 CSV SAMMONTANA","FRIGORIFERO"]
["ATT01571","GLOBO 700.3 CSV SAMMONTANA","FRIGORIFERO"]
["ATT01572","GLOBO 700.3 CSV SAMMONTANA","FRIGORIFERO"]
["ATT01573","GLOBO 700.3 CSV SAMMONTANA","FRIGORIFERO"]
["ATT01574","GLOBO 700.3 CSV SAMMONTANA","FRIGORIFERO"]
["ATT01575","GLOBO 700.3 CSV SAMMONTANA","FRIGORIFERO"]
["ATT01576","VETRINA DONUTS 5 POSTI VANDEMOORTELE","VETRINADONUTS"]
["ATT01577","VETRINA VERT. GLEE 43 SILVER SAMMONTANA","VETRINA VERTICAL"]
["ATT01578","VETRINA VERT. GLEE 43 SILVER SAMMONTANA","VETRINA VERTICAL"]
["ATT01579","VETRINA VERT. GLEE 43 SILVER SAMMONTANA","VETRINA VERTICAL"]
["ATT01580","GLOBO 700.3 CSV SAMMONTANA","FRIGORIFERO"]
["ATT01581","GLOBO 700.3 CSV SAMMONTANA","FRIGORIFERO"]
["ATT01582","GLOBO 700.3 CSV SAMMONTANA","FRIGORIFERO"]
["ATT01583","GLOBO 700.3 CSV SAMMONTANA","FRIGORIFERO"]
["ATT01584","GLOBO 700.3 CSV SAMMONTANA","FRIGORIFERO"]
["ATT01585","GLOBO 700.3 CSV SAMMONTANA","FRIGORIFERO"]
["ATT01586","GLOBO 700.3 CSV SAMMONTANA","FRIGORIFERO"]
["ATT01587","GLOBO 700.3 CSV SAMMONTANA","FRIGORIFERO"]
["ATT01588","GLOBO 700.3 CSV SAMMONTANA","FRIGORIFERO"]
["ATT01589","BMAX 400.4 AT LED SAMMONTANA","FRIGORIFERO"]
["ATT01590","BMAX 400.4 AT LED SAMMONTANA","FRIGORIFERO"]
["ATT01591","SCALDINO 3 PIANI \"IL PASTICCERE\"","SCALDINO"]
["ATT01592","SCALDINO 3 PIANI \"IL PASTICCERE\"","SCALDINO"]
["ATT01593","SCALDINO 3 PIANI \"IL PASTICCERE\"","SCALDINO"]
["ATT01594","SCALDINO 3 PIANI \"IL PASTICCERE\"","SCALDINO"]
["ATT01595","SCALDINO 3 PIANI \"TRE MARIE\"","SCALDINO"]
["ATT01596","SCALDINO 3 PIANI \"TRE MARIE\"","SCALDINO"]
["ATT01597","SCALDINO 3 PIANI \"TRE MARIE\"","SCALDINO"]
["ATT01598","SCALDINO 3 PIANI \"TRE MARIE\"","SCALDINO"]
["ATT01599","FORNO SMEG ALFA 43 BINDI","FORNO"]
["ATT01600","VETRINA VERT. FROST 350 BINDI","VETRINA VERTICAL"]
["ATT01601","VETRINA VERT. FROST 350 BINDI","VETRINA VERTICAL"]
["ATT01602","CARRELLO REFRIGERATO POSITIVO BINDI","CARRELLO"]
["ATT01603","VETRINA VERT. TWIN 40.1 BINDI","VETRINA VERTICAL"]
["ATT01604","VIC 440 CCS BINDI","FRIGORIFERO"]
["ATT01605","VIC 440 CCS BINDI","FRIGORIFERO"]
["ATT01606","VETRINA VERT. STAR 43.3 CF LUX BINDI","VETRINA VERTICAL"]
["ATT01607","VETRINA VERT. STAR 43.3 CF LUX BINDI","VETRINA VERTICAL"]
["ATT01608","VETRINA VERT. RODI 33.3 BINDI","VETRINA VERTICAL"]
["ATT01609","VETRINA VERT. RODI 33.3 BINDI","VETRINA VERTICAL"]
["ATT01610","GLOBO 700 SAMMONTANA","FRIGORIFERO"]
["ATT01611","FORNO ANNA LINE MICRO BINDI","FORNO"]
["ATT01612","FORNO ANNA LINE MICRO BINDI","FORNO"]
["ATT01613","FORNO ANNA LINE MICRO BINDI","FORNO"]
["ATT01614","FORNO ANNA LINE MICRO BINDI","FORNO"]
["ATT01615","FORNO ANNA LINE MICRO BINDI","FORNO"]
["ATT01616","FORNO SMEG ALFA 43 SAMMONTANA","FORNO"]
["ATT01617","FORNO SMEG ALFA 43 \"IL PASTICCERE\"","FORNO"]
["ATT01618","VETRINA VERT. STAR 43 CA LUX BINDI","VETRINA VERTICAL"]
["ATT01619","VETRINA VERT. STAR 43 CA LUX BINDI","VETRINA VERTICAL"]
["ATT01620","VIC 440 CCS SAMMONTANA","FRIGORIFERO"]
["ATT01621","VIC 400 CCS SAMMONTANA","FRIGORIFERO"]
["ATT01622","SCALDINO 2 PIANI RISCALDATO BINDI","SCALDINO"]
["ATT01623","SCALDINO 2 PIANI RISCALDATO BINDI","SCALDINO"]
["ATT01624","SCALDINO 2 PIANI RISCALDATO BINDI","SCALDINO"]
["ATT01625","GLOBO 700 SAMMONATANA","FRIGORIFERO"]
["ATT01626","GLOBO 550 SAMMONTANA","FRIGORIFERO"]
["ATT01627","VETRINA VERT. MISTRAL 40 RS SAMMONTANA","VETRINA VERTICAL"]
["ATT01628","FORNO SMEG ALFA 43X SAMMONTANA","FORNO"]
["ATT01629","SCALDINO 3 PIANI","SCALDINO"]
["ATT01630","SCALDINO 3 PIANI VETRO","SCALDINO"]
["ATT01631","GLOBO 440 SAMMONTANA","FRIGORIFERO"]
["ATT01632","ISABELLA R10 140LX SAMMONTANA","VETRINA ORIZZONT"]
["ATT01633","SCALDINO 3 PIANI \"IL PASTICCERE\"","SCALDINO"]
["ATT01634","FORNO SMEG SAMMONTANA","FORNO"]
["ATT01635","VETRINA VERT. ISA DECO' SAMMONTANA","VETRINA VERTICAL"]
["ATT01636","CHIOSCO QUADRATO SAMMONTANA","CHIOSCO SAMMONTA"]
["ATT01637","BANCO POLO4 SAMMONTANA","FRIGORIFERO"]
["ATT01638","VIC 440 4SK CCS BINDI","FRIGORFIERO"]
["ATT01639","VIC 440 4SK CCS BINDI","FRIGORIFERO"]
["ATT01640","VIC 440 4SK CCS BINDI","FRIGORIFERO"]
["ATT01641","VIC 440 4SK CCS BINDI","FRIGORIFERO"]
["ATT01642","VIC 330 4SK CCS BINDI","FRIGORIFERO"]
["ATT01643","VIC 330 4SK CCS BINDI","FRIGORIFERO"]
["ATT01644","VIC 330 4SK CCS BINDI","FRIGORIFERO"]
["ATT01645","VIC 330 4SK CCS BINDI","FRIGORIFERO"]
["ATT01646","VETRINA VERT. STAR 43.3 CF LUX BINDI","VETRINA VERTICAL"]
["ATT01647","VETRINA VERT. STAR 43.3 CF LUX BINDI","VETRINA VERTICAL"]
["ATT01648","VETRINA VERT. STAR 43.3 CF LUX BINDI","VETRINA VERTICAL"]
["ATT01649","VETRINA VERT. STAR 43.3 CF LUX BINDI","VETRINA VERTICAL"]
["ATT01650","VETRINA VERT. STAR 43.3 CF LUX BINDI","VETRINA VERTICAL"]
["ATT01651","VETRINA VERT. STAR 43.3 CF LUX BINDI","VETRINA VERTICAL"]
["ATT01652","VETRINA VERT. STAR 43.3 CF LUX BINDI","VETRINA VERTICAL"]
["ATT01653","VETRINA VERT. STAR 43.3 CF LUX BINDI","VETRINA VERTICAL"]
["ATT01654","VETRINA VERT. STAR 43.3 CF LUX BINDI","VETRINA VERTICAL"]
["ATT01655","VETRINA VERT. STAR 43.3 CF LUX BINDI","VETRINA VERTICAL"]
["ATT01656","VETRINA VERT. DECO' SAMMONTANA","VETRINA VERTICAL"]
["ATT01657","CARRELLO REFRIGERATO BINDI","CARRELLO"]
["ATT01658","FORNO SMEG ALFA 43X SAMMONTANA","FORNO"]
["ATT01659","FORNO UNOX ANNA LINE MICRO BINDI","FORNO"]
["ATT01660","FORNO UNOX ANNA LINE MICRO BINDI","FORNO"]
["ATT01661","FORNO UNOX ANNA LINE MICRO BINDI","FORNO"]
["ATT01662","FORNO UNOX ANNA LINE MICRO BINDI","FORNO"]
["ATT01663","FORNO UNOX ANNA LINE MICRO BINDI","FORNO"]
["ATT01664","FORNO SMEG ALFA 43 XT SAMMONTANA","FORNO"]
["ATT01665","FORNO SMEG ALFA 43 XT SAMMONTANA","FORNO"]
["ATT01666","FORNO SMEG ALFA 43 XT SAMMONTANA","FORNO"]
["ATT01667","FORNO SMEG ALFA 43 XT SAMMONTANA","FORNO"]
["ATT01668","FORNO SMEG ALFA 43 XT SAMMONTANA","FORNO"]
["ATT01669","FORNO SMEG ALFA 43 XT SAMMONTANA","FORNO"]
["ATT01670","FORNO SMEG ALFA 43 XT SAMMONTANA","FORNO"]
["ATT01671","FORNO SMEG ALFA 43 XT SAMMONTANA","FORNO"]
["ATT01672","VETRINA VERT. FROST GLAMOUR 350 NS BINDI","VETRINA VERTICAL"]
["ATT01673","SCALDINO RISCALDATO 2 PIANI BINDI","SCALDINO"]
["ATT01674","SCALDINO RISCALDATO 2 PIANI BINDI","SCALDINO"]
["ATT01675","SCALDINO RISCALDATO 2 PIANI BINDI","SCALDINO"]
["ATT01676","SCALDINO RISCALDATO 2 PIANI BINDI","SCALDINO"]
["ATT01677","SCALDINO RISCALDATO 2 PIANI BINDI","SCALDINO"]
["ATT01678","SCALDINO VIENNETTA R2U BINDI","SCALDINO"]
["ATT01679","GLOBO 700 SAMMONTANA","FRIGORIFERO"]
["ATT01680","FORNO SMEG ALFA 43X BINDI","FORNO"]
["ATT01681","GLOBO 700 SAMMONTANA","FRIGORIFERO"]
["ATT01682","GTI 3003 INDEX SAMMONTANA","FRIGORIFERO"]
["ATT01683","GLOBO 550 SAMMONTANA","FRIGORIFERO"]
["ATT01684","VETRINA VERT. MISTRAL 40 BINDI  ANA","VETRINA VERTICAL"]
["ATT01685","VETRINA VERT. RODI 33 BINDI","VETRINA VERTICAL"]
["ATT01686","FORNO SMEG ALFA 41B BINDI","FORNO"]
["ATT01687","CONSERVATORE OFT 508 BINDI","FRIGORIFERO"]
["ATT01688","FORNO SMEG ALFA 41 SAMMONTANA","FORNO"]
["ATT01689","KAPPA 200N SAMMONTANA","FRIGORIFERO"]
["ATT01690","FORNO SMEG ALFA 43 XT SAMMONTANA","FORNO"]
["ATT01691","FORNO SMEG ALFA 43 XT SAMMONTANA","FORNO"]
["ATT01692","FORNO SMEG ALFA 43 XT SAMMONTANA","FORNO"]
["ATT01693","FORNO SMEG ALFA 43 XT SAMMONTANA","FORNO"]
["ATT01694","VIC 220 AT SILVER SAMMONTANA","FRIGORIFERO"]
["ATT01695","VIC 220 AT SILVER SAMMONTANA","FRIGORIFERO"]
["ATT01696","GLOBO 700 CSV SAMMONTANA","FRIGORIFERO"]
["ATT01697","GLOBO 700 CSV SAMMONTANA","FRIGORIFERO"]
["ATT01698","GLOBO 700 CSV SAMMONTANA","FRIGORIFERO"]
["ATT01699","VETRINA VERT. MARIN 340 SAMMONTANA","VETRINA VERTICAL"]
["ATT01700","VIC 440 AT LED BINDI","FRIGORIFERO"]
["ATT01701","VETRINA VERT. RODI 33.3 BINDI","VETRINA VERTICAL"]
["ATT01702","VETRINA VERT. RODI 33.3 BINDI","VETRINA VERTICAL"]
["ATT01703","VETRINA VERT. RODI 33.3 BINDI","VETRINA VERTICAL"]
["ATT01704","VETRINA VERT. RODI 33.3 BINDI","VETRINA VERTICAL"]
["ATT01705","VETRINA VERT. RODI 33.3 BINDI","VETRINA VERTICAL"]
["ATT01706","CARRELLO REFRIGERATO POSITIVO BINDI","CARRELLO"]
["ATT01707","VETRINA VERT. FROST GLAMOUR 350 BINDI","VETRINA VERTICAL"]
["ATT01708","VETRINA VERT. FROST GLAMOUR 350 BINDI","VETRINA VERTICAL"]
["ATT01709","VETRINA VERT. FROST GLAMOUR 350 BINDI","VETRINA VERTICAL"]
["ATT01710","VETRINA VERT. FROST GLAMOUR 350 BINDI","VETRINA VERTICAL"]
["ATT01711","VETRINA VERT. FROST GLAMOUR 350 BINDI","VETRINA VERTICAL"]
["ATT01712","VETRINA VERT. TWIN 40.1 BINDI","VETRINA VERTICAL"]
["ATT01713","VETRINA VERT. TWIN 40.1 BINDI","VETRINA VERTICAL"]
["ATT01714","VETRINA VERT. TWIN 40.1 BINDI","VETRINA VERTICAL"]
["ATT01715","FORNO UNOX ANNA LINE BINDI","FORNO"]
["ATT01716","FORNO UNOX ANNA LINE BINDI","FORNO"]
["ATT01717","FORNO UNOX ANNA LINE BINDI","FORNO"]
["ATT01718","FORNO UNOX ANNA LINE BINDI","FORNO"]
["ATT01719","FORNO UNOX ANNA LINE BINDI","FORNO"]
["ATT01720","FORNO UNOX ANNA LINE BINDI","FORNO"]
["ATT01721","FORNO UNOX ANNA LINE BINDI","FORNO"]
["ATT01722","FORNO UNOX ANNA LINE BINDI","FORNO"]
["ATT01723","FORNO UNOX ANNA MANUAL BINDI","FORNO"]
["ATT01724","FORNO UNOX ANNA MANUAL BINDI","FORNO"]
["ATT01725","FORNO SMEG ALFA 43X SAMMONTANA","FORNO"]
["ATT01726","FORNO SMEG ALFA 43X SAMMONTANA","FORNO"]
["ATT01727","FORNO SMEG ALFA 43X SAMMONTANA","FORNO"]
["ATT01728","FORNO SMEG ALFA 43X SAMMONTANA","FORNO"]
["ATT01729","FORNO SMEG ALFA 43X SAMMONTANA","FORNO"]
["ATT01730","FORNO SMEG ALFA 43X SAMMONTANA","FORNO"]
["ATT01731","FORNO SMEG ALFA 43X SAMMONTANA","FORNO"]
["ATT01732","FORNO SMEG ALFA 43X SAMMONTANA","FORNO"]
["ATT01733","FORNO UNOX ANNA MANUAL BINDI","FORNO"]
["ATT01734","FORNO UNOX ANNA MANUAL BINDI","FORNO"]
["ATT01735","FORNO UNOX ANNA MANUAL BINDI","FORNO"]
["ATT01736","FORNO UNOX ANNA MANUAL BINDI","FORNO"]
["ATT01737","FORNO UNOX ANNA MANUAL BINDI","FORNO"]
["ATT01738","FORNO UNOX ANNA MANUAL BINDI","FORNO"]
["ATT01739","FORNO SMEG ALFA 43 SAMMONTANA","FORNO"]
["ATT01740","NEO 130 AT SAMMONTANA","FRIGORIFERO"]
["ATT01741","VETRINA VERT. GLEE 43 LITE SAMMONTANA","VETRINA VERTICAL"]
["ATT01742","VETRINA VERT. GLEE 43 LITE SAMMONTANA","VETRINA VERTICAL"]
["ATT01743","VETRINA VERT. GLEE 43 LITE SAMMONTANA","VETRINA VERTICAL"]
["ATT01744","VETRINA VERT. GLEE 43 LITE SAMMONTANA","VETRINA VERTICAL"]
["ATT01745","VETRINA VERT. GLEE 43 LITE SAMMONTANA","VETRINA VERTICAL"]
["ATT01746","VETRINA VERT. GLEE 43 LITE SAMMONTANA","VETRINA VERTICAL"]
["ATT01747","VETRINA VERT. GLEE 43 LITE SAMMONTANA","VETRINA VERTICAL"]
["ATT01748","VETRINA VERT. GLEE 43 LITE SAMMONTANA","VETRINA VERTICAL"]
["ATT01749","VETRINA VERT. GLEE 43 LITE SILVER SAMMONTANA","VETRINA VERTICAL"]
["ATT01750","VETRINA VERT. GLEE 43 LITE SILVER SAMMONTANA","VETRINA VERTICAL"]
["ATT01751","VETRINA VERT. GLEE 43 LITE SILVER SAMMONTANA","VETRINA VERTICAL"]
["ATT01752","VETRINA VERT. GLEE 43 LITE SILVER SAMMONTANA","VETRINA VERTICAL"]
["ATT01753","VETRINA VERT. GLEE 43 LITE SILVER SAMMONTANA","VETRINA VERTICAL"]
["ATT01754","FORNO SMEG ALFA 43 BINDI","FORNO"]
["ATT01755","GLOBO 700 SAMMONTANA","FRIGORIFERO"]
["ATT01756","GLOBO 700 SAMMONTANA","FRIGORIFERO"]
["ATT01757","VETRINA VERT. MISTRAL 40 SAMMONTANA","VETRINA VERTICAL"]
["ATT01758","VIC 440 CCS SAMMONTANA","FRIGORIFERO"]
["ATT01759","VIC 440 CCS SAMMONTANA","FRIGORIFERO"]
["ATT01760","GLOBO 480.3 AT SAMMONTANA","FRIGORIFERO"]
["ATT01761","GLOBO 700.3 CCS SAMMONTANA","FRIGORIFERO"]
["ATT01762","GLOBO 700.3 CCS SAMMONTANA","FRIGORIFERO"]
["ATT01763","GLOBO 700.3 CCS SAMMONTANA","FRIGORIFERO"]
["ATT01764","GLOBO 700.3 CCS SAMMONTANA","FRIGORIFERO"]
["ATT01765","GLOBO 700.3 CSV SAMMONTANA","FRIGORIFERO"]
["ATT01766","GLOBO 700.3 CSV SAMMONTANA","FRIGORIFERO"]
["ATT01767","GLOBO 700.3 CSV SAMMONTANA","FRIGORIFERO"]
["ATT01768","GLOBO 700.3 CSV SAMMONTANA","FRIGORIFERO"]
["ATT01769","GLOBO 700.3 CSV SAMMONTANA","FRIGORIFERO"]
["ATT01770","GLOBO 700.3 CSV SAMMONTANA","FRIGORIFERO"]
["ATT01771","VETRINA VERT. STAR 43 CA LUX BINDI","VETRINA VERTICAL"]
["ATT01772","FORNO SMEG ALFA 43 SAMMONTANA","FORNO"]
["ATT01773","NORDIK 260 ST SAMMONTANA","FRIGORIFERO"]
["ATT01774","NORDIK 460 ST SAMMONTANA","FRIGORIFERO"]
["ATT01775","SCALDINO 3 PIANI IL PASTICCERE","SCALDINO"]
["ATT01776","FORNO SMEG ALFA 43 BINDI","FORNO"]
["ATT01777","ICE CG 400 R290 SAMMONTANA","FRIGORIFERO"]
["ATT01778","BERMUDA SHOW R10 SAMMONTANA","VETRINA ORIZZONT"]
["ATT01779","BERMUDA SHOW R10 SAMMONTANA","VETRINA ORIZZONT"]
["ATT01780","VETRINA VERT. MARIN 470 SAMMONTANA","VETRINA VERTICAL"]
["ATT01781","VETRINA VERT. MARIN 470 SAMMONTANA","VETRINA VERTICAL"]
["ATT01782","VETRINA VERT. MARIN 470 SAMMONTANA","VETRINA VERTICAL"]
["ATT01783","VETRINA VERT. MARIN 470 SAMMONTANA","VETRINA VERTICAL"]
["ATT01784","VETRINA VERT. MARIN 470 SAMMONTANA","VETRINA VERTICAL"]
["ATT01785","VETRINA VERT. MARIN 470 SAMMONTANA","VETRINA VERTICAL"]
["ATT01786","VETRINA VERT. MARIN 470 SAMMONTANA","VETRINA VERTICAL"]
["ATT01787","CARRELLO REFRIGERATO BINDI","CARRELLO"]
["ATT01788","BMAX 400.5 AT LED SAMMONTANA","FRIGORIFERO"]
["ATT01789","BMAX 680.5 CC SAMMONTANA","FRIGORIFERO"]
["ATT01790","BMAX 680.5 CC SAMMONTANA","FRIGORIFERO"]
["ATT01791","BMAX 680.5 CC SAMMONTANA","FRIGORIFERO"]
["ATT01792","BMAX 680.5 CC SAMMONTANA","FRIGORIFERO"]
["ATT01793","BMAX 680.5 CC SAMMONTANA","FRIGORIFERO"]
["ATT01794","BMAX 680.5 CC SAMMONTANA","FRIGORIFERO"]
["ATT01795","BMAX 680.5 CC SAMMONTANA","FRIGORIFERO"]
["ATT01796","SCALDINO RISCALDATO BINDI","SCLDINO"]
["ATT01797","VETR. ORIZ. ISABELLA R10 SAMMONTANA","VETRINA ORIZZONT"]
["ATT01798","SCALDINO 3 PIANI \"IL PASTICCERE\"","SCALDINO"]
["ATT01799","VETRINA VERT. STAR 43 SAMMONTANA","VETRINA VERTICAL"]
["ATT01800","GLOBO 700 SAMMONTANA","FRIGORIFERO"]
["ATT01801","GLOBO 330 SAMMONTANA","FRIGORIFERO"]
["ATT01802","VETRINA ORIZ. ISABELLA R13 SAMMONTANA","VETRINA ORIZZONT"]
["ATT01803","FORNO NERONE VANDEMOORTELE","FORNO"]
["ATT01804","FORNO NERONE VANDEMOORTELE","FORNO"]
["ATT01805","FORNO NERONE VANDEMOORTELE","FORNO"]
["ATT01806","FORNO NERONE VANDEMOORTELE","FORNO"]
["ATT01807","FORNO NERONE VANDEMOORTELE","FORNO"]
["ATT01808","FORNO NERONE VANDEMOORTELE","FORNO"]
["ATT01809","FORNO NERONE VANDEMOORTELE","FORNO"]
["ATT01810","FORNO NERONE VANDEMOORTELE","FORNO"]
["ATT01811","FORNO NERONE VANDEMOORTELE","FORNO"]
["ATT01812","MAEL 500 R600A VANDEMOORTELE","FRIGORIFERO"]
["ATT01813","MAEL 500 R600A VANDEMOORTELE","FRIGORIFERO"]
["ATT01814","MAEL 500 R600A VANDEMOORTELE","FRIGORIFERO"]
["ATT01815","MAEL 500 R600A VANDEMOORTELE","FRIGORIFERO"]
["ATT01816","MAEL 500 R600A VANDEMOORTELE","FRIGORIFERO"]
["ATT01817","MAEL 500 R600A VANDEMOORTELE","FRIGORIFERO"]
["ATT01818","MAEL 500 R600A VANDEMOORTELE","FRIGORIFERO"]
["ATT01819","MAEL 500 R600A VANDEMOORTELE","FRIGORIFERO"]
["ATT01820","MAEL 500 R600A VANDEMOORTELE","FRIGORIFERO"]
["ATT01821","MAEL 500 R600A VANDEMOORTELE","FRIGORIFERO"]
["ATT01822","SCALDINO VETRO SAMMONTANA","SCALDINO"]
["ATT01823","GELE' 500 AT LED BINDI","FRIGORIFERO"]
["ATT01824","VIC 440 CCS BINDI","FRIGORIFERO"]
["ATT01825","VIC 440 CCS BINDI","FRIGORIFERO"]
["ATT01826","VIC 440 CCS BINDI","FRIGORIFERO"]
["ATT01827","VIC 440 AT LED BINDI","FRIGORIFERO"]
["ATT01828","VIC 440 AT LED BINDI","FRIGORIFERO"]
["ATT01829","VIC 440 AT LED BINDI","FRIGORIFERO"]
["ATT01830","VIC 440 AT LED BINDI","FRIGORIFERO"]
["ATT01831","VETRINA VERT. MARIN 470 SILVER SAMMONTANA","VETRINA VERTICAL"]
["ATT01832","VETRINA VERT. MARIN 470 SILVER SAMMONTANA","VETRINA VERTICAL"]
["ATT01833","VETRINA VERT. MARIN 470 SILVER SAMMONTANA","VETRINA VERTICAL"]
["ATT01834","VETRINA VERT. MARIN 470 SILVER SAMMONTANA","VETRINA VERTICAL"]
["ATT01835","VETRINA VERT. MARIN 470 SILVER SAMMONTANA","VETRINA VERTICAL"]
["ATT01836","VETRINA VERT. STAR 43.2 CA LUX SAMMONTANA","VETRINA VERTICAL"]
["ATT01837","GLOBO 450 SAMMONTANA","FRIGORIFERO"]
["ATT01838","GLOBO 700.3 CCS SAMMONTANA","FRIGORIFERO"]
["ATT01839","VETRINA VERT. DECO' SAMMONTANA","VETRINA VERTICAL"]
["ATT01840","VETRINA ORIZ. ISABELLA R6 SAMMONTANA","VETRINA ORIZZONT"]
["ATT01841","SCALDINO 3 PIANI TRE MARIE","SCALDINO"]
["ATT01842","SCALDINO 3 PIANI TRE MARIE","SCALDINO"]
["ATT01843","SCALDINO 3 PIANI TRE MARIE","SCALDINO"]
["ATT01844","SCALDINO 3 PIANI TRE MARIE","SCALDINO"]
["ATT01845","SCALDINO 3 PIANI TRE MARIE","SCALDINO"]
["ATT01846","SCALDINO 3 PIANI TRE MARIE","SCALDINO"]
["ATT01847","SCALDINO 3 PIANI TRE MARIE","SCALDINO"]
["ATT01848","SCALDINO 3 PIANI TRE MARIE","SCALDINO"]
["ATT01849","SCALDINO 2 PIANI IL PASTICCERE","SCALDINO"]
["ATT01850","VETRINA ORIZZ. AFRIKA 157 SAMMONTANA","VETRINA ORIZZONT"]
["ATT01851","GLOBO 450 SAMMONTANA","FRIGORIFERO"]
["ATT01852","SLANT 260 SAMMONTANA","FRIGORIFERO"]
["ATT01853","VETRINA VERT. STAR 43 CA LUX BINDI","VETRINA VERTICAL"]
["ATT01854","CARRELLO REFRIGERATO BINDI","CARRELLO"]
["ATT01855","VETRINA VERT. MISTRAL 40 RS BINDI","VETRINA VERTICAL"]
["ATT01856","VETRINA VERT. MISTRAL 40 RS BINDI","VETRINA VERTICAL"]
["ATT01857","VETRINA VERT. MISTRAL 40 RS BINDI","VETRINA VERTICAL"]
["ATT01858","VETRINA VERT. MISTRAL 40 RS BINDI","VETRINA VERTICAL"]
["ATT01859","VETRINA VERT. MISTRAL 40 RS BINDI","VETRINA VERTICAL"]
["ATT01860","VETRINA VERT. MISTRAL 40 RS BINDI","VETRINA VERTICAL"]
["ATT01861","VETRINA VERT. MISTRAL 40 RS BINDI","VETRINA VERTICAL"]
["ATT01862","VETRINA VERT. MISTRAL 40 RS BINDI","VETRINA VERTICAL"]
["ATT01863","VETRINA VERT. MISTRAL 40 RS BINDI","VETRINA VERTICAL"]
["ATT01864","VETRINA VERT. MISTRAL 40 RS BINDI","VETRINA VERTICAL"]
["ATT01865","VETRINA VERT. RODI 33 BINDI","VETRINA VERTICAL"]
["ATT01866","FORNO SMEG ALFA 43 SAMMONTANA","FORNO"]
["ATT01867","VETRINA VERT. FROST 280 BINDI","VETRINA VERTICAL"]
["ATT01868","VETRINA VERT. FROST 280 BINDI","VETRINA VERTICAL"]
["ATT01869","VETRINA VERT. FROST 280 BINDI","VETRINA VERTICAL"]
["ATT01870","VETRINA VERT. FROST 280 BINDI","VETRINA VERTICAL"]
["ATT01871","VETRINA VERT. FROST 280 BINDI","VETRINA VERTICAL"]
["ATT01872","VETRINA VERT. FROST 350 PS BINDI","VETRINA VERTICAL"]
["ATT01873","GRANITORE B-FROZEN SAMMONTANA","GRANITORE"]
["ATT01874","GRANITORE B-FROZEN SAMMONTANA","GRANITORE"]
["ATT01875","CARRELLO REFRIGERATO BINDI","CARRELLO"]
["ATT01876","CARRELLO REFRIGERATO BINDI","CARRELLO"]
["ATT01877","GLOBO 700.3 CCS SAMMONTANA","FRIGORIFERO"]
["ATT01878","GLOBO 700.3 CSV SAMMONTANA","FRIGORIFERO"]
["ATT01879","GLOBO 700.3 CCS SAMMONTANA","FRIGORIFERO"]
["ATT01880","GLOBO 700.3 CCS SAMMONTANA","FRIGORIFERO"]
["ATT01881","GLOBO 700.3 CCS SAMMONTANA","FRIGORIFERO"]
["ATT01882","GLOBO 700.3 CCS SAMMONTANA","FRIGORIFERO"]
["ATT01883","GLOBO 700.3 CCS SAMMONTANA","FRIGORIFERO"]
["ATT01884","GLOBO 700.3 CSV SAMMONTANA","FRIGORIFERO"]
["ATT01885","GLOBO 700.3 CSV SAMMONTANA","FRIGORIFERO"]
["ATT01886","GLOBO 700.3 CSV SAMMONTANA","FRIGORIFERO"]
["ATT01887","GLOBO 700.3 CSV SAMMONTANA","FRGIORFIERO"]
["ATT01888","GLOBO 700.3 CSV SAMMONTANA","FRIGORIFERO"]
["ATT01889","GLOBO 700.3 CSV SAMMONTANA","FRIGORIFERO"]
["ATT01890","GLOBO 700.3 CSV SAMMONTANA","FRIGORIFERO"]
["ATT01891","VETRINETTA RISCALDATA 2 PIANI BINDI","SCALDINO"]
["ATT01892","VETRINETTA RISCALDATA 2 PIANI BINDI","SCALDINO"]
["ATT01893","VETRINETTA RISCALDATA 2 PIANI BINDI","SCALDINO"]
["ATT01894","VETRINETTA RISCALDATA 2 PIANI BINDI","SCALDINO"]
["ATT01895","FORNO NERONE VANDEMOORTELE","FORNO"]
["ATT01896","FORNO SMEG ALFA 43 XT SAMMONTANA","FORNO"]
["ATT01897","FORNO SMEG ALFA 43 XT SAMMONTANA","FORNO"]
["ATT01898","FORNO SMEG ALFA 43 XT SAMMONTANA","FORNO"]
["ATT01899","FORNO SMEG ALFA 43 XT SAMMONTANA","FORNO"]
["ATT01900","VETRINA VERT. MISTRAL 40 RS BINDI","VETRINA VERTICAL"]
["ATT01901","VETRINA VERT. MISTRAL 40 RS BINDI","VETRINA VERTICAL"]
["ATT01902","VETRINA VERT. MISTRAL 40 RS BINDI","VETRINA VERTICAL"]
["ATT01903","VETRINA VERT. MISTRAL 40 RS BINDI","VETRINA VERTICAL"]
["ATT01904","VETRINA VERT. MISTRAL 40 RS BINDI","VETRINA VERTICAL"]
["ATT01905","GLOBO 700.3 CCS SAMMONTANA","FRIGORIFERO"]
["ATT01906","GLOBO 700.3 AT SAMMONTANA","FRIGORIFERO"]
["ATT01907","GLOBO 700.3 AT SAMMONTANA","FRIGORIFERO"]
["ATT01908","GLOBO 700.3 AT SAMMONTANA","FRIGORIFERO"]
["ATT01909","VETRINA VERT. GLEE 43 SAMMONTANA","VETRINA VERTICAL"]
["ATT01910","VETRINA VERT. GLEE 43 SAMMONTANA","VETRINA VERTICAL"]
["ATT01911","GLOBO 700 SAMMONTANA","FRIGORIFERO"]
["ATT01912","CARRELLO REFRIGERATO BINDI","CARRELLO"]
["ATT01913","GLOBO 680 SAMMONTANA","FRIGORIFERO"]
["ATT01914","VETRINA VERT. STAR 43 SAMMONTANA","VETRINA VERTICAL"]
["ATT01915","FORNO SMEG ALFA 43X SAMMONTANA","FORNO"]
["ATT01916","VIC 330 CCS SAMMONTANA","FRIGORIFERO"]
["ATT01917","VIC 330 CCS SAMMONTANA","FRIGORIFERO"]
["ATT01918","VETRINA VERT. STAR 43.2 CA LUX BINDI","VETRINA VERTICAL"]
["ATT01919","GLOBO 700 SAMMONTAMA","FRIGORIFERO"]
["ATT01920","GLOBO 700.3 CSV SAMMONTANA",""]
["ATT01921","VETRINA VERT. STAR 43 SAMMONTANA","VETRINA VERTICAL"]
["ATT01922","GLOBO 700 CCS SAMMONTANA","FRIGORIFERO"]
["ATT01923","VETRINA VERT. STAR 43 SAMMONTANA","VETRINA VERTICAL"]
["ATT01924","VETRINA ORIZ. BASTIA UMBRIA SAMMONTANA","VETRINA ORZZONTA"]
["ATT01925","FORNO SMEG ALFA 43 SAMMONTANA","FORNO"]
["ATT01926","FORNO SMEG ALFA 43 SAMMONTANA","FORNO"]
["ATT01927","SCALDINO 3 PIANI IL PASTICCERE","SCALDINO"]
["ATT01928","SCALDINO TRE PIANI TRE MARIE","SCALDINO"]
["ATT01929","FORNO SMEG ALFA 43 BINDI","FORNO"]
["ATT01930","VETRINA VERT. FROST 280 NS BINDI","VETRINA VERTICAL"]
["ATT01931","SCALDINO 3 PIANI SAMMONTANA","SCALDINO"]
["ATT01932","FORNO SMEG ALFA 43 XT SAMMONTANA","FORNO"]
["ATT01933","NEO 130 AT SAMMONTANA","FRIGORIFERO"]
["ATT01934","VETRINA VERT. MISTRAL 40 RS BINDI","VETRINA VERTICAL"]
["ATT01935","VETRINA VERT. MISTRAL 40 RS BINDI","VETRINA VERTICAL"]
["ATT01936","VETRINA VERT. MISTRAL 40 RS BINDI","VETRINA VERTICAL"]
["ATT01937","GLOBO 700.3 SAMMONTANA","FRIGORIFERO"]
["ATT01938","GLOBO 480 AT SAMMONTANA","FRIGORIFERO"]
["ATT01939","GLOBO 480 AT SAMMONTANA","FRIGORIFERO"]
["ATT01940","GLOBO 480 AT SAMMONTANA","FRIGORIFERO"]
["ATT01941","VETRINA VERT. FROST 280N SAMMONTANA","VETRINA VERTICAL"]
["ATT01942","VETRINA VERT. FROST 280N SAMMONTANA","VETRINA VERTICAL"]
["ATT01943","SCALDINO 3 PIANI TRE MARIE","SCALDINO"]
["ATT01944","SCALDINO 3 PIANI TRE MARIE","SCALDINO"]
["ATT01945","SCALDINO 3 PIANI TRE MARIE","SCALDINO"]
["ATT01946","SCALDINO 3 PIANI TRE MARIE","SCALDINO"]
["ATT01947","FORNO SMEG ALFA 43 XT SAMMONTANA","FORNO"]
["ATT01948","FORNO SMEG ALFA 43 XT SAMMONTANA","FORNO"]
["ATT01949","FORNO SMEG ALFA 43 XT SAMMONTANA","FORNO"]
["ATT01950","FORNO SMEG ALFA 43 XT SAMMONTANA","FORNO"]
["ATT01951","GLOBO 700 CCS SAMMONTANA","FRIGORIFERO"]
["ATT01952","GLOBO 700 CCS SAMMONTANA","FRIGORIFERO"]
["ATT01953","GLOBO 700 AT SAMMONTANA","FRIGORIFERO"]
["ATT01954","GLOBO 700 AT SAMMONTANA","FRIGORIFERO"]
["ATT01955","VETRINA VERT. GLEE 43 SILVER SAMMONTANA","VETRINA VERTICAL"]
["ATT01956","VETRINA VERT. GLEE 43 SILVER SAMMONTANA","VETRINA VERTICAL"]
["ATT01957","VETRINA VERT. FROST GLAMOUR 350 BINDI","VETRINA VERTICAL"]
["ATT01958","FORNO EKA EKF423P BINDI","FORNO"]
["ATT01959","FORNO EKA EKF423P BINDI","FORNO"]
["ATT01960","FORNO EKA EKF423P BINDI","FORNO"]
["ATT01961","FORNO EKA EKF423P BINDI","FORNO"]
["ATT01962","FORNO EKA EKF423P BINDI","FORNO"]
["ATT01963","FORNO EKA EKF423P BINDI","FONRO"]
["ATT01964","FORNO EKA EKF423P BINDI","FORNO"]
["ATT01965","FORNO EKA EKF423P BINDI","FORNO"]
["ATT01966","FORNO EKA EKF423P BINDI","FORNO"]
["ATT01967","FORNO EKA EKF423P BINDI","FONRO"]
["ATT01968","VETRINA VERT. ECO 280 BINDI","VETRINA VERTICAL"]
["ATT01969","VETRINA VERT. ECO 280 BINDI","VETRINA VERTICAL"]
["ATT01970","VETRINA VERT. ECO 280 BINDI","VETRINA VERTICAL"]
["ATT01971","VETRINA VERT. ECO 280 BINDI","VETRINA VERTICAL"]
["ATT01972","VETRINA VERT. ECO 280 BINDI","VETRINA VERTICAL"]
["ATT01973","VETRINA VERT. GLAMOUR 350 BINDI","VETRINA VERTICAL"]
["ATT01974","VETRINA VERT. GLAMOUR 350 BINDI","VETRINA VERTICAL"]
["ATT01975","VETRINA VERT. GLAMOUR 350 BINDI","VETRINA VERTICAL"]
["ATT01976","VETRINA VERT. GLAMOUR 350 BINDI","VETRINA VERTICAL"]
["ATT01977","VETRINA VERT. GLAMOUR 350 BINDI","VETRINA VERTICAL"]
["ATT01978","ESPOSITORE DONUTS VANDEMOORTELE","VETRINADONUTS"]
["ATT01979","FORNO SMEG ALFA 43 BINDI","FORNO"]
["ATT01980","LIEBHERR GT 340 SAMMONTANA","FRIGORIFERO"]
["ATT01981","FORNO SMEG ALFA 41 BINDI","FORNO"]
["ATT01982","SCALDINO 3 PIANI TRE MARIE","SCALDINO"]
["ATT01983","FORNO SMEG ALFA 41 SAMMONTANA","FORNO"]
["ATT01984","VETRINA VERT. 3 VETRI BINDI","VETRINA VERTICAL"]
["ATT01985","GLOBO 680 VETRI SAMMONTANA","FRIGORIFERO"]
["ATT01986","GLOBO 680 VETRI SAMMONTANA","FRIGORIFERO"]
["ATT01987","VIC 330 BINDI","FRIGORIFERO"]
["ATT01988","VETRINA VERT. FROST 180.2 SAMMONTANA","VETRINA VERTICAL"]
["ATT01989","VETRINA VERT. FROST 180.2 SAMMONTANA","VETRINA VERTICAL"]
["ATT01990","GLOBO 700.3 CCS SAMMONTANA","FRIGORIFERO"]
["ATT01991","GLOBO 700.3 CCS SAMMONTANA","FRIGORIFERO"]
["ATT01992","GLOBO 700.3 CCS SAMMONTANA","FRIGORIFERO"]
["ATT01993","GLOBO 700.3 CCS SAMMONTANA","FRIGORIFERO"]
["ATT01994","GLOBO 700.3 CCS SAMMONTANA","FRIGORIFERO"]
["ATT01995","GLOBO 700.3 CCS SAMMONTANA","FRIGORIFERO"]
["ATT01996","GLOBO 700.3 AT SAMMONTANA","FRIGORIFERO"]
["ATT01997","GLOBO 700.3 AT SAMMONTANA","FRIGORIFERO"]
["ATT01998","GLOBO 700.3 AT SAMMONTANA","FRIGORIFERO"]
["ATT01999","GLOBO 700.3 AT SAMMONTANA","FRIGORIFERO"]
["ATT02000","GLOBO 700.3 AT SAMMONTANA","FRIGORIFERO"]
["ATT02001","GLOBO 700.3 AT SAMMONTANA","FRIGORIFERO"]
["ATT02002","GLOBO 700.3 AT SAMMONTANA","FRIGORIFERO"]
["ATT02003","GLOBO 700.3 AT SAMMONTANA","FRIGORIFERO"]
["ATT02004","GLOBO 700.3 AT SAMMONTANA","FRIGORIFERO"]
["ATT02005","GLOBO 700.3 AT SAMMONTANA","FRIGORIFERO"]
["ATT02006","GLOBO 700.3 AT SAMMONTANA","FRIGORIFERO"]
["ATT02007","GLOBO 700.3 AT SAMMONTANA","FRIGORIFERO"]
["ATT02008","GLOBO 700.3 AT SAMMONTANA","FRIGORIFERO"]
["ATT02009","GLOBO 700.3 AT SAMMONTANA","FRIGORIFERO"]
["ATT02010","GLOBO 700.3 AT SAMMONTANA","FRIGORIFERO"]
["ATT02011","GLOBO 700.3 AT SAMMONTANA","FRIGORIFERO"]
["ATT02012","GLOBO 700.3 AT SAMMONTANA","FRIGORIFERO"]
["ATT02013","GLOBO 700.3 AT SAMMONTANA","FRIGORIFERO"]
["ATT02014","VETRINA VERT. GLEE 43 SAMMONTANA","VETRINA VERTICAL"]
["ATT02015","VETRINA VERT. GLEE 43 SAMMONTANA","VETRINA VERTICAL"]
["ATT02016","VETRINA VERT. GLEE 43 SAMMONTANA","VETRINA VERTICAL"]
["ATT02017","VETRINA VERT. GLEE 43 SILVER SAMMONTANA","VETRINA VERTICAL"]
["ATT02018","VETRINA VERT. GLEE 43 SILVER SAMMONTANA","VETRINA VERTICAL"]
["ATT02019","FORNO SMEG ALFA 43 BINDI","FORNO"]
["ATT02020","FORNO SMEG ALFA 43 BINDI","FORNO"]
["ATT02021","SCALDINO 2 PIANI RISCALDATO BINDI","SCALDINO"]
["ATT02022","LIEBHERR SL 735 SAMMONTANA","FRIGORIFERO"]
["ATT02023","VETRINA VERT. DECO SAMMONTANA","VETRINA VERTICAL"]
["ATT02024","VETRINA VERT. RODI 33 BINDI","VETRINA VERTICAL"]
["ATT02025","SLANT 270 CS SAMMONTANA","FRIGORIFERO"]
["ATT02026","FORNO SMEG ALFA 43 SAMMONTANA","FORNO"]
["ATT02027","GLOBO N SAMMONTANA","FRIGORIFERO"]
["ATT02028","BMAX 680.5 CCS SAMMONTANA","FRIGORIFERO"]
["ATT02029","BMAX 680.5 CCS SAMMONTANA","FRIGORIFERO"]
["ATT02030","BMAX 680.5 CCS SAMMONTANA","FRIGORIFERO"]
["ATT02031","BMAX 680.5 CCS SAMMONTANA","FRIGORIFERO"]
["ATT02032","VETRINA VERT. DECO' SAMMONTANA","VETRINA VERTICAL"]
["ATT02033","CARRELLO NON REFRIGERATO BINDI","CARRELLO"]
["ATT02034","ISOLA URBANO BT 250","FRIGORIFERO"]
["ATT02035","FORNO SMEG ALFA 43 XT SAMMONTANA","FORNO"]
["ATT02036","FORNO SMEG ALFA 43 XT SAMMONTANA","FORNO"]
["ATT02037","FORNO SMEG ALFA 43 XT SAMMONTANA","FORNO"]
["ATT02038","FORNO SMEG ALFA 43 XT SAMMONTANA","FORNO"]
["ATT02039","VIC 440 CCS BINDI","FRIGORIFERO"]
["ATT02040","VIC 440 CCS BINDI","FRIGORIFERO"]
["ATT02041","VIC 440 CCS BINDI","FRIGORIFERO"]
["ATT02042","VIC 440 CCS BINDI","FRIGORIFERO"]
["ATT02043","VIC 440 CCS BINDI","FRIGORIFERO"]
["ATT02044","VIC 440 CCS BINDI","FRIGORIFERO"]
["ATT02045","VIC 440 CCS BINDI","FRIGORIFERO"]
["ATT02046","VIC 440 CCS BINDI","FRIGORIFERO"]
["ATT02047","VIC 440 CCS BINDI","FRIGORIFERO"]
["ATT02048","VIC 440 CCS BINDI","FRIGORIFERO"]
["ATT02049","VIC 330 CCS BINDI","FRIGORIFERO"]
["ATT02050","VIC 330 CCS BINDI","FRIGORIFERO"]
["ATT02051","VIC 330 CCS BINDI","FRIGORIFERO"]
["ATT02052","VIC 330 CCS BINDI","FRIGORIFERO"]
["ATT02053","VIC 330 CCS BINDI","FRIGORIFERO"]
["ATT02054","VIC 330 CCS BINDI","FRIGORIFERO"]
["ATT02055","VIC 330 CCS BINDI","FRIGORIFERO"]
["ATT02056","VIC 330 CCS BINDI","FRIGORIFERO"]
["ATT02057","VIC 330 CCS BINDI","FRIGORIFERO"]
["ATT02058","VIC 330 CCS BINDI","FRIGORIFERO"]
["ATT02059","FORNO EKA EKF423P BINDI","FORNO"]
["ATT02060","FORNO EKA EKF423P BINDI","FORNO"]
["ATT02061","FORNO EKA EKF423P BINDI","FORNO"]
["ATT02062","FORNO EKA EKF423P BINDI","FORNO"]
["ATT02063","FORNO EKA EKF423P BINDI","FORNO"]
["ATT02064","FORNO EKA EKF423P BINDI","FORNO"]
["ATT02065","FORNO EKA EKF423P BINDI","FORNO"]
["ATT02066","FORNO EKA EKF423P BINDI","FORNO"]
["ATT02067","FORNO EKA EKF423P BINDI","FORNO"]
["ATT02068","FORNO EKA EKF423P BINDI","FORNO"]
["ATT02069","SCALDINO 3 PIANI TRE MARIE","SCALDINO"]
["ATT02070","SCALDINO 3 PIANI TRE MARIE","SCALDINO"]
["ATT02071","SCALDINO 3 PIANI TRE MARIE","SCALDINO"]
["ATT02072","SCALDINO 3 PIANI TRE MARIE","SCALDINO"]
["ATT02073","SCALDINO 3 PIANI TRE MARIE","SCALDINO"]
["ATT02074","SCALDINO 3 PIANI TRE MARIE","SCALDINO"]
["ATT02075","SCALDINO 3 PIANI TRE MARIE","SCALDINO"]
["ATT02076","SCALDINO 3 PIANI TRE MARIE","SCALDINO"]
["ATT02077","FORNO SMEG ALFA 41 BINDI","FORNO"]
["ATT02078","VIC 330 AT LED BINDI","FRIGORIFERO"]
["ATT02079","FORNO SMEG ALFA 43XT SAMMONTANA","FORNO"]
["ATT02080","FORNO SMEG ALFA 43XT SAMMONTANA","FORNO"]
["ATT02081","FORNO SMEG ALFA 43XT SAMMONTANA","FORNO"]
["ATT02082","FORNO SMEG ALFA 43XT SAMMONTANA","FORNO"]
["ATT02083","FORNO SMEG ALFA 43XT SAMMONTANA","FORNO"]
["ATT02084","FORNO SMEG ALFA 43XT SAMMONTANA","FORNO"]
["ATT02085","FORNO SMEG ALFA 43XT SAMMONTANA","FORNO"]
["ATT02086","FORNO SMEG ALFA 43XT SAMMONTANA","FORNO"]
["ATT02087","BERMUDA SHOW R13 SAMMONTANA","VETRINA ORIZZONT"]
["ATT02088","ISETTA R6 SAMMONTANA","VETRINA ORIZZONT"]
["ATT02089","VETRINA VERT. MARIN 470 SAMMONTANA","VETRINA VERTICAL"]
["ATT02090","VETRINA VERT. MARIN 470 SAMMONTANA","VETRINA VERTICAL"]
["ATT02091","VETRINA VERT. MARIN 470 SAMMONTANA","VETRINA VERTICAL"]
["ATT02092","VETRINA VERT. MARIN 470 SAMMONTANA","VETRINA VERTICAL"]
["ATT02093","VETRINA VERT. MARIN 470 SAMMONTANA","VETRINA VERTICAL"]
["ATT02094","VETRINA VERT. MARIN 470 SAMMONTANA","VETRINA VERTICAL"]
["ATT02095","VETRINA VERT. MARIN 470 SILVER SAMMONTANA","VETRINA VERTICAL"]
["ATT02096","VETRINA VERT. MARIN 470 SILVER SAMMONTANA","VETRINA VERTICAL"]
["ATT02097","VETRINA VERT. MARIN 470 SILVER SAMMONTANA","VETRINA VERTICAL"]
["ATT02098","VETRINA VERT. MARIN 470 SILVER SAMMONTANA","VETRINA VERTICAL"]
["ATT02099","BERMUDA SHOW R10 SAMMONTANA","VETRINA ORIZZONT"]
["ATT02100","ICE CG 300 SILVER SAMMONTANA","FRIGORIFERO"]
["ATT02101","ICE CG 300 SILVER SAMMONTANA","FRIGORIFERO"]
["ATT02102","CIS 260 SILVER SAMMONTANA","FRIGORIFERO"]
["ATT02103","CIS 260 SILVER SAMMONTANA","FRIGORIFERO"]
["ATT02104","VETRINA VERT. ECO 280 BINDI","VETRINA VERTICAL"]
["ATT02105","VETRINA VERT. ECO 280 BINDI","VETRINA VERTICAL"]
["ATT02106","VETRINA VERT. ECO 280 BINDI","VETRINA VERTICAL"]
["ATT02107","VETRINA VERT. ECO 280 BINDI","VETRINA VERTICAL"]
["ATT02108","VETRINA VERT. ECO 280 BINDI","VETRINA VERTICAL"]
["ATT02109","VETRINA VERT. ECO 280 BINDI","VETRINA VERTICAL"]
["ATT02110","VETRINA VERT. ECO 280 BINDI","VETRINA VERTICAL"]
["ATT02111","VETRINA VERT. ECO 280 BINDI","VETRINA VERTICAL"]
["ATT02112","VETRINA VERT. ECO 280 BINDI","VETRINA VERTICAL"]
["ATT02113","VETRINA VERT. ECO 280 BINDI","VETRINA VERTICAL"]
["ATT02114","VIC 440 CSV BINDI","FRIGORIFERO"]
["ATT02115","GLOBO 450 SAMMONTANA","FRIGORIFERO"]
["ATT02116","GLOBO 700 SAMMONTANA","FRIGORIFERO"]
["ATT02117","GLOBO 700 CSV SAMMONTANA","FRIGORIFERO"]
["ATT02118","VETRINA VERT. GLASS 3D BABY BINDI","VETRINA VERTICAL"]
["ATT02119","VETRINA VERT. GLASS 3D BABY BINDI","VETRINA VERTICAL"]
["ATT02120","VETRINA VERT. GLASS 3D BABY BINDI","VETRINA VERTICAL"]
["ATT02121","VETRINA VERT. GLASS 3D BABY BINDI","VETRINA VERTICAL"]
["ATT02122","VETRINA VERT. GLASS 3D BABY BINDI","VETRINA VERTICAL"]
["ATT02123","VETRINA VERT. GLASS 3D BABY BINDI","VETRINA VERTICAL"]
["ATT02124","VETRINA VERT. GLASS 3D BABY BINDI","VETRINA VERTICAL"]
["ATT02125","VETRINA VERT. GLASS 3D BABY BINDI","VETRINA VERTICAL"]
["ATT02126","VETRINA VERT. GLASS 3D BABY BINDI","VETRINA VERTICAL"]
["ATT02127","VETRINA VERT. GLASS 3D BABY BINDI","VETRINA VERTICAL"]
["ATT02128","FORNO SMEG ALFA 43 SAMMONTANA","FORNO"]
["ATT02129","GLOBO 700 SAMMONTANA","FRIGORIFERO"]
["ATT02130","FORNO SMEG ALFA 43 SAMMONTANA","FORNO"]
["ATT02131","BMAX 400.5 AT SAMMONTANA","FRIGORIFERO"]
["ATT02132","GLOBO 700 SAMMONTANA","FRIGORIFERO"]
["ATT02133","FOFNO SMEG ALFA 43 SAMMONTANA","FORNO"]
["ATT02135","VIC 440 LED BINDI","FRIGORIFERO"]
["ATT02136","VIC 460 AT LED SAMMONTANA","FRIGORIFERO"]
["ATT02137","FORNO SMEG ALFA 43 SAMMONTANA","FORNO"]
["ATT02138","VETRINA VERT. STAR 43 SAMMONTANA","VETRINA VERTICAL"]
["ATT02139","VETRINA VERT. STAR 43 BINDI","VETRINA VERTICAL"]
["ATT02140","VIC 320 AT LED SAMMONTANA","FRIGORIFERO"]
["ATT02141","FORNO SMEG ALFA 43 BINDI","FORNO"]
["ATT02142","VETRINA VERT. ECO 280 BINDI","VETRIA VERTICAL"]
["ATT02143","VETRINA VERT. ECO 280 BINDI","VETRINA VERTICAL"]
["ATT02144","VETRINA VERT. ECO 280 BINDI","VETRINA VERTICAL"]
["ATT02145","VETRINA VERT. ECO 280 BINDI","VETRINA VERTICAL"]
["ATT02146","VETRINA VERT. ECO 280 BINDI","VETRINA VERTICAL"]
["ATT02147","VETRINA VERT. ECO 280 BINDI","VETRINA VERTICAL"]
["ATT02148","VETRINA VERT. ECO 280 BINDI","VETRINA VERTICAL"]
["ATT02149","VETRINA VERT. MARIN 340 SAMMONTANA","VETRINA VERTICAL"]
["ATT02150","VETRINA VERT. MARIN 340 SAMMONTANA","VETRINA VERTICAL"]
["ATT02151","VETRINA VERT. MARIN 340 SAMMONTANA","VETRINA VERTICAL"]
["ATT02152","FRAMEC 450 SAMMONTANA","FRIGORIFERO"]
["ATT02153","SCALDINO 3 PIANI \"TRE MARIE\"","SCALDINO"]
["ATT02154","SCALDINO 3 PIANI \"TRE MARIE\"","SCALDINO"]
["ATT02155","SCALDINO 3 PIANI \"TRE MARIE\"","SCALDINO"]
["ATT02156","SCALDINO 3 PIANI \"TRE MARIE\"","SCALDINO"]
["ATT02157","SCALDINO 3 PIANI \"TRE MARIE\"","SCALDINO"]
["ATT02158","SCALDINO 3 PIANI \"TRE MARIE\"","SCALDINO"]
["ATT02159","SCALDINO 3 PIANI \"TRE MARIE\"","SCALDINO"]
["ATT02160","FORNO SMEG ALFA 43 XT SAMMONTANA","FORNO"]
["ATT02161","FORNO SMEG ALFA 43 XT SAMMONTANA","FORNO"]
["ATT02162","FORNO SMEG ALFA 43 XT SAMMONTANA","FORNO"]
["ATT02163","FORNO SMEG ALFA 43 XT SAMMONTANA","FORNO"]
["ATT02164","FORNO SMEG ALFA 43 XT SAMMONTANA","FORNO"]
["ATT02165","FORNO SMEG ALFA 43 XT SAMMONTANA","FORNO"]
["ATT02166","FORNO SMEG ALFA 43 XT SAMMONTANA","FORNO"]
["ATT02167","FORNO SMEG ALFA 43 XT SAMMONTANA","FORNO"]
["ATT02168","SL 45 SAMMONTANA","FRIGORIFERO"]
["ATT02169","VETRINA VERT. STAR 43 SAMMONTANA","VETRINA VERTICAL"]
["ATT02170","VETRINA ORIZZ. PITAGORA R10 SAMMONTANA","VETRINA ORIZZONT"]
["ATT02171","FORNO SMEG ALFA 43F FORNO D'ASOLO","FORNO"]
["B","BREVE SCADENZA",""]
["B020004","FOCACCIA FARCITA CAPRESE 420GX12 CM23 (POMODORO E MOZZARELLA)","DEPPIOZERO"]
["B060004","FOCACCIA FARCITA RUSTICA 420GX12 CM23 (PROSCIUTTO E MOZZARELLA)","DEPPIOZERO"]
["BA0003","BRANZINO FILETTI 120/160 KG5        GLASS.20%-OLANDA-TURCHIA","VAN DER LEE"]
["BAC1042","FILETTO DI BACCALA' PASTELLATO 5KG","RISPO"]
["BB951PG","NISSAN VI L60 2 ECO T135 TARGA BB951PG","AUTOCARRO"]
["BE644BF","EUROCARGO IVECO TARGA BE644BF","AUTOCARRO"]
["BN914XS","IVECO DAILY TARGA BN914XS","AUTOCARRO"]
["BN957XS","IVECO DAILY TARGA BN957XS","AUTOCARRO"]
["BUST01","SHOPPER BIO",""]
["BUST02","VASSOIO NATALIZIO",""]
["BUST03","CESTO NATALIZIO",""]
["BZ897EG","VOLVO TRUCK CO FL6 180 L8 ALLESTITO CON CASSONE RIBALTABILE NUOVO","AUTOCARRO"]
["CA0076","CALAMARI ANELLI/CIUFFI 10X1KG(800G) GLASS.20% - INDIA","BLUEWAVE"]
["CA1520","CALAMARI DEL PACIFICO IQF 15-20 KG7(5,6)-GLASS.20%","BLUEWAVE"]
["CAL0485","CALZONE FRITTO PIZZAIOLA 150GX25PZ","RISPO"]
["CALA01","AMULYA CALAMARI ANELLI E CIUFFI S/PELLE 1KG(900G)X6 GLASS.10% - L","AMULYA"]
["CALS340","CALAMARI SUD AFRICA L(300-400) CIOCCOLATO IQF KG8 - GLASS.0%","CIOCCOLATO"]
["CALSXL","CALAMARI SUD AFRICA XL(400UP) CIOCCOLATO IQF KG8 - GLASS.0%","CIOCCOLATO"]
["CALU05","CALAMARI U5 ASIAN SURAT BLOCK PULITI 6X2KG(1,4KG) - GLASS.30% THAILANDIA","ASIAN SURAT"]
["CAMP01","CAMPIONATURE VARIE",""]
["CB9","AGNELLO CARRE' INTERO KG___  -  NUOVA ZELANDA","CARNE"]
["CC309MV","EUROCARGO 75E15 IVECO TARGA CC309MV","AUTOCARRO"]
["CJ227YP","IVECO DAILY 50C13 TARGA CJ227YP","AUTOCARRO"]
["CK340AK","IVECO 65E13N CABINATO TARGA CK340AK","AUTOCARRO"]
["COC1010","COCKTAIL MICRO 12G 5KG","RISPO"]
["CONSB","CONSEGNE BONCHEF SAMMONTANA","BONCHEF"]
["CONSG","CONSEGNE GELATO MPK SAMMONTANA","MULTIPACK"]
["CONSI","CONSEGNE GELATO IMPULSO SAMMONTANA","IMPULSO"]
["CONSM","CONSEGNE MONGELO SAMMONTANA","MONGELO"]
["CONSP","CONSEGNE CROISSANTERIA SAMMONTANA","IL PASTICCERE"]
["CONST","CONSEGNE TREMARIE SAMMONTANA","TRE MARIE"]
["CONTR","BONUS/PREMIO",""]
["CRO1409","CROCCHE' EXTRA MOZZ. 130G 5KG","RISPO"]
["CT406LS","IVECO 65/60 TARGA CT406LS","AUTOCARRO"]
["DK376DK","IVECO DAILY TARGA DK376DK","AUTOCARRO"]
["ECO002","ECOFROST PATATE PREFRITTE 9/9 STANDARD 10X1KG","ECOFROST"]
["EPAL","PEDANE TIPO EPAL",""]
["ERRORE","ERRORE",""]
["F6770","CROCCOLE AGLI SPINACI 5KG FROSTA","FROSTA"]
["FA0261","PIZZA ALLA PALA RUCOLA E POMODORINI 225GX12 SVILA","SVILA"]
["FA0308","PIZZA ALLA PALA MARGHERITA 220GX12 SVILA","SVILA"]
["FB500","FRUTTI DI BOSCO 500X12","FUNGHI"]
["FC1000","FUNGHI CHAMPIGNON 1KGX8 LAROSA","FUNGHI"]
["FCC500","CANNELLONI ALLA CARNE 500GX10PZ ZINI","ZINI"]
["FCM500","CANNELLONI RICOTTA E SPINACI 500GX10PZ ZINI","ZINI"]
["FDT001","CORNETTI VUOTI P.F. 6X10PZ FDT      75GR","FORNODELLATORRE"]
["FDT002","CORNETTI MARMELLATA P.F. 6X10PZ FDT 85GR","FORNODELLATORRE"]
["FDT003","CORNETTI CIOCCOLATO P.F. 6X10PZ FDT 85GR","FORNODELLATORRE"]
["FDT005","CROISSANT GLASSATO VUOTO P.F. 50PZX80GR FDT","FORNODELLATORRE"]
["FDT006","CROISSANT GLASSATO SUPER.CREMA P.F. 50PZX95GR FDT","FORNODELLATORRE"]
["FDT007","CROISSANT  GLASSATO SUPER.CIOCC. P.F. 50PZX95GR FDT","FORNODELLATORRE"]
["FDT008","CROISSANT  GLASSATO SUPER. MARMELL P.F. 50PZX95GR FDT","FORNODELLATORRE"]
["FDT009","FOGLIA CIOCC. P.F. 45PZX85GR FDT","FORNODELLATORRE"]
["FDT011","GIRELLA AL CIOCCOLATO P.F. 40PZX85GR FDT","FORNODELLATORRE"]
["FDT012","PASTA SFOGLIA STESA 1KGX10 FDT","FORNODELLATORRE"]
["FDT016","CROCCHETTA DI PATATE 70GR - KG6 - DA FRIGGERE","FORNODELLATORRE"]
["FDT017","CROCCHETTINA ALLA NDUJA 25GR - KG6 - DA FRIGGERE","FORNODELLATORRE"]
["FDT018","POLPETTE DI MELANZANE CON CARNE KG6 - DA FRIGGERE","FORNODELLATORRE"]
["FDT027","CROISSANT DOLCE PISTACCHIO 110GX56PZ FDT (CIOC.BIANCO/PISTACCHIO)","FORNODELLATORRE"]
["FE0177","PIZZA ALLA PALA WURSTEL E PATATINE 240GX12 SVILA","SVILA"]
["FINE","DATA FINE SELL-IN:",""]
["FL03","PANZEROTTINI PREFRITTI POMOD/MOZZ 450GX8 FLORIGEL","FLORIGEL"]
["FL15","RUSTICI MISTI 500GX12 FLORIGEL","FLORIGEL"]
["FL28","WURSTELLI 450GX8 FLORIGEL","FLORIGEL"]
["FP001","FUNGHI PORCINI INTERI SFUSI 8KG","FUNGHI"]
["FP250","FUNGHI PORCINI INTERI 250X12","FUNGHI"]
["FPF350","FUNGHI PORCINI A FETTE 350X12","FUNGHI"]
["FRA01","FRAGOLE CONGELATE 1000X10 LAROSA","FRUTTA"]
["FRAM170","*E* FRIGORIFERO FRAMEC 170 (170CMX70CM)","FRIGO"]
["FRI1015","FRITTELLE ZUCCHINE/GAMBERET. 2X1,5KG","RISPO"]
["FRI2642","FRITTELLE DI MARE 2X1,5KG","RISPO"]
["FRI2652","FRITTELLE SURIMI DI GRANCHIO 2X1,5KG","RISPO"]
["FRZ2605","FIORI DI ZUCCA MOZZ/ALICI 55G 4KG","RISPO"]
["FRZ2632","FIORI DI ZUCCA RICOT/PROV 55G 4KG","RISPO"]
["GAML2V","*E* GAMBERI ARGENTINI L2 20/30 2KG \"FROZEN BISTRO\"","FROZEN BISTRO"]
["GNO0001","GNOCCHI BOSCONE 1KGX10PZ ZINI","ZINI"]
["HAM001","HAMBURGER DI BLACK ANGUS AMERICANO GR200X10PZ","CARNE"]
["HAM003","HAMBURGER DI BUFALO GR200X10PZ","CARNE"]
["HAM004","HAMBURGER DI FASSONA PIEMONTESE GR200X10PZ","CARNE"]
["HAM005","HAMBURGER DI CLASSICO DI SCOTTONA GR200X12PZ","CARNE"]
["IMM00001","IMMAGINE ERRORE MARGINE NEG",""]
["IMM00002","PROMO CLIENTI",""]
["IMM01","IMMAGINE ERROR",""]
["IMM02","IMMAGINE WARNING",""]
["IMM03","immagine prezzo",""]
["IMM04","immagine pacco nocons o non conf",""]
["IMM05","immagine pacco ROTTO",""]
["INIZIO","DATA INIZIO SELL-IN:",""]
["KAT001","PASTA KATAIFI 1KGX6","PASTA"]
["KITIDEAL","KIT IDEALE TRE MARIE® 2021","TRE MARIE"]
["L00002","SOFTICROC BUSTA PIZZAIOLA GELIT 8X500","GELIT"]
["L00005","SOFTICROC BUSTA PROSCIUTTO E MOZZARELLA GELIT 8X500","GELIT"]
["L00021","SOFTICROC MOZZARELLA E FORMAGGIO GELIT 12X200","GELIT"]
["L00022","SOFTICROC MOZZARELLA E POMODORO GELIT 12X200","GELIT"]
["L00023","SOFTICROC FUNGHI GELIT 12X200","GELIT"]
["L00025","SOFTICROC PROSCIUTTO E MOZZARELLA GELIT 12X200","GELIT"]
["L00252","TAGLIOLINI ALLO SCOGLIO 8X550","GELIT"]
["L00257","TAGLIATELLE AI FUNGHI 8X550","GELIT"]
["L00260","RISOTTO DI MARE 8X500","GELIT"]
["L00262","GNOCCHI ALLA SORRENTINA 8X500","GELIT"]
["L00265","PENNETTE SALMONE E GAMBERI 8X500","GELIT"]
["L00267","PENNETTE ARRABBIATA 8X500","GELIT"]
["L00268","BUCATINI AMATRICIANA 8X550","GELIT"]
["L00284","RAVIOLI RICOTTA E SPINACI 8X550","GELIT"]
["LIM01","SUCCO LIMONE 1000X12 LAROSA","FRUTTA"]
["LOGO00","SAGISPA","MARCHIO"]
["LOGO01","IL MONDO DEL SURGELATO","MARCHIO"]
["LOGO02","FORNO DELLA TORRE","MARCHIO"]
["LOGO03","SAGISPA","MARCHIO"]
["M","MANCANTE ALLO SCARICO",""]
["MA2630","BW MAZZANCOLLE 26/30 SG.CRUDE 1KG(750G)X10 IQF GLASS.25%-ECUADOR","ISLA BONITA"]
["MA4150","BW MAZZANCOLLE 41/50 SG.CRUDE 1KG(750G)X10 IQF GLASS.25%-ECUADOR","ISLA BONITA"]
["MA5160","BW MAZZANCOLLE 51/60 SG.CRUDE 1KG(750G)X10 IQF GLASS.25%-ECUADOR","ISLA BONITA"]
["MAT3KG","SORRISI ALL'ASTICE 3 X 1KG","ZINI"]
["MAZ678","MAZZANCOLLA TROPICALE 60-70 6X2KG SEMI-IQF GLASS.10% - ECUADOR","ITTICO"]
["MF1000","MISTO FUNGHI CON PORCINI 1000X10","FUNGHI"]
["MF500B","FUNGHI MISTO CON PORCINI 500X12","FUNGHI"]
["MIM1110","MISTO MEDITERRANEO 25G 5KG","RISPO"]
["MIV0001","FRITTO MISTO DELL' ORTO 1KGX5 (verdure pastellate pronto forno)","RISPO"]
["MOZ2009","MOZZARELLINA PANATA 18G 5KG","RISPO"]
["MOZ2012","MOZZ. E PROSC. IN CARROZZA 75G 4KG","RISPO"]
["MRV007","SPADA TRANCE 1/2LUNA MARAVILLA SFUSO 5KG - GLASS.20% (4KG)","MARAVILLA"]
["MRV008","SPADA FILONE 1/4 S/P S/O KG__       GLASS.0%","ITTICO"]
["MZP001","MISTO ZUPPA PENTOLACCIA KG5(2x2.125kg) - GLASS.15%","ITTITALIA"]
["N","NON CONFORME ALL' ORDINE",""]
["NS0008","CRUNCHY FISH GR50 KG4 - NORDA","SURGELATI"]
["OLI2064","OLIVA ALL'ASCOLANA 25G 5KG","RISPO"]
["OR0003","ORATA FILETTI 120/160 KG5           GLASS.20%-OLANDA-TURCHIA","VAN DER LEE"]
["P","PREZZO ATTESO:",""]
["P00033","POLPO 3000 UP INDOPACIFICO(T2)KG__GLASS. 10% (INDONESIA) FAO71","ITTICO"]
["P001097","PIZZA MARGHERITA 26x38CM 470GX8 ITALPIZZA","ITALPIZZA"]
["P015","SPATOLA CON MANICO PLASTICA","MAT. PUBB."]
["P017","DOSATORI","MAT. PUBB."]
["P019","PORTASALVIETTE IN PVC SAMMONTANA","MAT. PUBB."]
["P020","BORSA TERMICA A TRACOLLA","MAT. PUBB."]
["P026","PORTASALVIETTE IN CART.(500 PZ)","MAT. PUBB."]
["P028","TOVAGLIOLINI/SALVIETTE 3000/4000 PZ SAMMONTANA-IL PASTICCERE-TRE MARIE","MAT. PUBB."]
["P098","PORTACARTELLO BIFACCIALE","MAT. PUBB."]
["P1","PREZZO APPLICATO:",""]
["P105","GUANTO FORNO IL PASTICCERE-TRE MARIE","MAT. PUBB."]
["P154","T-SHIRT","MAT. PUBB."]
["P2","PREZZO ATTESO:",""]
["P323","PORTACONI SPECIALE","MAT. PUBB."]
["P339","TAVOLO PLASTICA","MAT. PUBB."]
["P524","PALETTINE (CUCCHIAINI) IN BUSTA X250PZ","MAT. PUBB."]
["P526","COPPA CARTA PICCOLA X250PZ","MAT. PUBB."]
["P527","COPPA CARTA MEDIA X200PZ","MAT. PUBB."]
["P537","CAPPELLINO","MAT. PUBB."]
["P583","OMBRELLONE STANDARD","MAT. PUBB."]
["P584","OMBRELLONE 3X3 IN LEGNO","MAT. PUBB."]
["P585","GAZEBO TESSUTO (tubi metallo) 3*3","MAT. PUBB."]
["P586","TRANSENNA","MAT. PUBB."]
["P587","FIORIERA","MAT. PUBB."]
["P588","GETTACARTE BASCULANTE","MAT. PUBB."]
["P598","PORTACONI","MAT. PUBB."]
["P641","SEDIA PLASTICA","MAT. PUBB."]
["P718","DAVANTINO A TASCHE IL PASTICCERE-TRE MARIE","MAT. PUBB."]
["P768","KIT COMPLETO NETTARE DI GELATO","GRANITORE"]
["P851","PORTASALVIETTE IN PVC IL PASTICCERE-TRE MARIE","MAT. PUBB."]
["P852","PINZE PER CROISSANT IL PASTICCERE-TRE MARIE","MAT. PUBB."]
["P853","PENNELLO","MAT. PUBB."]
["P854","TIMER","MAT. PUBB."]
["P910","ALZATA PORTA BRIOCHE","MAT. PUBB."]
["P925","OMBRELLONE TONDO DIAM 3 MT","MAT. PUBB."]
["P930","BANDIERA MURO","MAT. PUBB."]
["P931","RETE + CAMPO BEACHVOLLEY","MAT. PUBB."]
["P941","SPECCHIO","MAT. PUBB."]
["P970","PORTASALVIETTE METALLO SAMMONTANA","MAT. PUBB."]
["P971","SEDIA ALLUMINIO","MAT. PUBB."]
["P972","TAVOLO ALLUMINIO X4","MAT. PUBB."]
["P973","QUADRO STORIA SAMMONTANA 2014","MAT. PUBB."]
["PCC01","PRIMA COLAZIONE PRONTO FORNO",""]
["PCC03","PRIMA COLAZIONE PRECOTTO",""]
["PCC04","PROMO PRIMA COLAZIONE",""]
["PCC500","FUNGHI PORCINI CUBETTI 500X12","FUNGHI"]
["PCR1","FUNGHI PORCINI PRIMA SCELTA 1000X8","FUNGHI"]
["PIZ2016","PIZZETTA CON MOZZARELLA 25G 3KG","RISPO"]
["POLPT4","POLPO MAROCCO T4(1500-2000) IQF KG:______ - GLASS.0%","ITTICO"]
["POLPT6","POLPO MAROCCO T6(800-1200) IQF 12KG-GLASS.0%","ITTICO"]
["POP001","MATERIALE POP VARIO","MAT. PUBB."]
["PROMO","OMAGGI E PROMOZIONI",""]
["PROVV","PROVVIGIONE",""]
["PRZ","PRZ APPLICATO-ATTESO(Es:19,789-18,789):",""]
["PTEST","PREZZO 2 descrizioni tipo campionario",""]
["Q569","PORTA ZUCCHERO IL PASTICCERE-TRE MARIE","MAT. PUBB."]
["QCN3KG","STELLE ALLA CERNIA 3KG ZINI","ZINI"]
["QFU3KG","TORTELLI AI PORCINI 3 X 1KG","ZINI"]
["QTT500","RAVIOLI RICOTTA E SPINACI 500GX10PZ ZINI","ZINI"]
["R","ROTTO - INVENDIBILE ALLO SCARICO",""]
["RBE02","BIETA ERBETTA CUBO GP 1000X10","AGRIFOOD"]
["RBR06","BROCCOLI ROSETTE GP 1000X5","AGRIFOOD"]
["RCC03","CICORIA FOGLIA CUBO GP 1000X5","AGRIFOOD"]
["RFA01","FAGIOLINI FINI GP 1000X10","AGRIFOOD"]
["RFA07","*E* FAGIOLINI FINI 16X600 FLASH 0,99","AGRIFOOD"]
["RFAF02","*E* FAGIOLINI FINISSIMI GP 450X12","AGRIFOOD"]
["RFAV01","FAVE PV 450X12","AGRIFOOD"]
["RFRI02","FRIARIELLI CUBI GP 1000X5 CIME DI RAPA","AGRIFOOD"]
["RIC35","RICOTTA DI PECORA DOLCE CONG. 3.5KG SECCHIO","DORICREAM"]
["RMI01","MINESTRONE 14 VERDURE GP 1000X10","AGRIFOOD"]
["RMI06","*E* MINESTRONE 14 VERDURE GP 450X12","AGRIFOOD"]
["RMI26","*E* MINESTRONE F.V. 16X600 FLASH 0,99","AGRIFOOD"]
["RPAK26","*E* PATATE STICK F.V. 16X600 FLASH 0,99","AGRIFOOD"]
["RPI02","PISELLI FINI ORTOLANDIA 1000X10","AGRIFOOD"]
["RPI09","*E* PISELLI FINI F.V. 16X600 FLASH 0,99","AGRIFOOD"]
["RPIF01","*E* PISELLI FINISSIMI GP 1000X10","AGRIFOOD"]
["RPIF02","PISELLI FINISSIMI GP 450X12","AGRIFOOD"]
["RSPC01","SPINACI CUBO GP 1000X10","AGRIFOOD"]
["RSPC20","*E* SPINACI CUBO F.V. 16X600 FLASH 0,99","AGRIFOOD"]
["RUS2005","RUSTICI MIGNON ASS.TI 20G 5KG","RISPO"]
["RZUD04","*E* ZUCCHINE A DISCO 5X1KG G.PANIERI","AGRIFOOD"]
["S","SCANDEZA BREVE - NON VENDIBILE",""]
["SAGI001","APOLLINI MIGNON(30G) 8KG - CODA D'ARAGOSTA","CROISSANT"]
["SAGI002","SFOGLIATE NAPOLETANE MIGNON(30G) 8KG","CROISSANT"]
["SAGI003","SFOGLIATE NAPOLETANE 110GX75PZ","CROISSANT"]
["SAGI004","FROLLE NAPOLETANE 110GX60PZ","CROISSANT"]
["SAGI005","GHIACCIO ALIMENTARE 6PZX2KG - CILINDRICO 30GR","GHIACCIO"]
["SAGI006","CALAMARI PUNTILLA 3/5 CM BLOCCO 1KG(900G)X12 - GLASS.10% FAO61","BLUWAVE"]
["SAGI007","POLPO 1000/2000 INDOPACIFICO(T4) KG15(13,5) - GLASS.10%(INDONESIA FAO57)","ITTICO"]
["SAGI009","GAMBERO ROSSO MOZAMBICO 21/30 TAGLIA \"XL\" 800G BORDO 0%","FRIP"]
["SAGI010","SCAMPI INTERI POLY N.2 16/20 4X1KG SCOZIA GLASS.0%","SFO"]
["SAGI0100","SEPPIA SPORCA BLOCCO 300/600 GAMBIA KG_____ - GLASS.0%","ITTICO"]
["SAGI0101","SCAMPI PORCUPINE 0-6 3KG IRLANDA GLASS.0%","GLENMAR"]
["SAGI0102","SCAMPI PORCUPINE 5-10 3KG IRLANDA GLASS.0%","GLENMAR"]
["SAGI0103","SCAMPI PORCUPINE 10-15 3KG IRLANDA GLASS.0%","GLENMAR"]
["SAGI0104","SCAMPI PORCUPINE 16-20 3KG IRLANDA GLASS.0%","GLENMAR"]
["SAGI0109","FINEST® PATATE FRITTE ROUND CUT 2KGX6PZ - FARM FRITES® -","FARM FRITES"]
["SAGI011","SCAMPI INTERI POLY N.3 21/25 4X1KG SCOZIA GLASS.0%","SFO"]
["SAGI0110","FARM FRITES® PATATE SLICES 1KGX12PZ - FETTINE","FARM FRITES"]
["SAGI0112","*E* TORTELLI RICOTTA E SPINACI 1KGX5PZ ZINI","ZINI"]
["SAGI0114","COZZE MEZZO GUSCIO 80/100 11KG(9,9KG) SPAGNA - GLASS.10%","ITTICO"]
["SAGI0115","COZZE MEZZO GUSCIO 30/40 800GX12 NUOVA ZELANDA","ITTICO"]
["SAGI0116","BACCALA' FIORI 200/300 6KG(5,4KG) - GLASS.10% (MERLUZZO NORDICO)","BRASMAR"]
["SAGI0118","SCAMPI INTERI POLY N.0 8/10 4X1KG SCOZIA GLASS.0%","SFO"]
["SAGI0119","FARM FRITES® PATATE WEDGES SKIN-ON 2,5KGX4PZ - SPICCHI CON BUCCIA 1/8","FARM FRITES"]
["SAGI0120","FARM FRITES® PATATE SPICCHI 1/8 2,5KGX4PZ - WEDGES SKIN-OFF","FARM FRITES"]
["SAGI0121","*E* KEBAB DI POLLO AIA 4X1000G","AIA"]
["SAGI0123","PESCE IMPERATORE 1/2KG EV. E SQ. 10KG(9KG) - GLASS.10% YEMEN/PAKISTAN","ITTICO"]
["SAGI0124","CERNIA 1/2KG EV. E SQ. 10KG(9KG) - GLASS.10% YEMEN","ITTICO"]
["SAGI0125","LUTIANO RUBY SNAPPER 1/2KG EV. E SQ. 10KG(9KG) - GLASS.10% YEMEN","ITTICO"]
["SAGI0126","BRAVI® PATATE STEAKHOUSE 9x18mm 2,5KGX5PZ - FARM FRITES","FARM FRITES"]
["SAGI0127","SCAMPI INTERI 25PZ 3KG SCOZIA GLASS.0%","SFO"]
["SAGI0129","SCAMPI INTERI POLY N.0 8/10 4X1,5KG(1,25KG) SCOZIA GLASS.15%","SFO"]
["SAGI013","TOTANO TENTACOLI COTTI TAG. 500GX12 - GLASS.20%","BLUEWAVE"]
["SAGI0130","SCAMPI INTERI POLY N.1 11/15 4X1,5KG(1,25KG) SCOZIA GLASS.15%","SFO"]
["SAGI0133","SALMONE FILETTI 1,1/1,4 KG SENZA PELLE S.V. KG___ - GLASS.0% (ok crudo)","ITTICO"]
["SAGI0136","RICCIOLA FILETTO C/P S.VUOTO KG______ - SASHIMI HAMACHI 1,3KG/2,2KG","SURGELATI"]
["SAGI0137","GOBBETTO INTERO COTTO 90-120 1KG(800G)X5PZ - GLASS.20% GAMBERO BOREALE","ITTICO"]
["SAGI0138","GRANCHIO TAGLIATO 1/2 CRUDO 1,5KGX6 - TUNISIA 0%","SURGELATI"]
["SAGI0140","POLPO INDOPACIFICO IQF 500/1000GR 2X5KG 10KG - GLASS.20%","BLUEWAVE"]
["SAGI0141","POLPO INDOPACIFICO IQF 1000GR\\UP 10KG - INDIA GLASS.20%","BLUEWAVE"]
["SAGI0142","GAMBERO SGUSCIATO 100/200 10X1KG INDOPACIFICO SCOTT. - GLASS.25% ALGERIA","FORSTAR"]
["SAGI0143","G7 TORTA GELATO AFFOGATO AL CIOCCOLATO 1,1KGX4","G7"]
["SAGI0144","CHICKEN CHIPS AIA 2X1500G","AIA"]
["SAGI0145","SEPPIA PULITA U100 MAROCCO 6,5KG - GLASS.0%","ITTICO"]
["SAGI0148","SEPPIA PULITA 200-400 MAROCCO 6KG - GLASS.0%","ITTICO"]
["SAGI015","PESCE SAN PIETRO FILETTI 150/200 6KG(4,5) - GLASS.25%","INTERATLANTIC"]
["SAGI0150","ASTICE AMERICANO IN RETE 350/400 5KG(4,5KG) - CANADA","SURGELATI"]
["SAGI0152","SCAMPI 21-30 12X500G(375G) GLASS.25% - OLANDA","SEACON"]
["SAGI0153","SURIMI DI GRANCHIO 250GX20 VICI","SURGELATI"]
["SAGI0154","PESCE GHIACCIO 200GX24PZ LA CIURMA - GLASS.20%","ITTICO"]
["SAGI0156","AMULYA CALAMARI ANELLI E CIUFFI CON PELLE 1KG(800G)X6 - XL","AMULYA"]
["SAGI0157","AGNELLO CARRE' PORZIONI (COSTOLETTE) KG5 -","CARNE"]
["SAGI016","GALLINELLA FILETTI 60/100 1KG(800G)X10 - GLASS.20%","BLUEWAVE"]
["SAGI0160","MAGNOSA (CICALA) 133/200 10X1KG(800)GR - INDONESIA 20%","SURGELATI"]
["SAGI0161","OSTRICHE 1/2 GUSCIO 48PZ - FRANCIA \"BRETAGNA\" CALIBRO N.3","SURGELATI"]
["SAGI0163","FARM FRITES® JALAPENO BITES 1KGX6PZ (Bocconcini Jalapeno e formaggio)","FARM FRITES"]
["SAGI0164","MERLUZZO FIORI VERI 60/90 5KG 0% - SUDAFRICA SEA HARVEST","SEA HARVEST"]
["SAGI0165","MERLUZZO FIORI VERI 110/130 5KG 0% - SUDAFRICA SEA HARVEST","SEA HARVEST"]
["SAGI0166","FIORI VERI PREMIUM DI MERLUZZO 60/90 5KG 0% - SUDAFRICA SEA HARVEST","SEA HARVEST"]
["SAGI0167","FIORI VERI PREMIUM DI MERLUZZO 90/110 5KG 0% - SUDAFRICA SEA HARVEST","SEA HARVEST"]
["SAGI0168","FIORI RICOMPOSTI DI MERLUZZO 90/110 5KG 0% - SUDAFRICA SEA HARVEST","SEA HARVEST"]
["SAGI0169","MERLUZZO DECAPITATO(H&G) 350/500 BORDO IWP KG___ - 0% SUDAFRICA S.H.","SEA HARVEST"]
["SAGI017","CALAMARO PATAGONIA C4LARGE (10-12CM) KG____ - GLASS.0%","WOFCO"]
["SAGI0170","POLPO MAROCCO T5 (1200/1500) IQF KG____ - GLASS. 0%","ITTICO"]
["SAGI0171","POLPO MAROCCO T4 (1500/2000) IQF KG____ - GLASS. 0%","ITTICO"]
["SAGI0172","POLPO MAROCCO T6 (800/1200) IQF KG____ - GLASS. 0%","ITTICO"]
["SAGI0173","SPADA TRANCE 1/2LUNA 0% SFUSO 5KG PP - GLASS.0%","ITTICO"]
["SAGI0174","GAMBERI ARGENTINI L1 12X800G MIRABELLA","MIRABELLA"]
["SAGI0176","PIZZA MARGHERITA S/GLUTINE 10PZX350G - DR SHAER","DR SHAER"]
["SAGI0178","CODE GAMBERO 13/15 10X500(375) FORSTAR - GLASS.25%","FORSTAR"]
["SAGI0179","SEPPIA PULITA 60/UP INDIA 1KG(800G)X10 BUSTA - GLASS.20%","BLUEWAVE"]
["SAGI0180","FARM FRITES® CHEDDAR BITES 1KGX6PZ - BOCCONCINI DI CHEDDAR","FARM FRITES"]
["SAGI0181","FARM FRITES® HOT&SPICY WEDGE SKIN-ON 1KGX6PZ - SPICCHI PICCANTI","FARM FRITES"]
["SAGI0182","TONNO P.GIALLE TRANCE (BISTECCA) 6KG(5,4KG) - GLASS. 10% SP SO SS","MARAVILLA"]
["SAGI0183","COZZE GRATINATE KG1X4 MAREPIU'","MAREPIU"]
["SAGI0184","SPIEDINI GRATINATI 3KG MAREPIU'","MAREPIU"]
["SAGI0185","CALAMARI SUD AFRICA S CIOCCOLATO IQF KG8 - GLASS.0%","CIOCCOLATO"]
["SAGI0186","SCAMPI 17-20 6X1KG(700G) GLASS.30% SFO - SCOZIA","SFO"]
["SAGI0187","SPADA TRANCETTE KG4,7(3,75KG) GLASS.20%","ITTICO"]
["SAGI0188","2+1 PIZZA MARGHERITA 3X300GX6PZ VOGLIA DI PIZZA","SURGELATI"]
["SAGI019","SEPPIA PULITA 200/400 IQF GAMBIA KG____ - GLASS.0%","ITTICO"]
["SAGI0191","GAMBERI ARGENTINI L1 BORDO 2KG \"CONARPESA\"","CONARPESA"]
["SAGI0192","GAMBERI SGUSCIATI 30/50 6X1000 GLASS.35%","ITTICO"]
["SAGI0193","GAMBERI ARGENTINI L1 BORDO 10/20 2KG \"MIRABELLA\"","MIRABELLA"]
["SAGI0194","GAMBERI ARGENTINI L2 BORDO 20/30 2KG \"MIRABELLA\"","MIRABELLA"]
["SAGI0195","CARNE MACINATA MISTA (BOVINO/SUINO) 400GX8PZ - IL MONDO DEL SURGELATO®","CARNE"]
["SAGI0196","HAMBURGER DI VITELLO E SUINO 400GX8PZ - IL MONDO DEL SURGELATO®","CARNE"]
["SAGI0197","COTOLETTE DI SUINO 400GX8PZ - IL MONDO DEL SURGELATO®","CARNE"]
["SAGI0198","COTOLETTE DI POLLO 400GX8PZ - IL MONDO DEL SURGELATO®","CARNE"]
["SAGI020","SEPPIA PULITA IQF 800/1200 GAMBIA KG_____ - GLASS.0%","ITTICO"]
["SAGI0201","SALSICCIA DOLCE 400GX8PZ - IL MONDO DEL SURGELATO®","CARNE"]
["SAGI0203","COTOLETTE DI VITELLO 400GX8PZ - IL MONDO DEL SURGELATO®","CARNE"]
["SAGI0204","SEPPIE SPORCHE SENEGAL IQF 400/600 KG10 - GLASS.0%","ITTICO"]
["SAGI0205","COZZE C/GUSCIO 500GX10PZ ARBI","ARBIDARIO"]
["SAGI0207","RONDELLE DI TOTANO GIG. COTTI 1KG(800G)X5 BRASMAR","BRASMAR"]
["SAGI0208","CANNOLO (PIFFERO) GIANDUIA 70GX80PZ BUONINI","CROISSANT"]
["SAGI0209","CIOCCOBON (RODRIGO) CIOCCOLATO 105GX56PZ BUONINI","CROISSANT"]
["SAGI021","POLIPETTI PULITI 20/40 CT10X1KG (10X800G) BUSTA - 20% IQF INDIA","BLUEWAVE"]
["SAGI0210","CHEBON (RODRIGO) FRUTTI DI BOSCO 105GX56PZ BUONINI","CROISSANT"]
["SAGI0211","TOTANO FETTUCCINE 1KG(750G)X5 -  GLASS.25%","BRASMAR"]
["SAGI0212","SGOMBRO FILETTI 100/150 KG1(800G)X10  GLASS.20% - CINA BRASMAR","BRASMAR"]
["SAGI0213","PANGELATO 1250G GELATERIA ENRICO","TARTUFO DI PIZZO"]
["SAGI0214","TARTUFONE 1200G GELATERIA ENRICO","TARTUFO DI PIZZO"]
["SAGI0215","FARM FRITES® ROSTIKO PATATE/CIPOLLA 2,5KGX4PZ","FARM FRITES"]
["SAGI0216","POLPO MAROCCO BORDO T6(800-1200) BLOCCO PESO VARIABILE - GLASS.0%","ITTICO"]
["SAGI0217","CALAMARI SUD AFRICA M(-300) CIOCCOLATO IQF KG8 - GLASS.0%","CIOCCOLATO"]
["SAGI0218","MERLUZZO FIORI VERI 130/160 5KG 0% - SUDAFRICA SEA HARVEST","SEA HARVEST"]
["SAGI0219","COZZE MEZZO GUSCIO 60/80 800GX10PZ CILE - GLASS.0%","ITTICO"]
["SAGI0220","CODA D'ARAGOSTA K2 (100/110G)X75PZ","CROISSANT"]
["SAGI0221","FARM FRITES® CROCCHETTE DI PATATE 1KGX10PZ","FARM FRITES"]
["SAGI0222","PANGASIO FILETTI 1000(800)X6 170/220-GLASS.20%","SALPESCA"]
["SAGI0223","CIAMBELLA MIGNON 30GR (2,5KG) GIESSE","CROISSANT"]
["SAGI0224","KRAPFEN MIGNON 28GR (2,5KG) GIESSE","CROISSANT"]
["SAGI0225","FARM FRITES® BASTONCINI DI MOZZARELLA 1KGX6PZ","FARM FRITES"]
["SAGI0226","BW CALAMARI PULITI U5 BLOCCO 6X2KG(1,4KG) GLASS.30% - CHINA","SALPESCA"]
["SAGI0227","BW CALAMARI PULITI U10 IQF 10X1KG(700G) GLASS.30% - CHINA","SALPESCA"]
["SAGI0228","MOZZARELLA STICKS 1KGX6 LW Bastoncini di mozzarella, 47-53 pezzi/kg","LAMBWESTON"]
["SAGI0229","FARM FRITES® ROSTIES PATATE/CIPOLLA 1KGX12PZ","FARM FRITES"]
["SAGI0230","OMBRINA FILETTI BOCCADORO 500/1000 10KG - GLASS.0% GRECIA/TURCHIA","ITTICO"]
["SAGI0231","SALMONE \"SALAR\" PORZIONI C/P 150 5KG GLASS.0%","ITTICO"]
["SAGI0232","POLPO COTTO TENTACOLO 100/150GX10PZ (1.7kg circa)-GLASS.0%","SURGELATI"]
["SAGI0233","MAZZANCOLLA TROPICALE 60-70 10X2KG SEMI-IQF GLASS.0% - ECUADOR","ITTICO"]
["SAGI0234","BIETA ERBETTA MILLEFOGLIE 750GX10 BONDUELLE","BONDUELLE"]
["SAGI0235","MELANZANE,ZUCCHINE GRIGLIATE CON CAROTE E POMODORI 450GX12 BONDUELLE","BONDUELLE"]
["SAGI0236","SPINACI MILLEFOGLIE 750GX10 BONDUELLE","BONDUELLE"]
["SAGI0237","TEMPURA DI VERDURE 450GX12 BONDUELLE","BONDUELLE"]
["SAGI0238","TRIS DI CAVOLI 450GX12 BONDUELLE","BONDUELLE"]
["SAGI0239","FAGIOLINI 450GX12 BONDUELLE","BONDUELLE"]
["SAGI0240","SALMONE AFFUMICATO LAMINATO 900/1400 SV - NORVAGIA GLAS.0%","ITTICO"]
["SAGI0241","CORNETTO VUOTO CURVO DA LIEVITARE 85GX90PZ BUONINI","CROISSANT"]
["SAGI0242","MAXI CROISSANT VUOTO PRONTO FORNO 95GX48PZ BUONINI","CROISSANT"]
["SAGI0243","NERETTO VUOTO CURVO PRONTO FORNO 70GX40PZ BUONINI","CROISSANT"]
["SAGI0244","SPINACI CUBO FRESCO VERDE 900GX12","AGRIFOOD"]
["SAGI0245","ARANCINO BIANCO (BURRO) GR200X40PZ - Mozzarella, Besciamella e Formaggio","TOSCANO"]
["SAGI0246","PLATESSA FILETTI N2 SP KG5 GLASS.25%","BLUEWAVE"]
["SAGI0247","TRAPEZIO DI FILETTO DI MERLUZZO AL 56% 6KG(80pzX75g) - FROSTA","FROSTA"]
["SAGI0248","ZEPPOLA GRANDE CREMA 120GRX12PZ (FORNO)","CROISSANT"]
["SAGI0249","ZEPPOLA MIGNON CREMA 1,5KG(35gxPZ) - FORNO","CROISSANT"]
["SAGI025","GELATO 4 KINDER BUENO CLASSICO FERRERO X8PZ","FERRERO"]
["SAGI0250","TOTANO TENTACOLI TAGLIATI E COTTI 6KG(4,8KG) - GIGAS GLASS.20%","BLUEWAVE"]
["SAGI0251","AMULYA SEPPIA PUL. IQF 8/12 1KG(900G)X6 - INDIA GLASS.10%","AMULYA"]
["SAGI0252","AMULYA CALAMARI ANELLI E CIUFFI CON PELLE 1KG(800G)X6 - L","AMULYA"]
["SAGI0253","FARM FRITES® SWEET POTATO 2KGX5PZ - Patate Dolci","FARM FRITES"]
["SAGI0254","SALPESCA® FILETTO MERLUZZO D'ALASKA 1KG(800G)X5 - GLASS.20%","SALPESCA"]
["SAGI0255","RAVIOLI AL MANZO BRASATO 1KGX6PZ ZINI","ZINI"]
["SAGI0256","BW SEPPIA PULITA IQF U1 INDIA KG10(6,5)-GLASS.35%","BLUEWAVE"]
["SAGI0257","MAXI HAMBURGER SESAMO 130GX16PZ","VANDEMOORTELE"]
["SAGI0258","AMULYA SEPPIA PUL. IQF 5/7 6KG(5.4KG) - INDIA GLASS. 10%","AMULYA"]
["SAGI0259","6 CONO CROCCANTINO 450GX6 CAFFE' DEL VAPORE","CAFFEDELVAPORE"]
["SAGI026","GELATO 4 KINDER BUENO WHITE FERRERO X8PZ","FERRERO"]
["SAGI0260","8 MINI CONI 400GX6 CAFFE' DEL VAPORE","CAFFEDELVAPORE"]
["SAGI0261","6 RICOPERTO SENZA LATTOSIO 330GX6 CAFFE' DEL VAPORE","CAFFEDELVAPORE"]
["SAGI0262","4 GIGANTE BIANCO 320GX6 CAFFE' DEL VAPORE","CAFFEDELVAPORE"]
["SAGI0263","BISCOTTINO BIANCO E NERO 400GX6 CAFFE' DEL VAPORE","CAFFEDELVAPORE"]
["SAGI0264","6 BISCOTRIS 480GX6 CAFFE' DEL VAPORE","CAFFEDELVAPORE"]
["SAGI0265","*E* 4 COPPA PANNA/CACAO 280X6 CAFFE' DEL VAPORE","CAFFEDELVAPORE"]
["SAGI0266","12 PARTY MIX 6PZX755G CAFFE' DEL VAPORE","CAFFEDELVAPORE"]
["SAGI0267","4 MAXIBON CLASSIC 384GX10PZ","FRONERI"]
["SAGI0268","4 MAXIBON SPECIALE CEREAL MIX 240GX8PZ","FRONERI"]
["SAGI0269","4 MAXIBON SPECIALE CHOCO BROWNIE 232GX8PZ","FRONERI"]
["SAGI027","CIAMBELLA FRITTA CREMA 85GRX36PZ GIESSE","CROISSANT"]
["SAGI0270","4 NUII CARAMELLO SALATO E NOCI MACADAMIA 272GX8PZ","FRONERI"]
["SAGI0271","4 NUII CIOCC.FONDENTE E MIRTILLI 264GX8PZ","FRONERI"]
["SAGI0272","4 NUII PISTACCHIO 284GX8PZ","FRONERI"]
["SAGI0273","4 NUII CIOCC.LATTE E NOCCIOLE 272GX8PZ","FRONERI"]
["SAGI0274","6 COPPA DEL NONNO CLASSICA 390GX6","FRONERI"]
["SAGI0275","6 PIRULO MINI TROPICAL 300GX7","FRONERI"]
["SAGI0276","2 TARTUFO CIOCCOLATO/CREMA ANTICA GELATERIA 160X6","FRONERI"]
["SAGI0277","2 TARTUFO PANNA/CAFFE' ANTICA GELATERIA 160X6","FRONERI"]
["SAGI0278","SCORFANO FILETTI ATLANTICO CP 100/150 KG1(800G)X10 GLASS.20%","ITTICO"]
["SAGI0279","MERLUZZO CUORICINI NAMIBIA 8KG(6,4KG) GLASS.20%","BRASMAR"]
["SAGI028","CIAMBELLA FRITTA NOCCIOLA/CACAO 80GRX36PZ GIESSE","CROISSANT"]
["SAGI0280","SCAMPI PORCUPINE 21-30 3KG IRLANDA GLASS.0%","GLENMAR"]
["SAGI0281","SCAMPI PORCUPINE 31-40 3KG IRLANDA GLASS.0%","GLENMAR"]
["SAGI0282","BW MAZZANCOLLE 36/40 SG.CRUDE 1KG(750G)X10 IQF GLASS.25%-ECUADOR","ISLA BONITA"]
["SAGI0283","CALAMARI SUD AFRICA BLOCCO M(12/23cm) PV KG__ - BORDO GLASS.0% VIKING","VIKING"]
["SAGI0284","CALAMARI SUD AFRICA BLOCCO L(23cm+) PV KG__ - BORDO GLASS.0% VIKING","VIKING"]
["SAGI0285","CROISSANT BURRO (23,5%) VUOTO DRITTO 75GX52PZ","VANDEMOORTELE"]
["SAGI0286","FOCACCIA TOAST CLASSICA 140GX16PZ","VANDEMOORTELE"]
["SAGI0288","PESCE IMPERATORE 2/3KG EV. E SQ. 22KG(19,8KG) - GLASS.10% YEMEN","ITTICO"]
["SAGI0289","CERNIA 3/5KG EV. E SQ. 22KG(19,8KG) - GLASS.10% YEMEN","ITTICO"]
["SAGI029","KRAPFEN NOCCIOLA/CACAO 75GRX36PZ GIESSE","CROISSANT"]
["SAGI0290","PAGRO 1800/3000 EV. E SQ. 10KG - GLASS.0% YEMEN","ITTICO"]
["SAGI0291","LUTIANO 2/3KG DECAPITATO EV. E SQ. 22KG(19,8KG) - GLASS.10% YEMEN","ITTICO"]
["SAGI0292","8 GHIACCIOLI 600GX8PZ INDIAN","INDIAN"]
["SAGI0293","4 SORBETTO LIMONE IN FLUTE 260GX8PZ INDIAN","INDIAN"]
["SAGI0294","CALZONE AL FORNO PIZZAIOLA 35PZX130G","FORNODORO"]
["SAGI0295","ARANCINO AL RAGU' DA FRIGGERE GR200X40PZ","TOSCANO"]
["SAGI0296","SALPESCA® CALAMARI PULITI U10 IQF 10X1KG(700G) GLASS.30% - CHINA","SALPESCA"]
["SAGI0297","SALPESCA® CALAMARI PULITI U5 BLOCCO 6X2KG(1,4KG) GLASS.30% - CHINA","SALPESCA"]
["SAGI0298","MAZZANCOLLE 26/30 SG.CRUDE 1KG(750G)X10 IQF GLASS.25%-ECUADOR","ISLA BONITA"]
["SAGI0299","MAZZANCOLLE 41/50 SG.CRUDE 1KG(750G)X10 IQF GLASS.25%-ECUADOR","ISLA BONITA"]
["SAGI030","CIAMBELLA MAXI FRITTA 100GRX30PZ GIESSE","CROISSANT"]
["SAGI0300","MAZZANCOLLE 51/60 SG.CRUDE 1KG(750G)X10 IQF GLASS.25%-ECUADOR","ISLA BONITA"]
["SAGI0301","BW VONGOLE MARRONI 40/60 S.V. 10X1KG - VIETNAM","BLUEWAVE"]
["SAGI0302","BW VONGOLE MARRONI 60/90 S.V. 10X1KG - VIETNAM","BLUEWAVE"]
["SAGI0303","BW VONGOLE MARRONI 60/90 S.V. 10X500KG - VIETNAM","BLUEWAVE"]
["SAGI0304","BW VONGOLE MARRONI 80/100 BULK 10KG - VIETNAM","BLUEWAVE"]
["SAGI0305","ALICI INTERE IQF 1KG(900G)X5-GLASS.10%","ITTICO"]
["SAGI0306","SEPPIE SPORCHE TUNISIA BLOCCO 300/400 KG12(4X3KG) - GLASS.0%","BLUEWAVE"]
["SAGI0307","SEPPIE SPORCHE TUNISIA BLOCCO 200/300 KG12(4X3KG) - GLASS.0%","BLUEWAVE"]
["SAGI0308","BAGUETTE 280GX45PZ VANDEMOORTELE","VANDEMOORTELE"]
["SAGI0309","TOTANO ILLEX 300/500 15KG IRLANDA GLASS.0%","GLENMAR"]
["SAGI031","CIAMBELLA FRITTA 60GRX24PZ GIESSE","CROISSANT"]
["SAGI0310","BACCALA' FILETTI 500/1000 15KG(10,5) - GLASS.30% (MERLUZZO NORDICO)","BRASMAR"]
["SAGI0311","CAPESANTE 1/2 GUSCIO IQF 20/30 10X1KG(800G) - GLASS.20%","SURGELATI"]
["SAGI0312","CROCCHETTINE HAPPY FISH 6KG - FROSTA","FROSTA"]
["SAGI0313","ARANCINO BIANCO (BURRO) GR200X20PZ - Mozzarella, Besciamella e Formaggio","TOSCANO"]
["SAGI0314","FARM FRITES® NOISETTES 2,5GX4PZ","FARM FRITES"]
["SAGI0315","PLATESSA FILETTI IMPANATI 220UP 5KG - PREFRITTI","ITTICO"]
["SAGI0316","TONNO A PINNE GIALLE FILONI S/P S/O SFUSO KG__","ITTICO"]
["SAGI0317","CODE DI GAMBERO ARGENTINO \"C1\" 2KGX6","ITTICO"]
["SAGI0318","SALMONE \"SALAR\" FILETTI 900-1400GR CP S.V. KG___ - GLASS.0% (ok crudo)","ITTICO"]
["SAGI0319","PASSERA FILETTI S/P 200/400 10KG(8KG) PACIFICO-GLASS.20%","ITTICO"]
["SAGI032","KRAPFEN VUOTO 60GRX24PZ GIESSE","CROISSANT"]
["SAGI0320","*E* BAGUETTE 290GX27PZ DELIFRANCE","DELIFRANCE"]
["SAGI0321","BW TOTANO TENTACOLI TAGLIATI E COTTI 6KG(4,8KG) - GIGAS GLASS.20%","BLUEWAVE"]
["SAGI0322","BW TOTANO TENTACOLI TAGLIATI E COTTI 12X500g(400g) - GIGAS GLASS.20%","BLUEWAVE"]
["SAGI0323","BW TOTANO TENTACOLI TAGLIATI E COTTI 6X1KG(800G) - GIGAS GLASS.20%","BLUEWAVE"]
["SAGI0324","BW ANELLI DI TOTANO 10X1KG(900G) - GIGAS GLASS.10%","BLUEWAVE"]
["SAGI0325","CALAMARI ANELLI E CIUFFI 10X1KG(800G) - GLASS.20% XL(3/6)","BLUEWAVE"]
["SAGI0326","CALAMARI U5 PULITI THAILANDIA BLOCK 6X2KG(1,4KG) - GLASS.30% L.T.","LONG TAIL"]
["SAGI0327","CREPES ALLA NOCCIOLA 220GX12PZ GELIT","GELIT"]
["SAGI0328","CALAMARI U10 PULITI THAILANDIA BLOCK 6X2KG(1,4KG) - GLASS.30% L.T.","LONG TAIL"]
["SAGI0329","MERLUZZO FIORI VERI 60+ 5KG 0% - SUDAFRICA SEA HARVEST","SEA HARVEST"]
["SAGI033","KRAPFEN CREMA 80GRX24PZ GIESSE","CROISSANT"]
["SAGI0330","TOTANO SPAGNA (17/20) BLOCCO KG__ - GLASS.0% SPAGNA","INTERATLANTIC"]
["SAGI0331","TORTA ST. HONORE' 1450G - \"MERIDIANA\"","MERIDIANA"]
["SAGI0332","SUSHI KIT OGGI PESCE 12X233G","OGGI PESCE"]
["SAGI0334","CALAMARI ANELLI E CIUFFI 10X1KG(800G) - GLASS.20% L(6/10)","BLUEWAVE"]
["SAGI0335","ASPARAGI INTERI 10/16MM 500GX12 PETRUCCI","BOSCOMAR"]
["SAGI0336","POLPO COTTO TENTACOLO 100/140g 3,5KG - GLASS.0%","BRASMAR"]
["SAGI0337","4 COPPA PANNA/CACAO 280X8 CAFFE' DEL VAPORE","CAFFEDELVAPORE"]
["SAGI0338","BW FILETTO MERLUZZO D'ALASKA 170/220 1KG(800G)X5 - GLASS.20%","SALPESCA"]
["SAGI0339","COZZE SGUSCIATE 200/300 10KG(9KG) - GLASS.10% CILE","ITTICO"]
["SAGI034","CIAMBELLA FRITTA 60GX40PZ GIESSE - BELLA DI PAPA'","CROISSANT"]
["SAGI0340","SCAMPI INTERI 13PZ/KG 3KG SCOZIA GLASS.0%","SFO"]
["SAGI0341","GRANCHIO TAGLIATO 1/2 CRUDO 1KGX10 - TUNISIA 0%","SURGELATI"]
["SAGI0342","GELATO 4 KINDER CHOCOLATE STICK FERRERO X7PZ","FERRERO"]
["SAGI0343","GELATO 3 ROCHER TRIPLO CARAMELLO FERRERO X8PZ","FERRERO"]
["SAGI0344","SEPPIA PULITE MAROCCO 1500/2000 KG12 - GLASS.0%","ITTICO"]
["SAGI0345","RANA PESCATRICE 500/1000 SUD AFRICA KG____ -  GLASS.0%","SURGELATI"]
["SAGI0346","OSTRICHE 1/2 GUSCIO 48PZ - FRANCIA \"BRETAGNA\" CALIBRO N.2","SURGELATI"]
["SAGI0347","CANNOLICCHI 1KGX10 GLASS.0%","SURGELATI"]
["SAGI0348","LW REALLY CRUNCHY 9X9 SKIN ON 4X2,5KG - Patate Stick 9/9 c/buccia","LAMBWESTON"]
["SAGI0349","2 PINSA ROMANA 19x30CM 460GX10(2X230G) DI MARCO","DI MARCO"]
["SAGI0350","3 PINSA ROMANA MULTICEREALI 19x30CM 690GX6(3X230G) DI MARCO","DI MARCO"]
["SAGI0351","PINSA ROMANA SENZA GLUTINE 20x30CM 235GX10 DI MARCO","DI MARCO"]
["SAGI0352","POLPO MAROCCO T4(1500-2000) IQF 12KG-GLASS.0%","ITTICO"]
["SAGI0353","GAMBERO ROSSO SICILIA N.2 12X1KG - GLASS.0%","ITTICO"]
["SAGI0354","GAMBERO ROSSO SICILIA N.3 12X1KG - GLASS.0%","ITTICO"]
["SAGI0355","GAMBERO ROSSO SICILIA N.4 12X1KG - GLASS.0%","ITTICO"]
["SAGI0356","POLPA DI RICCIO 100G TURCHIA - GLASS.0%","ITTICO"]
["SAGI0357","TOTANO TENTACOLI TAGLIATI E COTTI 1KG(800G)X6 - GIGAS GLASS.20%","BLUEWAVE"]
["SAGI0358","CAPESANTE ATLANTICHE SGUSCIATE 8/12 10X600G PP - UK","SURGELATI"]
["SAGI0359","SCAMPI 8-12 6X1KG(750G) DUNDALK - GLASS.25% IRLANDA","DUNDALK"]
["SAGI036","FARM FRITES® PATATE STICK 10mm 2,5KGX5PZ - STANDARD","FARM FRITES"]
["SAGI0360","SCAMPI 9-15 POLY 4X1,5KG(1,35KG) DUNDALK - GLASS.10% IRLANDA","DUNDALK"]
["SAGI0361","SCAMPI 16-20 POLY 4X1,5KG(1,35KG) DUNDALK - GLASS.10% IRLANDA","DUNDALK"]
["SAGI0362","CERNIA 3/5KG EV. E SQ. 25KG - GLASS.0% INDIA","ITTICO"]
["SAGI0363","PERSICO FILETTI 300/500 6KG - GLASS. 0% UGANDA","ITTICO"]
["SAGI0364","BRIOCHES COTTA 85GX40PZ","CROISSANT"]
["SAGI0365","SCAMPI INTERI POLY N.2 16/20 4X1,5KG(1,25KG) SCOZIA GLASS.15%","SFO"]
["SAGI0366","BASE PER PIZZA ALTA 750GX8PZ - 40CMX30CM","VANDEMOORTELE"]
["SAGI0367","BW SEPPIE SPORCHE TUNISIA BLOCCO 300/400 KG12(4X3KG) - GLASS.0%","BLUEWAVE"]
["SAGI0368","PESCE GHIACCIO 250G(225G)X20PZ - GLASS.10%","ITTICO"]
["SAGI0369","TOTANO ANELLI E CIUFFI C/P 5KG(4,5KG) SFUSO - GLASS. 10% SPAGNA","ALFRIO"]
["SAGI037","FARM FRITES® PATATE STEAKHOUSE 9x18mm 2,5KGX5PZ","FARM FRITES"]
["SAGI0370","4 COPPETTE FRAGOLA/LIMONE 280GX8 CAFFE' DEL VAPORE","CAFFEDELVAPORE"]
["SAGI0371","GAMBERO ROSSO SICILIA N.3 10X1KG - GLASS.0%","ITTICO"]
["SAGI0372","GAMBERO ROSSO SICILIA N.4 10X1KG - GLASS.0%","ITTICO"]
["SAGI038","FARM FRITES® PATATE STIK QUICK HOVEN 8,5mm 2KGX4PZ - FORNO","FARM FRITES"]
["SAGI039","FARM FRITES® PATATE STIK CRISPY COATED 10mm 2,5KGX5PZ - SUPERCRUNCH","FARM FRITES"]
["SAGI040","FARM FRITES® PATATE ALFABETO 1KGX10PZ","FARM FRITES"]
["SAGI041","FARM FRITES® CROCCHETTE DI PATATE 1KGX12PZ - DISATTIVATO","FARM FRITES"]
["SAGI042","FARM FRITES® ANELLI DI CIPOLLA 1KGX6PZ","FARM FRITES"]
["SAGI043","FINEST® PATATE FRITTE STICK 10mm 2KGX6PZ - FARM FRITES®","FARM FRITES"]
["SAGI044","FARM FRITES® PATATE FRITTE FIESTA COLOR 10mm 2,5KGX6PZ","FARM FRITES"]
["SAGI045","SCAMPI 13-16 6X1KG(700G) GLASS.30% SFO - SCOZIA","SFO"]
["SAGI046","SCAMPI 8-12 6X1KG(700G) GLASS.30% SFO - SCOZIA","SFO"]
["SAGI060","CUORE DI MAMMA 2 TIRAMISU' AL MASCARPONE 220GX8PZ","MARTINUCCI"]
["SAGI061","CUORE DI MAMMA 5 PASTICCIOTTI CREMA/AMARENA 300GX8PZ","MARTINUCCI"]
["SAGI065","G7 VASC. AFFOGATO CIOCCOLATO 1KGX4PZ","G7"]
["SAGI066","G7 VASC. BACIO 1KGX4PZ","G7"]
["SAGI067","G7 VASC. CASSATA 1KGX4PZ","G7"]
["SAGI068","G7 VASC. FIORDILATTE 1KGX4PZ","G7"]
["SAGI069","G7 VASC. PANNA E NOCCIOLA 1KGX4PZ","G7"]
["SAGI070","G7 VASC. PISTACCHIO 1KGX4PZ","G7"]
["SAGI071","G7 VASC. STRACCIATELLA 1KGX4PZ","G7"]
["SAGI072","G7 TORTA GELATO CREMA FIORENTINA 1,1KGX4","G7"]
["SAGI073","6 STECCO BANANA 330GX6 CAFFE' DEL VAPORE","CAFFEDELVAPORE"]
["SAGI074","6 CROCCHINO AL CIOCCOLATO 390GX6 CAFFE' DEL VAPORE","CAFFEDELVAPORE"]
["SAGI075","6 BISCO BLACK 228GX6 CAFFE' DEL VAPORE","CAFFEDELVAPORE"]
["SAGI076","6 BISCOTTONE 12X480G INDIAN","INDIAN"]
["SAGI077","10 BON BON FIORDILATTE 6X120G INDIAN","INDIAN"]
["SAGI078","MINI FRUIT 12PZX276G(3x6x15g) SOMOSIERRA","SOMOSIERRA"]
["SAGI079","STECCO GRAN BERRY 9PZX320G(4x80g) SOMOSIERRA","SOMOSIERRA"]
["SAGI080","MINI STECCO VANIGLIA S/ZUCCHERO 9PZX240G(6x40g) SOMOSIERRA","SOMOSIERRA"]
["SAGI082","SEPPIA PULITA IQF 1200+ GAMBIA KG_____ - GLASS.0%","ITTICO"]
["SAGI086","G7 VASC. LIMONE 1KGX4PZ","G7"]
["SAGI087","G7 VASC. TIRAMISU' 1KGX4PZ","G7"]
["SAGI088","MAZZANCOLLA TROPICALE 50-60 6X2KG PP SEMI IQF - ECUADOR","ITTICO"]
["SAGI089","TRANCE DI MERLUZZO ATLANTICO KG8(6KG) GLASS.25%","BRASMAR"]
["SAGI090","TRANCE DI SALMONE ARGENTATO KG8(6KG) - GLASS.25%","ITTICO"]
["SAGI091","TRANCE DI LAMPUGA KG8(6,4KG) - GLASS.20%","BRASMAR"]
["SAGI097","POLPO TAGLIATO COTTO IQF 1KG(800G)X10 - GLASS.20%","BLUEWAVE"]
["SAL002","SALPESCA® MERLUZZO CUORICINI 8KG(6,4KG) €9,59(11,99) GLASS.20%","SALPESCA"]
["SAL005","TRANCE DI VERDESCA 8KG(6,4KG)  GLASS.20%","BRASMAR"]
["SAL015","SALPESCA® TRANCE DI MERLUZZO 500G(400G)X10PZ-GLASS.20% NAMIBIA","SALPESCA"]
["SBRC315","CHELE DI GRANCHIO PANATE 245X20 VICI (CON STICK DI BAMBOO)","SURGELATI"]
["SBRC319","CHELE DI GRANCHIO PANATE 980X4 VICI (CON STICK DI BAMBOO)","SURGELATI"]
["SCONT","SCONTI",""]
["SE0812","SEPPIA PULITA IQF 8/12 INDIA 10x1000(800)-GLASS.20%","ITTICO"]
["SE1320","AMULYA SEPPIA PUL. IQF 13/20 1KG(800G)X6 - INDIA GLASS.20%","AMULYA"]
["SERV","COMPENSO",""]
["SISA0001","GELATO GD SAMMONTANA","MULTIPACK"]
["SPA001","SPADA TRANCE 1/2LUNA 200/400 SFUSO 8KG(6KG) GLASS.25%","BRASMAR"]
["SPA002","SPADA TRANCE 1/2LUNA G SFUSO 8KG(6,4KG)-GLASS.20%","BRASMAR"]
["SPA003","SPADA TRANCE 1/2LUNA PELL.16,79(20,99) 8KG GLASS.20% (6,4KG)","SALPESCA"]
["SPA007","COTOLETTA DI PESCE SPADA 1KGX4 VASSOIO","MAREPIU"]
["STO5311","9 MINI DONUTS MIX 260GX6PZ","CROISSANT"]
["SUSH01","SUSHI KIT 375GX6PZ APERIFISH","MAREPIU"]
["T030","PRESINA IN SILICONE TRE MARIE","MAT. PUBB."]
["T467","TM KIT ESPOSITORI L'IDEALE 2021","MAT.PUBB."]
["T471","ESPOSITORE VASETTI RIGONI 2021","MAT. PUBB."]
["T486","TM KIT MATERIALI PV RIGONI L' IDEALE 2021","MAT. PUBB."]
["T487","EROGATORE FARCITURE RIGONI","MAT. PUBB."]
["TAC001","TOTANO ANELLI E CIUFFI 6X1KG(900)   GLASS. 10%-SPAGNA","LANZAL"]
["TEST","Articolo Test",""]
["TON001","TONNO P.GIALLE FILONE KG___ GLASS. 0% - SP SO SS","ITTICO"]
["TON002","TONNO ROSSO FILONE KG___ GLASS. 0% - PINNE GIALLE SP SO SS","ATUN"]
["TON003","TONNO CHUNK ROSSO 800/1200 KG_____ GLASS. 0% - PINNE GIALLE","ATUN"]
["TOT003","TOTANO GIGANTE TENTACOLO INTERO 1000/2000 7KG(5,6)-GLASS.20%","BRASMAR"]
["UE","MERCE VENDUTA VIAGGIANTE ALLO STATO ESTERO    PRIMA DELLO SDOGANAMENTO",""]
["V401","BACIO/NOCC. 1000GX4 N.C.DI SICILIA","ARTEGEL"]
["V402","CASSATA 1000GX4 N.C.DI SICILIA","ARTEGEL"]
["V404","PISTAC/NOCC. 1000GX4 N.C.DI SICILIA","ARTEGEL"]
["V406","FRAGOL/LIMON 1000GX4 N.C.DI SICILIA","ARTEGEL"]
["V407","NOCCIOLA 1000GX4 N.C.DI SICILIA","ARTEGEL"]
["V408","NOCCIOLA/CIOCCOLATO/CAFFE' 1000GX4 N.C.DI SICILIA","ARTEGEL"]
["V409","SORBET.LIMONE 1000GX4 N.C.DI SICILIA","ARTEGEL"]
["V410","TARTUFONE 1000GX4 N.C.DI SICILIA","ARTEGEL"]
["V411","CAFFE'/BACIO 1000GX4 N.C.DI SICILIA","ARTEGEL"]
["V413","VARIEG. AMARE 1000GX4 N.C.DI SICILIA","ARTEGEL"]
["V414","SETTEDELIZIE 1000GX4 N.C.DI SICILIA","ARTEGEL"]
["V415","NOC/TOR/Z.ING 1000GX4 N.C.DI SICILIA","ARTEGEL"]
["V416","CIOCCOLATO/NOCCIOLA/STRACCIATELLA 1000GX4 N.C.DI SICILIA","ARTEGEL"]
["V422","*E* TIRAMISU' 1000GX4 N.C.DI SICILIA","ARTEGEL"]
["V432","FIOR DI LATTE 1000GX4 N.C. DI SICILIA","ARTEGEL"]
["V445","VARIEG. FRAGOLA 1000GX4 N.C.DI SICILIA","ARTEGEL"]
["WVWZZZAU","VOLKSWAGEN GOLF 7 TDI 5P TELAIO WVWZZZAUZHW106946 INM 05/12/2016","AUTOCARRO"]